Report for Catalyst-Plugin-Authentication-0.10021

Back
From: metabase:user:fcf99560-6bf4-1014-86b3-1cf189224fdf
Subject: PASS Catalyst-Plugin-Authentication-0.10021 v5.17.1 GNU/Linux
Date: 2012-07-18T13:08:19Z

This distribution has been tested as part of the CPAN Testers
project, supporting the Perl programming language.  See
http://wiki.cpantesters.org/ for more information or email
questions to cpan-testers-discuss@perl.org


--
Dear Tomas Doran,

This is a computer-generated report for Catalyst-Plugin-Authentication-0.10021
on perl 5.17.1, created by CPAN-Reporter-1.2006.

Thank you for uploading your work to CPAN.  Congratulations!
All tests were successful.

Sections of this report:

    * Tester comments
    * Program output
    * Prerequisites
    * Environment and other context

------------------------------
TESTER COMMENTS
------------------------------

Additional comments from tester:

none provided

------------------------------
PROGRAM OUTPUT
------------------------------

Output from '/usr/bin/make test':

PERL_DL_NONLAZY=1 /home/michiel/perl5/perlbrew/perls/perl-5.17.1/bin/perl5.17.1 "-MExtUtils::Command::MM" "-e" "test_harness(0, 'inc', 'blib/lib', 'blib/arch')" t/04_authentication.t t/05_password.t t/06_user.t t/live_app.t t/live_app_realms.t t/live_app_realms_compat.t t/live_app_realms_progressive.t t/live_app_remote1.t t/live_app_remote2.t t/live_app_session.t
t/04_authentication.t ............ ok
Name "Catalyst::Exception::Base::OVERLOAD" used only once: possible typo at /home/michiel/perl5/perlbrew/perls/perl-5.17.1/lib/site_perl/5.17.1/i686-linux/Class/MOP/Package.pm line 243.
Name "Catalyst::Exception::Basic::OVERLOAD" used only once: possible typo at /home/michiel/perl5/perlbrew/perls/perl-5.17.1/lib/site_perl/5.17.1/i686-linux/Class/MOP/Package.pm line 243.
t/05_password.t .................. ok
t/06_user.t ...................... ok
Name "Catalyst::Exception::Detach::OVERLOAD" used only once: possible typo at /home/michiel/perl5/perlbrew/perls/perl-5.17.1/lib/site_perl/5.17.1/i686-linux/Class/MOP/Package.pm line 243.
Name "Catalyst::Exception::Go::OVERLOAD" used only once: possible typo at /home/michiel/perl5/perlbrew/perls/perl-5.17.1/lib/site_perl/5.17.1/i686-linux/Class/MOP/Package.pm line 243.
Name "Catalyst::Exception::Base::OVERLOAD" used only once: possible typo at /home/michiel/perl5/perlbrew/perls/perl-5.17.1/lib/site_perl/5.17.1/i686-linux/Class/MOP/Package.pm line 243.
Name "Catalyst::Exception::Basic::OVERLOAD" used only once: possible typo at /home/michiel/perl5/perlbrew/perls/perl-5.17.1/lib/site_perl/5.17.1/i686-linux/Class/MOP/Package.pm line 243.
t/live_app.t ..................... ok
Name "Catalyst::Exception::Detach::OVERLOAD" used only once: possible typo at /home/michiel/perl5/perlbrew/perls/perl-5.17.1/lib/site_perl/5.17.1/i686-linux/Class/MOP/Package.pm line 243.
Name "Catalyst::Exception::Go::OVERLOAD" used only once: possible typo at /home/michiel/perl5/perlbrew/perls/perl-5.17.1/lib/site_perl/5.17.1/i686-linux/Class/MOP/Package.pm line 243.
Name "Catalyst::Exception::Base::OVERLOAD" used only once: possible typo at /home/michiel/perl5/perlbrew/perls/perl-5.17.1/lib/site_perl/5.17.1/i686-linux/Class/MOP/Package.pm line 243.
Name "Catalyst::Exception::Basic::OVERLOAD" used only once: possible typo at /home/michiel/perl5/perlbrew/perls/perl-5.17.1/lib/site_perl/5.17.1/i686-linux/Class/MOP/Package.pm line 243.
t/live_app_realms.t .............. ok
Name "Catalyst::Exception::Detach::OVERLOAD" used only once: possible typo at /home/michiel/perl5/perlbrew/perls/perl-5.17.1/lib/site_perl/5.17.1/i686-linux/Class/MOP/Package.pm line 243.
Name "Catalyst::Exception::Go::OVERLOAD" used only once: possible typo at /home/michiel/perl5/perlbrew/perls/perl-5.17.1/lib/site_perl/5.17.1/i686-linux/Class/MOP/Package.pm line 243.
Name "Catalyst::Exception::Base::OVERLOAD" used only once: possible typo at /home/michiel/perl5/perlbrew/perls/perl-5.17.1/lib/site_perl/5.17.1/i686-linux/Class/MOP/Package.pm line 243.
Name "Catalyst::Exception::Basic::OVERLOAD" used only once: possible typo at /home/michiel/perl5/perlbrew/perls/perl-5.17.1/lib/site_perl/5.17.1/i686-linux/Class/MOP/Package.pm line 243.
t/live_app_realms_compat.t ....... ok
Name "Catalyst::Exception::Detach::OVERLOAD" used only once: possible typo at /home/michiel/perl5/perlbrew/perls/perl-5.17.1/lib/site_perl/5.17.1/i686-linux/Class/MOP/Package.pm line 243.
Name "Catalyst::Exception::Go::OVERLOAD" used only once: possible typo at /home/michiel/perl5/perlbrew/perls/perl-5.17.1/lib/site_perl/5.17.1/i686-linux/Class/MOP/Package.pm line 243.
Name "Catalyst::Exception::Base::OVERLOAD" used only once: possible typo at /home/michiel/perl5/perlbrew/perls/perl-5.17.1/lib/site_perl/5.17.1/i686-linux/Class/MOP/Package.pm line 243.
Name "Catalyst::Exception::Basic::OVERLOAD" used only once: possible typo at /home/michiel/perl5/perlbrew/perls/perl-5.17.1/lib/site_perl/5.17.1/i686-linux/Class/MOP/Package.pm line 243.
t/live_app_realms_progressive.t .. ok
Name "Catalyst::Exception::Detach::OVERLOAD" used only once: possible typo at /home/michiel/perl5/perlbrew/perls/perl-5.17.1/lib/site_perl/5.17.1/i686-linux/Class/MOP/Package.pm line 243.
Name "Catalyst::Exception::Go::OVERLOAD" used only once: possible typo at /home/michiel/perl5/perlbrew/perls/perl-5.17.1/lib/site_perl/5.17.1/i686-linux/Class/MOP/Package.pm line 243.
Name "Catalyst::Exception::Base::OVERLOAD" used only once: possible typo at /home/michiel/perl5/perlbrew/perls/perl-5.17.1/lib/site_perl/5.17.1/i686-linux/Class/MOP/Package.pm line 243.
Name "Catalyst::Exception::Basic::OVERLOAD" used only once: possible typo at /home/michiel/perl5/perlbrew/perls/perl-5.17.1/lib/site_perl/5.17.1/i686-linux/Class/MOP/Package.pm line 243.
t/live_app_remote1.t ............. ok
Name "Catalyst::Exception::Detach::OVERLOAD" used only once: possible typo at /home/michiel/perl5/perlbrew/perls/perl-5.17.1/lib/site_perl/5.17.1/i686-linux/Class/MOP/Package.pm line 243.
Name "Catalyst::Exception::Go::OVERLOAD" used only once: possible typo at /home/michiel/perl5/perlbrew/perls/perl-5.17.1/lib/site_perl/5.17.1/i686-linux/Class/MOP/Package.pm line 243.
Name "Catalyst::Exception::Base::OVERLOAD" used only once: possible typo at /home/michiel/perl5/perlbrew/perls/perl-5.17.1/lib/site_perl/5.17.1/i686-linux/Class/MOP/Package.pm line 243.
Name "Catalyst::Exception::Basic::OVERLOAD" used only once: possible typo at /home/michiel/perl5/perlbrew/perls/perl-5.17.1/lib/site_perl/5.17.1/i686-linux/Class/MOP/Package.pm line 243.
t/live_app_remote2.t ............. ok
Name "Catalyst::Exception::Detach::OVERLOAD" used only once: possible typo at /home/michiel/perl5/perlbrew/perls/perl-5.17.1/lib/site_perl/5.17.1/i686-linux/Class/MOP/Package.pm line 243.
Name "Catalyst::Exception::Go::OVERLOAD" used only once: possible typo at /home/michiel/perl5/perlbrew/perls/perl-5.17.1/lib/site_perl/5.17.1/i686-linux/Class/MOP/Package.pm line 243.
Name "Catalyst::Exception::Base::OVERLOAD" used only once: possible typo at /home/michiel/perl5/perlbrew/perls/perl-5.17.1/lib/site_perl/5.17.1/i686-linux/Class/MOP/Package.pm line 243.
Name "Catalyst::Exception::Basic::OVERLOAD" used only once: possible typo at /home/michiel/perl5/perlbrew/perls/perl-5.17.1/lib/site_perl/5.17.1/i686-linux/Class/MOP/Package.pm line 243.
[error] Store claimed to have a restorable user, but restoration failed.  Did you change the user's id_field?
t/live_app_session.t ............. ok
All tests successful.
Files=10, Tests=115,  7 wallclock secs ( 0.07 usr  0.02 sys +  5.60 cusr  0.28 csys =  5.97 CPU)
Result: PASS

------------------------------
PREREQUISITES
------------------------------

Prerequisite modules loaded:

requires:

    Module                                 Need     Have    
    -------------------------------------- -------- --------
    Catalyst::Plugin::Session              0.10     0.35    
    Catalyst::Runtime                      0        5.90015 
    Class::Inspector                       0        1.27    
    Class::MOP                             0        2.0603  
    Moose                                  0        2.0603  
    MooseX::Emulate::Class::Accessor::Fast 0        0.00903 
    MRO::Compat                            0        0.11    
    namespace::autoclean                   0        0.13    
    perl                                   5.008001 5.017001
    String::RewritePrefix                  0        0.006   
    Test::Exception                        0        0.31    
    Test::More                             0.88     0.98    
    Try::Tiny                              0        0.11    

build_requires:

    Module                                 Need     Have    
    -------------------------------------- -------- --------
    Class::MOP                             0        2.0603  
    ExtUtils::MakeMaker                    6.59     6.63_02 
    Moose                                  0        2.0603  
    Test::Exception                        0        0.31    
    Test::More                             0.88     0.98    

configure_requires:

    Module                                 Need     Have    
    -------------------------------------- -------- --------
    ExtUtils::MakeMaker                    6.59     6.63_02 


------------------------------
ENVIRONMENT AND OTHER CONTEXT
------------------------------

Environment variables:

    LANG = en_US.UTF-8
    MANPATH_WITHOUT_PERLBREW = 
    PATH = /home/michiel/perl5/perlbrew/bin:/home/michiel/perl5/perlbrew/perls/perl-5.17.1/bin:/usr/lib/lightdm/lightdm:/usr/local/sbin:/usr/local/bin:/usr/sbin:/usr/bin:/sbin:/bin:/usr/games
    PATH_WITHOUT_PERLBREW = /usr/lib/lightdm/lightdm:/usr/local/sbin:/usr/local/bin:/usr/sbin:/usr/bin:/sbin:/bin:/usr/games
    PERL5LIB = 
    PERL5OPT = 
    PERL5_CPANPLUS_IS_RUNNING = 29663
    PERL5_CPAN_IS_RUNNING = 29663
    PERLBREW_BASHRC_VERSION = 0.35
    PERLBREW_HOME = /home/michiel/.perlbrew
    PERLBREW_MANPATH = /home/michiel/perl5/perlbrew/perls/perl-5.17.1/man
    PERLBREW_PATH = /home/michiel/perl5/perlbrew/bin:/home/michiel/perl5/perlbrew/perls/perl-5.17.1/bin
    PERLBREW_PERL = perl-5.17.1
    PERLBREW_ROOT = /home/michiel/perl5/perlbrew
    PERLBREW_VERSION = 0.35
    SHELL = /bin/bash
    TERM = xterm

Perl special variables (and OS-specific diagnostics, for MSWin32):

    $^X = /home/michiel/perl5/perlbrew/perls/perl-5.17.1/bin/perl5.17.1
    $UID/$EUID = 1000 / 1000
    $GID = 1000 4 24 27 30 46 116 123 1000
    $EGID = 1000 4 24 27 30 46 116 123 1000

Perl module toolchain versions installed:

    Module              Have    
    ------------------- --------
    CPAN                1.9800  
    CPAN::Meta          2.120921
    Cwd                 3.39_02 
    ExtUtils::CBuilder  0.280208
    ExtUtils::Command   1.17    
    ExtUtils::Install   1.58    
    ExtUtils::MakeMaker 6.63_02 
    ExtUtils::Manifest  1.61    
    ExtUtils::ParseXS   3.17    
    File::Spec          3.39_02 
    JSON                2.53    
    JSON::PP            2.27200 
    Module::Build       0.40    
    Module::Signature   n/a     
    Parse::CPAN::Meta   1.4404  
    Test::Harness       3.25    
    Test::More          0.98    
    YAML                0.84    
    YAML::Syck          1.20    
    version             0.99    


--

Summary of my perl5 (revision 5 version 17 subversion 1) configuration:
   
  Platform:
    osname=linux, osvers=3.2.0-26-generic-pae, archname=i686-linux
    uname='linux fitter 3.2.0-26-generic-pae #41-ubuntu smp thu jun 14 16:45:14 utc 2012 i686 i686 i386 gnulinux '
    config_args='-de -Dprefix=/home/michiel/perl5/perlbrew/perls/perl-5.17.1 -Dusedevel'
    hint=recommended, useposix=true, d_sigaction=define
    useithreads=undef, usemultiplicity=undef
    useperlio=define, d_sfio=undef, uselargefiles=define, usesocks=undef
    use64bitint=undef, use64bitall=undef, uselongdouble=undef
    usemymalloc=n, bincompat5005=undef
  Compiler:
    cc='cc', ccflags ='-fno-strict-aliasing -pipe -fstack-protector -I/usr/local/include -D_LARGEFILE_SOURCE -D_FILE_OFFSET_BITS=64',
    optimize='-O2',
    cppflags='-fno-strict-aliasing -pipe -fstack-protector -I/usr/local/include'
    ccversion='', gccversion='4.6.3', gccosandvers=''
    intsize=4, longsize=4, ptrsize=4, doublesize=8, byteorder=1234
    d_longlong=define, longlongsize=8, d_longdbl=define, longdblsize=12
    ivtype='long', ivsize=4, nvtype='double', nvsize=8, Off_t='off_t', lseeksize=8
    alignbytes=4, prototype=define
  Linker and Libraries:
    ld='cc', ldflags =' -fstack-protector -L/usr/local/lib'
    libpth=/usr/local/lib /lib/i386-linux-gnu /lib/../lib /usr/lib/i386-linux-gnu /usr/lib/../lib /lib /usr/lib
    libs=-lnsl -ldl -lm -lcrypt -lutil -lc
    perllibs=-lnsl -ldl -lm -lcrypt -lutil -lc
    libc=, so=so, useshrplib=false, libperl=libperl.a
    gnulibc_version='2.15'
  Dynamic Linking:
    dlsrc=dl_dlopen.xs, dlext=so, d_dlsymun=undef, ccdlflags='-Wl,-E'
    cccdlflags='-fPIC', lddlflags='-shared -O2 -L/usr/local/lib -fstack-protector'


Characteristics of this binary (from libperl): 
  Compile-time options: HAS_TIMES PERLIO_LAYERS PERL_DONT_CREATE_GVSV
                        PERL_MALLOC_WRAP PERL_PRESERVE_IVUV PERL_USE_DEVEL
                        USE_LARGE_FILES USE_LOCALE USE_LOCALE_COLLATE
                        USE_LOCALE_CTYPE USE_LOCALE_NUMERIC USE_PERLIO
                        USE_PERL_ATOF
  Built under linux
  Compiled at Jul 16 2012 10:53:40
  %ENV:
    PERL5LIB=""
    PERL5OPT=""
    PERL5_CPANPLUS_IS_RUNNING="29663"
    PERL5_CPAN_IS_RUNNING="29663"
    PERLBREW_BASHRC_VERSION="0.35"
    PERLBREW_HOME="/home/michiel/.perlbrew"
    PERLBREW_MANPATH="/home/michiel/perl5/perlbrew/perls/perl-5.17.1/man"
    PERLBREW_PATH="/home/michiel/perl5/perlbrew/bin:/home/michiel/perl5/perlbrew/perls/perl-5.17.1/bin"
    PERLBREW_PERL="perl-5.17.1"
    PERLBREW_ROOT="/home/michiel/perl5/perlbrew"
    PERLBREW_VERSION="0.35"
  @INC:
    /home/michiel/perl5/perlbrew/perls/perl-5.17.1/lib/site_perl/5.17.1/i686-linux
    /home/michiel/perl5/perlbrew/perls/perl-5.17.1/lib/site_perl/5.17.1
    /home/michiel/perl5/perlbrew/perls/perl-5.17.1/lib/5.17.1/i686-linux
    /home/michiel/perl5/perlbrew/perls/perl-5.17.1/lib/5.17.1
    .