Dist-Zilla-Plugin-CheckBin v0.008 Perl 5 v5.27.5 x86_64-linux

Status
Pass
From
Andreas J. König (ANDK)
Dist
Dist-Zilla-Plugin-CheckBin v0.008
Platform
Perl 5 v5.27.5 x86_64-linux
Date
2017-10-27 06:25:36
ID
a52ba0b0-badf-11e7-a96e-c90c7663c975
This distribution has been tested as part of the CPAN Testers
project, supporting the Perl programming language.  See
http://wiki.cpantesters.org/ for more information or email
questions to cpan-testers-discuss@perl.org


--
Dear Karen Etheridge,

This is a computer-generated report for Dist-Zilla-Plugin-CheckBin-0.008
on perl 5.27.5, created by CPAN-Reporter-1.2018.

Thank you for uploading your work to CPAN.  Congratulations!
All tests were successful.

Sections of this report:

    * Tester comments
    * Program output
    * Prerequisites
    * Environment and other context

------------------------------
TESTER COMMENTS
------------------------------

Additional comments from tester:

this report is from an automated smoke testing program
and was not reviewed by a human for accuracy

------------------------------
PROGRAM OUTPUT
------------------------------

Output from '/usr/bin/make test':

PERL_DL_NONLAZY=1 "/home/sand/src/perl/repoperls/installed-perls/host/k93msid/v5.27.5/89ad/bin/perl" "-MExtUtils::Command::MM" "-MTest::Harness" "-e" "undef *Test::Harness::Switches; test_harness(0, 'blib/lib', 'blib/arch')" t/*.t
# 
# Versions for all modules listed in MYMETA.json (including optional ones):
# 
# === Configure Requires ===
# 
#     Module                       Want     Have
#     ------------------------ -------- --------
#     CPAN::Meta::Requirements 2.120620    2.140
#     ExtUtils::MakeMaker           any     7.30
#     Module::Metadata              any 1.000033
# 
# === Build Requires ===
# 
#     Module              Want Have
#     ------------------- ---- ----
#     ExtUtils::MakeMaker  any 7.30
# 
# === Test Requires ===
# 
#     Module              Want     Have
#     ------------------- ---- --------
#     ExtUtils::MakeMaker  any     7.30
#     File::Spec           any     3.68
#     Path::Tiny           any    0.104
#     Test::DZil           any    6.010
#     Test::Deep           any    1.127
#     Test::Fatal          any    0.014
#     Test::More          0.88 1.302106
#     Test::Needs          any 0.002005
#     if                   any   0.0607
# 
# === Test Recommends ===
# 
#     Module         Want     Have
#     ---------- -------- --------
#     CPAN::Meta 2.120900 2.150010
# 
# === Runtime Requires ===
# 
#     Module                              Want   Have
#     ------------------------------- -------- ------
#     Devel::CheckBin                      any   0.04
#     Dist::Zilla                     4.300039  6.010
#     Dist::Zilla::Role::FileMunger        any  6.010
#     Dist::Zilla::Role::InstallTool       any  6.010
#     Dist::Zilla::Role::PrereqSource      any  6.010
#     Moose                                any 2.2006
#     Scalar::Util                         any   1.49
#     namespace::autoclean                 any   0.28
#     strict                               any   1.11
#     warnings                             any   1.37
# 
# === Other Modules ===
# 
#     Module                                             Have
#     ---------------------------------------------- --------
#     CPAN::Meta::Validator                          2.150010
#     Dist::Zilla::Plugin::MakeMaker                    6.010
#     Dist::Zilla::Plugin::MakeMaker::Awesome         missing
#     Dist::Zilla::Plugin::MakeMaker::Fallback        missing
#     Dist::Zilla::Plugin::ModuleBuildTiny            missing
#     Dist::Zilla::Plugin::ModuleBuildTiny::Fallback  missing
#     ExtUtils::MakeMaker                                7.30
#     JSON::PP                                           2.94
#     Module::Build                                    0.4224
#     Module::Build::Tiny                               0.039
#     Pod::Coverage                                      0.23
#     Sub::Name                                          0.21
#     YAML                                               1.23
#     autodie                                            2.29
# 
t/00-report-prereqs.t ............ ok
t/01-basic.t ..................... ok
t/02-module-build.t .............. ok
t/03-module-build-tiny.t ......... skipped: Need Dist::Zilla::Plugin::ModuleBuildTiny 0.007
t/04-makemaker-awesome.t ......... skipped: Need Dist::Zilla::Plugin::MakeMaker::Awesome 0.13
t/05-makemaker-fallback.t ........ skipped: Need Dist::Zilla::Plugin::MakeMaker::Fallback
t/06-modulebuildtiny-fallback.t .. skipped: Need Dist::Zilla::Plugin::ModuleBuildTiny::Fallback 0.006
t/zzz-check-breaks.t ............. ok
All tests successful.
Files=8, Tests=14, 12 wallclock secs ( 0.03 usr  0.05 sys +  2.85 cusr  0.37 csys =  3.30 CPU)
Result: PASS

------------------------------
PREREQUISITES
------------------------------

Prerequisite modules loaded:

requires:

    Module                          Need     Have    
    ------------------------------- -------- --------
    Devel::CheckBin                 0        0.04    
    Dist::Zilla                     4.300039 6.010   
    Dist::Zilla::Role::FileMunger   0        6.010   
    Dist::Zilla::Role::InstallTool  0        6.010   
    Dist::Zilla::Role::PrereqSource 0        6.010   
    Moose                           0        2.2006  
    namespace::autoclean            0        0.28    
    perl                            5.009005 5.027005
    Scalar::Util                    0        1.49    
    strict                          0        1.11    
    warnings                        0        1.37    

build_requires:

    Module                          Need     Have    
    ------------------------------- -------- --------
    ExtUtils::MakeMaker             0        7.30    
    File::Spec                      0        3.68    
    if                              0        0.0607  
    Path::Tiny                      0        0.104   
    Test::Deep                      0        1.127   
    Test::DZil                      0        6.010   
    Test::Fatal                     0        0.014   
    Test::More                      0.88     1.302106
    Test::Needs                     0        0.002005

configure_requires:

    Module                          Need     Have    
    ------------------------------- -------- --------
    CPAN::Meta::Requirements        2.120620 2.140   
    ExtUtils::MakeMaker             0        7.30    
    Module::Metadata                0        1.000033
    perl                            5.006    5.027005


------------------------------
ENVIRONMENT AND OTHER CONTEXT
------------------------------

Environment variables:

    AUTOMATED_TESTING = 1
    LANG = en_US.UTF-8
    PATH = /home/sand/bin:/usr/local/bin:/usr/bin:/bin:/usr/games:/usr/local/perl/bin:/usr/X11/bin:/sbin:/usr/sbin
    PERL5LIB = 
    PERL5OPT = 
    PERL5_CPANPLUS_IS_RUNNING = 17976
    PERL5_CPAN_IS_RUNNING = 17976
    PERL5_CPAN_IS_RUNNING_IN_RECURSION = 1512,17976
    PERL_CANARY_STABILITY_NOPROMPT = 1
    PERL_MM_USE_DEFAULT = 1
    PERL_USE_UNSAFE_INC = 1
    SHELL = /usr/bin/zsh
    TERM = screen

Perl special variables (and OS-specific diagnostics, for MSWin32):

    $^X = /home/sand/src/perl/repoperls/installed-perls/host/k93msid/v5.27.5/89ad/bin/perl
    $UID/$EUID = 1005 / 1005
    $GID = 1005 1005
    $EGID = 1005 1005

Perl module toolchain versions installed:

    Module              Have    
    ------------------- --------
    CPAN                2.18    
    CPAN::Meta          2.150010
    Cwd                 3.68    
    ExtUtils::CBuilder  0.280228
    ExtUtils::Command   7.30    
    ExtUtils::Install   2.14    
    ExtUtils::MakeMaker 7.30    
    ExtUtils::Manifest  1.70    
    ExtUtils::ParseXS   3.35    
    File::Spec          3.68    
    JSON                2.94    
    JSON::PP            2.94    
    Module::Build       0.4224  
    Module::Signature   0.81    
    Parse::CPAN::Meta   2.150010
    Test::Harness       3.39    
    Test::More          1.302106
    YAML                1.23    
    YAML::Syck          1.30    
    version             0.9918  


--

Summary of my perl5 (revision 5 version 27 subversion 5) configuration:
  Commit id: 3c675937046386c0f536bcf1409bcbb3af65588c
  Platform:
    osname=linux
    osvers=4.12.0-2-amd64
    archname=x86_64-linux
    uname='linux k93msid 4.12.0-2-amd64 #1 smp debian 4.12.13-1 (2017-09-19) x86_64 gnulinux '
    config_args='-Dprefix=/home/sand/src/perl/repoperls/installed-perls/host/k93msid/v5.27.5/89ad -Dmyhostname=k93msid -Dinstallusrbinperl=n -Uversiononly -Dusedevel -des -Ui_db -Dlibswanted=cl pthread socket inet nsl gdbm dbm malloc dl ld sun m crypt sec util c cposix posix ucb BSD gdbm_compat -Uuseithreads -Uuselongdouble -DDEBUGGING=-g'
    hint=recommended
    useposix=true
    d_sigaction=define
    useithreads=undef
    usemultiplicity=undef
    use64bitint=define
    use64bitall=define
    uselongdouble=undef
    usemymalloc=n
    default_inc_excludes_dot=define
    bincompat5005=undef
  Compiler:
    cc='cc'
    ccflags ='-fwrapv -fno-strict-aliasing -pipe -fstack-protector-strong -I/usr/local/include -D_LARGEFILE_SOURCE -D_FILE_OFFSET_BITS=64 -D_FORTIFY_SOURCE=2'
    optimize='-O2 -g'
    cppflags='-fwrapv -fno-strict-aliasing -pipe -fstack-protector-strong -I/usr/local/include'
    ccversion=''
    gccversion='7.2.0'
    gccosandvers=''
    intsize=4
    longsize=8
    ptrsize=8
    doublesize=8
    byteorder=12345678
    doublekind=3
    d_longlong=define
    longlongsize=8
    d_longdbl=define
    longdblsize=16
    longdblkind=3
    ivtype='long'
    ivsize=8
    nvtype='double'
    nvsize=8
    Off_t='off_t'
    lseeksize=8
    alignbytes=8
    prototype=define
  Linker and Libraries:
    ld='cc'
    ldflags =' -fstack-protector-strong -L/usr/local/lib'
    libpth=/usr/local/lib /usr/lib/gcc/x86_64-linux-gnu/7/include-fixed /usr/include/x86_64-linux-gnu /usr/lib /lib/x86_64-linux-gnu /lib/../lib /usr/lib/x86_64-linux-gnu /usr/lib/../lib /lib
    libs=-lpthread -lnsl -ldl -lm -lcrypt -lutil -lc
    perllibs=-lpthread -lnsl -ldl -lm -lcrypt -lutil -lc
    libc=libc-2.24.so
    so=so
    useshrplib=false
    libperl=libperl.a
    gnulibc_version='2.24'
  Dynamic Linking:
    dlsrc=dl_dlopen.xs
    dlext=so
    d_dlsymun=undef
    ccdlflags='-Wl,-E'
    cccdlflags='-fPIC'
    lddlflags='-shared -O2 -g -L/usr/local/lib -fstack-protector-strong'


Characteristics of this binary (from libperl): 
  Compile-time options:
    HAS_TIMES
    PERLIO_LAYERS
    PERL_COPY_ON_WRITE
    PERL_DONT_CREATE_GVSV
    PERL_MALLOC_WRAP
    PERL_OP_PARENT
    PERL_PRESERVE_IVUV
    PERL_USE_DEVEL
    USE_64_BIT_ALL
    USE_64_BIT_INT
    USE_LARGE_FILES
    USE_LOCALE
    USE_LOCALE_COLLATE
    USE_LOCALE_CTYPE
    USE_LOCALE_NUMERIC
    USE_LOCALE_TIME
    USE_PERLIO
    USE_PERL_ATOF
  Built under linux
  Compiled at Oct 21 2017 03:45:19
  %ENV:
    PERL5LIB=""
    PERL5OPT=""
    PERL5_CPANPLUS_IS_RUNNING="17976"
    PERL5_CPAN_IS_RUNNING="17976"
    PERL5_CPAN_IS_RUNNING_IN_RECURSION="1512,17976"
    PERL_CANARY_STABILITY_NOPROMPT="1"
    PERL_MM_USE_DEFAULT="1"
    PERL_USE_UNSAFE_INC="1"
  @INC:
    /home/sand/src/perl/repoperls/installed-perls/host/k93msid/v5.27.5/89ad/lib/site_perl/5.27.5/x86_64-linux
    /home/sand/src/perl/repoperls/installed-perls/host/k93msid/v5.27.5/89ad/lib/site_perl/5.27.5
    /home/sand/src/perl/repoperls/installed-perls/host/k93msid/v5.27.5/89ad/lib/5.27.5/x86_64-linux
    /home/sand/src/perl/repoperls/installed-perls/host/k93msid/v5.27.5/89ad/lib/5.27.5
    .