Report for Text-VimColor-0.24

Back
From: metabase:user:314402c4-2aae-11df-837a-5e0a49663a4f
Subject: PASS Text-VimColor-0.24 v5.20.2 GNU/Linux
Date: 2015-02-21T00:43:25Z

This distribution has been tested as part of the CPAN Testers
project, supporting the Perl programming language.  See
http://wiki.cpantesters.org/ for more information or email
questions to cpan-testers-discuss@perl.org


--
Dear Randy Stauner,

This is a computer-generated report for Text-VimColor-0.24
on perl 5.20.2, created by CPAN-Reporter-1.2011.

Thank you for uploading your work to CPAN.  Congratulations!
All tests were successful.

Sections of this report:

    * Tester comments
    * Program output
    * Prerequisites
    * Environment and other context

------------------------------
TESTER COMMENTS
------------------------------

Additional comments from tester:

none provided

------------------------------
PROGRAM OUTPUT
------------------------------

Output from '/usr/bin/make test':

Skip blib/lib/auto/share/dist/Text-VimColor/mark.vim (unchanged)
Skip blib/lib/auto/share/dist/Text-VimColor/light.xsl (unchanged)
Skip blib/lib/auto/share/dist/Text-VimColor/light.css (unchanged)
PERL_DL_NONLAZY=1 "/bbbike/perl-5.20.2/bin/perl5.20.2" "-MExtUtils::Command::MM" "-MTest::Harness" "-e" "undef *Test::Harness::Switches; test_harness(0, 'blib/lib', 'blib/arch')" t/*.t
t/00-compile.t ......... ok
# 
# Versions for all modules listed in MYMETA.json (including optional ones):
#    Version Module                  
#   -------- ------------------------
#   2.143240 CPAN::Meta              
#      2.132 CPAN::Meta::Requirements
#     1.3301 Carp                    
#       5.71 Exporter                
#       7.04 ExtUtils::MakeMaker     
#       2.30 File::Copy              
#      1.102 File::ShareDir          
#       0.10 File::ShareDir::Install 
#    3.48_01 File::Spec              
#    3.48_01 File::Spec::Functions   
#     0.2304 File::Temp              
#       2.43 Getopt::Long            
#       1.16 IO::File                
#       1.35 IO::Handle              
#       1.16 IPC::Open3              
#       1.41 List::Util              
#       0.35 Path::Class             
#       1.07 Symbol                  
#       4.03 Term::ANSIColor         
#   1.001014 Test::More              
#       1.31 constant                
#       0.63 lib                     
#       1.08 strict                  
#     0.9912 version                 
#       1.23 warnings                
t/00-report-prereqs.t .. ok
# vim --version
# 
# VIM - Vi IMproved 7.3 (2010 Aug 15, compiled Feb 10 2013 02:28:47)
# Inklusive der Korrekturen: 1-547
# Verändert von pkg-vim-maintainers@lists.alioth.debian.org
# Übersetzt von jamessan@debian.org
# Riesige Version ohne GUI. Ein- (+) oder ausschließlich (-) der Eigenschaften:
# +arabic +autocmd -balloon_eval -browse ++builtin_terms +byte_offset +cindent 
# -clientserver -clipboard +cmdline_compl +cmdline_hist +cmdline_info +comments 
# +conceal +cryptv +cscope +cursorbind +cursorshape +dialog_con +diff +digraphs 
# -dnd -ebcdic +emacs_tags +eval +ex_extra +extra_search +farsi +file_in_path 
# +find_in_path +float +folding -footer +fork() +gettext -hangul_input +iconv 
# +insert_expand +jumplist +keymap +langmap +libcall +linebreak +lispindent 
# +listcmds +localmap -lua +menu +mksession +modify_fname +mouse -mouseshape 
# +mouse_dec +mouse_gpm -mouse_jsbterm +mouse_netterm -mouse_sysmouse 
# +mouse_xterm +mouse_urxvt +multi_byte +multi_lang -mzscheme +netbeans_intg 
# +path_extra -perl +persistent_undo +postscript +printer +profile -python 
# -python3 +quickfix +reltime +rightleft -ruby +scrollbind +signs +smartindent 
# -sniff +startuptime +statusline -sun_workshop +syntax +tag_binary 
# +tag_old_static -tag_any_white -tcl +terminfo +termresponse +textobjects +title
#  -toolbar +user_commands +vertsplit +virtualedit +visual +visualextra +viminfo 
# +vreplace +wildignore +wildmenu +windows +writebackup -X11 -xfontset -xim -xsmp
#  -xterm_clipboard -xterm_save 
#           System-vimrc-Datei: "$VIM/vimrc"
#         Benutzer-vimrc-Datei: "$HOME/.vimrc"
#          Benutzer-exrc-Datei: "$HOME/.exrc"
#      Voreinstellung für $VIM: "/usr/share/vim"
# Übersetzt: gcc -c -I. -Iproto -DHAVE_CONFIG_H     -g -O2 -fstack-protector --param=ssp-buffer-size=4 -Wformat -Werror=format-security -U_FORTIFY_SOURCE -D_FORTIFY_SOURCE=1      
# Linken: gcc   -Wl,-z,relro -Wl,--as-needed -o vim       -lm -ltinfo -lnsl  -lselinux -lacl -lattr -lgpm           
# 
t/000-vim-version.t .... ok
t/ansi.t ............... ok
t/bin.t ................ ok
t/compare-formats.t .... ok
t/encoding.t ........... ok
t/html.t ............... ok
t/input_filename.t ..... ok
t/new.t ................ ok
t/override-options.t ... ok
t/share-dir.t .......... ok
t/tvctestsyn.t ......... ok
t/untie-std-handles.t .. ok
t/vim_let.t ............ ok
t/vim_options.t ........ ok
t/xml.t ................ ok
All tests successful.

Test Summary Report
-------------------
t/encoding.t         (Wstat: 0 Tests: 8 Failed: 0)
  TODO passed:   5-6
Files=17, Tests=136,  4 wallclock secs ( 0.05 usr  0.06 sys +  1.63 cusr  0.62 csys =  2.36 CPU)
Result: PASS

------------------------------
PREREQUISITES
------------------------------

Prerequisite modules loaded:

requires:

    Module                  Need Have    
    ----------------------- ---- --------
    Carp                    0    1.3301  
    constant                0    1.31    
    File::Copy              0    2.30    
    File::ShareDir          0    1.102   
    File::Temp              0    0.2304  
    Getopt::Long            0    2.43    
    IO::File                0    1.16    
    IPC::Open3              0    1.16    
    Path::Class             0.04 0.35    
    strict                  0    1.08    
    Symbol                  0    1.07    
    Term::ANSIColor         1.03 4.03    
    warnings                0    1.23    

build_requires:

    Module                  Need Have    
    ----------------------- ---- --------
    Exporter                0    5.71    
    ExtUtils::MakeMaker     0    7.04    
    File::Spec              0    3.48_01 
    File::Spec::Functions   0    3.48_01 
    File::Temp              0    0.2304  
    IO::Handle              0    1.35    
    IPC::Open3              0    1.16    
    lib                     0    0.63    
    List::Util              0    1.41    
    Path::Class             0.04 0.35    
    Test::More              0.88 1.001014
    version                 0    0.9912  

configure_requires:

    Module                  Need Have    
    ----------------------- ---- --------
    ExtUtils::MakeMaker     6.30 7.04    
    File::ShareDir::Install 0.03 0.10    
    File::Temp              0    0.2304  
    IO::File                0    1.16    
    IPC::Open3              0    1.16    
    strict                  0    1.08    
    warnings                0    1.23    


------------------------------
ENVIRONMENT AND OTHER CONTEXT
------------------------------

Environment variables:

    DBIC_NO_WARN_BAD_PERL = 1
    LANG = C
    LC_ALL = de_DE.UTF-8
    PATH = /usr/local/bin:/usr/bin:/bin:/usr/local/sbin:/usr/sbin:/sbin:/home/eserte/bin/linux-gnu:/home/eserte/bin/sh:/home/eserte/bin:/usr/games:/home/eserte/devel:/home/eserte/src/srezic-misc/scripts
    PERL5LIB = 
    PERL5OPT = 
    PERL5_CPANPLUS_IS_RUNNING = 12246
    PERL5_CPAN_IS_RUNNING = 12246
    PERL5_CPAN_IS_RUNNING_IN_RECURSION = 12185,12246
    PERLDOC = -MPod::Perldoc::ToTextOverstrike
    PERL_BATCH = yes
    PERL_CPAN_REPORTER_CONFIG = /var/tmp/cpansmoker-1001/zdHC5QjkN7_config.ini
    PERL_EXTUTILS_AUTOINSTALL = --defaultdeps
    PERL_HTML_DISPLAY_CLASS = HTML::Display::Mozilla
    PERL_PARALLEL_SMOKER = yes
    SHELL = /bin/zsh
    TERM = screen
    TMPDIR = /var/tmp/cpansmoker-1001

Perl special variables (and OS-specific diagnostics, for MSWin32):

    $^X = /bbbike/perl-5.20.2/bin/perl5.20.2
    $UID/$EUID = 1001 / 1001
    $GID = 1001 109 1001
    $EGID = 1001 109 1001

Perl module toolchain versions installed:

    Module              Have    
    ------------------- --------
    CPAN                2.05    
    CPAN::Meta          2.143240
    Cwd                 3.48_01 
    ExtUtils::CBuilder  0.280217
    ExtUtils::Command   1.18    
    ExtUtils::Install   1.67    
    ExtUtils::MakeMaker 7.04    
    ExtUtils::Manifest  1.70    
    ExtUtils::ParseXS   3.24    
    File::Spec          3.48_01 
    JSON                2.90    
    JSON::PP            2.27203 
    Module::Build       0.4211  
    Module::Signature   0.73    
    Parse::CPAN::Meta   1.4414  
    Test::Harness       3.30    
    Test::More          1.001014
    YAML                1.14    
    YAML::Syck          1.29    
    version             0.9912  


--

Summary of my perl5 (revision 5 version 20 subversion 2) configuration:
   
  Platform:
    osname=linux, osvers=3.2.0-4-amd64, archname=x86_64-linux
    uname='linux eserte 3.2.0-4-amd64 #1 smp debian 3.2.65-1+deb7u1 x86_64 gnulinux '
    config_args='-ds -e -Dprefix=/opt/perl-5.20.2'
    hint=recommended, useposix=true, d_sigaction=define
    useithreads=undef, usemultiplicity=undef
    use64bitint=define, use64bitall=define, uselongdouble=undef
    usemymalloc=n, bincompat5005=undef
  Compiler:
    cc='cc', ccflags ='-fwrapv -fno-strict-aliasing -pipe -fstack-protector -I/usr/local/include -D_LARGEFILE_SOURCE -D_FILE_OFFSET_BITS=64',
    optimize='-O2',
    cppflags='-fwrapv -fno-strict-aliasing -pipe -fstack-protector -I/usr/local/include'
    ccversion='', gccversion='4.7.2', gccosandvers=''
    intsize=4, longsize=8, ptrsize=8, doublesize=8, byteorder=12345678
    d_longlong=define, longlongsize=8, d_longdbl=define, longdblsize=16
    ivtype='long', ivsize=8, nvtype='double', nvsize=8, Off_t='off_t', lseeksize=8
    alignbytes=8, prototype=define
  Linker and Libraries:
    ld='cc', ldflags =' -fstack-protector -L/usr/local/lib'
    libpth=/usr/local/lib /usr/lib/gcc/x86_64-linux-gnu/4.7/include-fixed /usr/include/x86_64-linux-gnu /usr/lib /lib/x86_64-linux-gnu /lib/../lib /usr/lib/x86_64-linux-gnu /usr/lib/../lib /lib
    libs=-lnsl -ldb -ldl -lm -lcrypt -lutil -lc
    perllibs=-lnsl -ldl -lm -lcrypt -lutil -lc
    libc=libc-2.13.so, so=so, useshrplib=false, libperl=libperl.a
    gnulibc_version='2.13'
  Dynamic Linking:
    dlsrc=dl_dlopen.xs, dlext=so, d_dlsymun=undef, ccdlflags='-Wl,-E'
    cccdlflags='-fPIC', lddlflags='-shared -O2 -L/usr/local/lib -fstack-protector'


Characteristics of this binary (from libperl): 
  Compile-time options: HAS_TIMES PERLIO_LAYERS PERL_DONT_CREATE_GVSV
                        PERL_HASH_FUNC_ONE_AT_A_TIME_HARD PERL_MALLOC_WRAP
                        PERL_NEW_COPY_ON_WRITE PERL_PRESERVE_IVUV
                        USE_64_BIT_ALL USE_64_BIT_INT USE_LARGE_FILES
                        USE_LOCALE USE_LOCALE_COLLATE USE_LOCALE_CTYPE
                        USE_LOCALE_NUMERIC USE_PERLIO USE_PERL_ATOF
  Built under linux
  Compiled at Feb 14 2015 18:42:05
  %ENV:
    PERL5LIB=""
    PERL5OPT=""
    PERL5_CPANPLUS_IS_RUNNING="12246"
    PERL5_CPAN_IS_RUNNING="12246"
    PERL5_CPAN_IS_RUNNING_IN_RECURSION="12185,12246"
    PERLDOC="-MPod::Perldoc::ToTextOverstrike"
    PERL_BATCH="yes"
    PERL_CPAN_REPORTER_CONFIG="/var/tmp/cpansmoker-1001/zdHC5QjkN7_config.ini"
    PERL_EXTUTILS_AUTOINSTALL="--defaultdeps"
    PERL_HTML_DISPLAY_CLASS="HTML::Display::Mozilla"
    PERL_PARALLEL_SMOKER="yes"
  @INC:
    /opt/perl-5.20.2/lib/site_perl/5.20.2/x86_64-linux
    /opt/perl-5.20.2/lib/site_perl/5.20.2
    /opt/perl-5.20.2/lib/5.20.2/x86_64-linux
    /opt/perl-5.20.2/lib/5.20.2
    .