POE-Component-Server-IRC v1.55-TRIAL Perl 5 v5.18.4 x86_64-linux

Status
Pass
From
Slaven Rezić (SREZIC)
Dist
POE-Component-Server-IRC v1.55-TRIAL
Platform
Perl 5 v5.18.4 x86_64-linux
Date
2019-08-22 10:14:37
ID
a551c12c-c4c5-11e9-a5cb-0e321f24ea8f
This distribution has been tested as part of the CPAN Testers
project, supporting the Perl programming language.  See
http://wiki.cpantesters.org/ for more information or email
questions to cpan-testers-discuss@perl.org


--
Dear Chris Williams,

This is a computer-generated report for POE-Component-Server-IRC-1.55-TRIAL
on perl 5.18.4, created by CPAN-Reporter-1.2018.

Thank you for uploading your work to CPAN.  Congratulations!
All tests were successful.

Sections of this report:

    * Tester comments
    * Program output
    * Prerequisites
    * Environment and other context

------------------------------
TESTER COMMENTS
------------------------------

Additional comments from tester:

none provided

------------------------------
PROGRAM OUTPUT
------------------------------

Output from '/usr/bin/make test':

PERL_DL_NONLAZY=1 /opt/perl-5.18.4/bin/perl5.18.4 "-MExtUtils::Command::MM" "-e" "test_harness(0, 'blib/lib', 'blib/arch')" t/*.t
t/1_common.t .................. ok
t/1_simple.t .................. ok
t/2_pocosi.t .................. ok
t/2_pocosi_ipv6.t ............. ok
t/3_backend.t ................. ok
No SID or SID is invalid, generating a random one
t/4_sid_uid.t ................. ok
t/5_pmkpasswd.t ............... ok
t/ts6_01_auth1.t .............. ok
Invalid conversion in sprintf: "%j" at /home/cpansand/.cpan/build/2019082210/POE-Component-Server-IRC-1.55-2dM2v_/blib/lib/POE/Component/Server/IRC.pm line 9031.
t/ts6_01_auth2.t .............. ok
t/ts6_01_auth3.t .............. ok
t/ts6_01_auth4.t .............. skipped: POE::Component::Server::Ident not available
t/ts6_01_auth5.t .............. ok
t/ts6_01_auth6.t .............. skipped: POE::Component::SSLify not available
Invalid conversion in sprintf: "%j" at /home/cpansand/.cpan/build/2019082210/POE-Component-Server-IRC-1.55-2dM2v_/blib/lib/POE/Component/Server/IRC.pm line 9031.
Invalid conversion in sprintf: "%j" at /home/cpansand/.cpan/build/2019082210/POE-Component-Server-IRC-1.55-2dM2v_/blib/lib/POE/Component/Server/IRC.pm line 9031.
t/ts6_01_oper1.t .............. ok
t/ts6_01_oper2.t .............. skipped: POE::Component::SSLify not available
t/ts6_01_oper3.t .............. skipped: POE::Component::SSLify not available
t/ts6_01_oper4.t .............. skipped: POE::Component::SSLify not available
t/ts6_01_oper5.t .............. skipped: POE::Component::SSLify not available
Invalid conversion in sprintf: "%j" at /home/cpansand/.cpan/build/2019082210/POE-Component-Server-IRC-1.55-2dM2v_/blib/lib/POE/Component/Server/IRC.pm line 9031.
t/ts6_01_server1.t ............ ok
Invalid conversion in sprintf: "%j" at /home/cpansand/.cpan/build/2019082210/POE-Component-Server-IRC-1.55-2dM2v_/blib/lib/POE/Component/Server/IRC.pm line 9031.
Invalid conversion in sprintf: "%j" at /home/cpansand/.cpan/build/2019082210/POE-Component-Server-IRC-1.55-2dM2v_/blib/lib/POE/Component/Server/IRC.pm line 9031.
t/ts6_01_server2.t ............ ok
Invalid conversion in sprintf: "%j" at /home/cpansand/.cpan/build/2019082210/POE-Component-Server-IRC-1.55-2dM2v_/blib/lib/POE/Component/Server/IRC.pm line 9031.
Invalid conversion in sprintf: "%j" at /home/cpansand/.cpan/build/2019082210/POE-Component-Server-IRC-1.55-2dM2v_/blib/lib/POE/Component/Server/IRC.pm line 9031.
t/ts6_01_server3.t ............ ok
t/ts6_01_spoofs.t ............. ok
Invalid conversion in sprintf: "%j" at /home/cpansand/.cpan/build/2019082210/POE-Component-Server-IRC-1.55-2dM2v_/blib/lib/POE/Component/Server/IRC.pm line 9031.
Invalid conversion in sprintf: "%j" at /home/cpansand/.cpan/build/2019082210/POE-Component-Server-IRC-1.55-2dM2v_/blib/lib/POE/Component/Server/IRC.pm line 9031.
t/ts6_01_squit1.t ............. ok
Invalid conversion in sprintf: "%j" at /home/cpansand/.cpan/build/2019082210/POE-Component-Server-IRC-1.55-2dM2v_/blib/lib/POE/Component/Server/IRC.pm line 9031.
Invalid conversion in sprintf: "%j" at /home/cpansand/.cpan/build/2019082210/POE-Component-Server-IRC-1.55-2dM2v_/blib/lib/POE/Component/Server/IRC.pm line 9031.
t/ts6_01_squit2.t ............. ok
t/ts6_01_ssl_link1.t .......... skipped: POE::Component::SSLify not available
t/ts6_01_ssl_link2.t .......... skipped: POE::Component::SSLify not available
t/ts6_02_serrano_spoofs.t ..... ok
No SID or SID is invalid, generating a random one
t/ts6_03_rand_sid.t ........... ok
t/ts6_04_incompat_ts1.t ....... ok
t/ts6_04_incompat_ts2.t ....... ok
Invalid conversion in sprintf: "%j" at /home/cpansand/.cpan/build/2019082210/POE-Component-Server-IRC-1.55-2dM2v_/blib/lib/POE/Component/Server/IRC.pm line 9031.
t/ts6_05_burst1.t ............. ok
Invalid conversion in sprintf: "%j" at /home/cpansand/.cpan/build/2019082210/POE-Component-Server-IRC-1.55-2dM2v_/blib/lib/POE/Component/Server/IRC.pm line 9031.
Invalid conversion in sprintf: "%j" at /home/cpansand/.cpan/build/2019082210/POE-Component-Server-IRC-1.55-2dM2v_/blib/lib/POE/Component/Server/IRC.pm line 9031.
t/ts6_05_burst2.t ............. ok
Invalid conversion in sprintf: "%j" at /home/cpansand/.cpan/build/2019082210/POE-Component-Server-IRC-1.55-2dM2v_/blib/lib/POE/Component/Server/IRC.pm line 9031.
Invalid conversion in sprintf: "%j" at /home/cpansand/.cpan/build/2019082210/POE-Component-Server-IRC-1.55-2dM2v_/blib/lib/POE/Component/Server/IRC.pm line 9031.
t/ts6_05_nickc1.t ............. ok
Invalid conversion in sprintf: "%j" at /home/cpansand/.cpan/build/2019082210/POE-Component-Server-IRC-1.55-2dM2v_/blib/lib/POE/Component/Server/IRC.pm line 9031.
Invalid conversion in sprintf: "%j" at /home/cpansand/.cpan/build/2019082210/POE-Component-Server-IRC-1.55-2dM2v_/blib/lib/POE/Component/Server/IRC.pm line 9031.
t/ts6_05_nickc2.t ............. ok
Invalid conversion in sprintf: "%j" at /home/cpansand/.cpan/build/2019082210/POE-Component-Server-IRC-1.55-2dM2v_/blib/lib/POE/Component/Server/IRC.pm line 9031.
Invalid conversion in sprintf: "%j" at /home/cpansand/.cpan/build/2019082210/POE-Component-Server-IRC-1.55-2dM2v_/blib/lib/POE/Component/Server/IRC.pm line 9031.
t/ts6_05_nickc3.t ............. ok
Invalid conversion in sprintf: "%j" at /home/cpansand/.cpan/build/2019082210/POE-Component-Server-IRC-1.55-2dM2v_/blib/lib/POE/Component/Server/IRC.pm line 9031.
Invalid conversion in sprintf: "%j" at /home/cpansand/.cpan/build/2019082210/POE-Component-Server-IRC-1.55-2dM2v_/blib/lib/POE/Component/Server/IRC.pm line 9031.
t/ts6_05_nickc4.t ............. ok
Invalid conversion in sprintf: "%j" at /home/cpansand/.cpan/build/2019082210/POE-Component-Server-IRC-1.55-2dM2v_/blib/lib/POE/Component/Server/IRC.pm line 9031.
Invalid conversion in sprintf: "%j" at /home/cpansand/.cpan/build/2019082210/POE-Component-Server-IRC-1.55-2dM2v_/blib/lib/POE/Component/Server/IRC.pm line 9031.
t/ts6_05_nickc5.t ............. ok
Invalid conversion in sprintf: "%j" at /home/cpansand/.cpan/build/2019082210/POE-Component-Server-IRC-1.55-2dM2v_/blib/lib/POE/Component/Server/IRC.pm line 9031.
Invalid conversion in sprintf: "%j" at /home/cpansand/.cpan/build/2019082210/POE-Component-Server-IRC-1.55-2dM2v_/blib/lib/POE/Component/Server/IRC.pm line 9031.
t/ts6_06_poing.t .............. ok
Invalid conversion in sprintf: "%j" at /home/cpansand/.cpan/build/2019082210/POE-Component-Server-IRC-1.55-2dM2v_/blib/lib/POE/Component/Server/IRC.pm line 9031.
Invalid conversion in sprintf: "%j" at /home/cpansand/.cpan/build/2019082210/POE-Component-Server-IRC-1.55-2dM2v_/blib/lib/POE/Component/Server/IRC.pm line 9031.
t/ts6_07_poing.t .............. ok
Invalid conversion in sprintf: "%j" at /home/cpansand/.cpan/build/2019082210/POE-Component-Server-IRC-1.55-2dM2v_/blib/lib/POE/Component/Server/IRC.pm line 9031.
Invalid conversion in sprintf: "%j" at /home/cpansand/.cpan/build/2019082210/POE-Component-Server-IRC-1.55-2dM2v_/blib/lib/POE/Component/Server/IRC.pm line 9031.
t/ts6_08_umode.t .............. ok
Invalid conversion in sprintf: "%j" at /home/cpansand/.cpan/build/2019082210/POE-Component-Server-IRC-1.55-2dM2v_/blib/lib/POE/Component/Server/IRC.pm line 9031.
Invalid conversion in sprintf: "%j" at /home/cpansand/.cpan/build/2019082210/POE-Component-Server-IRC-1.55-2dM2v_/blib/lib/POE/Component/Server/IRC.pm line 9031.
t/ts6_09_chan1.t .............. ok
Invalid conversion in sprintf: "%j" at /home/cpansand/.cpan/build/2019082210/POE-Component-Server-IRC-1.55-2dM2v_/blib/lib/POE/Component/Server/IRC.pm line 9031.
Invalid conversion in sprintf: "%j" at /home/cpansand/.cpan/build/2019082210/POE-Component-Server-IRC-1.55-2dM2v_/blib/lib/POE/Component/Server/IRC.pm line 9031.
t/ts6_09_chan2.t .............. ok
Invalid conversion in sprintf: "%j" at /home/cpansand/.cpan/build/2019082210/POE-Component-Server-IRC-1.55-2dM2v_/blib/lib/POE/Component/Server/IRC.pm line 9031.
Invalid conversion in sprintf: "%j" at /home/cpansand/.cpan/build/2019082210/POE-Component-Server-IRC-1.55-2dM2v_/blib/lib/POE/Component/Server/IRC.pm line 9031.
t/ts6_09_chan3.t .............. ok
Invalid conversion in sprintf: "%j" at /home/cpansand/.cpan/build/2019082210/POE-Component-Server-IRC-1.55-2dM2v_/blib/lib/POE/Component/Server/IRC.pm line 9031.
Invalid conversion in sprintf: "%j" at /home/cpansand/.cpan/build/2019082210/POE-Component-Server-IRC-1.55-2dM2v_/blib/lib/POE/Component/Server/IRC.pm line 9031.
t/ts6_09_chan4.t .............. ok
Invalid conversion in sprintf: "%j" at /home/cpansand/.cpan/build/2019082210/POE-Component-Server-IRC-1.55-2dM2v_/blib/lib/POE/Component/Server/IRC.pm line 9031.
Invalid conversion in sprintf: "%j" at /home/cpansand/.cpan/build/2019082210/POE-Component-Server-IRC-1.55-2dM2v_/blib/lib/POE/Component/Server/IRC.pm line 9031.
t/ts6_09_chan5.t .............. ok
t/ts6_09_chan6.t .............. skipped: POE::Component::SSLify not available
Invalid conversion in sprintf: "%j" at /home/cpansand/.cpan/build/2019082210/POE-Component-Server-IRC-1.55-2dM2v_/blib/lib/POE/Component/Server/IRC.pm line 9031.
Invalid conversion in sprintf: "%j" at /home/cpansand/.cpan/build/2019082210/POE-Component-Server-IRC-1.55-2dM2v_/blib/lib/POE/Component/Server/IRC.pm line 9031.
t/ts6_09_chan7.t .............. ok
Invalid conversion in sprintf: "%j" at /home/cpansand/.cpan/build/2019082210/POE-Component-Server-IRC-1.55-2dM2v_/blib/lib/POE/Component/Server/IRC.pm line 9031.
Invalid conversion in sprintf: "%j" at /home/cpansand/.cpan/build/2019082210/POE-Component-Server-IRC-1.55-2dM2v_/blib/lib/POE/Component/Server/IRC.pm line 9031.
t/ts6_09_kick1.t .............. ok
Invalid conversion in sprintf: "%j" at /home/cpansand/.cpan/build/2019082210/POE-Component-Server-IRC-1.55-2dM2v_/blib/lib/POE/Component/Server/IRC.pm line 9031.
Invalid conversion in sprintf: "%j" at /home/cpansand/.cpan/build/2019082210/POE-Component-Server-IRC-1.55-2dM2v_/blib/lib/POE/Component/Server/IRC.pm line 9031.
t/ts6_09_kick2.t .............. ok
Invalid conversion in sprintf: "%j" at /home/cpansand/.cpan/build/2019082210/POE-Component-Server-IRC-1.55-2dM2v_/blib/lib/POE/Component/Server/IRC.pm line 9031.
Invalid conversion in sprintf: "%j" at /home/cpansand/.cpan/build/2019082210/POE-Component-Server-IRC-1.55-2dM2v_/blib/lib/POE/Component/Server/IRC.pm line 9031.
t/ts6_09_kick3.t .............. ok
Invalid conversion in sprintf: "%j" at /home/cpansand/.cpan/build/2019082210/POE-Component-Server-IRC-1.55-2dM2v_/blib/lib/POE/Component/Server/IRC.pm line 9031.
Invalid conversion in sprintf: "%j" at /home/cpansand/.cpan/build/2019082210/POE-Component-Server-IRC-1.55-2dM2v_/blib/lib/POE/Component/Server/IRC.pm line 9031.
t/ts6_09_part1.t .............. ok
Invalid conversion in sprintf: "%j" at /home/cpansand/.cpan/build/2019082210/POE-Component-Server-IRC-1.55-2dM2v_/blib/lib/POE/Component/Server/IRC.pm line 9031.
Invalid conversion in sprintf: "%j" at /home/cpansand/.cpan/build/2019082210/POE-Component-Server-IRC-1.55-2dM2v_/blib/lib/POE/Component/Server/IRC.pm line 9031.
t/ts6_09_part2.t .............. ok
Invalid conversion in sprintf: "%j" at /home/cpansand/.cpan/build/2019082210/POE-Component-Server-IRC-1.55-2dM2v_/blib/lib/POE/Component/Server/IRC.pm line 9031.
Invalid conversion in sprintf: "%j" at /home/cpansand/.cpan/build/2019082210/POE-Component-Server-IRC-1.55-2dM2v_/blib/lib/POE/Component/Server/IRC.pm line 9031.
t/ts6_09_remove1.t ............ ok
Invalid conversion in sprintf: "%j" at /home/cpansand/.cpan/build/2019082210/POE-Component-Server-IRC-1.55-2dM2v_/blib/lib/POE/Component/Server/IRC.pm line 9031.
Invalid conversion in sprintf: "%j" at /home/cpansand/.cpan/build/2019082210/POE-Component-Server-IRC-1.55-2dM2v_/blib/lib/POE/Component/Server/IRC.pm line 9031.
t/ts6_10_whois1.t ............. ok
Invalid conversion in sprintf: "%j" at /home/cpansand/.cpan/build/2019082210/POE-Component-Server-IRC-1.55-2dM2v_/blib/lib/POE/Component/Server/IRC.pm line 9031.
Invalid conversion in sprintf: "%j" at /home/cpansand/.cpan/build/2019082210/POE-Component-Server-IRC-1.55-2dM2v_/blib/lib/POE/Component/Server/IRC.pm line 9031.
t/ts6_10_whois2.t ............. ok
Invalid conversion in sprintf: "%j" at /home/cpansand/.cpan/build/2019082210/POE-Component-Server-IRC-1.55-2dM2v_/blib/lib/POE/Component/Server/IRC.pm line 9031.
Invalid conversion in sprintf: "%j" at /home/cpansand/.cpan/build/2019082210/POE-Component-Server-IRC-1.55-2dM2v_/blib/lib/POE/Component/Server/IRC.pm line 9031.
t/ts6_10_whois3.t ............. ok
Invalid conversion in sprintf: "%j" at /home/cpansand/.cpan/build/2019082210/POE-Component-Server-IRC-1.55-2dM2v_/blib/lib/POE/Component/Server/IRC.pm line 9031.
Invalid conversion in sprintf: "%j" at /home/cpansand/.cpan/build/2019082210/POE-Component-Server-IRC-1.55-2dM2v_/blib/lib/POE/Component/Server/IRC.pm line 9031.
t/ts6_10_whois4.t ............. ok
Invalid conversion in sprintf: "%j" at /home/cpansand/.cpan/build/2019082210/POE-Component-Server-IRC-1.55-2dM2v_/blib/lib/POE/Component/Server/IRC.pm line 9031.
Invalid conversion in sprintf: "%j" at /home/cpansand/.cpan/build/2019082210/POE-Component-Server-IRC-1.55-2dM2v_/blib/lib/POE/Component/Server/IRC.pm line 9031.
t/ts6_10_whois5.t ............. ok
Invalid conversion in sprintf: "%j" at /home/cpansand/.cpan/build/2019082210/POE-Component-Server-IRC-1.55-2dM2v_/blib/lib/POE/Component/Server/IRC.pm line 9031.
Invalid conversion in sprintf: "%j" at /home/cpansand/.cpan/build/2019082210/POE-Component-Server-IRC-1.55-2dM2v_/blib/lib/POE/Component/Server/IRC.pm line 9031.
t/ts6_10_whois6.t ............. ok
Invalid conversion in sprintf: "%j" at /home/cpansand/.cpan/build/2019082210/POE-Component-Server-IRC-1.55-2dM2v_/blib/lib/POE/Component/Server/IRC.pm line 9031.
Invalid conversion in sprintf: "%j" at /home/cpansand/.cpan/build/2019082210/POE-Component-Server-IRC-1.55-2dM2v_/blib/lib/POE/Component/Server/IRC.pm line 9031.
t/ts6_10_whois7.t ............. ok
Invalid conversion in sprintf: "%j" at /home/cpansand/.cpan/build/2019082210/POE-Component-Server-IRC-1.55-2dM2v_/blib/lib/POE/Component/Server/IRC.pm line 9031.
Invalid conversion in sprintf: "%j" at /home/cpansand/.cpan/build/2019082210/POE-Component-Server-IRC-1.55-2dM2v_/blib/lib/POE/Component/Server/IRC.pm line 9031.
t/ts6_10_whois8.t ............. ok
Invalid conversion in sprintf: "%j" at /home/cpansand/.cpan/build/2019082210/POE-Component-Server-IRC-1.55-2dM2v_/blib/lib/POE/Component/Server/IRC.pm line 9031.
Invalid conversion in sprintf: "%j" at /home/cpansand/.cpan/build/2019082210/POE-Component-Server-IRC-1.55-2dM2v_/blib/lib/POE/Component/Server/IRC.pm line 9031.
t/ts6_10_whowas1.t ............ ok
Invalid conversion in sprintf: "%j" at /home/cpansand/.cpan/build/2019082210/POE-Component-Server-IRC-1.55-2dM2v_/blib/lib/POE/Component/Server/IRC.pm line 9031.
Invalid conversion in sprintf: "%j" at /home/cpansand/.cpan/build/2019082210/POE-Component-Server-IRC-1.55-2dM2v_/blib/lib/POE/Component/Server/IRC.pm line 9031.
t/ts6_10_whowas2.t ............ ok
Invalid conversion in sprintf: "%j" at /home/cpansand/.cpan/build/2019082210/POE-Component-Server-IRC-1.55-2dM2v_/blib/lib/POE/Component/Server/IRC.pm line 9031.
Invalid conversion in sprintf: "%j" at /home/cpansand/.cpan/build/2019082210/POE-Component-Server-IRC-1.55-2dM2v_/blib/lib/POE/Component/Server/IRC.pm line 9031.
t/ts6_10_whowas3.t ............ ok
Invalid conversion in sprintf: "%j" at /home/cpansand/.cpan/build/2019082210/POE-Component-Server-IRC-1.55-2dM2v_/blib/lib/POE/Component/Server/IRC.pm line 9031.
Invalid conversion in sprintf: "%j" at /home/cpansand/.cpan/build/2019082210/POE-Component-Server-IRC-1.55-2dM2v_/blib/lib/POE/Component/Server/IRC.pm line 9031.
t/ts6_10_whowas4.t ............ ok
Invalid conversion in sprintf: "%j" at /home/cpansand/.cpan/build/2019082210/POE-Component-Server-IRC-1.55-2dM2v_/blib/lib/POE/Component/Server/IRC.pm line 9031, <DATA> line 333.
Invalid conversion in sprintf: "%j" at /home/cpansand/.cpan/build/2019082210/POE-Component-Server-IRC-1.55-2dM2v_/blib/lib/POE/Component/Server/IRC.pm line 9031, <DATA> line 333.
t/ts6_11_bmask1.t ............. ok
Invalid conversion in sprintf: "%j" at /home/cpansand/.cpan/build/2019082210/POE-Component-Server-IRC-1.55-2dM2v_/blib/lib/POE/Component/Server/IRC.pm line 9031, <DATA> line 333.
Invalid conversion in sprintf: "%j" at /home/cpansand/.cpan/build/2019082210/POE-Component-Server-IRC-1.55-2dM2v_/blib/lib/POE/Component/Server/IRC.pm line 9031, <DATA> line 333.
t/ts6_11_bmask2.t ............. ok
Invalid conversion in sprintf: "%j" at /home/cpansand/.cpan/build/2019082210/POE-Component-Server-IRC-1.55-2dM2v_/blib/lib/POE/Component/Server/IRC.pm line 9031.
Invalid conversion in sprintf: "%j" at /home/cpansand/.cpan/build/2019082210/POE-Component-Server-IRC-1.55-2dM2v_/blib/lib/POE/Component/Server/IRC.pm line 9031.
t/ts6_11_tblust.t ............. ok
Invalid conversion in sprintf: "%j" at /home/cpansand/.cpan/build/2019082210/POE-Component-Server-IRC-1.55-2dM2v_/blib/lib/POE/Component/Server/IRC.pm line 9031.
Invalid conversion in sprintf: "%j" at /home/cpansand/.cpan/build/2019082210/POE-Component-Server-IRC-1.55-2dM2v_/blib/lib/POE/Component/Server/IRC.pm line 9031.
t/ts6_11_tbrust.t ............. ok
Invalid conversion in sprintf: "%j" at /home/cpansand/.cpan/build/2019082210/POE-Component-Server-IRC-1.55-2dM2v_/blib/lib/POE/Component/Server/IRC.pm line 9031.
Invalid conversion in sprintf: "%j" at /home/cpansand/.cpan/build/2019082210/POE-Component-Server-IRC-1.55-2dM2v_/blib/lib/POE/Component/Server/IRC.pm line 9031.
t/ts6_11_tburst.t ............. ok
Invalid conversion in sprintf: "%j" at /home/cpansand/.cpan/build/2019082210/POE-Component-Server-IRC-1.55-2dM2v_/blib/lib/POE/Component/Server/IRC.pm line 9031, <DATA> line 8.
Invalid conversion in sprintf: "%j" at /home/cpansand/.cpan/build/2019082210/POE-Component-Server-IRC-1.55-2dM2v_/blib/lib/POE/Component/Server/IRC.pm line 9031, <DATA> line 8.
# :listen.server.irc 372 bobbins :- 
# :listen.server.irc 372 bobbins :-   __ _     _                                               
# :listen.server.irc 372 bobbins :-  / _(_)___| |__     __ _  ___    _ __ ___   ___   ___  ___ 
# :listen.server.irc 372 bobbins :- | |_| / __| '_ \   / _` |/ _ \  | '_ ` _ \ / _ \ / _ \/ __|
# :listen.server.irc 372 bobbins :- |  _| \__ \ | | | | (_| | (_) | | | | | | | (_) | (_) \__ \
# :listen.server.irc 372 bobbins :- |_| |_|___/_| |_|  \__, |\___/  |_| |_| |_|\___/ \___/|___/
# :listen.server.irc 372 bobbins :-                    |___/                                   
# :listen.server.irc 372 bobbins :- 
t/ts6_12_miscell.t ............ ok
t/ts6_13_denial.t ............. ok
t/ts6_13_dline1.t ............. ok
Invalid conversion in sprintf: "%j" at /home/cpansand/.cpan/build/2019082210/POE-Component-Server-IRC-1.55-2dM2v_/blib/lib/POE/Component/Server/IRC.pm line 9031.
Invalid conversion in sprintf: "%j" at /home/cpansand/.cpan/build/2019082210/POE-Component-Server-IRC-1.55-2dM2v_/blib/lib/POE/Component/Server/IRC.pm line 9031.
t/ts6_13_dline2.t ............. ok
Invalid conversion in sprintf: "%j" at /home/cpansand/.cpan/build/2019082210/POE-Component-Server-IRC-1.55-2dM2v_/blib/lib/POE/Component/Server/IRC.pm line 9031.
Invalid conversion in sprintf: "%j" at /home/cpansand/.cpan/build/2019082210/POE-Component-Server-IRC-1.55-2dM2v_/blib/lib/POE/Component/Server/IRC.pm line 9031.
t/ts6_13_dline3.t ............. ok
# Waiting for D-Line to expire, should be 10 seconds or so
t/ts6_13_dline4.t ............. ok
Invalid conversion in sprintf: "%j" at /home/cpansand/.cpan/build/2019082210/POE-Component-Server-IRC-1.55-2dM2v_/blib/lib/POE/Component/Server/IRC.pm line 9031.
Invalid conversion in sprintf: "%j" at /home/cpansand/.cpan/build/2019082210/POE-Component-Server-IRC-1.55-2dM2v_/blib/lib/POE/Component/Server/IRC.pm line 9031.
# Waiting for D-Line to expire, should be 10 seconds or so
t/ts6_13_dline5.t ............. ok
t/ts6_13_resv1.t .............. ok
t/ts6_13_resv2.t .............. ok
Invalid conversion in sprintf: "%j" at /home/cpansand/.cpan/build/2019082210/POE-Component-Server-IRC-1.55-2dM2v_/blib/lib/POE/Component/Server/IRC.pm line 9031.
Invalid conversion in sprintf: "%j" at /home/cpansand/.cpan/build/2019082210/POE-Component-Server-IRC-1.55-2dM2v_/blib/lib/POE/Component/Server/IRC.pm line 9031.
t/ts6_13_resv3.t .............. ok
Invalid conversion in sprintf: "%j" at /home/cpansand/.cpan/build/2019082210/POE-Component-Server-IRC-1.55-2dM2v_/blib/lib/POE/Component/Server/IRC.pm line 9031.
Invalid conversion in sprintf: "%j" at /home/cpansand/.cpan/build/2019082210/POE-Component-Server-IRC-1.55-2dM2v_/blib/lib/POE/Component/Server/IRC.pm line 9031.
t/ts6_13_resv4.t .............. ok
# Waiting for RESV to expire, should be 10 seconds or so
t/ts6_13_resv5.t .............. ok
Invalid conversion in sprintf: "%j" at /home/cpansand/.cpan/build/2019082210/POE-Component-Server-IRC-1.55-2dM2v_/blib/lib/POE/Component/Server/IRC.pm line 9031.
Invalid conversion in sprintf: "%j" at /home/cpansand/.cpan/build/2019082210/POE-Component-Server-IRC-1.55-2dM2v_/blib/lib/POE/Component/Server/IRC.pm line 9031.
# Waiting for RESV to expire, should be 10 seconds or so
t/ts6_13_resv6.t .............. ok
t/ts6_13_resv7.t .............. ok
t/ts6_13_resv8.t .............. ok
t/ts6_14_xline1.t ............. ok
Invalid conversion in sprintf: "%j" at /home/cpansand/.cpan/build/2019082210/POE-Component-Server-IRC-1.55-2dM2v_/blib/lib/POE/Component/Server/IRC.pm line 9031.
Invalid conversion in sprintf: "%j" at /home/cpansand/.cpan/build/2019082210/POE-Component-Server-IRC-1.55-2dM2v_/blib/lib/POE/Component/Server/IRC.pm line 9031.
t/ts6_14_xline2.t ............. ok
Invalid conversion in sprintf: "%j" at /home/cpansand/.cpan/build/2019082210/POE-Component-Server-IRC-1.55-2dM2v_/blib/lib/POE/Component/Server/IRC.pm line 9031.
Invalid conversion in sprintf: "%j" at /home/cpansand/.cpan/build/2019082210/POE-Component-Server-IRC-1.55-2dM2v_/blib/lib/POE/Component/Server/IRC.pm line 9031.
t/ts6_14_xline3.t ............. ok
# Waiting for X-Line to expire, should be 10 seconds or so
t/ts6_14_xline4.t ............. ok
Invalid conversion in sprintf: "%j" at /home/cpansand/.cpan/build/2019082210/POE-Component-Server-IRC-1.55-2dM2v_/blib/lib/POE/Component/Server/IRC.pm line 9031.
Invalid conversion in sprintf: "%j" at /home/cpansand/.cpan/build/2019082210/POE-Component-Server-IRC-1.55-2dM2v_/blib/lib/POE/Component/Server/IRC.pm line 9031.
# Waiting for X-Line to expire, should be 10 seconds or so
t/ts6_14_xline5.t ............. ok
t/ts6_15_kline1.t ............. ok
Invalid conversion in sprintf: "%j" at /home/cpansand/.cpan/build/2019082210/POE-Component-Server-IRC-1.55-2dM2v_/blib/lib/POE/Component/Server/IRC.pm line 9031.
Invalid conversion in sprintf: "%j" at /home/cpansand/.cpan/build/2019082210/POE-Component-Server-IRC-1.55-2dM2v_/blib/lib/POE/Component/Server/IRC.pm line 9031.
t/ts6_15_kline2.t ............. ok
Invalid conversion in sprintf: "%j" at /home/cpansand/.cpan/build/2019082210/POE-Component-Server-IRC-1.55-2dM2v_/blib/lib/POE/Component/Server/IRC.pm line 9031.
Invalid conversion in sprintf: "%j" at /home/cpansand/.cpan/build/2019082210/POE-Component-Server-IRC-1.55-2dM2v_/blib/lib/POE/Component/Server/IRC.pm line 9031.
t/ts6_15_kline3.t ............. ok
# Waiting for K-Line to expire, should be 10 seconds or so
t/ts6_15_kline4.t ............. ok
Invalid conversion in sprintf: "%j" at /home/cpansand/.cpan/build/2019082210/POE-Component-Server-IRC-1.55-2dM2v_/blib/lib/POE/Component/Server/IRC.pm line 9031.
Invalid conversion in sprintf: "%j" at /home/cpansand/.cpan/build/2019082210/POE-Component-Server-IRC-1.55-2dM2v_/blib/lib/POE/Component/Server/IRC.pm line 9031.
# Waiting for K-Line to expire, should be 10 seconds or so
t/ts6_15_kline5.t ............. ok
t/ts6_15_kline6.t ............. ok
t/ts6_15_rkline1.t ............ ok
# Waiting for RK-Line to expire, should be 10 seconds or so
t/ts6_15_rkline2.t ............ ok
Invalid conversion in sprintf: "%j" at /home/cpansand/.cpan/build/2019082210/POE-Component-Server-IRC-1.55-2dM2v_/blib/lib/POE/Component/Server/IRC.pm line 9031.
Invalid conversion in sprintf: "%j" at /home/cpansand/.cpan/build/2019082210/POE-Component-Server-IRC-1.55-2dM2v_/blib/lib/POE/Component/Server/IRC.pm line 9031.
t/ts6_16_away1.t .............. ok
Invalid conversion in sprintf: "%j" at /home/cpansand/.cpan/build/2019082210/POE-Component-Server-IRC-1.55-2dM2v_/blib/lib/POE/Component/Server/IRC.pm line 9031.
Invalid conversion in sprintf: "%j" at /home/cpansand/.cpan/build/2019082210/POE-Component-Server-IRC-1.55-2dM2v_/blib/lib/POE/Component/Server/IRC.pm line 9031.
t/ts6_16_away2.t .............. ok
Invalid conversion in sprintf: "%j" at /home/cpansand/.cpan/build/2019082210/POE-Component-Server-IRC-1.55-2dM2v_/blib/lib/POE/Component/Server/IRC.pm line 9031.
Invalid conversion in sprintf: "%j" at /home/cpansand/.cpan/build/2019082210/POE-Component-Server-IRC-1.55-2dM2v_/blib/lib/POE/Component/Server/IRC.pm line 9031.
t/ts6_17_links1.t ............. ok
Invalid conversion in sprintf: "%j" at /home/cpansand/.cpan/build/2019082210/POE-Component-Server-IRC-1.55-2dM2v_/blib/lib/POE/Component/Server/IRC.pm line 9031.
Invalid conversion in sprintf: "%j" at /home/cpansand/.cpan/build/2019082210/POE-Component-Server-IRC-1.55-2dM2v_/blib/lib/POE/Component/Server/IRC.pm line 9031.
t/ts6_17_links2.t ............. ok
Invalid conversion in sprintf: "%j" at /home/cpansand/.cpan/build/2019082210/POE-Component-Server-IRC-1.55-2dM2v_/blib/lib/POE/Component/Server/IRC.pm line 9031.
Invalid conversion in sprintf: "%j" at /home/cpansand/.cpan/build/2019082210/POE-Component-Server-IRC-1.55-2dM2v_/blib/lib/POE/Component/Server/IRC.pm line 9031.
t/ts6_17_links3.t ............. ok
Invalid conversion in sprintf: "%j" at /home/cpansand/.cpan/build/2019082210/POE-Component-Server-IRC-1.55-2dM2v_/blib/lib/POE/Component/Server/IRC.pm line 9031.
Invalid conversion in sprintf: "%j" at /home/cpansand/.cpan/build/2019082210/POE-Component-Server-IRC-1.55-2dM2v_/blib/lib/POE/Component/Server/IRC.pm line 9031.
t/ts6_17_map1.t ............... ok
Invalid conversion in sprintf: "%j" at /home/cpansand/.cpan/build/2019082210/POE-Component-Server-IRC-1.55-2dM2v_/blib/lib/POE/Component/Server/IRC.pm line 9031.
Invalid conversion in sprintf: "%j" at /home/cpansand/.cpan/build/2019082210/POE-Component-Server-IRC-1.55-2dM2v_/blib/lib/POE/Component/Server/IRC.pm line 9031.
t/ts6_17_map2.t ............... ok
Invalid conversion in sprintf: "%j" at /home/cpansand/.cpan/build/2019082210/POE-Component-Server-IRC-1.55-2dM2v_/blib/lib/POE/Component/Server/IRC.pm line 9031.
Invalid conversion in sprintf: "%j" at /home/cpansand/.cpan/build/2019082210/POE-Component-Server-IRC-1.55-2dM2v_/blib/lib/POE/Component/Server/IRC.pm line 9031.
t/ts6_18_encap1.t ............. ok
Invalid conversion in sprintf: "%j" at /home/cpansand/.cpan/build/2019082210/POE-Component-Server-IRC-1.55-2dM2v_/blib/lib/POE/Component/Server/IRC.pm line 9031.
Invalid conversion in sprintf: "%j" at /home/cpansand/.cpan/build/2019082210/POE-Component-Server-IRC-1.55-2dM2v_/blib/lib/POE/Component/Server/IRC.pm line 9031.
t/ts6_18_encap2.t ............. ok
Invalid conversion in sprintf: "%j" at /home/cpansand/.cpan/build/2019082210/POE-Component-Server-IRC-1.55-2dM2v_/blib/lib/POE/Component/Server/IRC.pm line 9031.
Invalid conversion in sprintf: "%j" at /home/cpansand/.cpan/build/2019082210/POE-Component-Server-IRC-1.55-2dM2v_/blib/lib/POE/Component/Server/IRC.pm line 9031.
t/ts6_19_svsjoin1.t ........... ok
Invalid conversion in sprintf: "%j" at /home/cpansand/.cpan/build/2019082210/POE-Component-Server-IRC-1.55-2dM2v_/blib/lib/POE/Component/Server/IRC.pm line 9031.
Invalid conversion in sprintf: "%j" at /home/cpansand/.cpan/build/2019082210/POE-Component-Server-IRC-1.55-2dM2v_/blib/lib/POE/Component/Server/IRC.pm line 9031.
t/ts6_19_svsjoin2.t ........... ok
Invalid conversion in sprintf: "%j" at /home/cpansand/.cpan/build/2019082210/POE-Component-Server-IRC-1.55-2dM2v_/blib/lib/POE/Component/Server/IRC.pm line 9031.
Invalid conversion in sprintf: "%j" at /home/cpansand/.cpan/build/2019082210/POE-Component-Server-IRC-1.55-2dM2v_/blib/lib/POE/Component/Server/IRC.pm line 9031.
t/ts6_19_svsjoin3.t ........... ok
Invalid conversion in sprintf: "%j" at /home/cpansand/.cpan/build/2019082210/POE-Component-Server-IRC-1.55-2dM2v_/blib/lib/POE/Component/Server/IRC.pm line 9031.
Invalid conversion in sprintf: "%j" at /home/cpansand/.cpan/build/2019082210/POE-Component-Server-IRC-1.55-2dM2v_/blib/lib/POE/Component/Server/IRC.pm line 9031.
t/ts6_19_svspart1.t ........... ok
t/ts6_20_hostmask.t ........... ok
Invalid conversion in sprintf: "%j" at /home/cpansand/.cpan/build/2019082210/POE-Component-Server-IRC-1.55-2dM2v_/blib/lib/POE/Component/Server/IRC.pm line 9031.
Invalid conversion in sprintf: "%j" at /home/cpansand/.cpan/build/2019082210/POE-Component-Server-IRC-1.55-2dM2v_/blib/lib/POE/Component/Server/IRC.pm line 9031.
t/ts6_20_svshost1.t ........... ok
Invalid conversion in sprintf: "%j" at /home/cpansand/.cpan/build/2019082210/POE-Component-Server-IRC-1.55-2dM2v_/blib/lib/POE/Component/Server/IRC.pm line 9031.
Invalid conversion in sprintf: "%j" at /home/cpansand/.cpan/build/2019082210/POE-Component-Server-IRC-1.55-2dM2v_/blib/lib/POE/Component/Server/IRC.pm line 9031.
t/ts6_20_svshost2.t ........... ok
Invalid conversion in sprintf: "%j" at /home/cpansand/.cpan/build/2019082210/POE-Component-Server-IRC-1.55-2dM2v_/blib/lib/POE/Component/Server/IRC.pm line 9031.
Invalid conversion in sprintf: "%j" at /home/cpansand/.cpan/build/2019082210/POE-Component-Server-IRC-1.55-2dM2v_/blib/lib/POE/Component/Server/IRC.pm line 9031.
t/ts6_20_svsmode1.t ........... ok
Invalid conversion in sprintf: "%j" at /home/cpansand/.cpan/build/2019082210/POE-Component-Server-IRC-1.55-2dM2v_/blib/lib/POE/Component/Server/IRC.pm line 9031.
Invalid conversion in sprintf: "%j" at /home/cpansand/.cpan/build/2019082210/POE-Component-Server-IRC-1.55-2dM2v_/blib/lib/POE/Component/Server/IRC.pm line 9031.
t/ts6_20_svsmode2.t ........... ok
Invalid conversion in sprintf: "%j" at /home/cpansand/.cpan/build/2019082210/POE-Component-Server-IRC-1.55-2dM2v_/blib/lib/POE/Component/Server/IRC.pm line 9031.
Invalid conversion in sprintf: "%j" at /home/cpansand/.cpan/build/2019082210/POE-Component-Server-IRC-1.55-2dM2v_/blib/lib/POE/Component/Server/IRC.pm line 9031.
t/ts6_20_svsmode3.t ........... ok
Invalid conversion in sprintf: "%j" at /home/cpansand/.cpan/build/2019082210/POE-Component-Server-IRC-1.55-2dM2v_/blib/lib/POE/Component/Server/IRC.pm line 9031.
Invalid conversion in sprintf: "%j" at /home/cpansand/.cpan/build/2019082210/POE-Component-Server-IRC-1.55-2dM2v_/blib/lib/POE/Component/Server/IRC.pm line 9031.
t/ts6_21_svskill1.t ........... ok
Invalid conversion in sprintf: "%j" at /home/cpansand/.cpan/build/2019082210/POE-Component-Server-IRC-1.55-2dM2v_/blib/lib/POE/Component/Server/IRC.pm line 9031.
Invalid conversion in sprintf: "%j" at /home/cpansand/.cpan/build/2019082210/POE-Component-Server-IRC-1.55-2dM2v_/blib/lib/POE/Component/Server/IRC.pm line 9031.
t/ts6_22_accounts1.t .......... ok
Invalid conversion in sprintf: "%j" at /home/cpansand/.cpan/build/2019082210/POE-Component-Server-IRC-1.55-2dM2v_/blib/lib/POE/Component/Server/IRC.pm line 9031.
Invalid conversion in sprintf: "%j" at /home/cpansand/.cpan/build/2019082210/POE-Component-Server-IRC-1.55-2dM2v_/blib/lib/POE/Component/Server/IRC.pm line 9031.
t/ts6_22_svsnick1.t ........... ok
Invalid conversion in sprintf: "%j" at /home/cpansand/.cpan/build/2019082210/POE-Component-Server-IRC-1.55-2dM2v_/blib/lib/POE/Component/Server/IRC.pm line 9031.
Invalid conversion in sprintf: "%j" at /home/cpansand/.cpan/build/2019082210/POE-Component-Server-IRC-1.55-2dM2v_/blib/lib/POE/Component/Server/IRC.pm line 9031.
t/ts6_22_svsnick2.t ........... ok
Invalid conversion in sprintf: "%j" at /home/cpansand/.cpan/build/2019082210/POE-Component-Server-IRC-1.55-2dM2v_/blib/lib/POE/Component/Server/IRC.pm line 9031.
Invalid conversion in sprintf: "%j" at /home/cpansand/.cpan/build/2019082210/POE-Component-Server-IRC-1.55-2dM2v_/blib/lib/POE/Component/Server/IRC.pm line 9031.
t/ts6_22_svsnick3.t ........... ok
Invalid conversion in sprintf: "%j" at /home/cpansand/.cpan/build/2019082210/POE-Component-Server-IRC-1.55-2dM2v_/blib/lib/POE/Component/Server/IRC.pm line 9031.
Invalid conversion in sprintf: "%j" at /home/cpansand/.cpan/build/2019082210/POE-Component-Server-IRC-1.55-2dM2v_/blib/lib/POE/Component/Server/IRC.pm line 9031.
t/ts6_23_msg1.t ............... ok
Invalid conversion in sprintf: "%j" at /home/cpansand/.cpan/build/2019082210/POE-Component-Server-IRC-1.55-2dM2v_/blib/lib/POE/Component/Server/IRC.pm line 9031.
Invalid conversion in sprintf: "%j" at /home/cpansand/.cpan/build/2019082210/POE-Component-Server-IRC-1.55-2dM2v_/blib/lib/POE/Component/Server/IRC.pm line 9031.
t/ts6_23_msg2.t ............... ok
Invalid conversion in sprintf: "%j" at /home/cpansand/.cpan/build/2019082210/POE-Component-Server-IRC-1.55-2dM2v_/blib/lib/POE/Component/Server/IRC.pm line 9031.
Invalid conversion in sprintf: "%j" at /home/cpansand/.cpan/build/2019082210/POE-Component-Server-IRC-1.55-2dM2v_/blib/lib/POE/Component/Server/IRC.pm line 9031.
t/ts6_24_knock1.t ............. ok
Invalid conversion in sprintf: "%j" at /home/cpansand/.cpan/build/2019082210/POE-Component-Server-IRC-1.55-2dM2v_/blib/lib/POE/Component/Server/IRC.pm line 9031.
Invalid conversion in sprintf: "%j" at /home/cpansand/.cpan/build/2019082210/POE-Component-Server-IRC-1.55-2dM2v_/blib/lib/POE/Component/Server/IRC.pm line 9031.
t/ts6_24_knock2.t ............. ok
Invalid conversion in sprintf: "%j" at /home/cpansand/.cpan/build/2019082210/POE-Component-Server-IRC-1.55-2dM2v_/blib/lib/POE/Component/Server/IRC.pm line 9031.
Invalid conversion in sprintf: "%j" at /home/cpansand/.cpan/build/2019082210/POE-Component-Server-IRC-1.55-2dM2v_/blib/lib/POE/Component/Server/IRC.pm line 9031.
t/ts6_24_knock3.t ............. ok
Invalid conversion in sprintf: "%j" at /home/cpansand/.cpan/build/2019082210/POE-Component-Server-IRC-1.55-2dM2v_/blib/lib/POE/Component/Server/IRC.pm line 9031.
Invalid conversion in sprintf: "%j" at /home/cpansand/.cpan/build/2019082210/POE-Component-Server-IRC-1.55-2dM2v_/blib/lib/POE/Component/Server/IRC.pm line 9031.
t/ts6_24_knock4.t ............. ok
Invalid conversion in sprintf: "%j" at /home/cpansand/.cpan/build/2019082210/POE-Component-Server-IRC-1.55-2dM2v_/blib/lib/POE/Component/Server/IRC.pm line 9031.
Invalid conversion in sprintf: "%j" at /home/cpansand/.cpan/build/2019082210/POE-Component-Server-IRC-1.55-2dM2v_/blib/lib/POE/Component/Server/IRC.pm line 9031.
t/ts6_24_knock5.t ............. ok
Invalid conversion in sprintf: "%j" at /home/cpansand/.cpan/build/2019082210/POE-Component-Server-IRC-1.55-2dM2v_/blib/lib/POE/Component/Server/IRC.pm line 9031, <DATA> line 319.
Invalid conversion in sprintf: "%j" at /home/cpansand/.cpan/build/2019082210/POE-Component-Server-IRC-1.55-2dM2v_/blib/lib/POE/Component/Server/IRC.pm line 9031, <DATA> line 319.
t/ts6_25_list1.t .............. ok
Invalid conversion in sprintf: "%j" at /home/cpansand/.cpan/build/2019082210/POE-Component-Server-IRC-1.55-2dM2v_/blib/lib/POE/Component/Server/IRC.pm line 9031.
Invalid conversion in sprintf: "%j" at /home/cpansand/.cpan/build/2019082210/POE-Component-Server-IRC-1.55-2dM2v_/blib/lib/POE/Component/Server/IRC.pm line 9031.
t/ts6_26_watch1.t ............. ok
Invalid conversion in sprintf: "%j" at /home/cpansand/.cpan/build/2019082210/POE-Component-Server-IRC-1.55-2dM2v_/blib/lib/POE/Component/Server/IRC.pm line 9031.
Invalid conversion in sprintf: "%j" at /home/cpansand/.cpan/build/2019082210/POE-Component-Server-IRC-1.55-2dM2v_/blib/lib/POE/Component/Server/IRC.pm line 9031.
t/ts6_26_watch2.t ............. ok
Invalid conversion in sprintf: "%j" at /home/cpansand/.cpan/build/2019082210/POE-Component-Server-IRC-1.55-2dM2v_/blib/lib/POE/Component/Server/IRC.pm line 9031.
Invalid conversion in sprintf: "%j" at /home/cpansand/.cpan/build/2019082210/POE-Component-Server-IRC-1.55-2dM2v_/blib/lib/POE/Component/Server/IRC.pm line 9031.
t/ts6_27_etrace1.t ............ ok
Invalid conversion in sprintf: "%j" at /home/cpansand/.cpan/build/2019082210/POE-Component-Server-IRC-1.55-2dM2v_/blib/lib/POE/Component/Server/IRC.pm line 9031.
Invalid conversion in sprintf: "%j" at /home/cpansand/.cpan/build/2019082210/POE-Component-Server-IRC-1.55-2dM2v_/blib/lib/POE/Component/Server/IRC.pm line 9031.
t/ts6_27_etrace2.t ............ ok
Invalid conversion in sprintf: "%j" at /home/cpansand/.cpan/build/2019082210/POE-Component-Server-IRC-1.55-2dM2v_/blib/lib/POE/Component/Server/IRC.pm line 9031.
Invalid conversion in sprintf: "%j" at /home/cpansand/.cpan/build/2019082210/POE-Component-Server-IRC-1.55-2dM2v_/blib/lib/POE/Component/Server/IRC.pm line 9031.
t/ts6_27_etrace3.t ............ ok
Invalid conversion in sprintf: "%j" at /home/cpansand/.cpan/build/2019082210/POE-Component-Server-IRC-1.55-2dM2v_/blib/lib/POE/Component/Server/IRC.pm line 9031.
Invalid conversion in sprintf: "%j" at /home/cpansand/.cpan/build/2019082210/POE-Component-Server-IRC-1.55-2dM2v_/blib/lib/POE/Component/Server/IRC.pm line 9031.
t/ts6_27_etrace4.t ............ ok
Invalid conversion in sprintf: "%j" at /home/cpansand/.cpan/build/2019082210/POE-Component-Server-IRC-1.55-2dM2v_/blib/lib/POE/Component/Server/IRC.pm line 9031.
Invalid conversion in sprintf: "%j" at /home/cpansand/.cpan/build/2019082210/POE-Component-Server-IRC-1.55-2dM2v_/blib/lib/POE/Component/Server/IRC.pm line 9031.
t/ts6_27_trace1.t ............. ok
Invalid conversion in sprintf: "%j" at /home/cpansand/.cpan/build/2019082210/POE-Component-Server-IRC-1.55-2dM2v_/blib/lib/POE/Component/Server/IRC.pm line 9031.
Invalid conversion in sprintf: "%j" at /home/cpansand/.cpan/build/2019082210/POE-Component-Server-IRC-1.55-2dM2v_/blib/lib/POE/Component/Server/IRC.pm line 9031.
t/ts6_27_trace2.t ............. ok
Invalid conversion in sprintf: "%j" at /home/cpansand/.cpan/build/2019082210/POE-Component-Server-IRC-1.55-2dM2v_/blib/lib/POE/Component/Server/IRC.pm line 9031.
Invalid conversion in sprintf: "%j" at /home/cpansand/.cpan/build/2019082210/POE-Component-Server-IRC-1.55-2dM2v_/blib/lib/POE/Component/Server/IRC.pm line 9031.
t/ts6_27_trace3.t ............. ok
Invalid conversion in sprintf: "%j" at /home/cpansand/.cpan/build/2019082210/POE-Component-Server-IRC-1.55-2dM2v_/blib/lib/POE/Component/Server/IRC.pm line 9031.
Invalid conversion in sprintf: "%j" at /home/cpansand/.cpan/build/2019082210/POE-Component-Server-IRC-1.55-2dM2v_/blib/lib/POE/Component/Server/IRC.pm line 9031.
t/ts6_27_trace4.t ............. ok
Invalid conversion in sprintf: "%j" at /home/cpansand/.cpan/build/2019082210/POE-Component-Server-IRC-1.55-2dM2v_/blib/lib/POE/Component/Server/IRC.pm line 9031.
Invalid conversion in sprintf: "%j" at /home/cpansand/.cpan/build/2019082210/POE-Component-Server-IRC-1.55-2dM2v_/blib/lib/POE/Component/Server/IRC.pm line 9031.
t/ts6_28_pseudo1.t ............ ok
Invalid conversion in sprintf: "%j" at /home/cpansand/.cpan/build/2019082210/POE-Component-Server-IRC-1.55-2dM2v_/blib/lib/POE/Component/Server/IRC.pm line 9031.
Invalid conversion in sprintf: "%j" at /home/cpansand/.cpan/build/2019082210/POE-Component-Server-IRC-1.55-2dM2v_/blib/lib/POE/Component/Server/IRC.pm line 9031.
t/ts6_29_stats1.t ............. ok
Invalid conversion in sprintf: "%j" at /home/cpansand/.cpan/build/2019082210/POE-Component-Server-IRC-1.55-2dM2v_/blib/lib/POE/Component/Server/IRC.pm line 9031.
Invalid conversion in sprintf: "%j" at /home/cpansand/.cpan/build/2019082210/POE-Component-Server-IRC-1.55-2dM2v_/blib/lib/POE/Component/Server/IRC.pm line 9031.
t/ts6_29_stats2.t ............. ok
Invalid conversion in sprintf: "%j" at /home/cpansand/.cpan/build/2019082210/POE-Component-Server-IRC-1.55-2dM2v_/blib/lib/POE/Component/Server/IRC.pm line 9031.
Invalid conversion in sprintf: "%j" at /home/cpansand/.cpan/build/2019082210/POE-Component-Server-IRC-1.55-2dM2v_/blib/lib/POE/Component/Server/IRC.pm line 9031.
t/ts6_29_stats3.t ............. ok
Invalid conversion in sprintf: "%j" at /home/cpansand/.cpan/build/2019082210/POE-Component-Server-IRC-1.55-2dM2v_/blib/lib/POE/Component/Server/IRC.pm line 9031.
Invalid conversion in sprintf: "%j" at /home/cpansand/.cpan/build/2019082210/POE-Component-Server-IRC-1.55-2dM2v_/blib/lib/POE/Component/Server/IRC.pm line 9031.
t/ts6_29_stats4.t ............. ok
Invalid conversion in sprintf: "%j" at /home/cpansand/.cpan/build/2019082210/POE-Component-Server-IRC-1.55-2dM2v_/blib/lib/POE/Component/Server/IRC.pm line 9031.
Invalid conversion in sprintf: "%j" at /home/cpansand/.cpan/build/2019082210/POE-Component-Server-IRC-1.55-2dM2v_/blib/lib/POE/Component/Server/IRC.pm line 9031.
t/ts6_30_smode1.t ............. ok
Invalid conversion in sprintf: "%j" at /home/cpansand/.cpan/build/2019082210/POE-Component-Server-IRC-1.55-2dM2v_/blib/lib/POE/Component/Server/IRC.pm line 9031.
Invalid conversion in sprintf: "%j" at /home/cpansand/.cpan/build/2019082210/POE-Component-Server-IRC-1.55-2dM2v_/blib/lib/POE/Component/Server/IRC.pm line 9031.
t/ts6_30_smode2.t ............. ok
Invalid conversion in sprintf: "%j" at /home/cpansand/.cpan/build/2019082210/POE-Component-Server-IRC-1.55-2dM2v_/blib/lib/POE/Component/Server/IRC.pm line 9031.
Invalid conversion in sprintf: "%j" at /home/cpansand/.cpan/build/2019082210/POE-Component-Server-IRC-1.55-2dM2v_/blib/lib/POE/Component/Server/IRC.pm line 9031.
t/ts6_30_smode3.t ............. ok
Invalid conversion in sprintf: "%j" at /home/cpansand/.cpan/build/2019082210/POE-Component-Server-IRC-1.55-2dM2v_/blib/lib/POE/Component/Server/IRC.pm line 9031.
Invalid conversion in sprintf: "%j" at /home/cpansand/.cpan/build/2019082210/POE-Component-Server-IRC-1.55-2dM2v_/blib/lib/POE/Component/Server/IRC.pm line 9031.
t/ts6_31_close1.t ............. ok
Invalid conversion in sprintf: "%j" at /home/cpansand/.cpan/build/2019082210/POE-Component-Server-IRC-1.55-2dM2v_/blib/lib/POE/Component/Server/IRC.pm line 9031.
Invalid conversion in sprintf: "%j" at /home/cpansand/.cpan/build/2019082210/POE-Component-Server-IRC-1.55-2dM2v_/blib/lib/POE/Component/Server/IRC.pm line 9031.
t/ts6_32_userhost1.t .......... ok
Invalid conversion in sprintf: "%j" at /home/cpansand/.cpan/build/2019082210/POE-Component-Server-IRC-1.55-2dM2v_/blib/lib/POE/Component/Server/IRC.pm line 9031.
Invalid conversion in sprintf: "%j" at /home/cpansand/.cpan/build/2019082210/POE-Component-Server-IRC-1.55-2dM2v_/blib/lib/POE/Component/Server/IRC.pm line 9031.
t/ts6_33_antinick1.t .......... ok
Invalid conversion in sprintf: "%j" at /home/cpansand/.cpan/build/2019082210/POE-Component-Server-IRC-1.55-2dM2v_/blib/lib/POE/Component/Server/IRC.pm line 9031.
Invalid conversion in sprintf: "%j" at /home/cpansand/.cpan/build/2019082210/POE-Component-Server-IRC-1.55-2dM2v_/blib/lib/POE/Component/Server/IRC.pm line 9031.
t/ts6_34_set1.t ............... ok
Invalid conversion in sprintf: "%j" at /home/cpansand/.cpan/build/2019082210/POE-Component-Server-IRC-1.55-2dM2v_/blib/lib/POE/Component/Server/IRC.pm line 9031.
Invalid conversion in sprintf: "%j" at /home/cpansand/.cpan/build/2019082210/POE-Component-Server-IRC-1.55-2dM2v_/blib/lib/POE/Component/Server/IRC.pm line 9031.
t/ts6_35_help1.t .............. ok
Invalid conversion in sprintf: "%j" at /home/cpansand/.cpan/build/2019082210/POE-Component-Server-IRC-1.55-2dM2v_/blib/lib/POE/Component/Server/IRC.pm line 9031.
Invalid conversion in sprintf: "%j" at /home/cpansand/.cpan/build/2019082210/POE-Component-Server-IRC-1.55-2dM2v_/blib/lib/POE/Component/Server/IRC.pm line 9031.
t/ts6_35_help2.t .............. ok
Invalid conversion in sprintf: "%j" at /home/cpansand/.cpan/build/2019082210/POE-Component-Server-IRC-1.55-2dM2v_/blib/lib/POE/Component/Server/IRC.pm line 9031.
Invalid conversion in sprintf: "%j" at /home/cpansand/.cpan/build/2019082210/POE-Component-Server-IRC-1.55-2dM2v_/blib/lib/POE/Component/Server/IRC.pm line 9031.
t/ts6_36_hidden1.t ............ ok
Invalid conversion in sprintf: "%j" at /home/cpansand/.cpan/build/2019082210/POE-Component-Server-IRC-1.55-2dM2v_/blib/lib/POE/Component/Server/IRC.pm line 9031.
Invalid conversion in sprintf: "%j" at /home/cpansand/.cpan/build/2019082210/POE-Component-Server-IRC-1.55-2dM2v_/blib/lib/POE/Component/Server/IRC.pm line 9031.
t/ts6_37_lusers1.t ............ ok
Invalid conversion in sprintf: "%j" at /home/cpansand/.cpan/build/2019082210/POE-Component-Server-IRC-1.55-2dM2v_/blib/lib/POE/Component/Server/IRC.pm line 9031.
Invalid conversion in sprintf: "%j" at /home/cpansand/.cpan/build/2019082210/POE-Component-Server-IRC-1.55-2dM2v_/blib/lib/POE/Component/Server/IRC.pm line 9031.
t/ts6_37_lusers2.t ............ ok
t/ts_01_subclass.t ............ ok
t/ts_02_multi.t ............... ok
Invalid conversion in sprintf: "%j" at /home/cpansand/.cpan/build/2019082210/POE-Component-Server-IRC-1.55-2dM2v_/blib/lib/POE/Component/Server/IRC.pm line 9031.
Invalid conversion in sprintf: "%j" at /home/cpansand/.cpan/build/2019082210/POE-Component-Server-IRC-1.55-2dM2v_/blib/lib/POE/Component/Server/IRC.pm line 9031.
t/ts_03_serverlink.t .......... ok
t/ts_04_compresslink.t ........ skipped: POE::Filter::Zlib::Stream not found
t/ts_04_ssl_link.t ............ skipped: POE::Component::SSLify not available
t/ts_04_sslify.t .............. skipped: POE::Component::SSLify not available
t/ts_05_oper.t ................ ok
t/ts_06_spoofs.t .............. ok
t/ts_07_callerid.t ............ ok
t/ts_08_operserv.t ............ ok
t/ts_09_serrano_spoofs.t ...... ok
t/ts_10_eggzeck_topic.t ....... ok
t/ts_11_hinrik_umode.t ........ ok
t/ts_12_hinrik_time.t ......... ok
t/ts_13_nickrace.t ............ ok
t/ts_14_nickchange_channel.t .. ok
t/ts_15_nick_taken.t .......... ok
t/ts_16_public.t .............. ok
t/ts_17_mode.t ................ ok
t/ts_18_whowas.t .............. ok
t/ts_19_cap.t ................. ok
t/ts_20_cap_mp.t .............. ok
t/ts_20_cap_uh.t .............. ok
t/ts_20_cap_uhmp.t ............ ok
t/ts_21_away.t ................ ok
All tests successful.
Files=182, Tests=28602, 321 wallclock secs ( 1.54 usr  2.19 sys + 45.77 cusr 21.78 csys = 71.28 CPU)
Result: PASS

------------------------------
PREREQUISITES
------------------------------

Prerequisite modules loaded:

requires:

    Module                        Need   Have    
    ----------------------------- ------ --------
    Crypt::Eksblowfish::Bcrypt    0.009  0.009   
    Crypt::PasswdMD5              1.3    1.40    
    IRC::Utils                    0.10   0.12    
    List::Util                    0      1.52    
    Net::CIDR                     0.18   0.20    
    Net::IP::Minimal              0      0.06    
    Net::Netmask                  1.9104 1.9104  
    POE                           0.9999 1.367   
    POE::Component::Client::DNS   1.00   1.054   
    POE::Component::Client::Ident 1.00   1.16    
    POE::Component::Syndicator    0.04   0.06    
    POE::Filter::IRCD             2.2    2.44    
    POE::Filter::ThruPut          1.00   1.00    
    Socket                        2.013  2.029   

build_requires:

    Module                        Need   Have    
    ----------------------------- ------ --------
    ExtUtils::MakeMaker           0      6.66    
    POE::Component::IRC           6.68   6.90    
    Test::More                    0.47   1.302164
    Test::POE::Client::TCP        1.22   1.26    

configure_requires:

    Module                        Need   Have    
    ----------------------------- ------ --------
    ExtUtils::MakeMaker           0      6.66    


------------------------------
ENVIRONMENT AND OTHER CONTEXT
------------------------------

Environment variables:

    LANG = en_US.UTF-8
    PATH = /usr/local/bin:/usr/bin:/bin:/usr/local/sbin:/usr/sbin:/sbin:/home/cpansand/bin/linux-gnu:/home/cpansand/bin/sh:/home/cpansand/bin:/usr/games:/home/cpansand/devel:/home/eserte/src/srezic-misc/scripts
    PERL5LIB = /home/cpansand/.cpan/build/2019082210/Test-POE-Client-TCP-1.26-oRtVlv/blib/arch:/home/cpansand/.cpan/build/2019082210/Test-POE-Client-TCP-1.26-oRtVlv/blib/lib:/home/cpansand/.cpan/build/2019082210/Crypt-Eksblowfish-0.009-UCGkeb/blib/arch:/home/cpansand/.cpan/build/2019082210/Crypt-Eksblowfish-0.009-UCGkeb/blib/lib:/home/cpansand/.cpan/build/2019082210/Class-Mix-0.006-3XwJCm/blib/arch:/home/cpansand/.cpan/build/2019082210/Class-Mix-0.006-3XwJCm/blib/lib:/home/cpansand/.cpan/build/2019082210/Params-Classify-0.015-luBew7/blib/arch:/home/cpansand/.cpan/build/2019082210/Params-Classify-0.015-luBew7/blib/lib:/home/cpansand/.cpan/build/2019082210/Net-IP-Minimal-0.06-Jrr9_g/blib/arch:/home/cpansand/.cpan/build/2019082210/Net-IP-Minimal-0.06-Jrr9_g/blib/lib:/home/cpansand/.cpan/build/2019082210/POE-Component-Client-DNS-1.054-6_KfB2/blib/arch:/home/cpansand/.cpan/build/2019082210/POE-Component-Client-DNS-1.054-6_KfB2/blib/lib:/home/cpansand/.cpan/build/2019082210/Test-NoWarnings-1.04-gpuUxk/blib/arch:/home/cpansand/.cpan/build/2019082210/Test-NoWarnings-1.04-gpuUxk/blib/lib:/home/cpansand/.cpan/build/2019082210/Net-DNS-1.20-n5Lxnb/blib/arch:/home/cpansand/.cpan/build/2019082210/Net-DNS-1.20-n5Lxnb/blib/lib:/home/cpansand/.cpan/build/2019082210/Digest-HMAC-1.03-hEJfY_/blib/arch:/home/cpansand/.cpan/build/2019082210/Digest-HMAC-1.03-hEJfY_/blib/lib:/home/cpansand/.cpan/build/2019082210/IO-Socket-IP-0.39-63enWd/blib/arch:/home/cpansand/.cpan/build/2019082210/IO-Socket-IP-0.39-63enWd/blib/lib:/home/cpansand/.cpan/build/2019082210/Socket-2.029-UWqBra/blib/arch:/home/cpansand/.cpan/build/2019082210/Socket-2.029-UWqBra/blib/lib:/home/cpansand/.cpan/build/2019082210/POE-Component-IRC-6.90-3MvZ9N/blib/arch:/home/cpansand/.cpan/build/2019082210/POE-Component-IRC-6.90-3MvZ9N/blib/lib:/home/cpansand/.cpan/build/2019082210/POE-Filter-IRCD-2.44-ARez2C/blib/arch:/home/cpansand/.cpan/build/2019082210/POE-Filter-IRCD-2.44-ARez2C/blib/lib:/home/cpansand/.cpan/build/2019082210/POE-Component-Syndicator-0.06-R42jTK/blib/arch:/home/cpansand/.cpan/build/2019082210/POE-Component-Syndicator-0.06-R42jTK/blib/lib:/home/cpansand/.cpan/build/2019082210/Object-Pluggable-1.29-935Rh5/blib/arch:/home/cpansand/.cpan/build/2019082210/Object-Pluggable-1.29-935Rh5/blib/lib:/home/cpansand/.cpan/build/2019082210/Task-Weaken-1.06-0zPomD/blib/arch:/home/cpansand/.cpan/build/2019082210/Task-Weaken-1.06-0zPomD/blib/lib:/home/cpansand/.cpan/build/2019082210/Test-Differences-0.67-lLyriF/blib/arch:/home/cpansand/.cpan/build/2019082210/Test-Differences-0.67-lLyriF/blib/lib:/home/cpansand/.cpan/build/2019082210/Net-Netmask-1.9104-cCViqc/blib/arch:/home/cpansand/.cpan/build/2019082210/Net-Netmask-1.9104-cCViqc/blib/lib:/home/cpansand/.cpan/build/2019082210/Test2-Suite-0.000125-JuQ_QQ/blib/arch:/home/cpansand/.cpan/build/2019082210/Test2-Suite-0.000125-JuQ_QQ/blib/lib:/home/cpansand/.cpan/build/2019082210/Sub-Info-0.002-yxMIxg/blib/arch:/home/cpansand/.cpan/build/2019082210/Sub-Info-0.002-yxMIxg/blib/lib:/home/cpansand/.cpan/build/2019082210/Module-Pluggable-5.2-PxUD8h/blib/arch:/home/cpansand/.cpan/build/2019082210/Module-Pluggable-5.2-PxUD8h/blib/lib:/home/cpansand/.cpan/build/2019082210/Term-Table-0.013-Gfycoa/blib/arch:/home/cpansand/.cpan/build/2019082210/Term-Table-0.013-Gfycoa/blib/lib:/home/cpansand/.cpan/build/2019082210/Importer-0.025-YRsD3K/blib/arch:/home/cpansand/.cpan/build/2019082210/Importer-0.025-YRsD3K/blib/lib:/home/cpansand/.cpan/build/2019082210/Scope-Guard-0.21-h3poH5/blib/arch:/home/cpansand/.cpan/build/2019082210/Scope-Guard-0.21-h3poH5/blib/lib:/home/cpansand/.cpan/build/2019082210/Math-BigInt-1.999816-g_LefN/blib/arch:/home/cpansand/.cpan/build/2019082210/Math-BigInt-1.999816-g_LefN/blib/lib:/home/cpansand/.cpan/build/2019082210/Test-UseAllModules-0.17-G81w7Y/blib/arch:/home/cpansand/.cpan/build/2019082210/Test-UseAllModules-0.17-G81w7Y/blib/lib:/home/cpansand/.cpan/build/2019082210/Crypt-PasswdMD5-1.40-hesQTl/blib/arch:/home/cpansand/.cpan/build/2019082210/Crypt-PasswdMD5-1.40-hesQTl/blib/lib:/home/cpansand/.cpan/build/2019082210/Digest-MD5-2.55-Y4eDzw/blib/arch:/home/cpansand/.cpan/build/2019082210/Digest-MD5-2.55-Y4eDzw/blib/lib:/home/cpansand/.cpan/build/2019082210/Net-CIDR-0.20-zrAaFa/blib/arch:/home/cpansand/.cpan/build/2019082210/Net-CIDR-0.20-zrAaFa/blib/lib:/home/cpansand/.cpan/build/2019082210/POE-Filter-ThruPut-1.00-BANhm_/blib/arch:/home/cpansand/.cpan/build/2019082210/POE-Filter-ThruPut-1.00-BANhm_/blib/lib:/home/cpansand/.cpan/build/2019082210/IRC-Utils-0.12-9PVxIy/blib/arch:/home/cpansand/.cpan/build/2019082210/IRC-Utils-0.12-9PVxIy/blib/lib:/home/cpansand/.cpan/build/2019082210/POE-Component-Client-Ident-1.16-RhdopH/blib/arch:/home/cpansand/.cpan/build/2019082210/POE-Component-Client-Ident-1.16-RhdopH/blib/lib:/home/cpansand/.cpan/build/2019082210/Test-POE-Server-TCP-1.20-xkGaUU/blib/arch:/home/cpansand/.cpan/build/2019082210/Test-POE-Server-TCP-1.20-xkGaUU/blib/lib:/home/cpansand/.cpan/build/2019082210/POE-1.367-N6FYZT/blib/arch:/home/cpansand/.cpan/build/2019082210/POE-1.367-N6FYZT/blib/lib:/home/cpansand/.cpan/build/2019082210/IO-Pipely-0.005-ui7LRZ/blib/arch:/home/cpansand/.cpan/build/2019082210/IO-Pipely-0.005-ui7LRZ/blib/lib:/home/cpansand/.cpan/build/2019082210/Scalar-List-Utils-1.52-z9CeSi/blib/arch:/home/cpansand/.cpan/build/2019082210/Scalar-List-Utils-1.52-z9CeSi/blib/lib:/home/cpansand/.cpan/build/2019082210/POE-Test-Loops-1.360-35fEI4/blib/arch:/home/cpansand/.cpan/build/2019082210/POE-Test-Loops-1.360-35fEI4/blib/lib
    PERL5OPT = 
    PERL5_CPANPLUS_IS_RUNNING = 26805
    PERL5_CPAN_IS_RUNNING = 26805
    PERL5_CPAN_IS_RUNNING_IN_RECURSION = 26724,26805
    PERLDOC = -MPod::Perldoc::ToTextOverstrike
    PERL_BATCH = yes
    PERL_CANARY_STABILITY_NOPROMPT = 1
    PERL_CPAN_REPORTER_CONFIG = /var/tmp/cpansmoker-1023/2019082210/cpanreporter_000_config.ini
    PERL_EXTUTILS_AUTOINSTALL = --defaultdeps
    SHELL = /usr/bin/zsh
    TERM = screen
    TMPDIR = /var/tmp/cpansmoker-1023/2019082210

Perl special variables (and OS-specific diagnostics, for MSWin32):

    $^X = /opt/perl-5.18.4/bin/perl5.18.4
    $UID/$EUID = 1023 / 1023
    $GID = 1023 1023
    $EGID = 1023 1023

Perl module toolchain versions installed:

    Module              Have    
    ------------------- --------
    CPAN                2.00    
    CPAN::Meta          2.150010
    Cwd                 3.40    
    ExtUtils::CBuilder  0.280210
    ExtUtils::Command   1.17    
    ExtUtils::Install   1.59    
    ExtUtils::MakeMaker 6.66    
    ExtUtils::Manifest  1.63    
    ExtUtils::ParseXS   3.18    
    File::Spec          3.40    
    JSON                n/a     
    JSON::PP            4.04    
    Module::Build       0.4229  
    Module::Signature   n/a     
    Parse::CPAN::Meta   2.150010
    Test::Harness       3.42    
    Test::More          1.302164
    YAML                1.29    
    YAML::Syck          1.31    
    version             0.9902  


--

Summary of my perl5 (revision 5 version 18 subversion 4) configuration:
   
  Platform:
    osname=linux, osvers=4.4.0-157-generic, archname=x86_64-linux
    uname='linux ubuntu16 4.4.0-157-generic #185-ubuntu smp tue jul 23 09:17:01 utc 2019 x86_64 x86_64 x86_64 gnulinux '
    config_args='-ds -e -Dprefix=/opt/perl-5.18.4 -Dcf_email=srezic@cpan.org'
    hint=recommended, useposix=true, d_sigaction=define
    useithreads=undef, usemultiplicity=undef
    useperlio=define, d_sfio=undef, uselargefiles=define, usesocks=undef
    use64bitint=define, use64bitall=define, uselongdouble=undef
    usemymalloc=n, bincompat5005=undef
  Compiler:
    cc='cc', ccflags ='-fwrapv -fno-strict-aliasing -pipe -fstack-protector -I/usr/local/include -D_LARGEFILE_SOURCE -D_FILE_OFFSET_BITS=64',
    optimize='-O2',
    cppflags='-fwrapv -fno-strict-aliasing -pipe -fstack-protector -I/usr/local/include'
    ccversion='', gccversion='5.4.0 20160609', gccosandvers=''
    intsize=4, longsize=8, ptrsize=8, doublesize=8, byteorder=12345678
    d_longlong=define, longlongsize=8, d_longdbl=define, longdblsize=16
    ivtype='long', ivsize=8, nvtype='double', nvsize=8, Off_t='off_t', lseeksize=8
    alignbytes=8, prototype=define
  Linker and Libraries:
    ld='cc', ldflags =' -fstack-protector -L/usr/local/lib'
    libpth=/usr/local/lib /lib/x86_64-linux-gnu /lib/../lib /usr/lib/x86_64-linux-gnu /usr/lib/../lib /lib /usr/lib
    libs=-lnsl -ldb -ldl -lm -lcrypt -lutil -lc
    perllibs=-lnsl -ldl -lm -lcrypt -lutil -lc
    libc=libc-2.23.so, so=so, useshrplib=false, libperl=libperl.a
    gnulibc_version='2.23'
  Dynamic Linking:
    dlsrc=dl_dlopen.xs, dlext=so, d_dlsymun=undef, ccdlflags='-Wl,-E'
    cccdlflags='-fPIC', lddlflags='-shared -O2 -L/usr/local/lib -fstack-protector'


Characteristics of this binary (from libperl): 
  Compile-time options: HAS_TIMES PERLIO_LAYERS PERL_DONT_CREATE_GVSV
                        PERL_HASH_FUNC_ONE_AT_A_TIME_HARD PERL_MALLOC_WRAP
                        PERL_PRESERVE_IVUV PERL_SAWAMPERSAND USE_64_BIT_ALL
                        USE_64_BIT_INT USE_LARGE_FILES USE_LOCALE
                        USE_LOCALE_COLLATE USE_LOCALE_CTYPE
                        USE_LOCALE_NUMERIC USE_PERLIO USE_PERL_ATOF
  Locally applied patches:
	Devel::PatchPerl 1.64
  Built under linux
  Compiled at Aug  6 2019 18:40:30
  %ENV:
    PERL5LIB="/home/cpansand/.cpan/build/2019082210/Test-POE-Client-TCP-1.26-oRtVlv/blib/arch:/home/cpansand/.cpan/build/2019082210/Test-POE-Client-TCP-1.26-oRtVlv/blib/lib:/home/cpansand/.cpan/build/2019082210/Crypt-Eksblowfish-0.009-UCGkeb/blib/arch:/home/cpansand/.cpan/build/2019082210/Crypt-Eksblowfish-0.009-UCGkeb/blib/lib:/home/cpansand/.cpan/build/2019082210/Class-Mix-0.006-3XwJCm/blib/arch:/home/cpansand/.cpan/build/2019082210/Class-Mix-0.006-3XwJCm/blib/lib:/home/cpansand/.cpan/build/2019082210/Params-Classify-0.015-luBew7/blib/arch:/home/cpansand/.cpan/build/2019082210/Params-Classify-0.015-luBew7/blib/lib:/home/cpansand/.cpan/build/2019082210/Net-IP-Minimal-0.06-Jrr9_g/blib/arch:/home/cpansand/.cpan/build/2019082210/Net-IP-Minimal-0.06-Jrr9_g/blib/lib:/home/cpansand/.cpan/build/2019082210/POE-Component-Client-DNS-1.054-6_KfB2/blib/arch:/home/cpansand/.cpan/build/2019082210/POE-Component-Client-DNS-1.054-6_KfB2/blib/lib:/home/cpansand/.cpan/build/2019082210/Test-NoWarnings-1.04-gpuUxk/blib/arch:/home/cpansand/.cpan/build/2019082210/Test-NoWarnings-1.04-gpuUxk/blib/lib:/home/cpansand/.cpan/build/2019082210/Net-DNS-1.20-n5Lxnb/blib/arch:/home/cpansand/.cpan/build/2019082210/Net-DNS-1.20-n5Lxnb/blib/lib:/home/cpansand/.cpan/build/2019082210/Digest-HMAC-1.03-hEJfY_/blib/arch:/home/cpansand/.cpan/build/2019082210/Digest-HMAC-1.03-hEJfY_/blib/lib:/home/cpansand/.cpan/build/2019082210/IO-Socket-IP-0.39-63enWd/blib/arch:/home/cpansand/.cpan/build/2019082210/IO-Socket-IP-0.39-63enWd/blib/lib:/home/cpansand/.cpan/build/2019082210/Socket-2.029-UWqBra/blib/arch:/home/cpansand/.cpan/build/2019082210/Socket-2.029-UWqBra/blib/lib:/home/cpansand/.cpan/build/2019082210/POE-Component-IRC-6.90-3MvZ9N/blib/arch:/home/cpansand/.cpan/build/2019082210/POE-Component-IRC-6.90-3MvZ9N/blib/lib:/home/cpansand/.cpan/build/2019082210/POE-Filter-IRCD-2.44-ARez2C/blib/arch:/home/cpansand/.cpan/build/2019082210/POE-Filter-IRCD-2.44-ARez2C/blib/lib:/home/cpansand/.cpan/build/2019082210/POE-Component-Syndicator-0.06-R42jTK/blib/arch:/home/cpansand/.cpan/build/2019082210/POE-Component-Syndicator-0.06-R42jTK/blib/lib:/home/cpansand/.cpan/build/2019082210/Object-Pluggable-1.29-935Rh5/blib/arch:/home/cpansand/.cpan/build/2019082210/Object-Pluggable-1.29-935Rh5/blib/lib:/home/cpansand/.cpan/build/2019082210/Task-Weaken-1.06-0zPomD/blib/arch:/home/cpansand/.cpan/build/2019082210/Task-Weaken-1.06-0zPomD/blib/lib:/home/cpansand/.cpan/build/2019082210/Test-Differences-0.67-lLyriF/blib/arch:/home/cpansand/.cpan/build/2019082210/Test-Differences-0.67-lLyriF/blib/lib:/home/cpansand/.cpan/build/2019082210/Net-Netmask-1.9104-cCViqc/blib/arch:/home/cpansand/.cpan/build/2019082210/Net-Netmask-1.9104-cCViqc/blib/lib:/home/cpansand/.cpan/build/2019082210/Test2-Suite-0.000125-JuQ_QQ/blib/arch:/home/cpansand/.cpan/build/2019082210/Test2-Suite-0.000125-JuQ_QQ/blib/lib:/home/cpansand/.cpan/build/2019082210/Sub-Info-0.002-yxMIxg/blib/arch:/home/cpansand/.cpan/build/2019082210/Sub-Info-0.002-yxMIxg/blib/lib:/home/cpansand/.cpan/build/2019082210/Module-Pluggable-5.2-PxUD8h/blib/arch:/home/cpansand/.cpan/build/2019082210/Module-Pluggable-5.2-PxUD8h/blib/lib:/home/cpansand/.cpan/build/2019082210/Term-Table-0.013-Gfycoa/blib/arch:/home/cpansand/.cpan/build/2019082210/Term-Table-0.013-Gfycoa/blib/lib:/home/cpansand/.cpan/build/2019082210/Importer-0.025-YRsD3K/blib/arch:/home/cpansand/.cpan/build/2019082210/Importer-0.025-YRsD3K/blib/lib:/home/cpansand/.cpan/build/2019082210/Scope-Guard-0.21-h3poH5/blib/arch:/home/cpansand/.cpan/build/2019082210/Scope-Guard-0.21-h3poH5/blib/lib:/home/cpansand/.cpan/build/2019082210/Math-BigInt-1.999816-g_LefN/blib/arch:/home/cpansand/.cpan/build/2019082210/Math-BigInt-1.999816-g_LefN/blib/lib:/home/cpansand/.cpan/build/2019082210/Test-UseAllModules-0.17-G81w7Y/blib/arch:/home/cpansand/.cpan/build/2019082210/Test-UseAllModules-0.17-G81w7Y/blib/lib:/home/cpansand/.cpan/build/2019082210/Crypt-PasswdMD5-1.40-hesQTl/blib/arch:/home/cpansand/.cpan/build/2019082210/Crypt-PasswdMD5-1.40-hesQTl/blib/lib:/home/cpansand/.cpan/build/2019082210/Digest-MD5-2.55-Y4eDzw/blib/arch:/home/cpansand/.cpan/build/2019082210/Digest-MD5-2.55-Y4eDzw/blib/lib:/home/cpansand/.cpan/build/2019082210/Net-CIDR-0.20-zrAaFa/blib/arch:/home/cpansand/.cpan/build/2019082210/Net-CIDR-0.20-zrAaFa/blib/lib:/home/cpansand/.cpan/build/2019082210/POE-Filter-ThruPut-1.00-BANhm_/blib/arch:/home/cpansand/.cpan/build/2019082210/POE-Filter-ThruPut-1.00-BANhm_/blib/lib:/home/cpansand/.cpan/build/2019082210/IRC-Utils-0.12-9PVxIy/blib/arch:/home/cpansand/.cpan/build/2019082210/IRC-Utils-0.12-9PVxIy/blib/lib:/home/cpansand/.cpan/build/2019082210/POE-Component-Client-Ident-1.16-RhdopH/blib/arch:/home/cpansand/.cpan/build/2019082210/POE-Component-Client-Ident-1.16-RhdopH/blib/lib:/home/cpansand/.cpan/build/2019082210/Test-POE-Server-TCP-1.20-xkGaUU/blib/arch:/home/cpansand/.cpan/build/2019082210/Test-POE-Server-TCP-1.20-xkGaUU/blib/lib:/home/cpansand/.cpan/build/2019082210/POE-1.367-N6FYZT/blib/arch:/home/cpansand/.cpan/build/2019082210/POE-1.367-N6FYZT/blib/lib:/home/cpansand/.cpan/build/2019082210/IO-Pipely-0.005-ui7LRZ/blib/arch:/home/cpansand/.cpan/build/2019082210/IO-Pipely-0.005-ui7LRZ/blib/lib:/home/cpansand/.cpan/build/2019082210/Scalar-List-Utils-1.52-z9CeSi/blib/arch:/home/cpansand/.cpan/build/2019082210/Scalar-List-Utils-1.52-z9CeSi/blib/lib:/home/cpansand/.cpan/build/2019082210/POE-Test-Loops-1.360-35fEI4/blib/arch:/home/cpansand/.cpan/build/2019082210/POE-Test-Loops-1.360-35fEI4/blib/lib"
    PERL5OPT=""
    PERL5_CPANPLUS_IS_RUNNING="26805"
    PERL5_CPAN_IS_RUNNING="26805"
    PERL5_CPAN_IS_RUNNING_IN_RECURSION="26724,26805"
    PERLDOC="-MPod::Perldoc::ToTextOverstrike"
    PERL_BATCH="yes"
    PERL_CANARY_STABILITY_NOPROMPT="1"
    PERL_CPAN_REPORTER_CONFIG="/var/tmp/cpansmoker-1023/2019082210/cpanreporter_000_config.ini"
    PERL_EXTUTILS_AUTOINSTALL="--defaultdeps"
  @INC:
    /home/cpansand/.cpan/build/2019082210/Test-POE-Client-TCP-1.26-oRtVlv/blib/arch
    /home/cpansand/.cpan/build/2019082210/Test-POE-Client-TCP-1.26-oRtVlv/blib/lib
    /home/cpansand/.cpan/build/2019082210/Crypt-Eksblowfish-0.009-UCGkeb/blib/arch
    /home/cpansand/.cpan/build/2019082210/Crypt-Eksblowfish-0.009-UCGkeb/blib/lib
    /home/cpansand/.cpan/build/2019082210/Class-Mix-0.006-3XwJCm/blib/arch
    /home/cpansand/.cpan/build/2019082210/Class-Mix-0.006-3XwJCm/blib/lib
    /home/cpansand/.cpan/build/2019082210/Params-Classify-0.015-luBew7/blib/arch
    /home/cpansand/.cpan/build/2019082210/Params-Classify-0.015-luBew7/blib/lib
    /home/cpansand/.cpan/build/2019082210/Net-IP-Minimal-0.06-Jrr9_g/blib/arch
    /home/cpansand/.cpan/build/2019082210/Net-IP-Minimal-0.06-Jrr9_g/blib/lib
    /home/cpansand/.cpan/build/2019082210/POE-Component-Client-DNS-1.054-6_KfB2/blib/arch
    /home/cpansand/.cpan/build/2019082210/POE-Component-Client-DNS-1.054-6_KfB2/blib/lib
    /home/cpansand/.cpan/build/2019082210/Test-NoWarnings-1.04-gpuUxk/blib/arch
    /home/cpansand/.cpan/build/2019082210/Test-NoWarnings-1.04-gpuUxk/blib/lib
    /home/cpansand/.cpan/build/2019082210/Net-DNS-1.20-n5Lxnb/blib/arch
    /home/cpansand/.cpan/build/2019082210/Net-DNS-1.20-n5Lxnb/blib/lib
    /home/cpansand/.cpan/build/2019082210/Digest-HMAC-1.03-hEJfY_/blib/arch
    /home/cpansand/.cpan/build/2019082210/Digest-HMAC-1.03-hEJfY_/blib/lib
    /home/cpansand/.cpan/build/2019082210/IO-Socket-IP-0.39-63enWd/blib/arch
    /home/cpansand/.cpan/build/2019082210/IO-Socket-IP-0.39-63enWd/blib/lib
    /home/cpansand/.cpan/build/2019082210/Socket-2.029-UWqBra/blib/arch
    /home/cpansand/.cpan/build/2019082210/Socket-2.029-UWqBra/blib/lib
    /home/cpansand/.cpan/build/2019082210/POE-Component-IRC-6.90-3MvZ9N/blib/arch
    /home/cpansand/.cpan/build/2019082210/POE-Component-IRC-6.90-3MvZ9N/blib/lib
    /home/cpansand/.cpan/build/2019082210/POE-Filter-IRCD-2.44-ARez2C/blib/arch
    /home/cpansand/.cpan/build/2019082210/POE-Filter-IRCD-2.44-ARez2C/blib/lib
    /home/cpansand/.cpan/build/2019082210/POE-Component-Syndicator-0.06-R42jTK/blib/arch
    /home/cpansand/.cpan/build/2019082210/POE-Component-Syndicator-0.06-R42jTK/blib/lib
    /home/cpansand/.cpan/build/2019082210/Object-Pluggable-1.29-935Rh5/blib/arch
    /home/cpansand/.cpan/build/2019082210/Object-Pluggable-1.29-935Rh5/blib/lib
    /home/cpansand/.cpan/build/2019082210/Task-Weaken-1.06-0zPomD/blib/arch
    /home/cpansand/.cpan/build/2019082210/Task-Weaken-1.06-0zPomD/blib/lib
    /home/cpansand/.cpan/build/2019082210/Test-Differences-0.67-lLyriF/blib/arch
    /home/cpansand/.cpan/build/2019082210/Test-Differences-0.67-lLyriF/blib/lib
    /home/cpansand/.cpan/build/2019082210/Net-Netmask-1.9104-cCViqc/blib/arch
    /home/cpansand/.cpan/build/2019082210/Net-Netmask-1.9104-cCViqc/blib/lib
    /home/cpansand/.cpan/build/2019082210/Test2-Suite-0.000125-JuQ_QQ/blib/arch
    /home/cpansand/.cpan/build/2019082210/Test2-Suite-0.000125-JuQ_QQ/blib/lib
    /home/cpansand/.cpan/build/2019082210/Sub-Info-0.002-yxMIxg/blib/arch
    /home/cpansand/.cpan/build/2019082210/Sub-Info-0.002-yxMIxg/blib/lib
    /home/cpansand/.cpan/build/2019082210/Module-Pluggable-5.2-PxUD8h/blib/arch
    /home/cpansand/.cpan/build/2019082210/Module-Pluggable-5.2-PxUD8h/blib/lib
    /home/cpansand/.cpan/build/2019082210/Term-Table-0.013-Gfycoa/blib/arch
    /home/cpansand/.cpan/build/2019082210/Term-Table-0.013-Gfycoa/blib/lib
    /home/cpansand/.cpan/build/2019082210/Importer-0.025-YRsD3K/blib/arch
    /home/cpansand/.cpan/build/2019082210/Importer-0.025-YRsD3K/blib/lib
    /home/cpansand/.cpan/build/2019082210/Scope-Guard-0.21-h3poH5/blib/arch
    /home/cpansand/.cpan/build/2019082210/Scope-Guard-0.21-h3poH5/blib/lib
    /home/cpansand/.cpan/build/2019082210/Math-BigInt-1.999816-g_LefN/blib/arch
    /home/cpansand/.cpan/build/2019082210/Math-BigInt-1.999816-g_LefN/blib/lib
    /home/cpansand/.cpan/build/2019082210/Test-UseAllModules-0.17-G81w7Y/blib/arch
    /home/cpansand/.cpan/build/2019082210/Test-UseAllModules-0.17-G81w7Y/blib/lib
    /home/cpansand/.cpan/build/2019082210/Crypt-PasswdMD5-1.40-hesQTl/blib/arch
    /home/cpansand/.cpan/build/2019082210/Crypt-PasswdMD5-1.40-hesQTl/blib/lib
    /home/cpansand/.cpan/build/2019082210/Digest-MD5-2.55-Y4eDzw/blib/arch
    /home/cpansand/.cpan/build/2019082210/Digest-MD5-2.55-Y4eDzw/blib/lib
    /home/cpansand/.cpan/build/2019082210/Net-CIDR-0.20-zrAaFa/blib/arch
    /home/cpansand/.cpan/build/2019082210/Net-CIDR-0.20-zrAaFa/blib/lib
    /home/cpansand/.cpan/build/2019082210/POE-Filter-ThruPut-1.00-BANhm_/blib/arch
    /home/cpansand/.cpan/build/2019082210/POE-Filter-ThruPut-1.00-BANhm_/blib/lib
    /home/cpansand/.cpan/build/2019082210/IRC-Utils-0.12-9PVxIy/blib/arch
    /home/cpansand/.cpan/build/2019082210/IRC-Utils-0.12-9PVxIy/blib/lib
    /home/cpansand/.cpan/build/2019082210/POE-Component-Client-Ident-1.16-RhdopH/blib/arch
    /home/cpansand/.cpan/build/2019082210/POE-Component-Client-Ident-1.16-RhdopH/blib/lib
    /home/cpansand/.cpan/build/2019082210/Test-POE-Server-TCP-1.20-xkGaUU/blib/arch
    /home/cpansand/.cpan/build/2019082210/Test-POE-Server-TCP-1.20-xkGaUU/blib/lib
    /home/cpansand/.cpan/build/2019082210/POE-1.367-N6FYZT/blib/arch
    /home/cpansand/.cpan/build/2019082210/POE-1.367-N6FYZT/blib/lib
    /home/cpansand/.cpan/build/2019082210/IO-Pipely-0.005-ui7LRZ/blib/arch
    /home/cpansand/.cpan/build/2019082210/IO-Pipely-0.005-ui7LRZ/blib/lib
    /home/cpansand/.cpan/build/2019082210/Scalar-List-Utils-1.52-z9CeSi/blib/arch
    /home/cpansand/.cpan/build/2019082210/Scalar-List-Utils-1.52-z9CeSi/blib/lib
    /home/cpansand/.cpan/build/2019082210/POE-Test-Loops-1.360-35fEI4/blib/arch
    /home/cpansand/.cpan/build/2019082210/POE-Test-Loops-1.360-35fEI4/blib/lib
    /opt/perl-5.18.4/lib/site_perl/5.18.4/x86_64-linux
    /opt/perl-5.18.4/lib/site_perl/5.18.4
    /opt/perl-5.18.4/lib/5.18.4/x86_64-linux
    /opt/perl-5.18.4/lib/5.18.4
    .