DBIx-QueryLog v0.41 Perl 5 v5.24.3 x86_64-linux-thread-multi

Status
Pass
From
Andreas J. König (ANDK)
Dist
DBIx-QueryLog v0.41
Platform
Perl 5 v5.24.3 x86_64-linux-thread-multi
Date
2017-10-10 13:33:48
ID
a57c0c4e-adbf-11e7-a9db-74be49b1df06
This distribution has been tested as part of the CPAN Testers
project, supporting the Perl programming language.  See
http://wiki.cpantesters.org/ for more information or email
questions to cpan-testers-discuss@perl.org


--
Dear Yuji Shimada,

This is a computer-generated report for DBIx-QueryLog-0.41
on perl 5.24.3, created by CPAN-Reporter-1.2018.

Thank you for uploading your work to CPAN.  Congratulations!
All tests were successful.

Sections of this report:

    * Tester comments
    * Program output
    * Prerequisites
    * Environment and other context

------------------------------
TESTER COMMENTS
------------------------------

Additional comments from tester:

this report is from an automated smoke testing program
and was not reviewed by a human for accuracy

------------------------------
PROGRAM OUTPUT
------------------------------

Output from './Build test':

### starting mysqld...skip.
### starting postgresql...done.
t/00_compile.t ................ ok
t/01_accessors.t .............. ok
t/10_simple.t ................. ok
t/11_bind.t ................... ok
t/12_skip_bind.t .............. ok
t/13_threshold.t .............. ok
t/14_probability.t ............ ok
t/15_selectrow_array.t ........ ok
t/16_multi_line.t ............. ok
t/18_bind_param.t ............. ok
t/20_localizetion.t ........... ok
t/21_guard.t .................. ok
t/22_ignore_trace.t ........... ok
t/23_do_explain.t ............. ok
t/30_logger.t ................. ok
t/31_output.t ................. ok
t/32_color.t .................. ok
t/33_useqq.t .................. ok
t/34_compact.t ................ ok
t/35_useqq_and_compact.t ...... ok
t/36_show_data_srouce.t ....... ok
t/90_alias.t .................. ok
t/99_regression_sqlite_148.t .. ok
t/mysql/01_simple.t ........... skipped: Test requires module 'DBD::mysql' but it's not found
t/mysql/02_bind.t ............. skipped: Test requires module 'DBD::mysql' but it's not found
t/mysql/10_do.t ............... skipped: Test requires module 'DBD::mysql' but it's not found
t/mysql/11_do_dind.t .......... skipped: Test requires module 'DBD::mysql' but it's not found
t/mysql/12_do_skip_bind.t ..... skipped: Test requires module 'DBD::mysql' but it's not found
t/mysql/13_do_probability.t ... skipped: Test requires module 'DBD::mysql' but it's not found
t/mysql/14_do_logger.t ........ skipped: Test requires module 'DBD::mysql' but it's not found
t/mysql/15_selectrow_array.t .. skipped: Test requires module 'DBD::mysql' but it's not found
t/mysql/16_multi_line.t ....... skipped: Test requires module 'DBD::mysql' but it's not found
t/mysql/17_limit.t ............ skipped: Test requires module 'DBD::mysql' but it's not found
t/mysql/18_bind_param.t ....... skipped: Test requires module 'DBD::mysql' but it's not found
t/mysql/19_bind_with_type.t ... skipped: Test requires module 'DBD::mysql' but it's not found
t/mysql/20_reuse_sql_type.t ... skipped: Test requires module 'DBD::mysql' but it's not found
t/mysql/21_do_explain.t ....... skipped: Test requires module 'DBD::mysql' but it's not found
t/pg/01_simple.t .............. ok
t/pg/02_bind.t ................ ok
t/pg/10_do.t .................. ok
t/pg/11_do_dind.t ............. ok
t/pg/12_do_skip_bind.t ........ ok
t/pg/13_do_probability.t ...... ok
t/pg/14_do_logger.t ........... ok
t/pg/15_selectrow_array.t ..... ok
t/pg/16_multi_line.t .......... ok
t/pg/17_limit.t ............... ok
t/pg/18_bind_param.t .......... ok
t/pg/19_bind_with_type.t ...... ok
t/pg/20_reuse_sql_type.t ...... ok
t/pg/21_do_explain.t .......... ok
All tests successful.
Files=51, Tests=101, 40.7768 wallclock secs ( 0.04 usr  0.55 sys +  5.19 cusr  1.05 csys =  6.83 CPU)
Result: PASS

------------------------------
PREREQUISITES
------------------------------

Prerequisite modules loaded:

requires:

    Module              Need     Have    
    ------------------- -------- --------
    Data::Dumper        0        2.161   
    DBI                 0        1.634   
    perl                5.008001 5.024003
    Term::ANSIColor     0        4.06    
    Text::ASCIITable    0        0.22    
    Time::HiRes         0        1.9746  

build_requires:

    Module              Need     Have    
    ------------------- -------- --------
    ExtUtils::MakeMaker 6.59     7.30    
    Test::More          0.96     1.302098
    Test::Requires      0        0.10    

configure_requires:

    Module              Need     Have    
    ------------------- -------- --------
    Module::Build       0.38     0.4224  


------------------------------
ENVIRONMENT AND OTHER CONTEXT
------------------------------

Environment variables:

    AUTOMATED_TESTING = 1
    LANG = en_US.UTF-8
    PATH = /home/sand/bin:/usr/local/bin:/usr/bin:/bin:/usr/games:/usr/local/perl/bin:/usr/X11/bin:/sbin:/usr/sbin
    PERL5LIB = 
    PERL5OPT = 
    PERL5_CPANPLUS_IS_RUNNING = 20817
    PERL5_CPAN_IS_RUNNING = 20817
    PERL_CANARY_STABILITY_NOPROMPT = 1
    PERL_MM_USE_DEFAULT = 1
    PERL_USE_UNSAFE_INC = 1
    SHELL = /usr/bin/zsh
    TERM = screen

Perl special variables (and OS-specific diagnostics, for MSWin32):

    $^X = /tmp/basesmoker-reloperl-Vwa2/bin/perl
    $UID/$EUID = 1005 / 1005
    $GID = 1005 1005
    $EGID = 1005 1005

Perl module toolchain versions installed:

    Module              Have      
    ------------------- ----------
    CPAN                2.18      
    CPAN::Meta          2.150010  
    Cwd                 3.63_01   
    ExtUtils::CBuilder  0.280226  
    ExtUtils::Command   7.30      
    ExtUtils::Install   2.14      
    ExtUtils::MakeMaker 7.30      
    ExtUtils::Manifest  1.70      
    ExtUtils::ParseXS   3.31      
    File::Spec          3.63_01   
    JSON                2.94      
    JSON::PP            2.27300_01
    Module::Build       0.4224    
    Module::Signature   0.81      
    Parse::CPAN::Meta   2.150010  
    Test::Harness       3.39      
    Test::More          1.302098  
    YAML                1.23      
    YAML::Syck          1.30      
    version             0.9918    


--

Summary of my perl5 (revision 5 version 24 subversion 3) configuration:
  Derived from: 9f1d3884c227a955e9ecaaadba4cba3280c47e3a
  Platform:
    osname=linux, osvers=4.13.0-1-amd64, archname=x86_64-linux-thread-multi
    uname='linux k93x64sid 4.13.0-1-amd64 #1 smp debian 4.13.4-1 (2017-10-01) x86_64 gnulinux '
    config_args='-Dprefix=/home/sand/src/perl/repoperls/installed-perls/host/k93x64sid/v5.24.3/9af6 -Dmyhostname=k93x64sid -Dinstallusrbinperl=n -Uversiononly -Dusedevel -des -Ui_db -Dlibswanted=cl pthread socket inet nsl gdbm dbm malloc dl ld sun m crypt sec util c cposix posix ucb BSD gdbm_compat -Duseithreads -Uuselongdouble -DDEBUGGING=-g'
    hint=recommended, useposix=true, d_sigaction=define
    useithreads=define, usemultiplicity=define
    use64bitint=define, use64bitall=define, uselongdouble=undef
    usemymalloc=n, bincompat5005=undef
  Compiler:
    cc='cc', ccflags ='-D_REENTRANT -D_GNU_SOURCE -fwrapv -fno-strict-aliasing -pipe -fstack-protector-strong -I/usr/local/include -D_LARGEFILE_SOURCE -D_FILE_OFFSET_BITS=64 -D_FORTIFY_SOURCE=2',
    optimize='-O2 -g',
    cppflags='-D_REENTRANT -D_GNU_SOURCE -fwrapv -fno-strict-aliasing -pipe -fstack-protector-strong -I/usr/local/include'
    ccversion='', gccversion='7.2.0', gccosandvers=''
    intsize=4, longsize=8, ptrsize=8, doublesize=8, byteorder=12345678, doublekind=3
    d_longlong=define, longlongsize=8, d_longdbl=define, longdblsize=16, longdblkind=3
    ivtype='long', ivsize=8, nvtype='double', nvsize=8, Off_t='off_t', lseeksize=8
    alignbytes=8, prototype=define
  Linker and Libraries:
    ld='cc', ldflags =' -fstack-protector-strong -L/usr/local/lib'
    libpth=/usr/local/lib /usr/lib/gcc/x86_64-linux-gnu/7/include-fixed /usr/include/x86_64-linux-gnu /usr/lib /lib/x86_64-linux-gnu /lib/../lib /usr/lib/x86_64-linux-gnu /usr/lib/../lib /lib
    libs=-lpthread -lnsl -ldl -lm -lcrypt -lutil -lc
    perllibs=-lpthread -lnsl -ldl -lm -lcrypt -lutil -lc
    libc=libc-2.24.so, so=so, useshrplib=false, libperl=libperl.a
    gnulibc_version='2.24'
  Dynamic Linking:
    dlsrc=dl_dlopen.xs, dlext=so, d_dlsymun=undef, ccdlflags='-Wl,-E'
    cccdlflags='-fPIC', lddlflags='-shared -O2 -g -L/usr/local/lib -fstack-protector-strong'


Characteristics of this binary (from libperl): 
  Compile-time options: HAS_TIMES MULTIPLICITY PERLIO_LAYERS
                        PERL_COPY_ON_WRITE PERL_DONT_CREATE_GVSV
                        PERL_HASH_FUNC_ONE_AT_A_TIME_HARD
                        PERL_IMPLICIT_CONTEXT PERL_MALLOC_WRAP
                        PERL_PRESERVE_IVUV PERL_USE_DEVEL USE_64_BIT_ALL
                        USE_64_BIT_INT USE_ITHREADS USE_LARGE_FILES
                        USE_LOCALE USE_LOCALE_COLLATE USE_LOCALE_CTYPE
                        USE_LOCALE_NUMERIC USE_LOCALE_TIME USE_PERLIO
                        USE_PERL_ATOF USE_REENTRANT_API
  Locally applied patches:
	uncommitted-changes
  Built under linux
  Compiled at Oct  9 2017 06:24:38
  %ENV:
    PERL5LIB=""
    PERL5OPT=""
    PERL5_CPANPLUS_IS_RUNNING="20817"
    PERL5_CPAN_IS_RUNNING="20817"
    PERL_CANARY_STABILITY_NOPROMPT="1"
    PERL_MM_USE_DEFAULT="1"
    PERL_USE_UNSAFE_INC="1"
  @INC:
    /home/sand/src/perl/repoperls/installed-perls/host/k93x64sid/v5.24.3/9af6/lib/site_perl/5.24.3/x86_64-linux-thread-multi
    /home/sand/src/perl/repoperls/installed-perls/host/k93x64sid/v5.24.3/9af6/lib/site_perl/5.24.3
    /home/sand/src/perl/repoperls/installed-perls/host/k93x64sid/v5.24.3/9af6/lib/5.24.3/x86_64-linux-thread-multi
    /home/sand/src/perl/repoperls/installed-perls/host/k93x64sid/v5.24.3/9af6/lib/5.24.3
    .