Redis v1.999 Perl 5 v5.34.1 x86_64-linux-ld
- Status
- Pass
- From
- Slaven Rezić
- Dist
-
Redis v1.999
- Platform
- Perl 5 v5.34.1 x86_64-linux-ld
- Date
- 2022-09-25 21:54:36
- ID
- a5a01f0c-3d1c-11ed-8ccd-7c106e8775ea
This distribution has been tested as part of the CPAN Testers
project, supporting the Perl programming language. See
http://wiki.cpantesters.org/ for more information or email
questions to cpan-testers-discuss@perl.org
--
Dear Damien Krotkine,
This is a computer-generated report for Redis-1.999
on perl 5.34.1, created by CPAN-Reporter-1.2018.
Thank you for uploading your work to CPAN. Congratulations!
All tests were successful.
Sections of this report:
* Tester comments
* Program output
* Prerequisites
* Environment and other context
------------------------------
TESTER COMMENTS
------------------------------
Additional comments from tester:
none provided
------------------------------
PROGRAM OUTPUT
------------------------------
Output from './Build test':
t/00-compile.t ........... ok
t/01-basic.t ............. skipped: Could not find binary redis-server
t/02-responses.t ......... skipped: Could not find binary redis-server
t/03-pubsub.t ............ skipped: Could not find binary redis-server
t/04-pipeline.t .......... skipped: Could not find binary redis-server
t/05-nonblock.t .......... skipped: Could not find binary redis-server
t/06-on-connect.t ........ skipped: Could not find binary redis-server
t/07-reconnect.t ......... skipped: Could not find binary redis-server
t/08-unix-socket.t ....... skipped: Could not find binary redis-server
t/10-tie-list.t .......... skipped: Could not find binary redis-server
t/11-timeout.t ........... ok
t/20-tie-hash.t .......... skipped: Could not find binary redis-server
t/30-scripts.t ........... skipped: Could not find binary redis-server
t/42-client_cmds.t ....... skipped: Could not find binary redis-server
t/44-no-unicode-bug.t .... skipped: Could not find binary redis-server
t/50-fork_safe.t ......... skipped: Could not find binary redis-server
t/author-distmeta.t ...... skipped: these tests are for testing by the author
t/author-pod-coverage.t .. skipped: these tests are for testing by the author
All tests successful.
Files=18, Tests=7, 4 wallclock secs ( 0.05 usr 0.02 sys + 2.47 cusr 0.34 csys = 2.88 CPU)
Result: PASS
------------------------------
PREREQUISITES
------------------------------
Prerequisite modules loaded:
requires:
Module Need Have
------------------- ------- --------
IO::Socket::Timeout 0.29 0.32
perl 5.010 5.034001
Try::Tiny 0 0.31
build_requires:
Module Need Have
------------------- ------- --------
Digest::SHA 0 6.02
File::Spec 0 3.80
IO::Handle 0 1.46
IO::String 0 1.08
IPC::Cmd 0 1.04
IPC::Open3 0 1.21
perl 5.010 5.034001
Test::Deep 0 1.130
Test::Fatal 0 0.016
Test::More 0.98 1.302191
Test::SharedFork 0 0.35
Test::TCP 1.19 2.22
configure_requires:
Module Need Have
------------------- ------- --------
ExtUtils::MakeMaker 6.63_03 7.62
Module::Build::Tiny 0.034 0.039
perl 5.010 5.034001
------------------------------
ENVIRONMENT AND OTHER CONTEXT
------------------------------
Environment variables:
LANG = en_US.UTF-8
PATH = /usr/local/bin:/usr/bin:/bin:/usr/local/sbin:/usr/sbin:/sbin:/home/cpansand/bin/linux-gnu:/home/cpansand/bin/sh:/home/cpansand/bin:/usr/games:/home/cpansand/devel:/home/eserte/src/srezic-misc/scripts
PERL5LIB = /home/cpansand/.cpan/build/2022092520/IO-String-1.08-0/blib/arch:/home/cpansand/.cpan/build/2022092520/IO-String-1.08-0/blib/lib:/home/cpansand/.cpan/build/2022092520/IO-Socket-Timeout-0.32-2/blib/arch:/home/cpansand/.cpan/build/2022092520/IO-Socket-Timeout-0.32-2/blib/lib:/home/cpansand/.cpan/build/2022092520/PerlIO-via-Timeout-0.32-2/blib/arch:/home/cpansand/.cpan/build/2022092520/PerlIO-via-Timeout-0.32-2/blib/lib
PERL5OPT =
PERL5_CPANPLUS_IS_RUNNING = 634089
PERL5_CPAN_IS_RUNNING = 634089
PERL5_CPAN_IS_RUNNING_IN_RECURSION = 631835,634089
PERLDOC = -MPod::Perldoc::ToTextOverstrike
PERL_BATCH = yes
PERL_CANARY_STABILITY_NOPROMPT = 1
PERL_CPAN_REPORTER_CONFIG = /var/tmp/cpansmoker-1023/2022092520/cpanreporter_001_config.ini
PERL_EXTUTILS_AUTOINSTALL = --defaultdeps
PERL_USE_UNSAFE_INC = 1
SHELL = /usr/bin/zsh
TERM = screen
TMPDIR = /var/tmp/cpansmoker-1023/2022092520
Perl special variables (and OS-specific diagnostics, for MSWin32):
$^X = /opt/perl-5.34.1D/bin/perl
$UID/$EUID = 1023 / 1023
$GID = 1023 1023
$EGID = 1023 1023
Perl module toolchain versions installed:
Module Have
------------------- --------
CPAN 2.28
CPAN::Meta 2.150010
Cwd 3.80
ExtUtils::CBuilder 0.280236
ExtUtils::Command 7.62
ExtUtils::Install 2.20
ExtUtils::MakeMaker 7.62
ExtUtils::Manifest 1.73
ExtUtils::ParseXS 3.43
File::Spec 3.80
JSON 4.09
JSON::PP 4.06
Module::Build 0.4231
Module::Signature n/a
Parse::CPAN::Meta 2.150010
Test::Harness 3.43
Test::More 1.302191
YAML 1.30
YAML::Syck 1.34
version 0.9928
--
Summary of my perl5 (revision 5 version 34 subversion 1) configuration:
Platform:
osname=linux
osvers=5.19.9-200.fc36.x86_64
archname=x86_64-linux-ld
uname='linux cloud4.bbbike.org 5.19.9-200.fc36.x86_64 #1 smp preempt_dynamic thu sep 15 09:49:52 utc 2022 x86_64 x86_64 x86_64 gnulinux '
config_args='-ds -e -Dprefix=/opt/perl-5.34.1D -Duselongdouble -Dcf_email=srezic@cpan.org'
hint=recommended
useposix=true
d_sigaction=define
useithreads=undef
usemultiplicity=undef
use64bitint=define
use64bitall=define
uselongdouble=define
usemymalloc=n
default_inc_excludes_dot=define
Compiler:
cc='cc'
ccflags ='-fwrapv -fno-strict-aliasing -pipe -fstack-protector-strong -I/usr/local/include -D_LARGEFILE_SOURCE -D_FILE_OFFSET_BITS=64 -D_FORTIFY_SOURCE=2'
optimize='-O2'
cppflags='-fwrapv -fno-strict-aliasing -pipe -fstack-protector-strong -I/usr/local/include'
ccversion=''
gccversion='12.2.1 20220819 (Red Hat 12.2.1-2)'
gccosandvers=''
intsize=4
longsize=8
ptrsize=8
doublesize=8
byteorder=12345678
doublekind=3
d_longlong=define
longlongsize=8
d_longdbl=define
longdblsize=16
longdblkind=3
ivtype='long'
ivsize=8
nvtype='long double'
nvsize=16
Off_t='off_t'
lseeksize=8
alignbytes=16
prototype=define
Linker and Libraries:
ld='cc'
ldflags =' -fstack-protector-strong -L/usr/local/lib'
libpth=/usr/local/lib /usr/lib /usr/lib64 /usr/local/lib64
libs=-lpthread -ldb -ldl -lm -lcrypt -lutil -lc
perllibs=-lpthread -ldl -lm -lcrypt -lutil -lc
libc=/lib/../lib64/libc.so.6
so=so
useshrplib=false
libperl=libperl.a
gnulibc_version='2.35'
Dynamic Linking:
dlsrc=dl_dlopen.xs
dlext=so
d_dlsymun=undef
ccdlflags='-Wl,-E'
cccdlflags='-fPIC'
lddlflags='-shared -O2 -L/usr/local/lib -fstack-protector-strong'
Characteristics of this binary (from libperl):
Compile-time options:
HAS_TIMES
PERLIO_LAYERS
PERL_COPY_ON_WRITE
PERL_DONT_CREATE_GVSV
PERL_MALLOC_WRAP
PERL_OP_PARENT
PERL_PRESERVE_IVUV
USE_64_BIT_ALL
USE_64_BIT_INT
USE_LARGE_FILES
USE_LOCALE
USE_LOCALE_COLLATE
USE_LOCALE_CTYPE
USE_LOCALE_NUMERIC
USE_LOCALE_TIME
USE_LONG_DOUBLE
USE_PERLIO
USE_PERL_ATOF
Built under linux
Compiled at Sep 25 2022 10:09:32
%ENV:
PERL5LIB="/home/cpansand/.cpan/build/2022092520/IO-String-1.08-0/blib/arch:/home/cpansand/.cpan/build/2022092520/IO-String-1.08-0/blib/lib:/home/cpansand/.cpan/build/2022092520/IO-Socket-Timeout-0.32-2/blib/arch:/home/cpansand/.cpan/build/2022092520/IO-Socket-Timeout-0.32-2/blib/lib:/home/cpansand/.cpan/build/2022092520/PerlIO-via-Timeout-0.32-2/blib/arch:/home/cpansand/.cpan/build/2022092520/PerlIO-via-Timeout-0.32-2/blib/lib"
PERL5OPT=""
PERL5_CPANPLUS_IS_RUNNING="634089"
PERL5_CPAN_IS_RUNNING="634089"
PERL5_CPAN_IS_RUNNING_IN_RECURSION="631835,634089"
PERLDOC="-MPod::Perldoc::ToTextOverstrike"
PERL_BATCH="yes"
PERL_CANARY_STABILITY_NOPROMPT="1"
PERL_CPAN_REPORTER_CONFIG="/var/tmp/cpansmoker-1023/2022092520/cpanreporter_001_config.ini"
PERL_EXTUTILS_AUTOINSTALL="--defaultdeps"
PERL_USE_UNSAFE_INC="1"
@INC:
/home/cpansand/.cpan/build/2022092520/IO-String-1.08-0/blib/arch
/home/cpansand/.cpan/build/2022092520/IO-String-1.08-0/blib/lib
/home/cpansand/.cpan/build/2022092520/IO-Socket-Timeout-0.32-2/blib/arch
/home/cpansand/.cpan/build/2022092520/IO-Socket-Timeout-0.32-2/blib/lib
/home/cpansand/.cpan/build/2022092520/PerlIO-via-Timeout-0.32-2/blib/arch
/home/cpansand/.cpan/build/2022092520/PerlIO-via-Timeout-0.32-2/blib/lib
/opt/perl-5.34.1D/lib/site_perl/5.34.1/x86_64-linux-ld
/opt/perl-5.34.1D/lib/site_perl/5.34.1
/opt/perl-5.34.1D/lib/5.34.1/x86_64-linux-ld
/opt/perl-5.34.1D/lib/5.34.1
.