Perl-Critic v1.156 Perl 5 v5.34.1 darwin-thread-multi-2level
- Status
- Pass
- From
- Gintautas Grigelionis
- Dist
-
Perl-Critic v1.156
- Platform
- Perl 5 v5.34.1 darwin-thread-multi-2level
- Date
- 2024-10-31 22:58:30
- ID
- a5a10c70-97db-11ef-b5ee-d7252092119b
This distribution has been tested as part of the CPAN Testers
project, supporting the Perl programming language. See
http://wiki.cpantesters.org/ for more information or email
questions to cpan-testers-discuss@perl.org
--
Dear Andy Lester,
This is a computer-generated report for Perl-Critic-1.156
on perl 5.34.1, created by CPAN-Reporter-1.2020.
Thank you for uploading your work to CPAN. Congratulations!
All tests were successful.
Sections of this report:
* Tester comments
* Program output
* Prerequisites
* Environment and other context
------------------------------
TESTER COMMENTS
------------------------------
Additional comments from tester:
none provided
------------------------------
PROGRAM OUTPUT
------------------------------
Output from './Build test':
# Testing Perl::Critic 1.156 with PPI 1.279 under Perl 5.034001, /usr/bin/perl
t/00_modules.t ................................ ok
t/00_versions.t ............................... ok
t/01_config.t ................................. ok
t/01_config_bad_perlcriticrc.t ................ ok
t/01_policy_config.t .......................... ok
t/02_policy.t ................................. ok
t/03_annotations.t ............................ ok
t/03_pragmas.t ................................ ok
t/04_options_processor.t ...................... ok
t/05_utils.t .................................. ok
t/05_utils_perl.t ............................. ok
t/05_utils_pod.t .............................. ok
t/05_utils_ppi.t .............................. ok
t/06_violation.t .............................. ok
t/07_command.t ................................ ok
t/07_perlcritic.t ............................. ok
t/08_document.t ............................... ok
t/09_theme.t .................................. ok
t/10_user_profile.t ........................... ok
t/11_policy_factory.t ......................... ok
t/12_policy_listing.t ......................... ok
t/12_theme_listing.t .......................... ok
t/13_bundled_policies.t ....................... ok
t/14_policy_parameter_behavior_boolean.t ...... ok
t/14_policy_parameter_behavior_enumeration.t .. ok
t/14_policy_parameter_behavior_integer.t ...... ok
t/14_policy_parameter_behavior_list_string.t .. ok
t/14_policy_parameter_behavior_string.t ....... ok
t/14_policy_parameters.t ...................... ok
t/15_statistics.t ............................. ok
t/16_roundtrip_defaults.t ..................... ok
t/20_policies.t ............................... ok
t/20_policy_pod_spelling.t .................... ok
t/20_policy_prohibit_evil_modules.t ........... ok
t/20_policy_prohibit_hard_tabs.t .............. ok
t/20_policy_prohibit_trailing_whitespace.t .... ok
t/20_policy_require_consistent_newlines.t ..... ok
t/20_policy_require_tidy_code.t ............... ok
Unhandled type: REGEXP at /Library/Perl/5.34/Devel/Cycle.pm line 107.
t/92_memory_leaks.t ........................... ok
t/gh-734.t .................................... ok
All tests successful.
Files=40, Tests=8218, 54 wallclock secs ( 0.48 usr 0.10 sys + 35.41 cusr 5.07 csys = 41.06 CPU)
Result: PASS
------------------------------
PREREQUISITES
------------------------------
Prerequisite modules loaded:
requires:
Module Need Have
------------------------- -------- --------
B::Keywords 1.23 1.27
Carp 0 1.52
charnames 0 1.48
Config::Tiny 2 2.30
English 0 1.11
Exception::Class 1.23 1.45
Exporter 5.63 5.78
File::Basename 0 2.85
File::Find 0 1.39
File::Path 0 2.18
File::Spec 0 3.80
File::Spec::Unix 0 3.80
File::Temp 0 0.2311
File::Which 0 1.27
Getopt::Long 0 2.58
List::SomeUtils 0.55 0.59
List::Util 0 1.68
Module::Pluggable 3.1 6.2
overload 0 1.33
parent 0 0.242
perl 5.010001 5.034001
Perl::Tidy 0 20240903
Pod::PlainText 0 2.07
Pod::Select 0 1.67
Pod::Spell 1 1.26
Pod::Usage 0 2.03
PPI 1.277 1.279
PPI::Document 1.277 1.279
PPI::Document::File 1.277 1.279
PPI::Node 1.277 1.279
PPI::Token::Quote::Single 1.277 1.279
PPI::Token::Whitespace 1.277 1.279
PPIx::QuoteLike 0 0.023
PPIx::Regexp 0.027 0.088
PPIx::Regexp::Util 0.068 0.088
PPIx::Utils::Traversal 0.003 0.003
Readonly 2 2.05
Scalar::Util 0 1.68
strict 0 1.12
String::Format 1.18 1.18
Term::ANSIColor 2.02 5.01
Test::Builder 0.92 1.302204
Text::ParseWords 3 3.30
version 0.77 0.9933
warnings 0 1.51
build_requires:
Module Need Have
------------------------- -------- --------
lib 0 0.65
Test::More 0 1.302204
configure_requires:
Module Need Have
------------------------- -------- --------
B::Keywords 1.23 1.27
base 0 2.27
Carp 0 1.52
English 0 1.11
Exporter 5.63 5.78
lib 0 0.65
List::SomeUtils 0.55 0.59
Module::Build 0.4204 0.4234
------------------------------
ENVIRONMENT AND OTHER CONTEXT
------------------------------
Environment variables:
LANG = sv_SE.UTF-8
PATH = /usr/local/bin:/System/Cryptexes/App/usr/bin:/usr/bin:/bin:/usr/sbin:/sbin:/var/run/com.apple.security.cryptexd/codex.system/bootstrap/usr/local/bin:/var/run/com.apple.security.cryptexd/codex.system/bootstrap/usr/bin:/var/run/com.apple.security.cryptexd/codex.system/bootstrap/usr/appleinternal/bin:/opt/X11/bin:/Library/Apple/usr/bin:/usr/local/MacGPG2/bin:/Library/TeX/texbin
PERL5LIB = /Users/gintas/.cpan/build/Pod-Parser-1.67-0/blib/arch:/Users/gintas/.cpan/build/Pod-Parser-1.67-0/blib/lib
PERL5OPT =
PERL5_CPANPLUS_IS_RUNNING = 26073
PERL5_CPAN_IS_RUNNING = 26073
PERL_USE_UNSAFE_INC = 1
SHELL = /bin/bash
TERM = xterm-256color
TMPDIR = /var/folders/y9/7vddvyqs64j1pfp28_p_6dfm0000gq/T/
Perl special variables (and OS-specific diagnostics, for MSWin32):
$^X = /usr/bin/perl
$UID/$EUID = 503 / 503
$GID = 20 20 12 61 79 80 81 98 701 702 33 100 204 250 395 398 399 400
$EGID = 20 20 12 61 79 80 81 98 701 702 33 100 204 250 395 398 399 400
Perl module toolchain versions installed:
Module Have
------------------- --------
CPAN 2.37
CPAN::Meta 2.150010
Cwd 3.80
ExtUtils::CBuilder 0.280236
ExtUtils::Command 7.70
ExtUtils::Install 2.22
ExtUtils::MakeMaker 7.70
ExtUtils::Manifest 1.75
ExtUtils::ParseXS 3.51
File::Spec 3.80
JSON 4.10
JSON::PP 4.16
Module::Build 0.4234
Module::Signature 0.89
Parse::CPAN::Meta 2.150010
Test2 1.302204
Test::Harness 3.50
Test::More 1.302204
YAML 1.31
YAML::Syck 1.32
version 0.9933
--
Summary of my perl5 (revision 5 version 34 subversion 1) configuration:
Platform:
osname=darwin
osvers=24.0
archname=darwin-thread-multi-2level
uname='darwin 5dgj7.p1s.plx.sd.apple.com 24.0 darwin kernel version 22.1.0: thu dec 15 17:42:24 pst 2022; root:xnu-8792.41.9.100.2~1development_x86_64 x86_64 '
config_args='-ds -e -Dprefix=/usr -Dccflags=-g -pipe -Dldflags= -Dman3ext=3pm -Duseithreads -Duseshrplib -Dinc_version_list=none -Dcc=cc'
hint=recommended
useposix=true
d_sigaction=define
useithreads=define
usemultiplicity=define
use64bitint=define
use64bitall=define
uselongdouble=undef
usemymalloc=n
default_inc_excludes_dot=define
Compiler:
cc='cc'
ccflags =' -g -pipe -DPERL_USE_SAFE_PUTENV'
optimize='-Os'
cppflags='-g -pipe'
ccversion=''
gccversion='Apple LLVM 16.0.0 (clang-1600.0.25.3) [+internal-os]'
gccosandvers=''
intsize=4
longsize=8
ptrsize=8
doublesize=8
byteorder=12345678
doublekind=3
d_longlong=define
longlongsize=8
d_longdbl=define
longdblsize=16
longdblkind=3
ivtype='long'
ivsize=8
nvtype='double'
nvsize=8
Off_t='off_t'
lseeksize=8
alignbytes=8
prototype=define
Linker and Libraries:
ld='cc'
ldflags =' '
libpth=/AppleInternal/Library/BuildRoots/4b66fb3c-7dd0-11ef-b4fb-4a83e32a47e1/Applications/Xcode.app/Contents/Developer/Platforms/MacOSX.platform/Developer/SDKs/MacOSX15.1.Internal.sdk/usr/local/lib /AppleInternal/Library/BuildRoots/4b66fb3c-7dd0-11ef-b4fb-4a83e32a47e1/Applications/Xcode.app/Contents/Developer/Toolchains/OSX15.1.xctoolchain/usr/lib/clang/16/lib /AppleInternal/Library/BuildRoots/4b66fb3c-7dd0-11ef-b4fb-4a83e32a47e1/Applications/Xcode.app/Contents/Developer/Platforms/MacOSX.platform/Developer/SDKs/MacOSX15.1.Internal.sdk/usr/lib /AppleInternal/Library/BuildRoots/4b66fb3c-7dd0-11ef-b4fb-4a83e32a47e1/Applications/Xcode.app/Contents/Developer/Toolchains/XcodeDefault.xctoolchain/usr/lib /usr/lib /usr/local/lib
libs=
perllibs=
libc=
so=dylib
useshrplib=true
libperl=libperl.dylib
gnulibc_version=''
Dynamic Linking:
dlsrc=dl_dlopen.xs
dlext=bundle
d_dlsymun=undef
ccdlflags=' '
cccdlflags=' '
lddlflags=' -bundle -undefined dynamic_lookup'
Characteristics of this binary (from libperl):
Compile-time options:
HAS_TIMES
MULTIPLICITY
PERLIO_LAYERS
PERL_COPY_ON_WRITE
PERL_DONT_CREATE_GVSV
PERL_IMPLICIT_CONTEXT
PERL_MALLOC_WRAP
PERL_OP_PARENT
PERL_PRESERVE_IVUV
PERL_USE_SAFE_PUTENV
USE_64_BIT_ALL
USE_64_BIT_INT
USE_ITHREADS
USE_LARGE_FILES
USE_LOCALE
USE_LOCALE_COLLATE
USE_LOCALE_CTYPE
USE_LOCALE_NUMERIC
USE_LOCALE_TIME
USE_PERLIO
USE_PERL_ATOF
USE_REENTRANT_API
USE_THREAD_SAFE_LOCALE
Locally applied patches:
/Library/Perl/Updates/<version> comes before system perl directories
installprivlib and installarchlib points to the Updates directory
Built under darwin
Compiled at Sep 28 2024 16:20:12
%ENV:
PERL5LIB="/Users/gintas/.cpan/build/Pod-Parser-1.67-0/blib/arch:/Users/gintas/.cpan/build/Pod-Parser-1.67-0/blib/lib"
PERL5OPT=""
PERL5_CPANPLUS_IS_RUNNING="26073"
PERL5_CPAN_IS_RUNNING="26073"
PERL_USE_UNSAFE_INC="1"
@INC:
/Users/gintas/.cpan/build/Pod-Parser-1.67-0/blib/arch
/Users/gintas/.cpan/build/Pod-Parser-1.67-0/blib/lib
/Library/Perl/5.34/darwin-thread-multi-2level
/Library/Perl/5.34
/Network/Library/Perl/5.34/darwin-thread-multi-2level
/Network/Library/Perl/5.34
/Library/Perl/Updates/5.34.1/darwin-thread-multi-2level
/Library/Perl/Updates/5.34.1
/System/Library/Perl/5.34/darwin-thread-multi-2level
/System/Library/Perl/5.34
/System/Library/Perl/Extras/5.34/darwin-thread-multi-2level
/System/Library/Perl/Extras/5.34
.