Test-Taint v1.08 Perl 5 v5.31.12 darwin-2level
- Status
- Pass
- From
- Carlos Guevara
- Dist
-
Test-Taint v1.08
- Platform
- Perl 5 v5.31.12 darwin-2level
- Date
- 2020-05-21 18:34:03
- ID
- a5a6d740-9b91-11ea-b98c-47f582b12266
This distribution has been tested as part of the CPAN Testers
project, supporting the Perl programming language. See
http://wiki.cpantesters.org/ for more information or email
questions to cpan-testers-discuss@perl.org
--
Dear Andy Lester,
This is a computer-generated report for Test-Taint-1.08
on perl 5.31.12, created by CPAN-Reporter-1.2018.
Thank you for uploading your work to CPAN. Congratulations!
All tests were successful.
Sections of this report:
* Tester comments
* Program output
* Prerequisites
* Environment and other context
------------------------------
TESTER COMMENTS
------------------------------
Additional comments from tester:
this report is from an automated smoke testing program
and was not reviewed by a human for accuracy
------------------------------
PROGRAM OUTPUT
------------------------------
Output from '/usr/bin/make test':
"/Users/cpan/bin/perl-blead/bin/perl5.31.12" -MExtUtils::Command::MM -e 'cp_nonempty' -- Taint.bs blib/arch/auto/Test/Taint/Taint.bs 644
PERL_DL_NONLAZY=1 "/Users/cpan/bin/perl-blead/bin/perl5.31.12" "-MExtUtils::Command::MM" "-MTest::Harness" "-e" "undef *Test::Harness::Switches; test_harness(0, 'blib/lib', 'blib/arch')" t/*.t
# Testing Test::Taint 1.08, Perl 5.031012, /Users/cpan/bin/perl-blead/bin/perl5.31.12
t/00.load.t ............ ok
t/no-dash-T.t .......... ok
t/pod-coverage.t ....... ok
t/pod.t ................ ok
t/taint.t .............. ok
t/taint_deeply.t ....... ok
t/tainted.t ............ ok
t/tainted_ok.t ......... ok
t/tainted_ok_deeply.t .. ok
All tests successful.
Files=9, Tests=145, 1 wallclock secs ( 0.04 usr 0.01 sys + 0.56 cusr 0.10 csys = 0.71 CPU)
Result: PASS
------------------------------
PREREQUISITES
------------------------------
Prerequisite modules loaded:
requires:
Module Need Have
------------------- ---- --------
overload 0 1.31
Scalar::Util 0 1.53
Test::Builder 0 1.302175
Test::More 0 1.302175
Tie::Array 0 1.07
Tie::Hash 0 1.05
Tie::Scalar 0 1.04
build_requires:
Module Need Have
------------------- ---- --------
ExtUtils::MakeMaker 0 7.44
configure_requires:
Module Need Have
------------------- ---- --------
ExtUtils::MakeMaker 0 7.44
------------------------------
ENVIRONMENT AND OTHER CONTEXT
------------------------------
Environment variables:
AUTOMATED_TESTING = 1
DATE_MANIP_TEST_DM5 = 1
LANG = en_US.UTF-8
LC_ALL = C
NONINTERACTIVE_TESTING = 1
PATH = /Users/cpan/bin/perl-blead/bin:/Users/cpan/bin:/usr/local/bin:/usr/bin:/bin:/usr/sbin:/sbin
PERL5LIB =
PERL5OPT =
PERL5_CPANPLUS_IS_RUNNING = 9173
PERL5_CPAN_IS_RUNNING = 9173
PERL_MM_USE_DEFAULT = 1
PERL_USE_UNSAFE_INC = 1
PERL_VERSION = blead
SHELL = /bin/bash
TERM = xterm-256color
TMPDIR = /Users/cpan/tmp
Perl special variables (and OS-specific diagnostics, for MSWin32):
$^X = /Users/cpan/bin/perl-blead/bin/perl5.31.12
$UID/$EUID = 503 / 503
$GID = 20 20 12 61 399 701 702 703 100
$EGID = 20 20 12 61 399 701 702 703 100
Perl module toolchain versions installed:
Module Have
------------------- --------
CPAN 2.27
CPAN::Meta 2.150010
Cwd 3.78
ExtUtils::CBuilder 0.280234
ExtUtils::Command 7.44
ExtUtils::Install 2.14
ExtUtils::MakeMaker 7.44
ExtUtils::Manifest 1.72
ExtUtils::ParseXS 3.40
File::Spec 3.78
JSON 4.02
JSON::PP 4.04
Module::Build 0.4231
Module::Signature n/a
Parse::CPAN::Meta 2.150010
Test::Harness 3.42
Test::More 1.302175
YAML n/a
YAML::Syck n/a
version 0.9924
--
Summary of my perl5 (revision 5 version 31 subversion 12) configuration:
Commit id: d7600dcd5c512385866f75c5418186e024e4c751
Platform:
osname=darwin
osvers=19.4.0
archname=darwin-2level
uname='darwin cjg-mac.local 19.4.0 darwin kernel version 19.4.0: wed mar 4 22:28:40 pst 2020; root:xnu-6153.101.6~15release_x86_64 x86_64 '
config_args='-des -Dprefix=~/bin/perl-blead -Dscriptdir=~/bin/perl-blead/bin -Dusedevel -Duse64bitall'
hint=recommended
useposix=true
d_sigaction=define
useithreads=undef
usemultiplicity=undef
use64bitint=define
use64bitall=define
uselongdouble=undef
usemymalloc=n
default_inc_excludes_dot=define
bincompat5005=undef
Compiler:
cc='cc'
ccflags ='-fno-common -DPERL_DARWIN -mmacosx-version-min=10.15 -arch x86_64 -fno-strict-aliasing -pipe -fstack-protector-strong -I/usr/local/include -DPERL_USE_SAFE_PUTENV'
optimize='-O3'
cppflags='-arch x86_64 -fno-common -DPERL_DARWIN -mmacosx-version-min=10.15 -arch x86_64 -fno-strict-aliasing -pipe -fstack-protector-strong -I/usr/local/include'
ccversion=''
gccversion='4.2.1 Compatible Apple LLVM 11.0.3 (clang-1103.0.32.62)'
gccosandvers=''
intsize=4
longsize=8
ptrsize=8
doublesize=8
byteorder=12345678
doublekind=3
d_longlong=define
longlongsize=8
d_longdbl=define
longdblsize=16
longdblkind=3
ivtype='long'
ivsize=8
nvtype='double'
nvsize=8
Off_t='off_t'
lseeksize=8
alignbytes=8
prototype=define
Linker and Libraries:
ld='cc -arch x86_64'
ldflags =' -mmacosx-version-min=10.15 -arch x86_64 -fstack-protector-strong -L/usr/local/lib'
libpth=/usr/local/lib /Applications/Xcode.app/Contents/Developer/Toolchains/XcodeDefault.xctoolchain/usr/lib/clang/11.0.3/lib /Applications/Xcode.app/Contents/Developer/Platforms/MacOSX.platform/Developer/SDKs/MacOSX.sdk/usr/lib /Applications/Xcode.app/Contents/Developer/Toolchains/XcodeDefault.xctoolchain/usr/lib /usr/lib
libs=-lpthread -ldbm -ldl -lm -lutil -lc
perllibs=-lpthread -ldl -lm -lutil -lc
libc=
so=dylib
useshrplib=false
libperl=libperl.a
gnulibc_version=''
Dynamic Linking:
dlsrc=dl_dlopen.xs
dlext=bundle
d_dlsymun=undef
ccdlflags=' '
cccdlflags=' '
lddlflags=' -mmacosx-version-min=10.15 -bundle -undefined dynamic_lookup -L/usr/local/lib -fstack-protector-strong'
Characteristics of this binary (from libperl):
Compile-time options:
HAS_TIMES
PERLIO_LAYERS
PERL_COPY_ON_WRITE
PERL_DONT_CREATE_GVSV
PERL_MALLOC_WRAP
PERL_OP_PARENT
PERL_PRESERVE_IVUV
PERL_USE_DEVEL
PERL_USE_SAFE_PUTENV
USE_64_BIT_ALL
USE_64_BIT_INT
USE_LARGE_FILES
USE_LOCALE
USE_LOCALE_COLLATE
USE_LOCALE_CTYPE
USE_LOCALE_NUMERIC
USE_LOCALE_TIME
USE_PERLIO
USE_PERL_ATOF
Built under darwin
Compiled at May 21 2020 13:59:06
%ENV:
PERL5LIB=""
PERL5OPT=""
PERL5_CPANPLUS_IS_RUNNING="9173"
PERL5_CPAN_IS_RUNNING="9173"
PERL_MM_USE_DEFAULT="1"
PERL_USE_UNSAFE_INC="1"
PERL_VERSION="blead"
@INC:
/Users/cpan/bin/perl-blead/lib/site_perl/5.31.12/darwin-2level
/Users/cpan/bin/perl-blead/lib/site_perl/5.31.12
/Users/cpan/bin/perl-blead/lib/5.31.12/darwin-2level
/Users/cpan/bin/perl-blead/lib/5.31.12
.