Report for WebAPI-DBIC-0.004002

Back
From: metabase:user:320bfe00-2aae-11df-837a-5e0a49663a4f
Subject: PASS WebAPI-DBIC-0.004002 v5.24.0 RC1 GNU/Linux
Date: 2016-04-21T04:51:01Z

This distribution has been tested as part of the CPAN Testers
project, supporting the Perl programming language.  See
http://wiki.cpantesters.org/ for more information or email
questions to cpan-testers-discuss@perl.org


--
Dear Tim Bunce,

This is a computer-generated report for WebAPI-DBIC-0.004002
on perl 5.24.0, created by CPAN-Reporter-1.2017.

Thank you for uploading your work to CPAN.  Congratulations!
All tests were successful.

Sections of this report:

    * Tester comments
    * Program output
    * Prerequisites
    * Environment and other context

------------------------------
TESTER COMMENTS
------------------------------

Additional comments from tester:

this report is from an automated smoke testing program
and was not reviewed by a human for accuracy

------------------------------
PROGRAM OUTPUT
------------------------------

Output from '/usr/bin/make test':

PERL_DL_NONLAZY=1 "/tmp/basesmoker-reloperl-zgMS/bin/perl" "-MExtUtils::Command::MM" "-MTest::Harness" "-e" "undef *Test::Harness::Switches; test_harness(0, 'blib/lib', 'blib/arch')" t/*.t t/media-active-model/*.t t/media-hal/*.t t/media-jsonapi/*.t
Can't locate Alien/Web/HalBrowser.pm in @INC (you may need to install the Alien::Web::HalBrowser module) (@INC contains: blib/lib /tmp/loop_over_bdir-16240-Rytgzy/WebAPI-DBIC-0.004002-0/blib/lib /tmp/loop_over_bdir-16240-Rytgzy/WebAPI-DBIC-0.004002-0/blib/arch /home/sand/src/perl/repoperls/installed-perls/perl/v5.24.0-RC1/8d81/lib/site_perl/5.24.0/x86_64-linux-ld /home/sand/src/perl/repoperls/installed-perls/perl/v5.24.0-RC1/8d81/lib/site_perl/5.24.0/x86_64-linux-ld /home/sand/src/perl/repoperls/installed-perls/perl/v5.24.0-RC1/8d81/lib/site_perl/5.24.0 /home/sand/src/perl/repoperls/installed-perls/perl/v5.24.0-RC1/8d81/lib/5.24.0/x86_64-linux-ld /home/sand/src/perl/repoperls/installed-perls/perl/v5.24.0-RC1/8d81/lib/5.24.0/x86_64-linux-ld /home/sand/src/perl/repoperls/installed-perls/perl/v5.24.0-RC1/8d81/lib/5.24.0 . /tmp/loop_over_bdir-16240-Rytgzy/WebAPI-DBIC-0.004002-0/blib/lib /tmp/loop_over_bdir-16240-Rytgzy/WebAPI-DBIC-0.004002-0/blib/arch /home/sand/src/perl/repoperls/installed-perls/perl/v5.24.0-RC1/8d81/lib/site_perl/5.24.0/x86_64-linux-ld /home/sand/src/perl/repoperls/installed-perls/perl/v5.24.0-RC1/8d81/lib/site_perl/5.24.0 /home/sand/src/perl/repoperls/installed-perls/perl/v5.24.0-RC1/8d81/lib/5.24.0/x86_64-linux-ld /home/sand/src/perl/repoperls/installed-perls/perl/v5.24.0-RC1/8d81/lib/5.24.0 .) at webapi-dbic-any.psgi line 29.
BEGIN failed--compilation aborted at webapi-dbic-any.psgi line 29.
	(in cleanup) Test::DBIx::Class::SchemaManager::drop_source(): DBI Exception: DBD::SQLite::db do failed: no such table: cd_to_producer at /home/sand/src/perl/repoperls/installed-perls/perl/v5.24.0-RC1/8d81/lib/site_perl/5.24.0/Test/DBIx/Class/SchemaManager.pm line 221
webapi-dbic-demo.psgi syntax OK
t/00-compile.t .......................... ok
# Can't initialize a schema with the given configuration
# Returned Error: Can't locate DBIx/Class/Fixtures.pm in @INC (you may need to install the DBIx::Class::Fixtures module) (@INC contains: t/lib /tmp/loop_over_bdir-16240-Rytgzy/WebAPI-DBIC-0.004002-0/blib/lib /tmp/loop_over_bdir-16240-Rytgzy/WebAPI-DBIC-0.004002-0/blib/arch /home/sand/src/perl/repoperls/installed-perls/perl/v5.24.0-RC1/8d81/lib/site_perl/5.24.0/x86_64-linux-ld /home/sand/src/perl/repoperls/installed-perls/perl/v5.24.0-RC1/8d81/lib/site_perl/5.24.0 /home/sand/src/perl/repoperls/installed-perls/perl/v5.24.0-RC1/8d81/lib/5.24.0/x86_64-linux-ld /home/sand/src/perl/repoperls/installed-perls/perl/v5.24.0-RC1/8d81/lib/5.24.0 .) at t/lib/Test/DBIx/Class/FixtureCommand/TestFixtureCommand.pm line 4.
# BEGIN failed--compilation aborted at t/lib/Test/DBIx/Class/FixtureCommand/TestFixtureCommand.pm line 4.
# Compilation failed in require at /home/sand/src/perl/repoperls/installed-perls/perl/v5.24.0-RC1/8d81/lib/site_perl/5.24.0/Module/Runtime.pm line 317.
# configuration: {
#   'connect_info' => {
#     'dsn' => 'dbi:SQLite:dbname=temp_test_db'
#   },
#   'fixture_class' => '::TestFixtureCommand',
#   'fixture_sets' => {},
#   'schema_class' => 'TestSchema'
# }
t/10-basics-req.t ....................... skipped: Skipping remaining tests since we don't have a schema
	(in cleanup) Test::DBIx::Class::SchemaManager::drop_source(): DBI Exception: DBD::SQLite::db do failed: no such table: country at /home/sand/src/perl/repoperls/installed-perls/perl/v5.24.0-RC1/8d81/lib/site_perl/5.24.0/Test/DBIx/Class/SchemaManager.pm line 221
# Can't initialize a schema with the given configuration
# Returned Error: Can't locate DBIx/Class/Fixtures.pm in @INC (you may need to install the DBIx::Class::Fixtures module) (@INC contains: t/lib /tmp/loop_over_bdir-16240-Rytgzy/WebAPI-DBIC-0.004002-0/blib/lib /tmp/loop_over_bdir-16240-Rytgzy/WebAPI-DBIC-0.004002-0/blib/arch /home/sand/src/perl/repoperls/installed-perls/perl/v5.24.0-RC1/8d81/lib/site_perl/5.24.0/x86_64-linux-ld /home/sand/src/perl/repoperls/installed-perls/perl/v5.24.0-RC1/8d81/lib/site_perl/5.24.0 /home/sand/src/perl/repoperls/installed-perls/perl/v5.24.0-RC1/8d81/lib/5.24.0/x86_64-linux-ld /home/sand/src/perl/repoperls/installed-perls/perl/v5.24.0-RC1/8d81/lib/5.24.0 .) at t/lib/Test/DBIx/Class/FixtureCommand/TestFixtureCommand.pm line 4.
# BEGIN failed--compilation aborted at t/lib/Test/DBIx/Class/FixtureCommand/TestFixtureCommand.pm line 4.
# Compilation failed in require at /home/sand/src/perl/repoperls/installed-perls/perl/v5.24.0-RC1/8d81/lib/site_perl/5.24.0/Module/Runtime.pm line 317.
# configuration: {
#   'connect_info' => {
#     'dsn' => 'dbi:SQLite:dbname=temp_test_db'
#   },
#   'fixture_class' => '::TestFixtureCommand',
#   'fixture_sets' => {},
#   'schema_class' => 'TestSchema'
# }
t/11-paging-req.t ....................... skipped: Skipping remaining tests since we don't have a schema
# Can't initialize a schema with the given configuration
# Returned Error: Can't locate DBIx/Class/Fixtures.pm in @INC (you may need to install the DBIx::Class::Fixtures module) (@INC contains: t/lib /tmp/loop_over_bdir-16240-Rytgzy/WebAPI-DBIC-0.004002-0/blib/lib /tmp/loop_over_bdir-16240-Rytgzy/WebAPI-DBIC-0.004002-0/blib/arch /home/sand/src/perl/repoperls/installed-perls/perl/v5.24.0-RC1/8d81/lib/site_perl/5.24.0/x86_64-linux-ld /home/sand/src/perl/repoperls/installed-perls/perl/v5.24.0-RC1/8d81/lib/site_perl/5.24.0 /home/sand/src/perl/repoperls/installed-perls/perl/v5.24.0-RC1/8d81/lib/5.24.0/x86_64-linux-ld /home/sand/src/perl/repoperls/installed-perls/perl/v5.24.0-RC1/8d81/lib/5.24.0 .) at t/lib/Test/DBIx/Class/FixtureCommand/TestFixtureCommand.pm line 4.
# BEGIN failed--compilation aborted at t/lib/Test/DBIx/Class/FixtureCommand/TestFixtureCommand.pm line 4.
# Compilation failed in require at /home/sand/src/perl/repoperls/installed-perls/perl/v5.24.0-RC1/8d81/lib/site_perl/5.24.0/Module/Runtime.pm line 317.
# configuration: {
#   'connect_info' => {
#     'dsn' => 'dbi:SQLite:dbname=temp_test_db'
#   },
#   'fixture_class' => '::TestFixtureCommand',
#   'fixture_sets' => {},
#   'schema_class' => 'TestSchema'
# }
t/12-searching-req.t .................... skipped: Skipping remaining tests since we don't have a schema
	(in cleanup) Test::DBIx::Class::SchemaManager::drop_source(): DBI Exception: DBD::SQLite::db do failed: no such table: genre at /home/sand/src/perl/repoperls/installed-perls/perl/v5.24.0-RC1/8d81/lib/site_perl/5.24.0/Test/DBIx/Class/SchemaManager.pm line 221
# Can't initialize a schema with the given configuration
# Returned Error: Can't locate DBIx/Class/Fixtures.pm in @INC (you may need to install the DBIx::Class::Fixtures module) (@INC contains: t/lib /tmp/loop_over_bdir-16240-Rytgzy/WebAPI-DBIC-0.004002-0/blib/lib /tmp/loop_over_bdir-16240-Rytgzy/WebAPI-DBIC-0.004002-0/blib/arch /home/sand/src/perl/repoperls/installed-perls/perl/v5.24.0-RC1/8d81/lib/site_perl/5.24.0/x86_64-linux-ld /home/sand/src/perl/repoperls/installed-perls/perl/v5.24.0-RC1/8d81/lib/site_perl/5.24.0 /home/sand/src/perl/repoperls/installed-perls/perl/v5.24.0-RC1/8d81/lib/5.24.0/x86_64-linux-ld /home/sand/src/perl/repoperls/installed-perls/perl/v5.24.0-RC1/8d81/lib/5.24.0 .) at t/lib/Test/DBIx/Class/FixtureCommand/TestFixtureCommand.pm line 4.
# BEGIN failed--compilation aborted at t/lib/Test/DBIx/Class/FixtureCommand/TestFixtureCommand.pm line 4.
# Compilation failed in require at /home/sand/src/perl/repoperls/installed-perls/perl/v5.24.0-RC1/8d81/lib/site_perl/5.24.0/Module/Runtime.pm line 317.
# configuration: {
#   'connect_info' => {
#     'dsn' => 'dbi:SQLite:dbname=temp_test_db'
#   },
#   'fixture_class' => '::TestFixtureCommand',
#   'fixture_sets' => {},
#   'schema_class' => 'TestSchema'
# }
t/13-fields-req.t ....................... skipped: Skipping remaining tests since we don't have a schema
# Can't initialize a schema with the given configuration
# Returned Error: Can't locate DBIx/Class/Fixtures.pm in @INC (you may need to install the DBIx::Class::Fixtures module) (@INC contains: t/lib /tmp/loop_over_bdir-16240-Rytgzy/WebAPI-DBIC-0.004002-0/blib/lib /tmp/loop_over_bdir-16240-Rytgzy/WebAPI-DBIC-0.004002-0/blib/arch /home/sand/src/perl/repoperls/installed-perls/perl/v5.24.0-RC1/8d81/lib/site_perl/5.24.0/x86_64-linux-ld /home/sand/src/perl/repoperls/installed-perls/perl/v5.24.0-RC1/8d81/lib/site_perl/5.24.0 /home/sand/src/perl/repoperls/installed-perls/perl/v5.24.0-RC1/8d81/lib/5.24.0/x86_64-linux-ld /home/sand/src/perl/repoperls/installed-perls/perl/v5.24.0-RC1/8d81/lib/5.24.0 .) at t/lib/Test/DBIx/Class/FixtureCommand/TestFixtureCommand.pm line 4.
# BEGIN failed--compilation aborted at t/lib/Test/DBIx/Class/FixtureCommand/TestFixtureCommand.pm line 4.
# Compilation failed in require at /home/sand/src/perl/repoperls/installed-perls/perl/v5.24.0-RC1/8d81/lib/site_perl/5.24.0/Module/Runtime.pm line 317.
# configuration: {
#   'connect_info' => {
#     'dsn' => 'dbi:SQLite:dbname=temp_test_db'
#   },
#   'fixture_class' => '::TestFixtureCommand',
#   'fixture_sets' => {},
#   'schema_class' => 'TestSchema'
# }
t/14-distinct-req.t ..................... skipped: Skipping remaining tests since we don't have a schema
	(in cleanup) Test::DBIx::Class::SchemaManager::drop_source(): DBI Exception: DBD::SQLite::db do failed: no such table: track at /home/sand/src/perl/repoperls/installed-perls/perl/v5.24.0-RC1/8d81/lib/site_perl/5.24.0/Test/DBIx/Class/SchemaManager.pm line 221
# Can't initialize a schema with the given configuration
# Returned Error: Can't locate DBIx/Class/Fixtures.pm in @INC (you may need to install the DBIx::Class::Fixtures module) (@INC contains: t/lib /tmp/loop_over_bdir-16240-Rytgzy/WebAPI-DBIC-0.004002-0/blib/lib /tmp/loop_over_bdir-16240-Rytgzy/WebAPI-DBIC-0.004002-0/blib/arch /home/sand/src/perl/repoperls/installed-perls/perl/v5.24.0-RC1/8d81/lib/site_perl/5.24.0/x86_64-linux-ld /home/sand/src/perl/repoperls/installed-perls/perl/v5.24.0-RC1/8d81/lib/site_perl/5.24.0 /home/sand/src/perl/repoperls/installed-perls/perl/v5.24.0-RC1/8d81/lib/5.24.0/x86_64-linux-ld /home/sand/src/perl/repoperls/installed-perls/perl/v5.24.0-RC1/8d81/lib/5.24.0 .) at t/lib/Test/DBIx/Class/FixtureCommand/TestFixtureCommand.pm line 4.
# BEGIN failed--compilation aborted at t/lib/Test/DBIx/Class/FixtureCommand/TestFixtureCommand.pm line 4.
# Compilation failed in require at /home/sand/src/perl/repoperls/installed-perls/perl/v5.24.0-RC1/8d81/lib/site_perl/5.24.0/Module/Runtime.pm line 317.
# configuration: {
#   'connect_info' => {
#     'dsn' => 'dbi:SQLite:dbname=temp_test_db'
#   },
#   'fixture_class' => '::TestFixtureCommand',
#   'fixture_sets' => {},
#   'schema_class' => 'TestSchema'
# }
t/30-ordering-req.t ..................... skipped: Skipping remaining tests since we don't have a schema
	(in cleanup) Test::DBIx::Class::SchemaManager::drop_source(): DBI Exception: DBD::SQLite::db do failed: no such table: track at /home/sand/src/perl/repoperls/installed-perls/perl/v5.24.0-RC1/8d81/lib/site_perl/5.24.0/Test/DBIx/Class/SchemaManager.pm line 221
# Can't initialize a schema with the given configuration
# Returned Error: Can't locate DBIx/Class/Fixtures.pm in @INC (you may need to install the DBIx::Class::Fixtures module) (@INC contains: t/lib /tmp/loop_over_bdir-16240-Rytgzy/WebAPI-DBIC-0.004002-0/blib/lib /tmp/loop_over_bdir-16240-Rytgzy/WebAPI-DBIC-0.004002-0/blib/arch /home/sand/src/perl/repoperls/installed-perls/perl/v5.24.0-RC1/8d81/lib/site_perl/5.24.0/x86_64-linux-ld /home/sand/src/perl/repoperls/installed-perls/perl/v5.24.0-RC1/8d81/lib/site_perl/5.24.0 /home/sand/src/perl/repoperls/installed-perls/perl/v5.24.0-RC1/8d81/lib/5.24.0/x86_64-linux-ld /home/sand/src/perl/repoperls/installed-perls/perl/v5.24.0-RC1/8d81/lib/5.24.0 .) at t/lib/Test/DBIx/Class/FixtureCommand/TestFixtureCommand.pm line 4.
# BEGIN failed--compilation aborted at t/lib/Test/DBIx/Class/FixtureCommand/TestFixtureCommand.pm line 4.
# Compilation failed in require at /home/sand/src/perl/repoperls/installed-perls/perl/v5.24.0-RC1/8d81/lib/site_perl/5.24.0/Module/Runtime.pm line 317.
# configuration: {
#   'connect_info' => {
#     'dsn' => 'dbi:SQLite:dbname=temp_test_db'
#   },
#   'fixture_class' => '::TestFixtureCommand',
#   'fixture_sets' => {},
#   'schema_class' => 'TestSchema'
# }
t/50-modify-req.t ....................... skipped: Skipping remaining tests since we don't have a schema
# Can't initialize a schema with the given configuration
# Returned Error: Can't locate DBIx/Class/Fixtures.pm in @INC (you may need to install the DBIx::Class::Fixtures module) (@INC contains: t/lib /tmp/loop_over_bdir-16240-Rytgzy/WebAPI-DBIC-0.004002-0/blib/lib /tmp/loop_over_bdir-16240-Rytgzy/WebAPI-DBIC-0.004002-0/blib/arch /home/sand/src/perl/repoperls/installed-perls/perl/v5.24.0-RC1/8d81/lib/site_perl/5.24.0/x86_64-linux-ld /home/sand/src/perl/repoperls/installed-perls/perl/v5.24.0-RC1/8d81/lib/site_perl/5.24.0 /home/sand/src/perl/repoperls/installed-perls/perl/v5.24.0-RC1/8d81/lib/5.24.0/x86_64-linux-ld /home/sand/src/perl/repoperls/installed-perls/perl/v5.24.0-RC1/8d81/lib/5.24.0 .) at t/lib/Test/DBIx/Class/FixtureCommand/TestFixtureCommand.pm line 4.
# BEGIN failed--compilation aborted at t/lib/Test/DBIx/Class/FixtureCommand/TestFixtureCommand.pm line 4.
# Compilation failed in require at /home/sand/src/perl/repoperls/installed-perls/perl/v5.24.0-RC1/8d81/lib/site_perl/5.24.0/Module/Runtime.pm line 317.
# configuration: {
#   'connect_info' => {
#     'dsn' => 'dbi:SQLite:dbname=temp_test_db'
#   },
#   'fixture_class' => '::TestFixtureCommand',
#   'fixture_sets' => {},
#   'schema_class' => 'TestSchema'
# }
t/53-put_rel-req.t ...................... skipped: Skipping remaining tests since we don't have a schema
	(in cleanup) Test::DBIx::Class::SchemaManager::drop_source(): DBI Exception: DBD::SQLite::db do failed: no such table: country at /home/sand/src/perl/repoperls/installed-perls/perl/v5.24.0-RC1/8d81/lib/site_perl/5.24.0/Test/DBIx/Class/SchemaManager.pm line 221
# Can't initialize a schema with the given configuration
# Returned Error: Can't locate DBIx/Class/Fixtures.pm in @INC (you may need to install the DBIx::Class::Fixtures module) (@INC contains: t/lib /tmp/loop_over_bdir-16240-Rytgzy/WebAPI-DBIC-0.004002-0/blib/lib /tmp/loop_over_bdir-16240-Rytgzy/WebAPI-DBIC-0.004002-0/blib/arch /home/sand/src/perl/repoperls/installed-perls/perl/v5.24.0-RC1/8d81/lib/site_perl/5.24.0/x86_64-linux-ld /home/sand/src/perl/repoperls/installed-perls/perl/v5.24.0-RC1/8d81/lib/site_perl/5.24.0 /home/sand/src/perl/repoperls/installed-perls/perl/v5.24.0-RC1/8d81/lib/5.24.0/x86_64-linux-ld /home/sand/src/perl/repoperls/installed-perls/perl/v5.24.0-RC1/8d81/lib/5.24.0 .) at t/lib/Test/DBIx/Class/FixtureCommand/TestFixtureCommand.pm line 4.
# BEGIN failed--compilation aborted at t/lib/Test/DBIx/Class/FixtureCommand/TestFixtureCommand.pm line 4.
# Compilation failed in require at /home/sand/src/perl/repoperls/installed-perls/perl/v5.24.0-RC1/8d81/lib/site_perl/5.24.0/Module/Runtime.pm line 317.
# configuration: {
#   'connect_info' => {
#     'dsn' => 'dbi:SQLite:dbname=temp_test_db'
#   },
#   'fixture_class' => '::TestFixtureCommand',
#   'fixture_sets' => {},
#   'schema_class' => 'TestSchema'
# }
t/60-invoke-req.t ....................... skipped: Skipping remaining tests since we don't have a schema
	(in cleanup) Test::DBIx::Class::SchemaManager::drop_source(): DBI Exception: DBD::SQLite::db do failed: no such table: artist at /home/sand/src/perl/repoperls/installed-perls/perl/v5.24.0-RC1/8d81/lib/site_perl/5.24.0/Test/DBIx/Class/SchemaManager.pm line 221
# Can't initialize a schema with the given configuration
# Returned Error: Can't locate DBIx/Class/Fixtures.pm in @INC (you may need to install the DBIx::Class::Fixtures module) (@INC contains: t/lib /tmp/loop_over_bdir-16240-Rytgzy/WebAPI-DBIC-0.004002-0/blib/lib /tmp/loop_over_bdir-16240-Rytgzy/WebAPI-DBIC-0.004002-0/blib/arch /home/sand/src/perl/repoperls/installed-perls/perl/v5.24.0-RC1/8d81/lib/site_perl/5.24.0/x86_64-linux-ld /home/sand/src/perl/repoperls/installed-perls/perl/v5.24.0-RC1/8d81/lib/site_perl/5.24.0 /home/sand/src/perl/repoperls/installed-perls/perl/v5.24.0-RC1/8d81/lib/5.24.0/x86_64-linux-ld /home/sand/src/perl/repoperls/installed-perls/perl/v5.24.0-RC1/8d81/lib/5.24.0 .) at t/lib/Test/DBIx/Class/FixtureCommand/TestFixtureCommand.pm line 4.
# BEGIN failed--compilation aborted at t/lib/Test/DBIx/Class/FixtureCommand/TestFixtureCommand.pm line 4.
# Compilation failed in require at /home/sand/src/perl/repoperls/installed-perls/perl/v5.24.0-RC1/8d81/lib/site_perl/5.24.0/Module/Runtime.pm line 317.
# configuration: {
#   'connect_info' => {
#     'dsn' => 'dbi:SQLite:dbname=temp_test_db'
#   },
#   'fixture_class' => '::TestFixtureCommand',
#   'fixture_sets' => {},
#   'schema_class' => 'TestSchema'
# }
t/90-root-req.t ......................... skipped: Skipping remaining tests since we don't have a schema
	(in cleanup) Test::DBIx::Class::SchemaManager::drop_source(): DBI Exception: DBD::SQLite::db do failed: no such table: cd_to_producer at /home/sand/src/perl/repoperls/installed-perls/perl/v5.24.0-RC1/8d81/lib/site_perl/5.24.0/Test/DBIx/Class/SchemaManager.pm line 221
# Can't initialize a schema with the given configuration
# Returned Error: Can't locate DBIx/Class/Fixtures.pm in @INC (you may need to install the DBIx::Class::Fixtures module) (@INC contains: t/lib /tmp/loop_over_bdir-16240-Rytgzy/WebAPI-DBIC-0.004002-0/blib/lib /tmp/loop_over_bdir-16240-Rytgzy/WebAPI-DBIC-0.004002-0/blib/arch /home/sand/src/perl/repoperls/installed-perls/perl/v5.24.0-RC1/8d81/lib/site_perl/5.24.0/x86_64-linux-ld /home/sand/src/perl/repoperls/installed-perls/perl/v5.24.0-RC1/8d81/lib/site_perl/5.24.0 /home/sand/src/perl/repoperls/installed-perls/perl/v5.24.0-RC1/8d81/lib/5.24.0/x86_64-linux-ld /home/sand/src/perl/repoperls/installed-perls/perl/v5.24.0-RC1/8d81/lib/5.24.0 .) at t/lib/Test/DBIx/Class/FixtureCommand/TestFixtureCommand.pm line 4.
# BEGIN failed--compilation aborted at t/lib/Test/DBIx/Class/FixtureCommand/TestFixtureCommand.pm line 4.
# Compilation failed in require at /home/sand/src/perl/repoperls/installed-perls/perl/v5.24.0-RC1/8d81/lib/site_perl/5.24.0/Module/Runtime.pm line 317.
# configuration: {
#   'connect_info' => {
#     'dsn' => 'dbi:SQLite:dbname=temp_test_db'
#   },
#   'fixture_class' => '::TestFixtureCommand',
#   'fixture_sets' => {},
#   'schema_class' => 'TestSchema'
# }
t/media-active-model/10-basics-req.t .... skipped: Skipping remaining tests since we don't have a schema
# Can't initialize a schema with the given configuration
# Returned Error: Can't locate DBIx/Class/Fixtures.pm in @INC (you may need to install the DBIx::Class::Fixtures module) (@INC contains: t/lib /tmp/loop_over_bdir-16240-Rytgzy/WebAPI-DBIC-0.004002-0/blib/lib /tmp/loop_over_bdir-16240-Rytgzy/WebAPI-DBIC-0.004002-0/blib/arch /home/sand/src/perl/repoperls/installed-perls/perl/v5.24.0-RC1/8d81/lib/site_perl/5.24.0/x86_64-linux-ld /home/sand/src/perl/repoperls/installed-perls/perl/v5.24.0-RC1/8d81/lib/site_perl/5.24.0 /home/sand/src/perl/repoperls/installed-perls/perl/v5.24.0-RC1/8d81/lib/5.24.0/x86_64-linux-ld /home/sand/src/perl/repoperls/installed-perls/perl/v5.24.0-RC1/8d81/lib/5.24.0 .) at t/lib/Test/DBIx/Class/FixtureCommand/TestFixtureCommand.pm line 4.
# BEGIN failed--compilation aborted at t/lib/Test/DBIx/Class/FixtureCommand/TestFixtureCommand.pm line 4.
# Compilation failed in require at /home/sand/src/perl/repoperls/installed-perls/perl/v5.24.0-RC1/8d81/lib/site_perl/5.24.0/Module/Runtime.pm line 317.
# configuration: {
#   'connect_info' => {
#     'dsn' => 'dbi:SQLite:dbname=temp_test_db'
#   },
#   'fixture_class' => '::TestFixtureCommand',
#   'fixture_sets' => {},
#   'schema_class' => 'TestSchema'
# }
t/media-active-model/40-prefetch-req.t .. skipped: Skipping remaining tests since we don't have a schema
	(in cleanup) Test::DBIx::Class::SchemaManager::drop_source(): DBI Exception: DBD::SQLite::db do failed: no such table: artist at /home/sand/src/perl/repoperls/installed-perls/perl/v5.24.0-RC1/8d81/lib/site_perl/5.24.0/Test/DBIx/Class/SchemaManager.pm line 221
# Can't initialize a schema with the given configuration
# Returned Error: Can't locate DBIx/Class/Fixtures.pm in @INC (you may need to install the DBIx::Class::Fixtures module) (@INC contains: t/lib /tmp/loop_over_bdir-16240-Rytgzy/WebAPI-DBIC-0.004002-0/blib/lib /tmp/loop_over_bdir-16240-Rytgzy/WebAPI-DBIC-0.004002-0/blib/arch /home/sand/src/perl/repoperls/installed-perls/perl/v5.24.0-RC1/8d81/lib/site_perl/5.24.0/x86_64-linux-ld /home/sand/src/perl/repoperls/installed-perls/perl/v5.24.0-RC1/8d81/lib/site_perl/5.24.0 /home/sand/src/perl/repoperls/installed-perls/perl/v5.24.0-RC1/8d81/lib/5.24.0/x86_64-linux-ld /home/sand/src/perl/repoperls/installed-perls/perl/v5.24.0-RC1/8d81/lib/5.24.0 .) at t/lib/Test/DBIx/Class/FixtureCommand/TestFixtureCommand.pm line 4.
# BEGIN failed--compilation aborted at t/lib/Test/DBIx/Class/FixtureCommand/TestFixtureCommand.pm line 4.
# Compilation failed in require at /home/sand/src/perl/repoperls/installed-perls/perl/v5.24.0-RC1/8d81/lib/site_perl/5.24.0/Module/Runtime.pm line 317.
# configuration: {
#   'connect_info' => {
#     'dsn' => 'dbi:SQLite:dbname=temp_test_db'
#   },
#   'fixture_class' => '::TestFixtureCommand',
#   'fixture_sets' => {},
#   'schema_class' => 'TestSchema'
# }
t/media-hal/10-basics-req.t ............. skipped: Skipping remaining tests since we don't have a schema
# Can't initialize a schema with the given configuration
# Returned Error: Can't locate DBIx/Class/Fixtures.pm in @INC (you may need to install the DBIx::Class::Fixtures module) (@INC contains: t/lib /tmp/loop_over_bdir-16240-Rytgzy/WebAPI-DBIC-0.004002-0/blib/lib /tmp/loop_over_bdir-16240-Rytgzy/WebAPI-DBIC-0.004002-0/blib/arch /home/sand/src/perl/repoperls/installed-perls/perl/v5.24.0-RC1/8d81/lib/site_perl/5.24.0/x86_64-linux-ld /home/sand/src/perl/repoperls/installed-perls/perl/v5.24.0-RC1/8d81/lib/site_perl/5.24.0 /home/sand/src/perl/repoperls/installed-perls/perl/v5.24.0-RC1/8d81/lib/5.24.0/x86_64-linux-ld /home/sand/src/perl/repoperls/installed-perls/perl/v5.24.0-RC1/8d81/lib/5.24.0 .) at t/lib/Test/DBIx/Class/FixtureCommand/TestFixtureCommand.pm line 4.
# BEGIN failed--compilation aborted at t/lib/Test/DBIx/Class/FixtureCommand/TestFixtureCommand.pm line 4.
# Compilation failed in require at /home/sand/src/perl/repoperls/installed-perls/perl/v5.24.0-RC1/8d81/lib/site_perl/5.24.0/Module/Runtime.pm line 317.
# configuration: {
#   'connect_info' => {
#     'dsn' => 'dbi:SQLite:dbname=temp_test_db'
#   },
#   'fixture_class' => '::TestFixtureCommand',
#   'fixture_sets' => {},
#   'schema_class' => 'TestSchema'
# }
t/media-hal/11-paging-req.t ............. skipped: Skipping remaining tests since we don't have a schema
# Can't initialize a schema with the given configuration
# Returned Error: Can't locate DBIx/Class/Fixtures.pm in @INC (you may need to install the DBIx::Class::Fixtures module) (@INC contains: t/lib /tmp/loop_over_bdir-16240-Rytgzy/WebAPI-DBIC-0.004002-0/blib/lib /tmp/loop_over_bdir-16240-Rytgzy/WebAPI-DBIC-0.004002-0/blib/arch /home/sand/src/perl/repoperls/installed-perls/perl/v5.24.0-RC1/8d81/lib/site_perl/5.24.0/x86_64-linux-ld /home/sand/src/perl/repoperls/installed-perls/perl/v5.24.0-RC1/8d81/lib/site_perl/5.24.0 /home/sand/src/perl/repoperls/installed-perls/perl/v5.24.0-RC1/8d81/lib/5.24.0/x86_64-linux-ld /home/sand/src/perl/repoperls/installed-perls/perl/v5.24.0-RC1/8d81/lib/5.24.0 .) at t/lib/Test/DBIx/Class/FixtureCommand/TestFixtureCommand.pm line 4.
# BEGIN failed--compilation aborted at t/lib/Test/DBIx/Class/FixtureCommand/TestFixtureCommand.pm line 4.
# Compilation failed in require at /home/sand/src/perl/repoperls/installed-perls/perl/v5.24.0-RC1/8d81/lib/site_perl/5.24.0/Module/Runtime.pm line 317.
# configuration: {
#   'connect_info' => {
#     'dsn' => 'dbi:SQLite:dbname=temp_test_db'
#   },
#   'fixture_class' => '::TestFixtureCommand',
#   'fixture_sets' => {},
#   'schema_class' => 'TestSchema'
# }
t/media-hal/12-searching-req.t .......... skipped: Skipping remaining tests since we don't have a schema
# Can't initialize a schema with the given configuration
# Returned Error: Can't locate DBIx/Class/Fixtures.pm in @INC (you may need to install the DBIx::Class::Fixtures module) (@INC contains: t/lib /tmp/loop_over_bdir-16240-Rytgzy/WebAPI-DBIC-0.004002-0/blib/lib /tmp/loop_over_bdir-16240-Rytgzy/WebAPI-DBIC-0.004002-0/blib/arch /home/sand/src/perl/repoperls/installed-perls/perl/v5.24.0-RC1/8d81/lib/site_perl/5.24.0/x86_64-linux-ld /home/sand/src/perl/repoperls/installed-perls/perl/v5.24.0-RC1/8d81/lib/site_perl/5.24.0 /home/sand/src/perl/repoperls/installed-perls/perl/v5.24.0-RC1/8d81/lib/5.24.0/x86_64-linux-ld /home/sand/src/perl/repoperls/installed-perls/perl/v5.24.0-RC1/8d81/lib/5.24.0 .) at t/lib/Test/DBIx/Class/FixtureCommand/TestFixtureCommand.pm line 4.
# BEGIN failed--compilation aborted at t/lib/Test/DBIx/Class/FixtureCommand/TestFixtureCommand.pm line 4.
# Compilation failed in require at /home/sand/src/perl/repoperls/installed-perls/perl/v5.24.0-RC1/8d81/lib/site_perl/5.24.0/Module/Runtime.pm line 317.
# configuration: {
#   'connect_info' => {
#     'dsn' => 'dbi:SQLite:dbname=temp_test_db'
#   },
#   'fixture_class' => '::TestFixtureCommand',
#   'fixture_sets' => {},
#   'schema_class' => 'TestSchema'
# }
t/media-hal/13-fields-req.t ............. skipped: Skipping remaining tests since we don't have a schema
# Can't initialize a schema with the given configuration
# Returned Error: Can't locate DBIx/Class/Fixtures.pm in @INC (you may need to install the DBIx::Class::Fixtures module) (@INC contains: t/lib /tmp/loop_over_bdir-16240-Rytgzy/WebAPI-DBIC-0.004002-0/blib/lib /tmp/loop_over_bdir-16240-Rytgzy/WebAPI-DBIC-0.004002-0/blib/arch /home/sand/src/perl/repoperls/installed-perls/perl/v5.24.0-RC1/8d81/lib/site_perl/5.24.0/x86_64-linux-ld /home/sand/src/perl/repoperls/installed-perls/perl/v5.24.0-RC1/8d81/lib/site_perl/5.24.0 /home/sand/src/perl/repoperls/installed-perls/perl/v5.24.0-RC1/8d81/lib/5.24.0/x86_64-linux-ld /home/sand/src/perl/repoperls/installed-perls/perl/v5.24.0-RC1/8d81/lib/5.24.0 .) at t/lib/Test/DBIx/Class/FixtureCommand/TestFixtureCommand.pm line 4.
# BEGIN failed--compilation aborted at t/lib/Test/DBIx/Class/FixtureCommand/TestFixtureCommand.pm line 4.
# Compilation failed in require at /home/sand/src/perl/repoperls/installed-perls/perl/v5.24.0-RC1/8d81/lib/site_perl/5.24.0/Module/Runtime.pm line 317.
# configuration: {
#   'connect_info' => {
#     'dsn' => 'dbi:SQLite:dbname=temp_test_db'
#   },
#   'fixture_class' => '::TestFixtureCommand',
#   'fixture_sets' => {},
#   'schema_class' => 'TestSchema'
# }
t/media-hal/14-distinct-req.t ........... skipped: Skipping remaining tests since we don't have a schema
	(in cleanup) Test::DBIx::Class::SchemaManager::drop_source(): DBI Exception: DBD::SQLite::db do failed: no such table: country at /home/sand/src/perl/repoperls/installed-perls/perl/v5.24.0-RC1/8d81/lib/site_perl/5.24.0/Test/DBIx/Class/SchemaManager.pm line 221
# Can't initialize a schema with the given configuration
# Returned Error: Can't locate DBIx/Class/Fixtures.pm in @INC (you may need to install the DBIx::Class::Fixtures module) (@INC contains: t/lib /tmp/loop_over_bdir-16240-Rytgzy/WebAPI-DBIC-0.004002-0/blib/lib /tmp/loop_over_bdir-16240-Rytgzy/WebAPI-DBIC-0.004002-0/blib/arch /home/sand/src/perl/repoperls/installed-perls/perl/v5.24.0-RC1/8d81/lib/site_perl/5.24.0/x86_64-linux-ld /home/sand/src/perl/repoperls/installed-perls/perl/v5.24.0-RC1/8d81/lib/site_perl/5.24.0 /home/sand/src/perl/repoperls/installed-perls/perl/v5.24.0-RC1/8d81/lib/5.24.0/x86_64-linux-ld /home/sand/src/perl/repoperls/installed-perls/perl/v5.24.0-RC1/8d81/lib/5.24.0 .) at t/lib/Test/DBIx/Class/FixtureCommand/TestFixtureCommand.pm line 4.
# BEGIN failed--compilation aborted at t/lib/Test/DBIx/Class/FixtureCommand/TestFixtureCommand.pm line 4.
# Compilation failed in require at /home/sand/src/perl/repoperls/installed-perls/perl/v5.24.0-RC1/8d81/lib/site_perl/5.24.0/Module/Runtime.pm line 317.
# configuration: {
#   'connect_info' => {
#     'dsn' => 'dbi:SQLite:dbname=temp_test_db'
#   },
#   'fixture_class' => '::TestFixtureCommand',
#   'fixture_sets' => {},
#   'schema_class' => 'TestSchema'
# }
t/media-hal/30-ordering-req.t ........... skipped: Skipping remaining tests since we don't have a schema
# Can't initialize a schema with the given configuration
# Returned Error: Can't locate DBIx/Class/Fixtures.pm in @INC (you may need to install the DBIx::Class::Fixtures module) (@INC contains: t/lib /tmp/loop_over_bdir-16240-Rytgzy/WebAPI-DBIC-0.004002-0/blib/lib /tmp/loop_over_bdir-16240-Rytgzy/WebAPI-DBIC-0.004002-0/blib/arch /home/sand/src/perl/repoperls/installed-perls/perl/v5.24.0-RC1/8d81/lib/site_perl/5.24.0/x86_64-linux-ld /home/sand/src/perl/repoperls/installed-perls/perl/v5.24.0-RC1/8d81/lib/site_perl/5.24.0 /home/sand/src/perl/repoperls/installed-perls/perl/v5.24.0-RC1/8d81/lib/5.24.0/x86_64-linux-ld /home/sand/src/perl/repoperls/installed-perls/perl/v5.24.0-RC1/8d81/lib/5.24.0 .) at t/lib/Test/DBIx/Class/FixtureCommand/TestFixtureCommand.pm line 4.
# BEGIN failed--compilation aborted at t/lib/Test/DBIx/Class/FixtureCommand/TestFixtureCommand.pm line 4.
# Compilation failed in require at /home/sand/src/perl/repoperls/installed-perls/perl/v5.24.0-RC1/8d81/lib/site_perl/5.24.0/Module/Runtime.pm line 317.
# configuration: {
#   'connect_info' => {
#     'dsn' => 'dbi:SQLite:dbname=temp_test_db'
#   },
#   'fixture_class' => '::TestFixtureCommand',
#   'fixture_sets' => {},
#   'schema_class' => 'TestSchema'
# }
t/media-hal/40-prefetch-req.t ........... skipped: Skipping remaining tests since we don't have a schema
# Can't initialize a schema with the given configuration
# Returned Error: Can't locate DBIx/Class/Fixtures.pm in @INC (you may need to install the DBIx::Class::Fixtures module) (@INC contains: t/lib /tmp/loop_over_bdir-16240-Rytgzy/WebAPI-DBIC-0.004002-0/blib/lib /tmp/loop_over_bdir-16240-Rytgzy/WebAPI-DBIC-0.004002-0/blib/arch /home/sand/src/perl/repoperls/installed-perls/perl/v5.24.0-RC1/8d81/lib/site_perl/5.24.0/x86_64-linux-ld /home/sand/src/perl/repoperls/installed-perls/perl/v5.24.0-RC1/8d81/lib/site_perl/5.24.0 /home/sand/src/perl/repoperls/installed-perls/perl/v5.24.0-RC1/8d81/lib/5.24.0/x86_64-linux-ld /home/sand/src/perl/repoperls/installed-perls/perl/v5.24.0-RC1/8d81/lib/5.24.0 .) at t/lib/Test/DBIx/Class/FixtureCommand/TestFixtureCommand.pm line 4.
# BEGIN failed--compilation aborted at t/lib/Test/DBIx/Class/FixtureCommand/TestFixtureCommand.pm line 4.
# Compilation failed in require at /home/sand/src/perl/repoperls/installed-perls/perl/v5.24.0-RC1/8d81/lib/site_perl/5.24.0/Module/Runtime.pm line 317.
# configuration: {
#   'connect_info' => {
#     'dsn' => 'dbi:SQLite:dbname=temp_test_db'
#   },
#   'fixture_class' => '::TestFixtureCommand',
#   'fixture_sets' => {},
#   'schema_class' => 'TestSchema'
# }
t/media-hal/50-modify-req.t ............. skipped: Skipping remaining tests since we don't have a schema
	(in cleanup) Test::DBIx::Class::SchemaManager::drop_source(): DBI Exception: DBD::SQLite::db do failed: no such table: cd_to_producer at /home/sand/src/perl/repoperls/installed-perls/perl/v5.24.0-RC1/8d81/lib/site_perl/5.24.0/Test/DBIx/Class/SchemaManager.pm line 221
# Can't initialize a schema with the given configuration
# Returned Error: Can't locate DBIx/Class/Fixtures.pm in @INC (you may need to install the DBIx::Class::Fixtures module) (@INC contains: t/lib /tmp/loop_over_bdir-16240-Rytgzy/WebAPI-DBIC-0.004002-0/blib/lib /tmp/loop_over_bdir-16240-Rytgzy/WebAPI-DBIC-0.004002-0/blib/arch /home/sand/src/perl/repoperls/installed-perls/perl/v5.24.0-RC1/8d81/lib/site_perl/5.24.0/x86_64-linux-ld /home/sand/src/perl/repoperls/installed-perls/perl/v5.24.0-RC1/8d81/lib/site_perl/5.24.0 /home/sand/src/perl/repoperls/installed-perls/perl/v5.24.0-RC1/8d81/lib/5.24.0/x86_64-linux-ld /home/sand/src/perl/repoperls/installed-perls/perl/v5.24.0-RC1/8d81/lib/5.24.0 .) at t/lib/Test/DBIx/Class/FixtureCommand/TestFixtureCommand.pm line 4.
# BEGIN failed--compilation aborted at t/lib/Test/DBIx/Class/FixtureCommand/TestFixtureCommand.pm line 4.
# Compilation failed in require at /home/sand/src/perl/repoperls/installed-perls/perl/v5.24.0-RC1/8d81/lib/site_perl/5.24.0/Module/Runtime.pm line 317.
# configuration: {
#   'connect_info' => {
#     'dsn' => 'dbi:SQLite:dbname=temp_test_db'
#   },
#   'fixture_class' => '::TestFixtureCommand',
#   'fixture_sets' => {},
#   'schema_class' => 'TestSchema'
# }
t/media-hal/52-post_rel-req.t ........... skipped: Skipping remaining tests since we don't have a schema
# Can't initialize a schema with the given configuration
# Returned Error: Can't locate DBIx/Class/Fixtures.pm in @INC (you may need to install the DBIx::Class::Fixtures module) (@INC contains: t/lib /tmp/loop_over_bdir-16240-Rytgzy/WebAPI-DBIC-0.004002-0/blib/lib /tmp/loop_over_bdir-16240-Rytgzy/WebAPI-DBIC-0.004002-0/blib/arch /home/sand/src/perl/repoperls/installed-perls/perl/v5.24.0-RC1/8d81/lib/site_perl/5.24.0/x86_64-linux-ld /home/sand/src/perl/repoperls/installed-perls/perl/v5.24.0-RC1/8d81/lib/site_perl/5.24.0 /home/sand/src/perl/repoperls/installed-perls/perl/v5.24.0-RC1/8d81/lib/5.24.0/x86_64-linux-ld /home/sand/src/perl/repoperls/installed-perls/perl/v5.24.0-RC1/8d81/lib/5.24.0 .) at t/lib/Test/DBIx/Class/FixtureCommand/TestFixtureCommand.pm line 4.
# BEGIN failed--compilation aborted at t/lib/Test/DBIx/Class/FixtureCommand/TestFixtureCommand.pm line 4.
# Compilation failed in require at /home/sand/src/perl/repoperls/installed-perls/perl/v5.24.0-RC1/8d81/lib/site_perl/5.24.0/Module/Runtime.pm line 317.
# configuration: {
#   'connect_info' => {
#     'dsn' => 'dbi:SQLite:dbname=temp_test_db'
#   },
#   'fixture_class' => '::TestFixtureCommand',
#   'fixture_sets' => {},
#   'schema_class' => 'TestSchema'
# }
t/media-hal/53-put_rel-req.t ............ skipped: Skipping remaining tests since we don't have a schema
	(in cleanup) Test::DBIx::Class::SchemaManager::drop_source(): DBI Exception: DBD::SQLite::db do failed: no such table: genre at /home/sand/src/perl/repoperls/installed-perls/perl/v5.24.0-RC1/8d81/lib/site_perl/5.24.0/Test/DBIx/Class/SchemaManager.pm line 221
# Can't initialize a schema with the given configuration
# Returned Error: Can't locate DBIx/Class/Fixtures.pm in @INC (you may need to install the DBIx::Class::Fixtures module) (@INC contains: t/lib /tmp/loop_over_bdir-16240-Rytgzy/WebAPI-DBIC-0.004002-0/blib/lib /tmp/loop_over_bdir-16240-Rytgzy/WebAPI-DBIC-0.004002-0/blib/arch /home/sand/src/perl/repoperls/installed-perls/perl/v5.24.0-RC1/8d81/lib/site_perl/5.24.0/x86_64-linux-ld /home/sand/src/perl/repoperls/installed-perls/perl/v5.24.0-RC1/8d81/lib/site_perl/5.24.0 /home/sand/src/perl/repoperls/installed-perls/perl/v5.24.0-RC1/8d81/lib/5.24.0/x86_64-linux-ld /home/sand/src/perl/repoperls/installed-perls/perl/v5.24.0-RC1/8d81/lib/5.24.0 .) at t/lib/Test/DBIx/Class/FixtureCommand/TestFixtureCommand.pm line 4.
# BEGIN failed--compilation aborted at t/lib/Test/DBIx/Class/FixtureCommand/TestFixtureCommand.pm line 4.
# Compilation failed in require at /home/sand/src/perl/repoperls/installed-perls/perl/v5.24.0-RC1/8d81/lib/site_perl/5.24.0/Module/Runtime.pm line 317.
# configuration: {
#   'connect_info' => {
#     'dsn' => 'dbi:SQLite:dbname=temp_test_db'
#   },
#   'fixture_class' => '::TestFixtureCommand',
#   'fixture_sets' => {},
#   'schema_class' => 'TestSchema'
# }
t/media-hal/90-root-req.t ............... skipped: Skipping remaining tests since we don't have a schema
	(in cleanup) Test::DBIx::Class::SchemaManager::drop_source(): DBI Exception: DBD::SQLite::db do failed: no such table: cd_to_producer at /home/sand/src/perl/repoperls/installed-perls/perl/v5.24.0-RC1/8d81/lib/site_perl/5.24.0/Test/DBIx/Class/SchemaManager.pm line 221
# Can't initialize a schema with the given configuration
# Returned Error: Can't locate DBIx/Class/Fixtures.pm in @INC (you may need to install the DBIx::Class::Fixtures module) (@INC contains: t/lib /tmp/loop_over_bdir-16240-Rytgzy/WebAPI-DBIC-0.004002-0/blib/lib /tmp/loop_over_bdir-16240-Rytgzy/WebAPI-DBIC-0.004002-0/blib/arch /home/sand/src/perl/repoperls/installed-perls/perl/v5.24.0-RC1/8d81/lib/site_perl/5.24.0/x86_64-linux-ld /home/sand/src/perl/repoperls/installed-perls/perl/v5.24.0-RC1/8d81/lib/site_perl/5.24.0 /home/sand/src/perl/repoperls/installed-perls/perl/v5.24.0-RC1/8d81/lib/5.24.0/x86_64-linux-ld /home/sand/src/perl/repoperls/installed-perls/perl/v5.24.0-RC1/8d81/lib/5.24.0 .) at t/lib/Test/DBIx/Class/FixtureCommand/TestFixtureCommand.pm line 4.
# BEGIN failed--compilation aborted at t/lib/Test/DBIx/Class/FixtureCommand/TestFixtureCommand.pm line 4.
# Compilation failed in require at /home/sand/src/perl/repoperls/installed-perls/perl/v5.24.0-RC1/8d81/lib/site_perl/5.24.0/Module/Runtime.pm line 317.
# configuration: {
#   'connect_info' => {
#     'dsn' => 'dbi:SQLite:dbname=temp_test_db'
#   },
#   'fixture_class' => '::TestFixtureCommand',
#   'fixture_sets' => {},
#   'schema_class' => 'TestSchema'
# }
t/media-jsonapi/10-basics-req.t ......... skipped: Skipping remaining tests since we don't have a schema
	(in cleanup) Test::DBIx::Class::SchemaManager::drop_source(): DBI Exception: DBD::SQLite::db do failed: no such table: cd_to_producer at /home/sand/src/perl/repoperls/installed-perls/perl/v5.24.0-RC1/8d81/lib/site_perl/5.24.0/Test/DBIx/Class/SchemaManager.pm line 221
# Can't initialize a schema with the given configuration
# Returned Error: Can't locate DBIx/Class/Fixtures.pm in @INC (you may need to install the DBIx::Class::Fixtures module) (@INC contains: t/lib /tmp/loop_over_bdir-16240-Rytgzy/WebAPI-DBIC-0.004002-0/blib/lib /tmp/loop_over_bdir-16240-Rytgzy/WebAPI-DBIC-0.004002-0/blib/arch /home/sand/src/perl/repoperls/installed-perls/perl/v5.24.0-RC1/8d81/lib/site_perl/5.24.0/x86_64-linux-ld /home/sand/src/perl/repoperls/installed-perls/perl/v5.24.0-RC1/8d81/lib/site_perl/5.24.0 /home/sand/src/perl/repoperls/installed-perls/perl/v5.24.0-RC1/8d81/lib/5.24.0/x86_64-linux-ld /home/sand/src/perl/repoperls/installed-perls/perl/v5.24.0-RC1/8d81/lib/5.24.0 .) at t/lib/Test/DBIx/Class/FixtureCommand/TestFixtureCommand.pm line 4.
# BEGIN failed--compilation aborted at t/lib/Test/DBIx/Class/FixtureCommand/TestFixtureCommand.pm line 4.
# Compilation failed in require at /home/sand/src/perl/repoperls/installed-perls/perl/v5.24.0-RC1/8d81/lib/site_perl/5.24.0/Module/Runtime.pm line 317.
# configuration: {
#   'connect_info' => {
#     'dsn' => 'dbi:SQLite:dbname=temp_test_db'
#   },
#   'fixture_class' => '::TestFixtureCommand',
#   'fixture_sets' => {},
#   'schema_class' => 'TestSchema'
# }
t/media-jsonapi/40-prefetch-req.t ....... skipped: Skipping remaining tests since we don't have a schema
t/release-pod-syntax.t .................. skipped: these tests are for release candidate testing
All tests successful.
Files=27, Tests=103, 24 wallclock secs ( 0.11 usr  0.12 sys + 19.86 cusr  2.98 csys = 23.07 CPU)
Result: PASS

------------------------------
PREREQUISITES
------------------------------

Prerequisite modules loaded:

requires:

    Module                      Need     Have    
    --------------------------- -------- --------
  ! Alien::Web::HalBrowser      0        n/a     
    Data::Dumper::Concise       0        2.022   
    DBD::SQLite                 1.46     1.50    
    DBIx::Class                 0.08250  0.082821
    HTTP::Headers::ActionPack   0        0.09    
    HTTP::Throwable             0        0.026   
    JSON::MaybeXS               0        1.003005
    Lingua::EN::Inflect         1.894    1.899   
    Lingua::EN::Inflect::Number 1.11     1.12    
    List::MoreUtils             0.408    0.413   
    List::Util                  0        1.45    
    Module::Runtime             0        0.014   
    Moo                         1.001000 2.001001
    MooX::StrictConstructor     0.006    0.008   
    namespace::clean            0.25     0.26    
    parent                      0        0.234   
    Path::Router                0.14     0.15    
    perl                        5.010    5.024000
    Plack                       1.0033   1.0039  
    Plack::App::File            0        0       
    Plack::App::Path::Router    0.08     0.08    
    Safe::Isa                   0        1.000005
    Scalar::Util                0        1.45    
    SQL::Translator             0.11018  0.11021 
    String::CamelCase           0        0.02    
    Sub::Exporter               0        0.987   
    Sub::Quote                  0        2.001001
    Sub::Util                   0        1.45    
    Try::Tiny                   0        0.24    
    URI                         0        1.71    
    Web::Machine                0.15     0.16    

build_requires:

    Module                      Need     Have    
    --------------------------- -------- --------
    autodie                     0        2.29    
    Cpanel::JSON::XS            0        3.0213  
    Data::Printer               0        0.38    
  ! DBIx::Class::Fixtures       1.001025 n/a     
    ExtUtils::MakeMaker         0        7.10_01 
    Module::Pluggable           0        5.2     
    Sort::Key                   0        1.33    
    Test::Compile               v1.1.0   v1.3.0  
    Test::DBIx::Class           0.43     0.47    
    Test::HTTP::Response        0        0.06    
    Test::More                  0.98     1.001014
    Test::Most                  0        0.34    
    Test::Pod                   0        1.51    
    ToolSet                     0        1.02    

configure_requires:

    Module                      Need     Have    
    --------------------------- -------- --------
    ExtUtils::MakeMaker         0        7.10_01 


------------------------------
ENVIRONMENT AND OTHER CONTEXT
------------------------------

Environment variables:

    AUTOMATED_TESTING = 1
    LANG = en_US.UTF-8
    LANGUAGE = en_US:en
    PATH = /usr/lib/ccache:/home/sand/bin:/usr/local/bin:/usr/bin:/bin:/usr/games:/usr/local/perl/bin:/usr/X11/bin:/sbin:/usr/sbin
    PERL5LIB = 
    PERL5OPT = 
    PERL5_CPANPLUS_IS_RUNNING = 16246
    PERL5_CPAN_IS_RUNNING = 16246
    PERL_CANARY_STABILITY_NOPROMPT = 1
    PERL_MM_USE_DEFAULT = 1
    SHELL = /usr/bin/zsh
    TERM = screen

Perl special variables (and OS-specific diagnostics, for MSWin32):

    $^X = /tmp/basesmoker-reloperl-zgMS/bin/perl
    $UID/$EUID = 1005 / 1005
    $GID = 1005 1005
    $EGID = 1005 1005

Perl module toolchain versions installed:

    Module              Have    
    ------------------- --------
    CPAN                2.12    
    CPAN::Meta          2.150005
    Cwd                 3.63    
    ExtUtils::CBuilder  0.280225
    ExtUtils::Command   7.10    
    ExtUtils::Install   2.04    
    ExtUtils::MakeMaker 7.10_01 
    ExtUtils::Manifest  1.70    
    ExtUtils::ParseXS   3.31    
    File::Spec          3.63    
    JSON                2.90    
    JSON::PP            2.27300 
    Module::Build       0.4216  
    Module::Signature   0.79    
    Parse::CPAN::Meta   1.4417  
    Test::Harness       3.36    
    Test::More          1.001014
    YAML                1.15    
    YAML::Syck          1.29    
    version             0.9916  


--

Summary of my perl5 (revision 5 version 24 subversion 0) configuration:
  Commit id: b31d1ef1144adb563cad5228eb7a7a4866b19a50
  Platform:
    osname=linux, osvers=4.3.0-1-amd64, archname=x86_64-linux-ld
    uname='linux k83 4.3.0-1-amd64 #1 smp debian 4.3.3-7 (2016-01-19) x86_64 gnulinux '
    config_args='-Dprefix=/home/sand/src/perl/repoperls/installed-perls/perl/v5.24.0-RC1/8d81 -Dmyhostname=k83 -Dinstallusrbinperl=n -Uversiononly -Dusedevel -des -Ui_db -Dlibswanted=cl pthread socket inet nsl gdbm dbm malloc dl ld sun m crypt sec util c cposix posix ucb BSD gdbm_compat -Uuseithreads -Duselongdouble'
    hint=recommended, useposix=true, d_sigaction=define
    useithreads=undef, usemultiplicity=undef
    use64bitint=define, use64bitall=define, uselongdouble=define
    usemymalloc=n, bincompat5005=undef
  Compiler:
    cc='cc', ccflags ='-fwrapv -fno-strict-aliasing -pipe -fstack-protector-strong -I/usr/local/include -D_LARGEFILE_SOURCE -D_FILE_OFFSET_BITS=64 -D_FORTIFY_SOURCE=2',
    optimize='-O2',
    cppflags='-fwrapv -fno-strict-aliasing -pipe -fstack-protector-strong -I/usr/local/include'
    ccversion='', gccversion='5.3.1 20160121', gccosandvers=''
    intsize=4, longsize=8, ptrsize=8, doublesize=8, byteorder=12345678, doublekind=3
    d_longlong=define, longlongsize=8, d_longdbl=define, longdblsize=16, longdblkind=3
    ivtype='long', ivsize=8, nvtype='long double', nvsize=16, Off_t='off_t', lseeksize=8
    alignbytes=16, prototype=define
  Linker and Libraries:
    ld='cc', ldflags =' -fstack-protector-strong -L/usr/local/lib'
    libpth=/usr/local/lib /usr/lib/gcc/x86_64-linux-gnu/5/include-fixed /usr/include/x86_64-linux-gnu /usr/lib /lib/x86_64-linux-gnu /lib/../lib /usr/lib/x86_64-linux-gnu /usr/lib/../lib /lib
    libs=-lpthread -lnsl -lgdbm -ldl -lm -lcrypt -lutil -lc -lgdbm_compat
    perllibs=-lpthread -lnsl -ldl -lm -lcrypt -lutil -lc
    libc=libc-2.21.so, so=so, useshrplib=false, libperl=libperl.a
    gnulibc_version='2.21'
  Dynamic Linking:
    dlsrc=dl_dlopen.xs, dlext=so, d_dlsymun=undef, ccdlflags='-Wl,-E'
    cccdlflags='-fPIC', lddlflags='-shared -O2 -L/usr/local/lib -fstack-protector-strong'


Characteristics of this binary (from libperl): 
  Compile-time options: HAS_TIMES PERLIO_LAYERS PERL_COPY_ON_WRITE
                        PERL_DONT_CREATE_GVSV
                        PERL_HASH_FUNC_ONE_AT_A_TIME_HARD PERL_MALLOC_WRAP
                        PERL_PRESERVE_IVUV PERL_USE_DEVEL USE_64_BIT_ALL
                        USE_64_BIT_INT USE_LARGE_FILES USE_LOCALE
                        USE_LOCALE_COLLATE USE_LOCALE_CTYPE
                        USE_LOCALE_NUMERIC USE_LOCALE_TIME USE_LONG_DOUBLE
                        USE_PERLIO USE_PERL_ATOF
  Locally applied patches:
	RC1
  Built under linux
  Compiled at Apr 15 2016 05:19:42
  %ENV:
    PERL5LIB=""
    PERL5OPT=""
    PERL5_CPANPLUS_IS_RUNNING="16246"
    PERL5_CPAN_IS_RUNNING="16246"
    PERL_CANARY_STABILITY_NOPROMPT="1"
    PERL_MM_USE_DEFAULT="1"
  @INC:
    /home/sand/src/perl/repoperls/installed-perls/perl/v5.24.0-RC1/8d81/lib/site_perl/5.24.0/x86_64-linux-ld
    /home/sand/src/perl/repoperls/installed-perls/perl/v5.24.0-RC1/8d81/lib/site_perl/5.24.0
    /home/sand/src/perl/repoperls/installed-perls/perl/v5.24.0-RC1/8d81/lib/5.24.0/x86_64-linux-ld
    /home/sand/src/perl/repoperls/installed-perls/perl/v5.24.0-RC1/8d81/lib/5.24.0
    .