Perl-Critic-Policy-logicLAB-ProhibitShellDispatch v0.05 Perl 5 v5.24.3 x86_64-linux-thread-multi-ld
        
            - Status
- Pass
- From
- Andreas J. König (ANDK)
- Dist
- 
                Perl-Critic-Policy-logicLAB-ProhibitShellDispatch v0.05
            
- Platform
- Perl 5 v5.24.3 x86_64-linux-thread-multi-ld
- Date
- 2017-11-01 14:26:27
- ID
- a5b363a8-bf10-11e7-aee8-976366f329a6
This distribution has been tested as part of the CPAN Testers
project, supporting the Perl programming language.  See
http://wiki.cpantesters.org/ for more information or email
questions to cpan-testers-discuss@perl.org
--
Dear jonasbn,
This is a computer-generated report for Perl-Critic-Policy-logicLAB-ProhibitShellDispatch-0.05
on perl 5.24.3, created by CPAN-Reporter-1.2018.
Thank you for uploading your work to CPAN.  Congratulations!
All tests were successful.
Sections of this report:
    * Tester comments
    * Program output
    * Prerequisites
    * Environment and other context
------------------------------
TESTER COMMENTS
------------------------------
Additional comments from tester:
this report is from an automated smoke testing program
and was not reviewed by a human for accuracy
------------------------------
PROGRAM OUTPUT
------------------------------
Output from '/usr/bin/make test':
PERL_DL_NONLAZY=1 "/home/sand/src/perl/repoperls/installed-perls/host/k93msid/v5.24.3/a1a1/bin/perl" "-MExtUtils::Command::MM" "-MTest::Harness" "-e" "undef *Test::Harness::Switches; test_harness(0, 'blib/lib', 'blib/arch')" t/*.t
t/00-compile.t ............ ok
t/author-critic.t ......... skipped: these tests are for testing by the author
t/implementation.t ........ ok
t/release-cpan-changes.t .. skipped: these tests are for release candidate testing
t/release-kwalitee.t ...... skipped: these tests are for release candidate testing
t/release-pod-coverage.t .. skipped: these tests are for release candidate testing
t/release-pod-syntax.t .... skipped: these tests are for release candidate testing
t/rt91542.t ............... ok
t/test.t .................. ok
All tests successful.
Files=9, Tests=19,  9 wallclock secs ( 0.03 usr  0.08 sys +  2.82 cusr  0.74 csys =  3.67 CPU)
Result: PASS
------------------------------
PREREQUISITES
------------------------------
Prerequisite modules loaded:
requires:
    Module                  Need  Have    
    ----------------------- ----- --------
    Carp                    0     1.40    
    Data::Dumper            0     2.161   
    perl                    5.008 5.024003
    Perl::Critic::Policy    0     1.130   
    Perl::Critic::Utils     0     1.130   
    Readonly                0     2.05    
    Test::Perl::Critic      0     1.03    
build_requires:
    Module                  Need  Have    
    ----------------------- ----- --------
    File::Spec              0     3.63_01 
    IO::Handle              0     1.36    
    IPC::Open3              0     1.20    
    Module::Build           0.30  0.4224  
    Pod::Coverage::TrustPod 0     0.100003
    Test::Kwalitee          1.21  1.26    
    Test::More              0.88  1.302106
    Test::Pod               1.41  1.51    
    Test::Pod::Coverage     1.08  1.10    
configure_requires:
    Module                  Need  Have    
    ----------------------- ----- --------
    ExtUtils::MakeMaker     0     7.31_04 
    Module::Build           0.30  0.4224  
------------------------------
ENVIRONMENT AND OTHER CONTEXT
------------------------------
Environment variables:
    AUTOMATED_TESTING = 1
    LANG = en_US.UTF-8
    PATH = /home/sand/bin:/usr/local/bin:/usr/bin:/bin:/usr/games:/usr/local/perl/bin:/usr/X11/bin:/sbin:/usr/sbin
    PERL5LIB = /tmp/loop_over_bdir-12613-4ubLmg/Perl-Critic-Policy-logicLAB-ModuleBlacklist-0.04-0/blib/arch:/tmp/loop_over_bdir-12613-4ubLmg/Perl-Critic-Policy-logicLAB-ModuleBlacklist-0.04-0/blib/lib:/tmp/loop_over_bdir-12613-4ubLmg/Perl-Critic-Bangs-1.12-0/blib/arch:/tmp/loop_over_bdir-12613-4ubLmg/Perl-Critic-Bangs-1.12-0/blib/lib:/tmp/loop_over_bdir-12613-4ubLmg/Module-Info-File-1.00-0/blib/arch:/tmp/loop_over_bdir-12613-4ubLmg/Module-Info-File-1.00-0/blib/lib:/tmp/loop_over_bdir-12613-4ubLmg/Data-FormValidator-4.88-0/blib/arch:/tmp/loop_over_bdir-12613-4ubLmg/Data-FormValidator-4.88-0/blib/lib:/tmp/loop_over_bdir-12613-4ubLmg/File-MMagic-1.30-0/blib/arch:/tmp/loop_over_bdir-12613-4ubLmg/File-MMagic-1.30-0/blib/lib:/tmp/loop_over_bdir-12613-4ubLmg/CPAN-Mini-1.111016-0/blib/arch:/tmp/loop_over_bdir-12613-4ubLmg/CPAN-Mini-1.111016-0/blib/lib:/tmp/loop_over_bdir-12613-4ubLmg/ack-2.18-0/blib/arch:/tmp/loop_over_bdir-12613-4ubLmg/ack-2.18-0/blib/lib:/tmp/loop_over_bdir-12613-4ubLmg/Module-Build-Bundle-0.17-0/blib/arch:/tmp/loop_over_bdir-12613-4ubLmg/Module-Build-Bundle-0.17-0/blib/lib:/tmp/loop_over_bdir-12613-4ubLmg/File-Tempdir-0.02-0/blib/arch:/tmp/loop_over_bdir-12613-4ubLmg/File-Tempdir-0.02-0/blib/lib
    PERL5OPT = 
    PERL5_CPANPLUS_IS_RUNNING = 12636
    PERL5_CPAN_IS_RUNNING = 12636
    PERL5_CPAN_IS_RUNNING_IN_RECURSION = 24287,12636
    PERL_CANARY_STABILITY_NOPROMPT = 1
    PERL_MM_USE_DEFAULT = 1
    PERL_USE_UNSAFE_INC = 1
    SHELL = /usr/bin/zsh
    TERM = screen
Perl special variables (and OS-specific diagnostics, for MSWin32):
    $^X = /home/sand/src/perl/repoperls/installed-perls/host/k93msid/v5.24.3/a1a1/bin/perl
    $UID/$EUID = 1005 / 1005
    $GID = 1005 1005
    $EGID = 1005 1005
Perl module toolchain versions installed:
    Module              Have    
    ------------------- --------
    CPAN                2.18    
    CPAN::Meta          2.150010
    Cwd                 3.63_01 
    ExtUtils::CBuilder  0.280226
    ExtUtils::Command   7.31_04 
    ExtUtils::Install   2.06    
    ExtUtils::MakeMaker 7.31_04 
    ExtUtils::Manifest  1.70    
    ExtUtils::ParseXS   3.31    
    File::Spec          3.63_01 
    JSON                2.94    
    JSON::PP            2.94    
    Module::Build       0.4224  
    Module::Signature   0.81    
    Parse::CPAN::Meta   2.150010
    Test::Harness       3.39    
    Test::More          1.302106
    YAML                1.23_003
    YAML::Syck          1.30    
    version             0.9916  
--
Summary of my perl5 (revision 5 version 24 subversion 3) configuration:
  Derived from: 9f1d3884c227a955e9ecaaadba4cba3280c47e3a
  Platform:
    osname=linux, osvers=4.12.0-2-amd64, archname=x86_64-linux-thread-multi-ld
    uname='linux k93msid 4.12.0-2-amd64 #1 smp debian 4.12.13-1 (2017-09-19) x86_64 gnulinux '
    config_args='-Dprefix=/home/sand/src/perl/repoperls/installed-perls/host/k93msid/v5.24.3/a1a1 -Dmyhostname=k93msid -Dinstallusrbinperl=n -Uversiononly -Dusedevel -des -Ui_db -Dlibswanted=cl pthread socket inet nsl gdbm dbm malloc dl ld sun m crypt sec util c cposix posix ucb BSD gdbm_compat -Duseithreads -Duselongdouble -DDEBUGGING=both'
    hint=recommended, useposix=true, d_sigaction=define
    useithreads=define, usemultiplicity=define
    use64bitint=define, use64bitall=define, uselongdouble=define
    usemymalloc=n, bincompat5005=undef
  Compiler:
    cc='cc', ccflags ='-D_REENTRANT -D_GNU_SOURCE -fwrapv -DDEBUGGING -fno-strict-aliasing -pipe -fstack-protector-strong -I/usr/local/include -D_LARGEFILE_SOURCE -D_FILE_OFFSET_BITS=64 -D_FORTIFY_SOURCE=2',
    optimize='-O2 -g',
    cppflags='-D_REENTRANT -D_GNU_SOURCE -fwrapv -DDEBUGGING -fno-strict-aliasing -pipe -fstack-protector-strong -I/usr/local/include'
    ccversion='', gccversion='7.2.0', gccosandvers=''
    intsize=4, longsize=8, ptrsize=8, doublesize=8, byteorder=12345678, doublekind=3
    d_longlong=define, longlongsize=8, d_longdbl=define, longdblsize=16, longdblkind=3
    ivtype='long', ivsize=8, nvtype='long double', nvsize=16, Off_t='off_t', lseeksize=8
    alignbytes=16, prototype=define
  Linker and Libraries:
    ld='cc', ldflags =' -fstack-protector-strong -L/usr/local/lib'
    libpth=/usr/local/lib /usr/lib/gcc/x86_64-linux-gnu/7/include-fixed /usr/include/x86_64-linux-gnu /usr/lib /lib/x86_64-linux-gnu /lib/../lib /usr/lib/x86_64-linux-gnu /usr/lib/../lib /lib
    libs=-lpthread -lnsl -ldl -lm -lcrypt -lutil -lc
    perllibs=-lpthread -lnsl -ldl -lm -lcrypt -lutil -lc
    libc=libc-2.24.so, so=so, useshrplib=false, libperl=libperl.a
    gnulibc_version='2.24'
  Dynamic Linking:
    dlsrc=dl_dlopen.xs, dlext=so, d_dlsymun=undef, ccdlflags='-Wl,-E'
    cccdlflags='-fPIC', lddlflags='-shared -O2 -g -L/usr/local/lib -fstack-protector-strong'
Characteristics of this binary (from libperl): 
  Compile-time options: DEBUGGING HAS_TIMES MULTIPLICITY PERLIO_LAYERS
                        PERL_COPY_ON_WRITE PERL_DONT_CREATE_GVSV
                        PERL_HASH_FUNC_ONE_AT_A_TIME_HARD
                        PERL_IMPLICIT_CONTEXT PERL_MALLOC_WRAP
                        PERL_PRESERVE_IVUV PERL_TRACK_MEMPOOL PERL_USE_DEVEL
                        USE_64_BIT_ALL USE_64_BIT_INT USE_ITHREADS
                        USE_LARGE_FILES USE_LOCALE USE_LOCALE_COLLATE
                        USE_LOCALE_CTYPE USE_LOCALE_NUMERIC USE_LOCALE_TIME
                        USE_LONG_DOUBLE USE_PERLIO USE_PERL_ATOF
                        USE_REENTRANT_API
  Locally applied patches:
	uncommitted-changes
  Built under linux
  Compiled at Oct  1 2017 23:01:23
  %ENV:
    PERL5LIB="/tmp/loop_over_bdir-12613-4ubLmg/Perl-Critic-Policy-logicLAB-ModuleBlacklist-0.04-0/blib/arch:/tmp/loop_over_bdir-12613-4ubLmg/Perl-Critic-Policy-logicLAB-ModuleBlacklist-0.04-0/blib/lib:/tmp/loop_over_bdir-12613-4ubLmg/Perl-Critic-Bangs-1.12-0/blib/arch:/tmp/loop_over_bdir-12613-4ubLmg/Perl-Critic-Bangs-1.12-0/blib/lib:/tmp/loop_over_bdir-12613-4ubLmg/Module-Info-File-1.00-0/blib/arch:/tmp/loop_over_bdir-12613-4ubLmg/Module-Info-File-1.00-0/blib/lib:/tmp/loop_over_bdir-12613-4ubLmg/Data-FormValidator-4.88-0/blib/arch:/tmp/loop_over_bdir-12613-4ubLmg/Data-FormValidator-4.88-0/blib/lib:/tmp/loop_over_bdir-12613-4ubLmg/File-MMagic-1.30-0/blib/arch:/tmp/loop_over_bdir-12613-4ubLmg/File-MMagic-1.30-0/blib/lib:/tmp/loop_over_bdir-12613-4ubLmg/CPAN-Mini-1.111016-0/blib/arch:/tmp/loop_over_bdir-12613-4ubLmg/CPAN-Mini-1.111016-0/blib/lib:/tmp/loop_over_bdir-12613-4ubLmg/ack-2.18-0/blib/arch:/tmp/loop_over_bdir-12613-4ubLmg/ack-2.18-0/blib/lib:/tmp/loop_over_bdir-12613-4ubLmg/Module-Build-Bundle-0.17-0/blib/arch:/tmp/loop_over_bdir-12613-4ubLmg/Module-Build-Bundle-0.17-0/blib/lib:/tmp/loop_over_bdir-12613-4ubLmg/File-Tempdir-0.02-0/blib/arch:/tmp/loop_over_bdir-12613-4ubLmg/File-Tempdir-0.02-0/blib/lib"
    PERL5OPT=""
    PERL5_CPANPLUS_IS_RUNNING="12636"
    PERL5_CPAN_IS_RUNNING="12636"
    PERL5_CPAN_IS_RUNNING_IN_RECURSION="24287,12636"
    PERL_CANARY_STABILITY_NOPROMPT="1"
    PERL_MM_USE_DEFAULT="1"
    PERL_USE_UNSAFE_INC="1"
  @INC:
    /tmp/loop_over_bdir-12613-4ubLmg/Perl-Critic-Policy-logicLAB-ModuleBlacklist-0.04-0/blib/arch
    /tmp/loop_over_bdir-12613-4ubLmg/Perl-Critic-Policy-logicLAB-ModuleBlacklist-0.04-0/blib/lib
    /tmp/loop_over_bdir-12613-4ubLmg/Perl-Critic-Bangs-1.12-0/blib/arch
    /tmp/loop_over_bdir-12613-4ubLmg/Perl-Critic-Bangs-1.12-0/blib/lib
    /tmp/loop_over_bdir-12613-4ubLmg/Module-Info-File-1.00-0/blib/arch
    /tmp/loop_over_bdir-12613-4ubLmg/Module-Info-File-1.00-0/blib/lib
    /tmp/loop_over_bdir-12613-4ubLmg/Data-FormValidator-4.88-0/blib/arch
    /tmp/loop_over_bdir-12613-4ubLmg/Data-FormValidator-4.88-0/blib/lib
    /tmp/loop_over_bdir-12613-4ubLmg/File-MMagic-1.30-0/blib/arch
    /tmp/loop_over_bdir-12613-4ubLmg/File-MMagic-1.30-0/blib/lib
    /tmp/loop_over_bdir-12613-4ubLmg/CPAN-Mini-1.111016-0/blib/arch
    /tmp/loop_over_bdir-12613-4ubLmg/CPAN-Mini-1.111016-0/blib/lib
    /tmp/loop_over_bdir-12613-4ubLmg/ack-2.18-0/blib/arch
    /tmp/loop_over_bdir-12613-4ubLmg/ack-2.18-0/blib/lib
    /tmp/loop_over_bdir-12613-4ubLmg/Module-Build-Bundle-0.17-0/blib/arch
    /tmp/loop_over_bdir-12613-4ubLmg/Module-Build-Bundle-0.17-0/blib/lib
    /tmp/loop_over_bdir-12613-4ubLmg/File-Tempdir-0.02-0/blib/arch
    /tmp/loop_over_bdir-12613-4ubLmg/File-Tempdir-0.02-0/blib/lib
    /home/sand/src/perl/repoperls/installed-perls/host/k93msid/v5.24.3/a1a1/lib/site_perl/5.24.3/x86_64-linux-thread-multi-ld
    /home/sand/src/perl/repoperls/installed-perls/host/k93msid/v5.24.3/a1a1/lib/site_perl/5.24.3
    /home/sand/src/perl/repoperls/installed-perls/host/k93msid/v5.24.3/a1a1/lib/5.24.3/x86_64-linux-thread-multi-ld
    /home/sand/src/perl/repoperls/installed-perls/host/k93msid/v5.24.3/a1a1/lib/5.24.3
    .