Twitter-API v1.0006 Perl 5 v5.41.10 aarch64-freebsd
- Status
- Pass
- From
- Slaven Rezić
- Dist
-
Twitter-API v1.0006
- Platform
- Perl 5 v5.41.10 aarch64-freebsd
- Date
- 2025-03-29 08:56:04
- ID
- a5b5434c-0c7b-11f0-a49d-900b6e8775ea
This distribution has been tested as part of the CPAN Testers
project, supporting the Perl programming language. See
http://wiki.cpantesters.org/ for more information or email
questions to cpan-testers-discuss@perl.org
--
Dear Marc Mims,
This is a computer-generated report for Twitter-API-1.0006
on perl 5.41.10, created by CPAN-Reporter-1.2020.
Thank you for uploading your work to CPAN. Congratulations!
All tests were successful.
Sections of this report:
* Tester comments
* Program output
* Prerequisites
* Environment and other context
------------------------------
TESTER COMMENTS
------------------------------
Additional comments from tester:
none provided
------------------------------
PROGRAM OUTPUT
------------------------------
Output from './Build test':
t/000_load.t ..................................... ok
t/author-pod-syntax.t ............................ skipped: these tests are for testing by the author
t/base.t ......................................... ok
t/error.t ........................................ ok
t/oauth.t ........................................ ok
t/role/request-args.t ............................ ok
t/trait/api-methods/direct-messages.t ............ ok
t/trait/api-methods/invalidate-access-token.t .... ok
t/trait/api-methods/net-twitter-compatibility.t .. skipped: Net::Twitter >= 4.01041 not installed
t/trait/api-methods/update.t ..................... ok
t/trait/api-methods/upload-media.t ............... ok
t/trait/app-auth.t ............................... ok
t/trait/decode-html-entities.t ................... ok
t/trait/migration.t .............................. ok
t/trait/normalize-booleans.t ..................... ok
t/trait/rate-limiting.t .......................... ok
t/trait/retry-on-error.t ......................... ok
t/url-for.t ...................................... ok
t/util.t ......................................... ok
All tests successful.
Files=19, Tests=170, 3 wallclock secs ( 0.09 usr 0.05 sys + 2.45 cusr 0.38 csys = 2.95 CPU)
Result: PASS
------------------------------
PREREQUISITES
------------------------------
Prerequisite modules loaded:
requires:
Module Need Have
-------------------------- ------- --------
Carp 0 1.54
Digest::SHA 0 6.04
Encode 0 3.21
HTML::Entities 0 3.83
HTTP::Request::Common 0 7.00
HTTP::Thin 0 0.006
IO::Socket::SSL 0 2.089
JSON::MaybeXS 0 1.004008
Module::Runtime 0 0.016
Moo 0 2.005005
Moo::Role 0 2.005005
MooX::Aliases 0 0.001006
MooX::Traits 0 0.005
namespace::clean 0 0.27
perl v5.14.1 5.041010
Ref::Util 0 0.204
Scalar::Util 0 1.68_01
StackTrace::Auto 0 1.001
Sub::Exporter::Progressive 0 0.001013
Throwable 0 1.001
Time::HiRes 0 1.9777
Time::Local 0 1.35
Try::Tiny 0 0.32
URI 0 5.31
URL::Encode 0 0.03
WWW::OAuth 0.006 1.002
build_requires:
Module Need Have
-------------------------- ------- --------
HTTP::Response 0 7.00
HTTP::Status 0 7.00
List::Util 1.35 1.68_01
Test::Fatal 0 0.017
Test::More 0 1.302209
Test::Pod 0 1.52
Test::Spec 0 0.54
Test::Warnings 0 0.038
configure_requires:
Module Need Have
-------------------------- ------- --------
Module::Build::Tiny 0.034 0.051
------------------------------
ENVIRONMENT AND OTHER CONTEXT
------------------------------
Environment variables:
LANG = C.UTF-8
PATH = /usr/local/bin:/usr/bin:/bin:/usr/local/sbin:/usr/sbin:/sbin:/home/cpansand/bin/sh:/home/cpansand/bin:/usr/games:/home/cpansand/devel:/home/eserte/src/srezic-misc/scripts
PERL5LIB =
PERL5OPT =
PERL5_CPANPLUS_IS_RUNNING = 62507
PERL5_CPAN_IS_RUNNING = 62507
PERL5_CPAN_IS_RUNNING_IN_RECURSION = 74727,62507
PERL_BATCH = yes
PERL_CANARY_STABILITY_NOPROMPT = 1
PERL_CPAN_REPORTER_CONFIG = /var/tmp/cpansmoker-1023/2025032907/cpanreporter_001_config.ini
PERL_EXTUTILS_AUTOINSTALL = --defaultdeps
PERL_USE_UNSAFE_INC = 1
SHELL = /bin/sh
TMPDIR = /var/tmp/cpansmoker-1023/2025032907
Perl special variables (and OS-specific diagnostics, for MSWin32):
$^X = /usr/perl5.41.10/bin/perl5.41.10
$UID/$EUID = 1023 / 1023
$GID = 1023 1023
$EGID = 1023 1023
Perl module toolchain versions installed:
Module Have
------------------- --------
CPAN 2.38
CPAN::Meta 2.150010
Cwd 3.92
ExtUtils::CBuilder 0.280240
ExtUtils::Command 7.72
ExtUtils::Install 2.22
ExtUtils::MakeMaker 7.72
ExtUtils::Manifest 1.75
ExtUtils::ParseXS 3.57
File::Spec 3.93
JSON 4.10
JSON::PP 4.16
Module::Build 0.4234
Module::Signature n/a
Parse::CPAN::Meta 2.150010
Test2 1.302209
Test::Harness 3.50
Test::More 1.302209
YAML 1.31
YAML::Syck 1.34
version 0.9933
--
Summary of my perl5 (revision 5 version 41 subversion 10) configuration:
Platform:
osname=freebsd
osvers=14.2-stable
archname=aarch64-freebsd
uname='freebsd cloud9.bbbike.org 14.2-stable freebsd 14.2-stable stable14-n270853-d6552ebf26bc generic arm64 '
config_args='-ds -e -Dprefix=/usr/perl5.41.10 -Uinstallusrbinperl -Dusedevel -Dusemallocwrap=no -Dcf_email=srezic@cpan.org -Doptimize=-O2 -pipe'
hint=recommended
useposix=true
d_sigaction=define
useithreads=undef
usemultiplicity=undef
use64bitint=define
use64bitall=define
uselongdouble=undef
usemymalloc=n
default_inc_excludes_dot=define
Compiler:
cc='cc'
ccflags ='-DHAS_FPSETMASK -DHAS_FLOATINGPOINT_H -DNO_POSIX_2008_LOCALE -fno-strict-aliasing -pipe -fstack-protector-strong -I/usr/local/include'
optimize='-O2 -pipe'
cppflags='-DHAS_FPSETMASK -DHAS_FLOATINGPOINT_H -DNO_POSIX_2008_LOCALE -fno-strict-aliasing -pipe -fstack-protector-strong -I/usr/local/include'
ccversion=''
gccversion='FreeBSD Clang 19.1.7 (https://github.com/llvm/llvm-project.git llvmorg-19.1.7-0-gcd708029e0b2)'
gccosandvers=''
intsize=4
longsize=8
ptrsize=8
doublesize=8
byteorder=12345678
doublekind=3
d_longlong=define
longlongsize=8
d_longdbl=define
longdblsize=16
longdblkind=1
ivtype='long'
ivsize=8
nvtype='double'
nvsize=8
Off_t='off_t'
lseeksize=8
alignbytes=8
prototype=define
Linker and Libraries:
ld='cc'
ldflags ='-Wl,-E -fstack-protector-strong -L/usr/local/lib'
libpth=/usr/lib /usr/local/lib /usr/lib/clang/19/lib
libs=-lpthread -lgdbm -ldl -lm -lcrypt -lutil -lc
perllibs=-lpthread -ldl -lm -lcrypt -lutil -lc
libc=
so=so
useshrplib=false
libperl=libperl.a
gnulibc_version=''
Dynamic Linking:
dlsrc=dl_dlopen.xs
dlext=so
d_dlsymun=undef
ccdlflags=' '
cccdlflags='-DPIC -fPIC'
lddlflags='-shared -L/usr/local/lib -fstack-protector-strong'
Characteristics of this binary (from libperl):
Compile-time options:
HAS_LONG_DOUBLE
HAS_STRTOLD
HAS_TIMES
PERLIO_LAYERS
PERL_COPY_ON_WRITE
PERL_DONT_CREATE_GVSV
PERL_HASH_FUNC_SIPHASH13
PERL_HASH_USE_SBOX32
PERL_OP_PARENT
PERL_PRESERVE_IVUV
PERL_USE_DEVEL
PERL_USE_SAFE_PUTENV
USE_64_BIT_ALL
USE_64_BIT_INT
USE_LARGE_FILES
USE_LOCALE
USE_LOCALE_COLLATE
USE_LOCALE_CTYPE
USE_LOCALE_NUMERIC
USE_LOCALE_TIME
USE_PERLIO
USE_PERL_ATOF
Built under freebsd
Compiled at Mar 29 2025 07:01:17
%ENV:
PERL5LIB=""
PERL5OPT=""
PERL5_CPANPLUS_IS_RUNNING="62507"
PERL5_CPAN_IS_RUNNING="62507"
PERL5_CPAN_IS_RUNNING_IN_RECURSION="74727,62507"
PERL_BATCH="yes"
PERL_CANARY_STABILITY_NOPROMPT="1"
PERL_CPAN_REPORTER_CONFIG="/var/tmp/cpansmoker-1023/2025032907/cpanreporter_001_config.ini"
PERL_EXTUTILS_AUTOINSTALL="--defaultdeps"
PERL_USE_UNSAFE_INC="1"
@INC:
/usr/perl5.41.10/lib/site_perl/5.41.10/aarch64-freebsd
/usr/perl5.41.10/lib/site_perl/5.41.10
/usr/perl5.41.10/lib/5.41.10/aarch64-freebsd
/usr/perl5.41.10/lib/5.41.10
.