CGI-Application-Plugin-Authentication v0.23 Perl 5 v5.29.4 x86_64-linux-ld

Status
Pass
From
Andreas J. König (ANDK)
Dist
CGI-Application-Plugin-Authentication v0.23
Platform
Perl 5 v5.29.4 x86_64-linux-ld
Date
2018-09-29 02:44:55
ID
a5c4d634-c391-11e8-80db-d82fb8c68ea2
This distribution has been tested as part of the CPAN Testers
project, supporting the Perl programming language.  See
http://wiki.cpantesters.org/ for more information or email
questions to cpan-testers-discuss@perl.org


--
Dear Wes Malone,

This is a computer-generated report for CGI-Application-Plugin-Authentication-0.23
on perl 5.29.4, created by CPAN-Reporter-1.2018.

Thank you for uploading your work to CPAN.  Congratulations!
All tests were successful.

Sections of this report:

    * Tester comments
    * Program output
    * Prerequisites
    * Environment and other context

------------------------------
TESTER COMMENTS
------------------------------

Additional comments from tester:

this report is from an automated smoke testing program
and was not reviewed by a human for accuracy

------------------------------
PROGRAM OUTPUT
------------------------------

Output from '/usr/bin/make test':

PERL_DL_NONLAZY=1 "/tmp/basesmoker-reloperl-wA18/bin/perl" "-MExtUtils::Command::MM" "-MTest::Harness" "-e" "undef *Test::Harness::Switches; test_harness(0, 'blib/lib', 'blib/arch')" t/*.t
t/01_basic.t ........................ ok
t/02_config.t ....................... ok
t/03_authenticate.t ................. skipped: CGI::Application::Plugin::Session required for this test
t/03_destination.t .................. ok
# Color::Calc required for this sub test
# Color::Calc required for this sub test
# Color::Calc required for this sub test
# Color::Calc required for this sub test
t/03_login_box.t .................... ok
t/03_login_box_basic.t .............. ok
# Color::Calc required
t/03_login_box_other.t .............. skipped: Color::Calc required
t/03_missing_color.t ................ ok
t/04_attributes.t ................... ok
t/05_autorunmode.t .................. skipped: CGI::Application::Plugin::AutoRunmode required for this test
# The following tests have some small time delays
t/06_timeout.t ...................... ok
t/07_protected_runmodes.t ........... ok
t/40_encoder_crypt.t ................ ok
t/40_encoder_lc.t ................... ok
t/40_encoder_md5.t .................. ok
t/40_encoder_sha1.t ................. ok
t/40_encoder_strip.t ................ ok
t/40_encoder_uc.t ................... ok
t/50_driver_missing_modules.t ....... ok
t/50_driver_undefined.t ............. ok
t/51_driver_dummy.t ................. ok
t/52_driver_generic.t ............... ok
t/53_driver_dbi.t ................... ok
t/53_driver_dbi_bad.t ............... ok
t/53_driver_dbi_die.t ............... ok
t/53_driver_dbi_syntax.t ............ ok
t/54_driver_htpasswd.t .............. ok
t/55_driver_authensimple.t .......... ok
t/55_driver_authensimple_die.t ...... ok
t/55_driver_missing_authensimple.t .. ok
t/60_parsimony.t .................... skipped: CGI::Application::Plugin::Session etc required for this test
t/60_store.t ........................ ok
t/60_store_cookie.t ................. ok
t/60_store_session.t ................ skipped: CGI::Application::Plugin::Session required for this test
t/61_cookie_badargs.t ............... ok
t/61_store_cookie_noexpiry.t ........ ok
t/61_store_cookie_other.t ........... ok
t/70_action_dispatch.t .............. skipped: CGI::Application::Plugin::ActionDispatch required
t/80_devpopup.t ..................... skipped: CGI::Application::Plugin::DevPopup required
t/98_pod.t .......................... skipped: Author test.  Set $ENV{TEST_AUTHOR} to a true value to run.
t/99_pod_coverage.t ................. skipped: Author test.  Set $ENV{TEST_AUTHOR} to a true value to run.
t/author-pod-syntax.t ............... skipped: these tests are for testing by the author
t/changes.t ......................... skipped: Author test.  Set $ENV{TEST_AUTHOR} to a true value to run.
t/manifest.t ........................ skipped: Author test.  Set $ENV{TEST_AUTHOR} to a true value to run.
t/podspell.t ........................ skipped: Author test.  Set $ENV{TEST_AUTHOR} to a true value to run.
t/prereq.t .......................... skipped: Author test.  Set $ENV{TEST_PREREQ} to a true value to run.
t/release-changes_has_content.t ..... skipped: these tests are for release candidate testing
All tests successful.
Files=47, Tests=526,  7 wallclock secs ( 0.11 usr  0.20 sys +  2.96 cusr  0.76 csys =  4.03 CPU)
Result: PASS

------------------------------
PREREQUISITES
------------------------------

Prerequisite modules loaded:

requires:

    Module                Need     Have      
    --------------------- -------- ----------
    Attribute::Handlers   0        1.01      
    CGI                   3.16     4.40      
    CGI::Application      4        4.61      
    Class::ISA            0        0.36      
    Digest::SHA           0        6.02      
    MIME::Base64          0        3.15      
    perl                  5.008    5.029004  
    Scalar::Util          0        1.50      
    UNIVERSAL::require    0        0.18      

build_requires:

    Module                Need     Have      
    --------------------- -------- ----------
    ExtUtils::MakeMaker   0        7.34      
    Readonly              0        2.05      
    Test::Exception       0        0.43      
    Test::MockObject      0        1.20180705
    Test::More            1.302015 1.302140  
    Test::NoWarnings      0        1.04      
    Test::Regression      0        0.08      
    Test::Taint           0        1.06      
    Test::Warn            0.11     0.36      
    Test::Without::Module 0        0.20      

configure_requires:

    Module                Need     Have      
    --------------------- -------- ----------
    ExtUtils::MakeMaker   0        7.34      


------------------------------
ENVIRONMENT AND OTHER CONTEXT
------------------------------

Environment variables:

    AUTOMATED_TESTING = 1
    LANG = en_US.UTF-8
    PATH = /home/sand/bin:/usr/local/bin:/usr/bin:/bin:/usr/games:/usr/local/perl/bin:/usr/X11/bin:/sbin:/usr/sbin
    PERL5LIB = 
    PERL5OPT = 
    PERL5_CPANPLUS_IS_RUNNING = 9954
    PERL5_CPAN_IS_RUNNING = 9954
    PERL_CANARY_STABILITY_NOPROMPT = 1
    PERL_MM_USE_DEFAULT = 1
    PERL_USE_UNSAFE_INC = 1
    SHELL = /usr/bin/zsh
    TERM = screen

Perl special variables (and OS-specific diagnostics, for MSWin32):

    $^X = /tmp/basesmoker-reloperl-wA18/bin/perl
    $UID/$EUID = 1005 / 1005
    $GID = 1005 1005
    $EGID = 1005 1005

Perl module toolchain versions installed:

    Module              Have    
    ------------------- --------
    CPAN                2.21    
    CPAN::Meta          2.150010
    Cwd                 3.75    
    ExtUtils::CBuilder  0.280230
    ExtUtils::Command   7.34    
    ExtUtils::Install   2.14    
    ExtUtils::MakeMaker 7.34    
    ExtUtils::Manifest  1.71    
    ExtUtils::ParseXS   3.39    
    File::Spec          3.75    
    JSON                2.97001 
    JSON::PP            2.97001 
    Module::Build       0.4224  
    Module::Signature   0.83    
    Parse::CPAN::Meta   2.150010
    Test::Harness       3.42    
    Test::More          1.302140
    YAML                1.26    
    YAML::Syck          1.30    
    version             0.9924  


--

Summary of my perl5 (revision 5 version 29 subversion 4) configuration:
  Commit id: 5133224233bb01d0fecad317741666793a0a15e1
  Platform:
    osname=linux
    osvers=4.14.0-3-amd64
    archname=x86_64-linux-ld
    uname='linux k93msid 4.14.0-3-amd64 #1 smp debian 4.14.12-2 (2018-01-06) x86_64 gnulinux '
    config_args='-Dprefix=/home/sand/src/perl/repoperls/installed-perls/host/k93msid/v5.29.3-27-g5133224233/ea6b -Dmyhostname=k93msid -Dinstallusrbinperl=n -Uversiononly -Dusedevel -des -Ui_db -Dlibswanted=cl pthread socket inet nsl gdbm dbm malloc dl ld sun m crypt sec util c cposix posix ucb BSD gdbm_compat -Uuseithreads -Duselongdouble -DEBUGGING=none'
    hint=recommended
    useposix=true
    d_sigaction=define
    useithreads=undef
    usemultiplicity=undef
    use64bitint=define
    use64bitall=define
    uselongdouble=define
    usemymalloc=n
    default_inc_excludes_dot=define
    bincompat5005=undef
  Compiler:
    cc='cc'
    ccflags ='-fwrapv -fno-strict-aliasing -pipe -fstack-protector-strong -I/usr/local/include -D_LARGEFILE_SOURCE -D_FILE_OFFSET_BITS=64 -D_FORTIFY_SOURCE=2'
    optimize='-O2'
    cppflags='-fwrapv -fno-strict-aliasing -pipe -fstack-protector-strong -I/usr/local/include'
    ccversion=''
    gccversion='7.2.0'
    gccosandvers=''
    intsize=4
    longsize=8
    ptrsize=8
    doublesize=8
    byteorder=12345678
    doublekind=3
    d_longlong=define
    longlongsize=8
    d_longdbl=define
    longdblsize=16
    longdblkind=3
    ivtype='long'
    ivsize=8
    nvtype='long double'
    nvsize=16
    Off_t='off_t'
    lseeksize=8
    alignbytes=16
    prototype=define
  Linker and Libraries:
    ld='cc'
    ldflags =' -fstack-protector-strong -L/usr/local/lib'
    libpth=/usr/local/lib /usr/lib/gcc/x86_64-linux-gnu/7/include-fixed /usr/include/x86_64-linux-gnu /usr/lib /lib/x86_64-linux-gnu /lib/../lib /usr/lib/x86_64-linux-gnu /usr/lib/../lib /lib
    libs=-lpthread -lnsl -ldl -lm -lcrypt -lutil -lc
    perllibs=-lpthread -lnsl -ldl -lm -lcrypt -lutil -lc
    libc=libc-2.26.so
    so=so
    useshrplib=false
    libperl=libperl.a
    gnulibc_version='2.26'
  Dynamic Linking:
    dlsrc=dl_dlopen.xs
    dlext=so
    d_dlsymun=undef
    ccdlflags='-Wl,-E'
    cccdlflags='-fPIC'
    lddlflags='-shared -O2 -L/usr/local/lib -fstack-protector-strong'


Characteristics of this binary (from libperl): 
  Compile-time options:
    HAS_TIMES
    PERLIO_LAYERS
    PERL_COPY_ON_WRITE
    PERL_DONT_CREATE_GVSV
    PERL_MALLOC_WRAP
    PERL_OP_PARENT
    PERL_PRESERVE_IVUV
    PERL_USE_DEVEL
    USE_64_BIT_ALL
    USE_64_BIT_INT
    USE_LARGE_FILES
    USE_LOCALE
    USE_LOCALE_COLLATE
    USE_LOCALE_CTYPE
    USE_LOCALE_NUMERIC
    USE_LOCALE_TIME
    USE_LONG_DOUBLE
    USE_PERLIO
    USE_PERL_ATOF
  Built under linux
  Compiled at Sep 28 2018 17:45:17
  %ENV:
    PERL5LIB=""
    PERL5OPT=""
    PERL5_CPANPLUS_IS_RUNNING="9954"
    PERL5_CPAN_IS_RUNNING="9954"
    PERL_CANARY_STABILITY_NOPROMPT="1"
    PERL_MM_USE_DEFAULT="1"
    PERL_USE_UNSAFE_INC="1"
  @INC:
    /home/sand/src/perl/repoperls/installed-perls/host/k93msid/v5.29.3-27-g5133224233/ea6b/lib/site_perl/5.29.4/x86_64-linux-ld
    /home/sand/src/perl/repoperls/installed-perls/host/k93msid/v5.29.3-27-g5133224233/ea6b/lib/site_perl/5.29.4
    /home/sand/src/perl/repoperls/installed-perls/host/k93msid/v5.29.3-27-g5133224233/ea6b/lib/5.29.4/x86_64-linux-ld
    /home/sand/src/perl/repoperls/installed-perls/host/k93msid/v5.29.3-27-g5133224233/ea6b/lib/5.29.4
    .