Data-Session v1.18 Perl 5 v5.41.8 x86_64-dragonfly

Status
Pass
From
Carlos Guevara
Dist
Data-Session v1.18
Platform
Perl 5 v5.41.8 x86_64-dragonfly
Date
2025-01-12 21:46:15
ID
a5d2d00c-d12e-11ef-998e-e92cfe005704
This distribution has been tested as part of the CPAN Testers
project, supporting the Perl programming language.  See
http://wiki.cpantesters.org/ for more information or email
questions to cpan-testers-discuss@perl.org


--
Dear Ron Savage,

This is a computer-generated report for Data-Session-1.18
on perl 5.41.8, created by CPAN-Reporter-1.2020.

Thank you for uploading your work to CPAN.  Congratulations!
All tests were successful.

Sections of this report:

    * Tester comments
    * Program output
    * Prerequisites
    * Environment and other context

------------------------------
TESTER COMMENTS
------------------------------

Additional comments from tester:

this report is from an automated smoke testing program
and was not reviewed by a human for accuracy

------------------------------
PROGRAM OUTPUT
------------------------------

Output from '/usr/bin/make test':

PERL_DL_NONLAZY=1 "/home/cpan/bin/perl/bin/perl5.41.8" "-MExtUtils::Command::MM" "-MTest::Harness" "-e" "undef *Test::Harness::Switches; test_harness(0, 'blib/lib', 'blib/arch')" t/*.t
# Testing Data::Session V 1.18
# Using autovivification V 0.18
# Using CGI V 4.67
# Using Class::Load V 0.25
# Using Config::Tiny V 2.30
# Using Data::Dumper V 2.191
# Using Data::UUID V 1.227
# Using DBD::SQLite V 1.76
# Using DBI V 1.646
# Using DBIx::Admin::CreateTable V 2.11
# Using Digest::MD5 V 2.59
# Using Digest::SHA V 6.04
# Using Fcntl V 1.19
# Using File::Basename V 2.86
# Using File::Path V 2.18
# Using File::Slurper V 0.014
# Using File::Spec V 3.93
# Using File::Temp V 0.2311
# Using FreezeThaw V 0.5001
# Using Hash::FieldHash V 0.15
# Using JSON V 4.10
# Using overload V 1.39
# Using parent V 0.244
# Using Safe V 2.47
# Using Scalar::Util V 1.6801
# Using Storable V 3.35
# Using strict V 1.13
# Using Try::Tiny V 0.32
# Using vars V 1.05
# Using warnings V 1.72
# Using YAML::Tiny V 1.76
t/00.versions.t .. ok
# Test: File.1. DSN: dbi:File:. ID generator: AutoIncrement. Serializer: DataDumper
# id 1: 1002
# Test: File.1. DSN: dbi:File:. ID generator: AutoIncrement. Serializer: FreezeThaw
# id 1: 1008
# Test: File.1. DSN: dbi:File:. ID generator: AutoIncrement. Serializer: JSON
# id 1: 1014
# Test: File.1. DSN: dbi:File:. ID generator: AutoIncrement. Serializer: Storable
# id 1: 1020
# Test: File.1. DSN: dbi:File:. ID generator: AutoIncrement. Serializer: YAML
# id 1: 1026
# Test: File.1. DSN: dbi:File:. ID generator: MD5. Serializer: DataDumper
# id 1: 33f36d2e48f70ca36b604f982059d0cf
# Test: File.1. DSN: dbi:File:. ID generator: MD5. Serializer: FreezeThaw
# id 1: a54102effc90c1599c84ef32a11ceaa2
# Test: File.1. DSN: dbi:File:. ID generator: MD5. Serializer: JSON
# id 1: 6e16a42d29904fbf137dd56eeace90df
# Test: File.1. DSN: dbi:File:. ID generator: MD5. Serializer: Storable
# id 1: f529fb514f1f403323de999758789747
# Test: File.1. DSN: dbi:File:. ID generator: MD5. Serializer: YAML
# id 1: bc1ec03f7810124783d3f792c4262837
# Test: File.1. DSN: dbi:File:. ID generator: SHA1. Serializer: DataDumper
# id 1: 186fcbe0833224f450a9c6fb5ec5ee366bf6de08
# Test: File.1. DSN: dbi:File:. ID generator: SHA1. Serializer: FreezeThaw
# id 1: afa765d257d4aa4b1d5f43cd676a26aa84960537
# Test: File.1. DSN: dbi:File:. ID generator: SHA1. Serializer: JSON
# id 1: 0ca05113c5cbc10b41685258142e08f2e30e14f6
# Test: File.1. DSN: dbi:File:. ID generator: SHA1. Serializer: Storable
# id 1: f870371f3f5e08f23f3a8da98611fb7b654aaadb
# Test: File.1. DSN: dbi:File:. ID generator: SHA1. Serializer: YAML
# id 1: eb2a450115b8895fa9acef2ab673524fdba0539e
# Test: File.1. DSN: dbi:File:. ID generator: SHA256. Serializer: DataDumper
# id 1: a65f0a3b2509751ad6bd160e2ec524a2dd1b7d9c157b2d49ee69388591013a59
# Test: File.1. DSN: dbi:File:. ID generator: SHA256. Serializer: FreezeThaw
# id 1: 057cb11c364230ebe6741fa96edf05d02eabaf0eace0627eea8bc9a32ac1f93a
# Test: File.1. DSN: dbi:File:. ID generator: SHA256. Serializer: JSON
# id 1: f740bca957e66854e3d3fe75640140ff658bd2139b6d96fd7b74bd5f438a5cf0
# Test: File.1. DSN: dbi:File:. ID generator: SHA256. Serializer: Storable
# id 1: c566883714419db10e121ffd45311bdf02029c7921c0a6831b16d76521728585
# Test: File.1. DSN: dbi:File:. ID generator: SHA256. Serializer: YAML
# id 1: b355c3a78157bf21c5f0520c7a84f56f171ca8e65cf357a7e78090b7da65d157
# Test: File.1. DSN: dbi:File:. ID generator: SHA512. Serializer: DataDumper
# id 1: 0a6161feef45ea3bd80c0b45cf2873ac242baeebe4718767a858f1a2050715124c132a1c6734641292fe458df7bcf264987d89adcba369529d752bbe0623826e
# Test: File.1. DSN: dbi:File:. ID generator: SHA512. Serializer: FreezeThaw
# id 1: ec4df3815330118157c5c15f2ce4dc680fe14db8ef3d4e51b84c8c4acc3828111ee28c65f252d273ab725c664b94998e9b160130f87ac1c762d3999dc23b269f
# Test: File.1. DSN: dbi:File:. ID generator: SHA512. Serializer: JSON
# id 1: 4628d30162d1469d6b4c0d86c82552c6acdb115989c3967d26cd2418ddf29d51cc9d3b380b0aca3486230f64eb77da7e4f49c1f3b34ba13acf258a3caf30e4bf
# Test: File.1. DSN: dbi:File:. ID generator: SHA512. Serializer: Storable
# id 1: c4bc95c530bd3b2e10576ec9dc31fb5a51863a5e5123478586320d231205ca540552b0b9d717f0b36ad686ea3ea09ee636634266873f540faf9bb9cee12e5d18
# Test: File.1. DSN: dbi:File:. ID generator: SHA512. Serializer: YAML
# id 1: 677ca3ccb1c17348ab3a3e10afb5b9ad1404366bb097b69b2217f017a530836a4c982948e5d3c40f260dadc101c3f529a9df1583ff0e5473af0722e468141744
# Test: File.1. DSN: dbi:File:. ID generator: Static. Serializer: DataDumper
# id 1: 1234
# Test: File.1. DSN: dbi:File:. ID generator: Static. Serializer: FreezeThaw
# id 1: 1234
# Test: File.1. DSN: dbi:File:. ID generator: Static. Serializer: JSON
# id 1: 1234
# Test: File.1. DSN: dbi:File:. ID generator: Static. Serializer: Storable
# id 1: 1234
# Test: File.1. DSN: dbi:File:. ID generator: Static. Serializer: YAML
# id 1: 1234
# Test: File.1. DSN: dbi:File:. ID generator: UUID34. Serializer: DataDumper
# id 1: 0xA1A5B774D12E11EFA19D97C8B7608CCB
# Test: File.1. DSN: dbi:File:. ID generator: UUID34. Serializer: FreezeThaw
# id 1: 0xA1A730C2D12E11EFA462E2E7DD5DBC3C
# Test: File.1. DSN: dbi:File:. ID generator: UUID34. Serializer: JSON
# id 1: 0xA1A84E12D12E11EFB8F6B60EAADC318E
# Test: File.1. DSN: dbi:File:. ID generator: UUID34. Serializer: Storable
# id 1: 0xA1A96FCCD12E11EFAF32C96B8A6BEE7D
# Test: File.1. DSN: dbi:File:. ID generator: UUID34. Serializer: YAML
# id 1: 0xA1AA874AD12E11EFA0278FF5C9218733
# Test: File.1. DSN: dbi:File:. ID generator: UUID36. Serializer: DataDumper
# id 1: A1ABC402-D12E-11EF-8D05-C3D35E21BEC9
# Test: File.1. DSN: dbi:File:. ID generator: UUID36. Serializer: FreezeThaw
# id 1: A1AD2478-D12E-11EF-9B85-EDE6C42BCC49
# Test: File.1. DSN: dbi:File:. ID generator: UUID36. Serializer: JSON
# id 1: A1AE4736-D12E-11EF-A5E3-F6512B589901
# Test: File.1. DSN: dbi:File:. ID generator: UUID36. Serializer: Storable
# id 1: A1AF77BE-D12E-11EF-A5C6-93319E71F640
# Test: File.1. DSN: dbi:File:. ID generator: UUID36. Serializer: YAML
# id 1: A1B0A274-D12E-11EF-874A-830A2280F3CD
# Skipping dsn 'dbi:SQLite:dbname=/tmp/sessions.sqlite' because the SQLite directory does not exist
# 
# Testing HTTP header generation
# 
# Testing expire the session. Sleeping for 1 second ...
# Expiring id: A1B220E0-D12E-11EF-A771-87CFA0047C68
# 
# Testing expire a session parameter. Sleeping for 1 second ...
t/basic.t ........ ok
# DSN name: File.1. DSN: dbi:File:. ID generator: MD5. Serializer: DataDumper
# id1: 93ffcde535a6dcc027375022bf2d5626
# 1: Recovered known id 647bd41e10021eddc1689cf283e74dd3 from traverse
# 2: Recovered known id a398826830a681c7e215ac582c097515 from traverse
# 3: Recovered known id e868ada990125b1a4aefeb154ffa684f from traverse
# 4: Recovered known id 9d701929d7b28bfcf8476de11fdba242 from traverse
# Skipping dsn 'dbi:SQLite:dbname=/tmp/sessions.sqlite' because the SQLite directory does not exist
t/traverse.t ..... ok
All tests successful.
Files=3, Tests=52,  7 wallclock secs ( 0.04 usr  0.01 sys +  0.62 cusr  0.09 csys =  0.75 CPU)
Result: PASS

------------------------------
PREREQUISITES
------------------------------

Prerequisite modules loaded:

requires:

    Module                   Need     Have    
    ------------------------ -------- --------
    autovivification         0        0.18    
    CGI                      3.63     4.67    
    Class::Load              0.19     0.25    
    Config::Tiny             2.14     2.30    
    Data::Dumper             2.145    2.191   
    Data::UUID               1.218    1.227   
    DBD::SQLite              1.39     1.76    
    DBI                      1.627    1.646   
    DBIx::Admin::CreateTable 2.07     2.11    
    Digest::MD5              2.52     2.59    
    Digest::SHA              5.84     6.04    
    Fcntl                    1.06     1.19    
    File::Basename           2.77     2.86    
    File::Path               2.07     2.18    
    File::Slurper            0.012    0.014   
    File::Spec               3.3      3.93    
    File::Temp               0.22     0.2311  
    FreezeThaw               0.5001   0.5001  
    Hash::FieldHash          0.14     0.15    
    JSON                     2.59     4.10    
    overload                 0        1.39    
    parent                   0        0.244   
    Safe                     2.35     2.47    
    Scalar::Util             1.27     1.68_01 
    Storable                 2.39     3.35    
    strict                   0        1.13    
    Try::Tiny                0.12     0.32    
    vars                     0        1.05    
    warnings                 0        1.72    
    YAML::Tiny               1.51     1.76    

build_requires:

    Module                   Need     Have    
    ------------------------ -------- --------
    ExtUtils::MakeMaker      0        7.70    
    Test::More               1.001014 1.302207
    Test::Pod                1.48     1.52    

configure_requires:

    Module                   Need     Have    
    ------------------------ -------- --------
    ExtUtils::MakeMaker      0        7.70    


------------------------------
ENVIRONMENT AND OTHER CONTEXT
------------------------------

Environment variables:

    AUTOMATED_TESTING = 1
    DATE_MANIP_TEST_DM5 = 1
    LC_ALL = C
    NONINTERACTIVE_TESTING = 1
    NO_NETWORK_TESTING = 1
    PATH = /home/cpan/bin/perl/bin:/home/cpan/bin:/sbin:/bin:/usr/sbin:/usr/bin:/usr/games:/usr/local/sbin:/usr/local/bin:/usr/pkg/sbin:/usr/pkg/bin:/home/cpan/bin
    PERL5LIB = 
    PERL5OPT = 
    PERL5_CPANPLUS_IS_RUNNING = 655714
    PERL5_CPAN_IS_RUNNING = 655714
    PERL_MM_USE_DEFAULT = 1
    PERL_USE_UNSAFE_INC = 1
    SHELL = /usr/local/bin/bash
    TERM = screen
    TMPDIR = /home/cpan/tmp

Perl special variables (and OS-specific diagnostics, for MSWin32):

    $^X = /home/cpan/bin/perl/bin/perl5.41.8
    $UID/$EUID = 1002 / 1002
    $GID = 1002 1002
    $EGID = 1002 1002

Perl module toolchain versions installed:

    Module              Have    
    ------------------- --------
    CPAN                2.38    
    CPAN::Meta          2.150010
    Cwd                 3.92    
    ExtUtils::CBuilder  0.280240
    ExtUtils::Command   7.70    
    ExtUtils::Install   2.22    
    ExtUtils::MakeMaker 7.70    
    ExtUtils::Manifest  1.75    
    ExtUtils::ParseXS   3.56    
    File::Spec          3.93    
    JSON                4.10    
    JSON::PP            4.16    
    Module::Build       0.4234  
    Module::Signature   0.89    
    Parse::CPAN::Meta   2.150010
    Test2               1.302207
    Test::Harness       3.50    
    Test::More          1.302207
    YAML                1.31    
    YAML::Syck          1.34    
    version             0.9933  


--

Summary of my perl5 (revision 5 version 41 subversion 8) configuration:
  Commit id: 6806ac9dc94198e1b243291170692afd3e7785f5
  Platform:
    osname=dragonfly
    osvers=6.4-release
    archname=x86_64-dragonfly
    uname='dragonfly cjg-dragonfly6 6.4-release dragonfly v6.4.0-release #54: fri dec 30 09:06:50 pst 2022 root@pkgbox64.dragonflybsd.org:usrobjusrsrcsysx86_64_generic x86_64 '
    config_args='-des -Dprefix=/home/cpan/bin/perl -Dscriptdir=/home/cpan/bin/perl/bin -Dusedevel -Duse64bitall'
    hint=recommended
    useposix=true
    d_sigaction=define
    useithreads=undef
    usemultiplicity=undef
    use64bitint=define
    use64bitall=define
    uselongdouble=undef
    usemymalloc=n
    default_inc_excludes_dot=define
  Compiler:
    cc='cc'
    ccflags ='-DHAS_FPSETMASK -DHAS_FLOATINGPOINT_H -DNO_POSIX_2008_LOCALE -fwrapv -fno-strict-aliasing -pipe -fstack-protector-strong -I/usr/local/include -D_FORTIFY_SOURCE=2'
    optimize='-O2'
    cppflags='-DHAS_FPSETMASK -DHAS_FLOATINGPOINT_H -DNO_POSIX_2008_LOCALE -fwrapv -fno-strict-aliasing -pipe -fstack-protector-strong -I/usr/local/include'
    ccversion=''
    gccversion='8.3 [DragonFly] Release/2019-02-22'
    gccosandvers=''
    intsize=4
    longsize=8
    ptrsize=8
    doublesize=8
    byteorder=12345678
    doublekind=3
    d_longlong=define
    longlongsize=8
    d_longdbl=define
    longdblsize=16
    longdblkind=3
    ivtype='long'
    ivsize=8
    nvtype='double'
    nvsize=8
    Off_t='off_t'
    lseeksize=8
    alignbytes=8
    prototype=define
  Linker and Libraries:
    ld='cc'
    ldflags ='-Wl,-E  -fstack-protector-strong -L/usr/local/lib'
    libpth=/usr/lib /usr/local/lib
    libs=-lpthread -lgdbm -ldl -lm -lcrypt -lutil -lc
    perllibs=-lpthread -ldl -lm -lcrypt -lutil -lc
    libc=
    so=so
    useshrplib=false
    libperl=libperl.a
    gnulibc_version=''
  Dynamic Linking:
    dlsrc=dl_dlopen.xs
    dlext=so
    d_dlsymun=undef
    ccdlflags=' '
    cccdlflags='-DPIC -fPIC'
    lddlflags='-shared  -L/usr/local/lib -fstack-protector-strong'


Characteristics of this binary (from libperl): 
  Compile-time options:
    HAS_LONG_DOUBLE
    HAS_STRTOLD
    HAS_TIMES
    PERLIO_LAYERS
    PERL_COPY_ON_WRITE
    PERL_DONT_CREATE_GVSV
    PERL_HASH_FUNC_SIPHASH13
    PERL_HASH_USE_SBOX32
    PERL_MALLOC_WRAP
    PERL_OP_PARENT
    PERL_PRESERVE_IVUV
    PERL_USE_DEVEL
    PERL_USE_SAFE_PUTENV
    USE_64_BIT_ALL
    USE_64_BIT_INT
    USE_LARGE_FILES
    USE_LOCALE
    USE_LOCALE_COLLATE
    USE_LOCALE_CTYPE
    USE_LOCALE_NUMERIC
    USE_LOCALE_TIME
    USE_PERLIO
    USE_PERL_ATOF
  Built under dragonfly
  Compiled at Jan 11 2025 23:51:38
  %ENV:
    PERL5LIB=""
    PERL5OPT=""
    PERL5_CPANPLUS_IS_RUNNING="655714"
    PERL5_CPAN_IS_RUNNING="655714"
    PERL_MM_USE_DEFAULT="1"
    PERL_USE_UNSAFE_INC="1"
  @INC:
    /home/cpan/bin/perl/lib/site_perl/5.41.8/x86_64-dragonfly
    /home/cpan/bin/perl/lib/site_perl/5.41.8
    /home/cpan/bin/perl/lib/5.41.8/x86_64-dragonfly
    /home/cpan/bin/perl/lib/5.41.8
    .