Test-Script v1.27 Perl 5 v5.32.0 x86_64-linux-thread-multi-ld
- Status
- Pass
- From
- Dist
-
Test-Script v1.27
- Platform
- Perl 5 v5.32.0 x86_64-linux-thread-multi-ld
- Date
- 2021-04-24 03:53:36
- ID
- a5d88d66-a4b0-11eb-9e90-a29b10ea81fa
This distribution has been tested as part of the CPAN Testers
project, supporting the Perl programming language. See
http://wiki.cpantesters.org/ for more information or email
questions to cpan-testers-discuss@perl.org
--
Dear Graham Ollis,
This is a computer-generated report for Test-Script-1.27
on perl 5.32.0, created by CPAN-Reporter-1.2018.
Thank you for uploading your work to CPAN. Congratulations!
All tests were successful.
Sections of this report:
* Tester comments
* Program output
* Prerequisites
* Environment and other context
------------------------------
TESTER COMMENTS
------------------------------
Additional comments from tester:
none provided
------------------------------
PROGRAM OUTPUT
------------------------------
Output from '/usr/bin/make test':
PERL_DL_NONLAZY=1 "/opt/Perl5.32/bin/perl" "-MExtUtils::Command::MM" "-MTest::Harness" "-e" "undef *Test::Harness::Switches; test_harness(0, 'blib/lib', 'blib/arch')" t/*.t
#
#
#
# HARNESS_ACTIVE=1
# HARNESS_VERSION=3.42
# LANG=en_US.UTF-8
# LC_ALL=en_US.UTF-8
# LC_CTYPE=C
# PERL5LIB=/Users/greeneg/.local/share/.cpan/build/Test-Script-1.27-0/blib/lib:/Users/greeneg/.local/share/.cpan/build/Test-Script-1.27-0/blib/arch:
# PERL5OPT=
# PERL5_CPANPLUS_IS_RUNNING=28103
# PERL5_CPAN_IS_RUNNING=28103
# PERL_DL_NONLAZY=1
# PERL_HASH_SEED=42
# PERL_USE_UNSAFE_INC=1
# SHELL=/bin/zsh
#
#
#
# PERL5LIB path
# /Users/greeneg/.local/share/.cpan/build/Test-Script-1.27-0/blib/lib
# /Users/greeneg/.local/share/.cpan/build/Test-Script-1.27-0/blib/arch
#
#
#
# perl 5.032000 linux x86_64-linux-thread-multi-ld
# Capture::Tiny 0.48
# ExtUtils::MakeMaker 7.62
# File::Spec 3.78
# IO::Handle 1.45
# Probe::Perl 0.03
# Test2::API 1.302183
# Test2::V0 0.000139
# Text::ParseWords 3.30
#
#
#
t/00_diag.t ....................... ok
t/01_use.t ........................ ok
t/bug_gh9.t ....................... ok
t/test_script__exports.t .......... ok
t/test_script__import.t ........... ok
t/test_script__program_runs.t ..... ok
t/test_script__program_stderr.t ... ok
t/test_script__program_stdout.t ... ok
t/test_script__script_compiles.t .. ok
t/test_script__script_runs.t ...... ok
t/test_script__script_stderr.t .... ok
t/test_script__script_stdout.t .... ok
All tests successful.
Files=12, Tests=88, 2 wallclock secs ( 0.05 usr 0.02 sys + 1.89 cusr 0.37 csys = 2.33 CPU)
Result: PASS
------------------------------
PREREQUISITES
------------------------------
Prerequisite modules loaded:
requires:
Module Need Have
------------------- -------- --------
Capture::Tiny 0 0.48
File::Spec 0.80 3.78
IO::Handle 0 1.45
perl 5.008001 5.032000
Probe::Perl 0.01 0.03
Test2::API 1.302015 1.302183
Text::ParseWords 0 3.30
build_requires:
Module Need Have
------------------- -------- --------
ExtUtils::MakeMaker 0 7.62
Test2::V0 0.000060 0.000139
configure_requires:
Module Need Have
------------------- -------- --------
ExtUtils::MakeMaker 0 7.62
perl 5.008001 5.032000
------------------------------
ENVIRONMENT AND OTHER CONTEXT
------------------------------
Environment variables:
LANG = en_US.UTF-8
LANGUAGE =
LC_ALL = en_US.UTF-8
LC_CTYPE = C
PATH = /Users/greeneg/bin:/Users/greeneg/Applications/bin:/snap/bin:/opt/coreos/bin:/opt/coreos/sbin:/opt/Perl/bin:/opt/Perl/sbin:/opt/Ruby/bin:/usr/local/go/bin:/Users/ggreene/Development/hrs:/bin:/sbin:/usr/bin:/usr/sbin:/usr/local/bin:/usr/local/sbin:/Users/greeneg/.rvm/bin
PERL5LIB =
PERL5OPT =
PERL5_CPANPLUS_IS_RUNNING = 28103
PERL5_CPAN_IS_RUNNING = 28103
PERL_HASH_SEED = 42
PERL_USE_UNSAFE_INC = 1
SHELL = /bin/zsh
TERM = xterm-256color
Perl special variables (and OS-specific diagnostics, for MSWin32):
$^X = /opt/Perl5.32/bin/perl
$UID/$EUID = 1026 / 1026
$GID = 100 20 42 100 443 461 600
$EGID = 100 20 42 100 443 461 600
Perl module toolchain versions installed:
Module Have
------------------- --------
CPAN 2.28
CPAN::Meta 2.150010
Cwd 3.78
ExtUtils::CBuilder 0.280236
ExtUtils::Command 7.62
ExtUtils::Install 2.20
ExtUtils::MakeMaker 7.62
ExtUtils::Manifest 1.73
ExtUtils::ParseXS 3.40
File::Spec 3.78
JSON 4.03
JSON::PP 4.06
Module::Build 0.4231
Module::Signature 0.87
Parse::CPAN::Meta 2.150010
Test::Harness 3.42
Test::More 1.302183
YAML 1.30
YAML::Syck 1.34
version 0.9929
--
Summary of my perl5 (revision 5 version 32 subversion 0) configuration:
Platform:
osname=linux
osvers=5.9.1-1.g8e0635b-default
archname=x86_64-linux-thread-multi-ld
uname='linux fenrir.tolharadys.net 5.9.1-1.g8e0635b-default #1 smp sun oct 18 12:37:11 utc 2020 (8e0635b) x86_64 x86_64 x86_64 gnulinux '
config_args=''
hint=recommended
useposix=true
d_sigaction=define
useithreads=define
usemultiplicity=define
use64bitint=define
use64bitall=define
uselongdouble=define
usemymalloc=n
default_inc_excludes_dot=define
bincompat5005=undef
Compiler:
cc='cc'
ccflags ='-D_REENTRANT -D_GNU_SOURCE -fwrapv -fno-strict-aliasing -pipe -fstack-protector-strong -I/usr/local/include -D_LARGEFILE_SOURCE -D_FILE_OFFSET_BITS=64 -D_FORTIFY_SOURCE=2'
optimize='-O2'
cppflags='-D_REENTRANT -D_GNU_SOURCE -fwrapv -fno-strict-aliasing -pipe -fstack-protector-strong -I/usr/local/include'
ccversion=''
gccversion='10.2.1 20200825 [revision c0746a1beb1ba073c7981eb09f55b3d993b32e5c]'
gccosandvers=''
intsize=4
longsize=8
ptrsize=8
doublesize=8
byteorder=12345678
doublekind=3
d_longlong=define
longlongsize=8
d_longdbl=define
longdblsize=16
longdblkind=3
ivtype='long'
ivsize=8
nvtype='long double'
nvsize=16
Off_t='off_t'
lseeksize=8
alignbytes=16
prototype=define
Linker and Libraries:
ld='cc'
ldflags =' -fstack-protector-strong -L/usr/local/lib'
libpth=/usr/local/lib /usr/lib64/gcc/x86_64-suse-linux/10/include-fixed /usr/lib64/gcc/x86_64-suse-linux/10/../../../../x86_64-suse-linux/lib /usr/lib /lib/../lib64 /usr/lib/../lib64 /lib /lib64 /usr/lib64 /usr/local/lib64
libs=-lpthread -lnsl -lgdbm -ldb -ldl -lm -lcrypt -lutil -lc -lgdbm_compat
perllibs=-lpthread -lnsl -ldl -lm -lcrypt -lutil -lc
libc=libc-2.32.so
so=so
useshrplib=true
libperl=libperl.so
gnulibc_version='2.32'
Dynamic Linking:
dlsrc=dl_dlopen.xs
dlext=so
d_dlsymun=undef
ccdlflags='-Wl,-E -Wl,-rpath,/opt/Perl5.32/lib/perl5/5.32.0/x86_64-linux-thread-multi-ld/CORE'
cccdlflags='-fPIC'
lddlflags='-shared -O2 -L/usr/local/lib -fstack-protector-strong'
Characteristics of this binary (from libperl):
Compile-time options:
HAS_TIMES
MULTIPLICITY
PERLIO_LAYERS
PERL_COPY_ON_WRITE
PERL_DONT_CREATE_GVSV
PERL_IMPLICIT_CONTEXT
PERL_MALLOC_WRAP
PERL_OP_PARENT
PERL_PRESERVE_IVUV
USE_64_BIT_ALL
USE_64_BIT_INT
USE_ITHREADS
USE_LARGE_FILES
USE_LOCALE
USE_LOCALE_COLLATE
USE_LOCALE_CTYPE
USE_LOCALE_NUMERIC
USE_LOCALE_TIME
USE_LONG_DOUBLE
USE_PERLIO
USE_PERL_ATOF
USE_REENTRANT_API
USE_THREAD_SAFE_LOCALE
Built under linux
Compiled at Nov 1 2020 16:24:13
%ENV:
PERL5LIB=""
PERL5OPT=""
PERL5_CPANPLUS_IS_RUNNING="28103"
PERL5_CPAN_IS_RUNNING="28103"
PERL_HASH_SEED="42"
PERL_USE_UNSAFE_INC="1"
@INC:
/opt/Perl5.32/lib/perl5/site_perl/5.32.0/x86_64-linux-thread-multi-ld
/opt/Perl5.32/lib/perl5/site_perl/5.32.0
/opt/Perl5.32/lib/perl5/5.32.0/x86_64-linux-thread-multi-ld
/opt/Perl5.32/lib/perl5/5.32.0
.