Back
From: metabase:user:0b89f010-c06b-11e2-94cd-ca7365ccac31
Subject: PASS Net-Server-2.008 v5.22.0 Mac OS X
Date: 2015-11-11T03:31:08Z
This distribution has been tested as part of the CPAN Testers
project, supporting the Perl programming language. See
http://wiki.cpantesters.org/ for more information or email
questions to cpan-testers-discuss@perl.org
--
Dear Paul Seamons,
This is a computer-generated report for Net-Server-2.008
on perl 5.22.0, created by CPAN-Reporter-1.2014.
Thank you for uploading your work to CPAN. Congratulations!
All tests were successful.
Sections of this report:
* Tester comments
* Program output
* Prerequisites
* Environment and other context
------------------------------
TESTER COMMENTS
------------------------------
Additional comments from tester:
none provided
------------------------------
PROGRAM OUTPUT
------------------------------
Output from '/usr/bin/make test':
PERL_DL_NONLAZY=1 "/Users/ken/perl5/perlbrew/perls/perl-5.22.0t/bin/perl" "-MExtUtils::Command::MM" "-MTest::Harness" "-e" "undef *Test::Harness::Switches; test_harness(0, 'blib/lib', 'blib/arch')" t/*.t
t/Options.t ............... ok
t/Port_Configuration.t .... ok
t/Server_BASE.t ........... ok
t/Server_Fork.t ........... ok
t/Server_http.t ........... ok
t/Server_INET.t ........... ok
t/Server_Multiplex.t ...... ok
t/Server_MultiType.t ...... ok
t/Server_PreFork.t ........ ok
t/Server_PreForkSimple.t .. ok
t/Server_Single.t ......... ok
t/SSL_test.t .............. ok
t/SSLEAY_test.t ........... ok
t/UDP_test.t .............. ok
Calling POSIX::tmpnam() is deprecated at t/UNIX_test.t line 25.
t/UNIX_test.t ............. ok
All tests successful.
Files=15, Tests=185, 1 wallclock secs ( 0.07 usr 0.03 sys + 1.14 cusr 0.26 csys = 1.50 CPU)
Result: PASS
------------------------------
PREREQUISITES
------------------------------
Prerequisite modules loaded:
requires:
Module Need Have
------------------- ---- -------
IO::Socket 0 1.38
POSIX 0 1.53
Socket 0 2.018
Time::HiRes 0 1.9726
build_requires:
Module Need Have
------------------- ---- -------
ExtUtils::MakeMaker 0 7.04_01
configure_requires:
Module Need Have
------------------- ---- -------
ExtUtils::MakeMaker 0 7.04_01
------------------------------
ENVIRONMENT AND OTHER CONTEXT
------------------------------
Environment variables:
CPAN_TEST_AUTHOR = 1
LANG = en_AU.UTF-8
PATH = /Users/ken/perl5/perlbrew/bin:/Users/ken/perl5/perlbrew/perls/perl-5.22.0t/bin:/Users/ken/local/opt/perl6/builds/latest/rakudo/install/bin:/Users/ken/local/opt/sqlite/bin:/Users/ken/local/opt/ruby/bin:/opt/local/bin:/opt/local/sbin:/usr/local/bin:/usr/bin:/bin:/usr/sbin:/sbin:/opt/X11/bin:/Users/ken/local/bin:.
PATH_WITHOUT_PERLBREW = /Users/ken/local/opt/perl6/builds/latest/rakudo/install/bin:/Users/ken/local/opt/sqlite/bin:/Users/ken/local/opt/ruby/bin:/opt/local/bin:/opt/local/sbin:/usr/local/bin:/usr/bin:/bin:/usr/sbin:/sbin:/opt/X11/bin:/Users/ken/local/bin:.
PERL5LIB = /Users/ken/local/lib/perl
PERL5OPT =
PERL5_CPANPLUS_IS_RUNNING = 23031
PERL5_CPAN_IS_RUNNING = 23031
PERLBREW_BASHRC_VERSION = 0.30
PERLBREW_HOME = /Users/ken/.perlbrew
PERLBREW_MANPATH = /Users/ken/perl5/perlbrew/perls/perl-5.22.0t/man
PERLBREW_PATH = /Users/ken/perl5/perlbrew/bin:/Users/ken/perl5/perlbrew/perls/perl-5.22.0t/bin
PERLBREW_PERL = perl-5.22.0t
PERLBREW_ROOT = /Users/ken/perl5/perlbrew
PERLBREW_VERSION = 0.73
SHELL = /bin/bash
TERM = xterm-256color
TMPDIR = /var/folders/5q/df1h1dps5_s5xs1q4tryvvc40000gn/T/
Perl special variables (and OS-specific diagnostics, for MSWin32):
$^X = /Users/ken/perl5/perlbrew/perls/perl-5.22.0t/bin/perl
$UID/$EUID = 501 / 501
$GID = 20 20 12 61 79 80 81 98 204 402 33 100 398 399
$EGID = 20 20 12 61 79 80 81 98 204 402 33 100 398 399
Perl module toolchain versions installed:
Module Have
------------------- --------
CPAN 2.11
CPAN::Meta 2.150001
Cwd 3.56
ExtUtils::CBuilder 0.280221
ExtUtils::Command 1.20
ExtUtils::Install 2.04
ExtUtils::MakeMaker 7.04_01
ExtUtils::Manifest 1.70
ExtUtils::ParseXS 3.28
File::Spec 3.56
JSON 2.90
JSON::PP 2.27300
Module::Build 0.4212
Module::Signature n/a
Parse::CPAN::Meta 1.4414
Test::Harness 3.35
Test::More 1.001014
YAML 1.15
YAML::Syck n/a
version 0.9909
--
Summary of my perl5 (revision 5 version 22 subversion 0) configuration:
Platform:
osname=darwin, osvers=14.3.0, archname=darwin-thread-multi-2level
uname='darwin ganymede.local 14.3.0 darwin kernel version 14.3.0: mon mar 23 11:59:05 pdt 2015; root:xnu-2782.20.48~5release_x86_64 x86_64 '
config_args='-de -Dprefix=/Users/ken/perl5/perlbrew/perls/perl-5.22.0t -Dusethreads -Aeval:scriptdir=/Users/ken/perl5/perlbrew/perls/perl-5.22.0t/bin'
hint=recommended, useposix=true, d_sigaction=define
useithreads=define, usemultiplicity=define
use64bitint=define, use64bitall=define, uselongdouble=undef
usemymalloc=n, bincompat5005=undef
Compiler:
cc='cc', ccflags ='-fno-common -DPERL_DARWIN -fno-strict-aliasing -pipe -fstack-protector-strong -I/usr/local/include -I/opt/local/include',
optimize='-O3',
cppflags='-fno-common -DPERL_DARWIN -fno-strict-aliasing -pipe -fstack-protector-strong -I/usr/local/include -I/opt/local/include'
ccversion='', gccversion='4.2.1 Compatible Apple LLVM 6.1.0 (clang-602.0.49)', gccosandvers=''
intsize=4, longsize=8, ptrsize=8, doublesize=8, byteorder=12345678, doublekind=3
d_longlong=define, longlongsize=8, d_longdbl=define, longdblsize=16, longdblkind=3
ivtype='long', ivsize=8, nvtype='double', nvsize=8, Off_t='off_t', lseeksize=8
alignbytes=8, prototype=define
Linker and Libraries:
ld='env MACOSX_DEPLOYMENT_TARGET=10.3 cc', ldflags =' -fstack-protector-strong -L/usr/local/lib -L/opt/local/lib'
libpth=/usr/local/lib /Applications/Xcode.app/Contents/Developer/Toolchains/XcodeDefault.xctoolchain/usr/bin/../lib/clang/6.1.0/lib /Applications/Xcode.app/Contents/Developer/Toolchains/XcodeDefault.xctoolchain/usr/lib /usr/lib /opt/local/lib
libs=-lpthread -lgdbm -ldbm -ldl -lm -lutil -lc
perllibs=-lpthread -ldl -lm -lutil -lc
libc=, so=dylib, useshrplib=false, libperl=libperl.a
gnulibc_version=''
Dynamic Linking:
dlsrc=dl_dlopen.xs, dlext=bundle, d_dlsymun=undef, ccdlflags=' '
cccdlflags=' ', lddlflags=' -bundle -undefined dynamic_lookup -L/usr/local/lib -L/opt/local/lib -fstack-protector-strong'
Characteristics of this binary (from libperl):
Compile-time options: HAS_TIMES MULTIPLICITY PERLIO_LAYERS
PERL_DONT_CREATE_GVSV
PERL_HASH_FUNC_ONE_AT_A_TIME_HARD
PERL_IMPLICIT_CONTEXT PERL_MALLOC_WRAP
PERL_NEW_COPY_ON_WRITE PERL_PRESERVE_IVUV
USE_64_BIT_ALL USE_64_BIT_INT USE_ITHREADS
USE_LARGE_FILES USE_LOCALE USE_LOCALE_COLLATE
USE_LOCALE_CTYPE USE_LOCALE_NUMERIC USE_LOCALE_TIME
USE_PERLIO USE_PERL_ATOF USE_REENTRANT_API
Locally applied patches:
Devel::PatchPerl 1.32
Built under darwin
Compiled at Jun 4 2015 17:53:05
%ENV:
PERL5LIB="/Users/ken/local/lib/perl"
PERL5OPT=""
PERL5_CPANPLUS_IS_RUNNING="23031"
PERL5_CPAN_IS_RUNNING="23031"
PERLBREW_BASHRC_VERSION="0.30"
PERLBREW_HOME="/Users/ken/.perlbrew"
PERLBREW_MANPATH="/Users/ken/perl5/perlbrew/perls/perl-5.22.0t/man"
PERLBREW_PATH="/Users/ken/perl5/perlbrew/bin:/Users/ken/perl5/perlbrew/perls/perl-5.22.0t/bin"
PERLBREW_PERL="perl-5.22.0t"
PERLBREW_ROOT="/Users/ken/perl5/perlbrew"
PERLBREW_VERSION="0.73"
@INC:
/Users/ken/local/lib/perl
/Users/ken/perl5/perlbrew/perls/perl-5.22.0t/lib/site_perl/5.22.0/darwin-thread-multi-2level
/Users/ken/perl5/perlbrew/perls/perl-5.22.0t/lib/site_perl/5.22.0
/Users/ken/perl5/perlbrew/perls/perl-5.22.0t/lib/5.22.0/darwin-thread-multi-2level
/Users/ken/perl5/perlbrew/perls/perl-5.22.0t/lib/5.22.0
.