Report for DOCSIS-ConfigFile-0.70

Back
From: metabase:user:917c2b6a-77f3-11e5-af78-c9d573d1e3cf
Subject: PASS DOCSIS-ConfigFile-0.70 v5.22.1 Mac OS X
Date: 2016-01-13T04:18:07Z

This distribution has been tested as part of the CPAN Testers
project, supporting the Perl programming language.  See
http://wiki.cpantesters.org/ for more information or email
questions to cpan-testers-discuss@perl.org


--
Dear Jan Henning Thorsen,

This is a computer-generated report for DOCSIS-ConfigFile-0.70
on perl 5.22.1, created by CPAN-Reporter-1.2015.

Thank you for uploading your work to CPAN.  Congratulations!
All tests were successful.

Sections of this report:

    * Tester comments
    * Program output
    * Prerequisites
    * Environment and other context

------------------------------
TESTER COMMENTS
------------------------------

Additional comments from tester:

this report is from an automated smoke testing program
and was not reviewed by a human for accuracy

------------------------------
PROGRAM OUTPUT
------------------------------

Output from '/usr/bin/make test':

PERL_DL_NONLAZY=1 "/Users/petr/perl5/perlbrew/perls/perl-5.22.1/bin/perl" "-MExtUtils::Command::MM" "-MTest::Harness" "-e" "undef *Test::Harness::Switches; test_harness(0, 'blib/lib', 'blib/arch')" t/*.t
t/00-basic.t ............ ok
t/complex.t ............. skipped: http://sourceforge.net/projects/net-snmp/files/net-snmp/5.7.2/net-snmp-5.7.2.tar.gz/download
t/decode.t .............. ok
t/deprecated-rt70882.t .. ok
t/deprecated-rt83013.t .. ok
t/docsis-configfile.t ... ok
t/encode.t .............. ok
t/mta.t ................. ok
t/real.t ................ skipped: "/usr/bin/docsis" is not available
t/rt70882.t ............. ok
t/rt83013.t ............. ok
t/rt87812.t ............. ok
t/symtree.t ............. ok
t/tr069.t ............... ok
All tests successful.
Files=14, Tests=78,  2 wallclock secs ( 0.07 usr  0.04 sys +  1.09 cusr  0.27 csys =  1.47 CPU)
Result: PASS

------------------------------
PREREQUISITES
------------------------------

Prerequisite modules loaded:

requires:

    Module              Need     Have    
    ------------------- -------- --------
    bytes               1.00     1.04    
    Digest::HMAC_MD5    1.00     1.01    
    Digest::MD5         2.30     2.54    
    Digest::SHA         5.00     5.95    
    Math::BigInt        1.80     1.9997  
    perl                5.010001 5.022001
    Socket              1.50     2.018   

build_requires:

    Module              Need     Have    
    ------------------- -------- --------
    Test::More          0.8      1.001014

configure_requires:

    Module              Need     Have    
    ------------------- -------- --------
    ExtUtils::MakeMaker 0        7.04_01 


------------------------------
ENVIRONMENT AND OTHER CONTEXT
------------------------------

Environment variables:

    AUTOMATED_TESTING = 1
    LANG = cs_CZ.UTF-8
    PATH = /Users/petr/perl5/perlbrew/bin:/Users/petr/perl5/perlbrew/perls/perl-5.22.1/bin:/usr/local/bin:/usr/bin:/bin:/usr/sbin:/sbin
    PERL5LIB = /Users/petr/.cpan/build/Mojolicious-6.39-B4GX0D/blib/arch:/Users/petr/.cpan/build/Mojolicious-6.39-B4GX0D/blib/lib
    PERL5OPT = 
    PERL5_CPANPLUS_IS_RUNNING = 82258
    PERL5_CPAN_IS_RUNNING = 82258
    PERL5_CPAN_IS_RUNNING_IN_RECURSION = 463,82258
    PERLBREW_BASHRC_VERSION = 0.74
    PERLBREW_HOME = /Users/petr/.perlbrew
    PERLBREW_MANPATH = /Users/petr/perl5/perlbrew/perls/perl-5.22.1/man
    PERLBREW_PATH = /Users/petr/perl5/perlbrew/bin:/Users/petr/perl5/perlbrew/perls/perl-5.22.1/bin
    PERLBREW_PERL = perl-5.22.1
    PERLBREW_ROOT = /Users/petr/perl5/perlbrew
    PERLBREW_VERSION = 0.74
    PERL_CR_SMOKER_CURRENT = App-docsisious-0.06
    PERL_EXTUTILS_AUTOINSTALL = --defaultdeps
    PERL_MM_USE_DEFAULT = 1
    SHELL = /bin/bash
    TERM = xterm-256color
    TMPDIR = /var/folders/x5/mbl5nhls3z779qkgqvdxmbqc0000gn/T/

Perl special variables (and OS-specific diagnostics, for MSWin32):

    $^X = /Users/petr/perl5/perlbrew/perls/perl-5.22.1/bin/perl
    $UID/$EUID = 501 / 501
    $GID = 20 20 701 12 61 79 80 81 98 33 100 204 395 398 399
    $EGID = 20 20 701 12 61 79 80 81 98 33 100 204 395 398 399

Perl module toolchain versions installed:

    Module              Have    
    ------------------- --------
    CPAN                2.11    
    CPAN::Meta          2.150001
    Cwd                 3.56    
    ExtUtils::CBuilder  0.280221
    ExtUtils::Command   1.20    
    ExtUtils::Install   2.04    
    ExtUtils::MakeMaker 7.04_01 
    ExtUtils::Manifest  1.70    
    ExtUtils::ParseXS   3.28    
    File::Spec          3.56    
    JSON                2.90    
    JSON::PP            2.27300 
    Module::Build       0.4214  
    Module::Signature   n/a     
    Parse::CPAN::Meta   1.4414  
    Test::Harness       3.35    
    Test::More          1.001014
    YAML                1.15    
    YAML::Syck          1.29    
    version             0.9909  


--

Summary of my perl5 (revision 5 version 22 subversion 1) configuration:
   
  Platform:
    osname=darwin, osvers=15.2.0, archname=darwin-2level
    uname='darwin mac.local 15.2.0 darwin kernel version 15.2.0: fri nov 13 19:56:56 pst 2015; root:xnu-3248.20.55~2release_x86_64 x86_64 '
    config_args='-de -Dprefix=/Users/petr/perl5/perlbrew/perls/perl-5.22.1 -Aeval:scriptdir=/Users/petr/perl5/perlbrew/perls/perl-5.22.1/bin'
    hint=recommended, useposix=true, d_sigaction=define
    useithreads=undef, usemultiplicity=undef
    use64bitint=define, use64bitall=define, uselongdouble=undef
    usemymalloc=n, bincompat5005=undef
  Compiler:
    cc='cc', ccflags ='-fno-common -DPERL_DARWIN -fno-strict-aliasing -pipe -fstack-protector-strong -I/usr/local/include',
    optimize='-O3',
    cppflags='-fno-common -DPERL_DARWIN -fno-strict-aliasing -pipe -fstack-protector-strong -I/usr/local/include'
    ccversion='', gccversion='4.2.1 Compatible Apple LLVM 7.0.0 (clang-700.1.76)', gccosandvers=''
    intsize=4, longsize=8, ptrsize=8, doublesize=8, byteorder=12345678, doublekind=3
    d_longlong=define, longlongsize=8, d_longdbl=define, longdblsize=16, longdblkind=3
    ivtype='long', ivsize=8, nvtype='double', nvsize=8, Off_t='off_t', lseeksize=8
    alignbytes=8, prototype=define
  Linker and Libraries:
    ld='env MACOSX_DEPLOYMENT_TARGET=10.3 cc', ldflags =' -fstack-protector-strong -L/usr/local/lib'
    libpth=/usr/local/lib /Applications/Xcode.app/Contents/Developer/Toolchains/XcodeDefault.xctoolchain/usr/bin/../lib/clang/7.0.0/lib /Applications/Xcode.app/Contents/Developer/Toolchains/XcodeDefault.xctoolchain/usr/lib /usr/lib
    libs=-lpthread -ldbm -ldl -lm -lutil -lc
    perllibs=-lpthread -ldl -lm -lutil -lc
    libc=, so=dylib, useshrplib=false, libperl=libperl.a
    gnulibc_version=''
  Dynamic Linking:
    dlsrc=dl_dlopen.xs, dlext=bundle, d_dlsymun=undef, ccdlflags=' '
    cccdlflags=' ', lddlflags=' -bundle -undefined dynamic_lookup -L/usr/local/lib -fstack-protector-strong'


Characteristics of this binary (from libperl): 
  Compile-time options: HAS_TIMES PERLIO_LAYERS PERL_DONT_CREATE_GVSV
                        PERL_HASH_FUNC_ONE_AT_A_TIME_HARD PERL_MALLOC_WRAP
                        PERL_NEW_COPY_ON_WRITE PERL_PRESERVE_IVUV
                        USE_64_BIT_ALL USE_64_BIT_INT USE_LARGE_FILES
                        USE_LOCALE USE_LOCALE_COLLATE USE_LOCALE_CTYPE
                        USE_LOCALE_NUMERIC USE_LOCALE_TIME USE_PERLIO
                        USE_PERL_ATOF
  Locally applied patches:
	Devel::PatchPerl 1.38
  Built under darwin
  Compiled at Dec 16 2015 09:24:44
  %ENV:
    PERL5LIB="/Users/petr/.cpan/build/Mojolicious-6.39-B4GX0D/blib/arch:/Users/petr/.cpan/build/Mojolicious-6.39-B4GX0D/blib/lib"
    PERL5OPT=""
    PERL5_CPANPLUS_IS_RUNNING="82258"
    PERL5_CPAN_IS_RUNNING="82258"
    PERL5_CPAN_IS_RUNNING_IN_RECURSION="463,82258"
    PERLBREW_BASHRC_VERSION="0.74"
    PERLBREW_HOME="/Users/petr/.perlbrew"
    PERLBREW_MANPATH="/Users/petr/perl5/perlbrew/perls/perl-5.22.1/man"
    PERLBREW_PATH="/Users/petr/perl5/perlbrew/bin:/Users/petr/perl5/perlbrew/perls/perl-5.22.1/bin"
    PERLBREW_PERL="perl-5.22.1"
    PERLBREW_ROOT="/Users/petr/perl5/perlbrew"
    PERLBREW_VERSION="0.74"
    PERL_CR_SMOKER_CURRENT="App-docsisious-0.06"
    PERL_EXTUTILS_AUTOINSTALL="--defaultdeps"
    PERL_MM_USE_DEFAULT="1"
  @INC:
    /Users/petr/.cpan/build/Mojolicious-6.39-B4GX0D/blib/arch
    /Users/petr/.cpan/build/Mojolicious-6.39-B4GX0D/blib/lib
    /Users/petr/perl5/perlbrew/perls/perl-5.22.1/lib/site_perl/5.22.1/darwin-2level
    /Users/petr/perl5/perlbrew/perls/perl-5.22.1/lib/site_perl/5.22.1
    /Users/petr/perl5/perlbrew/perls/perl-5.22.1/lib/5.22.1/darwin-2level
    /Users/petr/perl5/perlbrew/perls/perl-5.22.1/lib/5.22.1
    .