Back
From: metabase:user:dadb7b4c-560d-11e0-af53-6408450aad75
Subject: PASS IO-Async-Resolver-StupidCache-0.01 v5.10.1 GNU/Linux
Date: 2014-03-31T14:06:26Z
This distribution has been tested as part of the CPAN Testers
project, supporting the Perl programming language. See
http://wiki.cpantesters.org/ for more information or email
questions to cpan-testers-discuss@perl.org
--
Dear Paul Evans,
This is a computer-generated report for IO-Async-Resolver-StupidCache-0.01
on perl 5.10.1, created by CPAN-Reporter-1.2002.
Thank you for uploading your work to CPAN. Congratulations!
All tests were successful.
Sections of this report:
* Tester comments
* Program output
* Prerequisites
* Environment and other context
------------------------------
TESTER COMMENTS
------------------------------
Additional comments from tester:
none provided
------------------------------
PROGRAM OUTPUT
------------------------------
Output from './Build test':
t/00use.t .... ok
t/01cache.t .. ok
t/99pod.t .... skipped: Test::Pod 1.00 required for testing POD
All tests successful.
Files=3, Tests=9, 0 wallclock secs ( 0.01 usr 0.00 sys + 0.13 cusr 0.00 csys = 0.14 CPU)
Result: PASS
------------------------------
PREREQUISITES
------------------------------
Prerequisite modules loaded:
requires:
Module Need Have
------------------- ---- ----
IO::Async::Notifier 0 0.61
IO::Async::Resolver 0 0.61
Struct::Dumb 0 0.02
build_requires:
Module Need Have
------------------- ---- ----
IO::Async::Loop 0 0.61
IO::Async::Test 0 0.61
Test::More 0.88 0.98
------------------------------
ENVIRONMENT AND OTHER CONTEXT
------------------------------
Environment variables:
LANG = en_GB.UTF-8
LANGUAGE = en_GB:en
LD_LIBRARY_PATH = /home/leo/lib
PATH = /home/leo/bin:/home/leo/bin:/usr/local/bin:/usr/bin:/bin:/usr/local/games:/usr/games
PERL5LIB =
PERL5OPT =
PERL5_CPANPLUS_IS_RUNNING = 28064
PERL5_CPAN_IS_RUNNING = 28064
SHELL = /bin/bash
TERM = xterm
Perl special variables (and OS-specific diagnostics, for MSWin32):
$^X = /home/leo/perl5/perlbrew/perls/perl-5.10.1/bin/perl5.10.1
$UID/$EUID = 1000 / 1000
$GID = 1000 24 25 29 30 44 46 116 123 1000 1003 1016 2000
$EGID = 1000 24 25 29 30 44 46 116 123 1000 1003 1016 2000
Perl module toolchain versions installed:
Module Have
------------------- --------
CPAN 1.9402
CPAN::Meta 2.112621
Cwd 3.30
ExtUtils::CBuilder 0.280212
ExtUtils::Command 1.16
ExtUtils::Install 1.63
ExtUtils::MakeMaker 6.68
ExtUtils::Manifest 1.60
ExtUtils::ParseXS 3.22
File::Spec 3.30
JSON 2.53
JSON::PP 2.27200
Module::Build 0.340201
Module::Signature n/a
Parse::CPAN::Meta 1.4401
Test::Harness 3.17
Test::More 0.98
YAML 0.77
YAML::Syck n/a
version 0.97
--
Summary of my perl5 (revision 5 version 10 subversion 1) configuration:
Platform:
osname=linux, osvers=3.0.0-1-amd64, archname=x86_64-linux
uname='linux cel 3.0.0-1-amd64 #1 smp sat aug 27 16:21:11 utc 2011 x86_64 gnulinux '
config_args='-de -Dprefix=/home/leo/perl5/perlbrew/perls/perl-5.10.1'
hint=recommended, useposix=true, d_sigaction=define
useithreads=undef, usemultiplicity=undef
useperlio=define, d_sfio=undef, uselargefiles=define, usesocks=undef
use64bitint=define, use64bitall=define, uselongdouble=undef
usemymalloc=n, bincompat5005=undef
Compiler:
cc='cc', ccflags ='-fno-strict-aliasing -pipe -fstack-protector -I/usr/local/include -D_LARGEFILE_SOURCE -D_FILE_OFFSET_BITS=64',
optimize='-O2',
cppflags='-fno-strict-aliasing -pipe -fstack-protector -I/usr/local/include'
ccversion='', gccversion='4.6.1', gccosandvers=''
intsize=4, longsize=8, ptrsize=8, doublesize=8, byteorder=12345678
d_longlong=define, longlongsize=8, d_longdbl=define, longdblsize=16
ivtype='long', ivsize=8, nvtype='double', nvsize=8, Off_t='off_t', lseeksize=8
alignbytes=8, prototype=define
Linker and Libraries:
ld='cc', ldflags =' -fstack-protector -L/usr/local/lib'
libpth=/usr/local/lib /lib/x86_64-linux-gnu /lib/../lib /usr/lib/x86_64-linux-gnu /usr/lib/../lib /lib /usr/lib
libs=-lnsl -ldl -lm -lcrypt -lutil -lc
perllibs=-lnsl -ldl -lm -lcrypt -lutil -lc
libc=, so=so, useshrplib=false, libperl=libperl.a
gnulibc_version='2.13'
Dynamic Linking:
dlsrc=dl_dlopen.xs, dlext=so, d_dlsymun=undef, ccdlflags='-Wl,-E'
cccdlflags='-fPIC', lddlflags='-shared -O2 -L/usr/local/lib -fstack-protector'
Characteristics of this binary (from libperl):
Compile-time options: PERL_DONT_CREATE_GVSV PERL_MALLOC_WRAP USE_64_BIT_ALL
USE_64_BIT_INT USE_LARGE_FILES USE_PERLIO
Built under linux
Compiled at Oct 24 2011 15:16:42
%ENV:
PERL5LIB=""
PERL5OPT=""
PERL5_CPANPLUS_IS_RUNNING="28064"
PERL5_CPAN_IS_RUNNING="28064"
@INC:
/home/leo/perl5/perlbrew/perls/perl-5.10.1/lib/5.10.1/x86_64-linux
/home/leo/perl5/perlbrew/perls/perl-5.10.1/lib/5.10.1
/home/leo/perl5/perlbrew/perls/perl-5.10.1/lib/site_perl/5.10.1/x86_64-linux
/home/leo/perl5/perlbrew/perls/perl-5.10.1/lib/site_perl/5.10.1
.