XML-Chain v0.04 Perl 5 v5.10.1 x86_64-linux

Status
Pass
From
Slaven Rezić (SREZIC)
Dist
XML-Chain v0.04
Platform
Perl 5 v5.10.1 x86_64-linux
Date
2017-10-08 12:24:36
ID
a61886d4-ac23-11e7-a04d-cfbb8a5b36a7
This distribution has been tested as part of the CPAN Testers
project, supporting the Perl programming language.  See
http://wiki.cpantesters.org/ for more information or email
questions to cpan-testers-discuss@perl.org


--
Dear Jozef Kutej,

This is a computer-generated report for XML-Chain-0.04
on perl 5.10.1, created by CPAN-Reporter-1.2018.

Thank you for uploading your work to CPAN.  Congratulations!
All tests were successful.

Sections of this report:

    * Tester comments
    * Program output
    * Prerequisites
    * Environment and other context

------------------------------
TESTER COMMENTS
------------------------------

Additional comments from tester:

none provided

------------------------------
PROGRAM OUTPUT
------------------------------

Output from './Build test':

t/01_basics.t ....... ok
t/02_namespaces.t ... ok
t/03_auto-indent.t .. ok
t/90_synopsis.t ..... ok
All tests successful.
Files=4, Tests=11,  1 wallclock secs ( 0.01 usr  0.03 sys +  0.94 cusr  0.22 csys =  1.20 CPU)
Result: PASS

------------------------------
PREREQUISITES
------------------------------

Prerequisite modules loaded:

requires:

    Module            Need Have    
    ----------------- ---- --------
    IO::Any           0    0.09    
    Moose             0    2.2005  
    Moose::Exporter   0    2.2005  
    MooseX::Aliases   0    0.11    
    perl              5.01 5.010001
    Try::Tiny         0    0.28    
    XML::LibXML       2.01 2.0129  
    XML::Tidy         0    1.20    

build_requires:

    Module            Need Have    
    ----------------- ---- --------
    DateTime          0    1.44    
    File::Temp        0    0.2304  
    Path::Class       0    0.37    
    Pod::Simple::Text 0    3.35    
    Test::Most        0    0.35    

configure_requires:

    Module            Need Have    
    ----------------- ---- --------
    Module::Build     0.36 0.4224  


------------------------------
ENVIRONMENT AND OTHER CONTEXT
------------------------------

Environment variables:

    LANG = en_US.UTF-8
    PATH = /usr/local/bin:/usr/bin:/bin:/usr/local/sbin:/usr/sbin:/sbin:/home/cpansand/bin/linux-gnu:/home/cpansand/bin/sh:/home/cpansand/bin:/usr/games:/home/cpansand/devel:/home/eserte/src/srezic-misc/scripts
    PERL5LIB = /home/cpansand/.cpan/build/2017100812/IO-Any-0.09-yMBIKX/blib/arch:/home/cpansand/.cpan/build/2017100812/IO-Any-0.09-yMBIKX/blib/lib:/home/cpansand/.cpan/build/2017100812/Net-Stomp-Producer-2.004-WS__fP/blib/arch:/home/cpansand/.cpan/build/2017100812/Net-Stomp-Producer-2.004-WS__fP/blib/lib:/home/cpansand/.cpan/build/2017100812/Test-Routine-0.025-4ESvUg/blib/arch:/home/cpansand/.cpan/build/2017100812/Test-Routine-0.025-4ESvUg/blib/lib:/home/cpansand/.cpan/build/2017100812/Test-Abortable-0.002-XiZPhK/blib/arch:/home/cpansand/.cpan/build/2017100812/Test-Abortable-0.002-XiZPhK/blib/lib:/home/cpansand/.cpan/build/2017100812/Net-Stomp-MooseHelpers-2.9-r2NC3F/blib/arch:/home/cpansand/.cpan/build/2017100812/Net-Stomp-MooseHelpers-2.9-r2NC3F/blib/lib:/home/cpansand/.cpan/build/2017100812/Net-Stomp-0.57-AJlgEh/blib/arch:/home/cpansand/.cpan/build/2017100812/Net-Stomp-0.57-AJlgEh/blib/lib
    PERL5OPT = 
    PERL5_CPANPLUS_IS_RUNNING = 13271
    PERL5_CPAN_IS_RUNNING = 13271
    PERL5_CPAN_IS_RUNNING_IN_RECURSION = 13230,13271
    PERLDOC = -MPod::Perldoc::ToTextOverstrike
    PERL_BATCH = yes
    PERL_CANARY_STABILITY_NOPROMPT = 1
    PERL_CPAN_REPORTER_CONFIG = /var/tmp/cpansmoker-1023/2017100812/cpanreporter_000_config.ini
    PERL_EXTUTILS_AUTOINSTALL = --defaultdeps
    SHELL = /bin/zsh
    TERM = screen
    TMPDIR = /var/tmp/cpansmoker-1023/2017100812

Perl special variables (and OS-specific diagnostics, for MSWin32):

    $^X = /opt/perl-5.10.1/bin/perl5.10.1
    $UID/$EUID = 1023 / 1023
    $GID = 1023 1023
    $EGID = 1023 1023

Perl module toolchain versions installed:

    Module              Have    
    ------------------- --------
    CPAN                1.9402  
    CPAN::Meta          2.143240
    Cwd                 3.62    
    ExtUtils::CBuilder  0.280226
    ExtUtils::Command   7.30    
    ExtUtils::Install   2.06    
    ExtUtils::MakeMaker 7.30    
    ExtUtils::Manifest  1.70    
    ExtUtils::ParseXS   3.30    
    File::Spec          3.62    
    JSON                2.94    
    JSON::PP            2.94    
    Module::Build       0.4224  
    Module::Signature   0.81    
    Parse::CPAN::Meta   1.4414  
    Test::Harness       3.39    
    Test::More          1.302096
    YAML                1.23    
    YAML::Syck          1.30    
    version             0.9918  


--

Summary of my perl5 (revision 5 version 10 subversion 1) configuration:
   
  Platform:
    osname=linux, osvers=2.6.32-696.3.1.el6.x86_64, archname=x86_64-linux
    uname='linux centos6 2.6.32-696.3.1.el6.x86_64 #1 smp tue may 30 19:52:55 utc 2017 x86_64 x86_64 x86_64 gnulinux '
    config_args='-ds -e -Dprefix=/opt/perl-5.10.1 -Dcf_email=srezic@cpan.org'
    hint=recommended, useposix=true, d_sigaction=define
    useithreads=undef, usemultiplicity=undef
    useperlio=define, d_sfio=undef, uselargefiles=define, usesocks=undef
    use64bitint=define, use64bitall=define, uselongdouble=undef
    usemymalloc=n, bincompat5005=undef
  Compiler:
    cc='cc', ccflags ='-fno-strict-aliasing -pipe -fstack-protector -I/usr/local/include -D_LARGEFILE_SOURCE -D_FILE_OFFSET_BITS=64',
    optimize='-O2',
    cppflags='-fno-strict-aliasing -pipe -fstack-protector -I/usr/local/include'
    ccversion='', gccversion='4.4.7 20120313 (Red Hat 4.4.7-18)', gccosandvers=''
    intsize=4, longsize=8, ptrsize=8, doublesize=8, byteorder=12345678
    d_longlong=define, longlongsize=8, d_longdbl=define, longdblsize=16
    ivtype='long', ivsize=8, nvtype='double', nvsize=8, Off_t='off_t', lseeksize=8
    alignbytes=8, prototype=define
  Linker and Libraries:
    ld='cc', ldflags =' -fstack-protector -L/usr/local/lib'
    libpth=/usr/local/lib /lib /usr/lib /lib64 /usr/lib64 /usr/local/lib64
    libs=-lnsl -lgdbm -ldb -ldl -lm -lcrypt -lutil -lc
    perllibs=-lnsl -ldl -lm -lcrypt -lutil -lc
    libc=, so=so, useshrplib=false, libperl=libperl.a
    gnulibc_version='2.12'
  Dynamic Linking:
    dlsrc=dl_dlopen.xs, dlext=so, d_dlsymun=undef, ccdlflags='-Wl,-E'
    cccdlflags='-fPIC', lddlflags='-shared -O2 -L/usr/local/lib -fstack-protector'


Characteristics of this binary (from libperl): 
  Compile-time options: PERL_DONT_CREATE_GVSV PERL_MALLOC_WRAP USE_64_BIT_ALL
                        USE_64_BIT_INT USE_LARGE_FILES USE_PERLIO
  Built under linux
  Compiled at Jun 24 2017 10:30:21
  %ENV:
    PERL5LIB="/home/cpansand/.cpan/build/2017100812/IO-Any-0.09-yMBIKX/blib/arch:/home/cpansand/.cpan/build/2017100812/IO-Any-0.09-yMBIKX/blib/lib:/home/cpansand/.cpan/build/2017100812/Net-Stomp-Producer-2.004-WS__fP/blib/arch:/home/cpansand/.cpan/build/2017100812/Net-Stomp-Producer-2.004-WS__fP/blib/lib:/home/cpansand/.cpan/build/2017100812/Test-Routine-0.025-4ESvUg/blib/arch:/home/cpansand/.cpan/build/2017100812/Test-Routine-0.025-4ESvUg/blib/lib:/home/cpansand/.cpan/build/2017100812/Test-Abortable-0.002-XiZPhK/blib/arch:/home/cpansand/.cpan/build/2017100812/Test-Abortable-0.002-XiZPhK/blib/lib:/home/cpansand/.cpan/build/2017100812/Net-Stomp-MooseHelpers-2.9-r2NC3F/blib/arch:/home/cpansand/.cpan/build/2017100812/Net-Stomp-MooseHelpers-2.9-r2NC3F/blib/lib:/home/cpansand/.cpan/build/2017100812/Net-Stomp-0.57-AJlgEh/blib/arch:/home/cpansand/.cpan/build/2017100812/Net-Stomp-0.57-AJlgEh/blib/lib"
    PERL5OPT=""
    PERL5_CPANPLUS_IS_RUNNING="13271"
    PERL5_CPAN_IS_RUNNING="13271"
    PERL5_CPAN_IS_RUNNING_IN_RECURSION="13230,13271"
    PERLDOC="-MPod::Perldoc::ToTextOverstrike"
    PERL_BATCH="yes"
    PERL_CANARY_STABILITY_NOPROMPT="1"
    PERL_CPAN_REPORTER_CONFIG="/var/tmp/cpansmoker-1023/2017100812/cpanreporter_000_config.ini"
    PERL_EXTUTILS_AUTOINSTALL="--defaultdeps"
  @INC:
    /home/cpansand/.cpan/build/2017100812/IO-Any-0.09-yMBIKX/blib/arch
    /home/cpansand/.cpan/build/2017100812/IO-Any-0.09-yMBIKX/blib/lib
    /home/cpansand/.cpan/build/2017100812/Net-Stomp-Producer-2.004-WS__fP/blib/arch
    /home/cpansand/.cpan/build/2017100812/Net-Stomp-Producer-2.004-WS__fP/blib/lib
    /home/cpansand/.cpan/build/2017100812/Test-Routine-0.025-4ESvUg/blib/arch
    /home/cpansand/.cpan/build/2017100812/Test-Routine-0.025-4ESvUg/blib/lib
    /home/cpansand/.cpan/build/2017100812/Test-Abortable-0.002-XiZPhK/blib/arch
    /home/cpansand/.cpan/build/2017100812/Test-Abortable-0.002-XiZPhK/blib/lib
    /home/cpansand/.cpan/build/2017100812/Net-Stomp-MooseHelpers-2.9-r2NC3F/blib/arch
    /home/cpansand/.cpan/build/2017100812/Net-Stomp-MooseHelpers-2.9-r2NC3F/blib/lib
    /home/cpansand/.cpan/build/2017100812/Net-Stomp-0.57-AJlgEh/blib/arch
    /home/cpansand/.cpan/build/2017100812/Net-Stomp-0.57-AJlgEh/blib/lib
    /opt/perl-5.10.1/lib/5.10.1/x86_64-linux
    /opt/perl-5.10.1/lib/5.10.1
    /opt/perl-5.10.1/lib/site_perl/5.10.1/x86_64-linux
    /opt/perl-5.10.1/lib/site_perl/5.10.1
    .