Report for Git-PurePerl-Walker-0.004001

Back
From: metabase:user:314402c4-2aae-11df-837a-5e0a49663a4f
Subject: PASS Git-PurePerl-Walker-0.004001 v5.24.0 GNU/Linux
Date: 2017-03-09T16:22:54Z

This distribution has been tested as part of the CPAN Testers
project, supporting the Perl programming language.  See
http://wiki.cpantesters.org/ for more information or email
questions to cpan-testers-discuss@perl.org


--
Dear Kent Fredric,

This is a computer-generated report for Git-PurePerl-Walker-0.004001
on perl 5.24.0, created by CPAN-Reporter-1.2018.

Thank you for uploading your work to CPAN.  Congratulations!
All tests were successful.

Sections of this report:

    * Tester comments
    * Program output
    * Prerequisites
    * Environment and other context

------------------------------
TESTER COMMENTS
------------------------------

Additional comments from tester:

none provided

------------------------------
PROGRAM OUTPUT
------------------------------

Output from '/usr/bin/make test':

PERL_DL_NONLAZY=1 "/opt/perl-5.24.0/bin/perl5.24.0" "-MExtUtils::Command::MM" "-MTest::Harness" "-e" "undef *Test::Harness::Switches; test_harness(0, 'blib/lib', 'blib/arch')" t/*.t t/00-compile/*.t
t/00-compile/lib_Git_PurePerl_Walker_Method_FirstParent_FromHEAD_pm.t .. ok
t/00-compile/lib_Git_PurePerl_Walker_Method_FirstParent_pm.t ........... ok
t/00-compile/lib_Git_PurePerl_Walker_OnCommit_CallBack_pm.t ............ ok
t/00-compile/lib_Git_PurePerl_Walker_OnCommit_List_pm.t ................ ok
t/00-compile/lib_Git_PurePerl_Walker_pm.t .............................. ok
t/00-compile/lib_Git_PurePerl_Walker_Role_HasRepo_pm.t ................. ok
t/00-compile/lib_Git_PurePerl_Walker_Role_Method_pm.t .................. ok
t/00-compile/lib_Git_PurePerl_Walker_Role_OnCommit_pm.t ................ ok
t/00-compile/lib_Git_PurePerl_Walker_Types_pm.t ........................ ok
# 
# Versions for all modules listed in MYMETA.json (including optional ones):
# 
# === Configure Requires ===
# 
#     Module              Want Have
#     ------------------- ---- ----
#     ExtUtils::MakeMaker  any 7.24
# 
# === Configure Recommends ===
# 
#     Module              Want Have
#     ------------------- ---- ----
#     ExtUtils::MakeMaker 7.00 7.24
# 
# === Build Requires ===
# 
#     Module              Want Have
#     ------------------- ---- ----
#     ExtUtils::MakeMaker  any 7.24
# 
# === Test Requires ===
# 
#     Module              Want     Have
#     ------------------- ---- --------
#     Archive::Tar         any     2.10
#     ExtUtils::MakeMaker  any     7.24
#     File::Spec           any     3.63
#     File::Temp           any   0.2304
#     File::pushd          any    1.009
#     FindBin              any     1.51
#     Package::Stash       any     0.37
#     Scalar::Util         any     1.45
#     Test::More           any 1.302052
#     lib                  any     0.63
# 
# === Test Recommends ===
# 
#     Module                  Want     Have
#     ------------------- -------- --------
#     CPAN::Meta          2.120900 2.150010
#     ExtUtils::MakeMaker     7.00     7.24
#     Test::More              0.99 1.302052
# 
# === Runtime Requires ===
# 
#     Module               Want   Have
#     -------------------- ---- ------
#     Carp                  any   1.40
#     Git::PurePerl         any   0.53
#     Module::Runtime       any  0.014
#     Moose                 any 2.1805
#     Moose::Role           any 2.1805
#     MooseX::Clone         any   0.06
#     MooseX::Types         any   0.46
#     MooseX::Types::Moose  any   0.46
#     Path::Tiny            any  0.096
#     namespace::autoclean  any   0.28
#     strict                any   1.11
#     warnings              any   1.36
# 
# === Runtime Recommends ===
# 
#     Module      Want   Have
#     ---------- ----- ------
#     Moose      2.000 2.1805
#     Path::Tiny 0.058  0.096
# 
t/00-report-prereqs.t .................................................. ok
t/01_test.t ............................................................ ok
t/0200_firstparent.t ................................................... ok
t/0201_firstparent_fromhead.t .......................................... ok
t/03_callback.t ........................................................ ok
t/04_list.t ............................................................ ok
All tests successful.
Files=15, Tests=36,  4 wallclock secs ( 0.02 usr  0.01 sys +  3.44 cusr  0.39 csys =  3.86 CPU)
Result: PASS

------------------------------
PREREQUISITES
------------------------------

Prerequisite modules loaded:

requires:

    Module               Need  Have    
    -------------------- ----- --------
    Carp                 0     1.40    
    Git::PurePerl        0     0.53    
    Module::Runtime      0     0.014   
    Moose                0     2.1805  
    Moose::Role          0     2.1805  
    MooseX::Clone        0     0.06    
    MooseX::Types        0     0.46    
    MooseX::Types::Moose 0     0.46    
    namespace::autoclean 0     0.28    
    Path::Tiny           0     0.096   
    perl                 5.006 5.024000
    strict               0     1.11    
    warnings             0     1.36    

build_requires:

    Module               Need  Have    
    -------------------- ----- --------
    Archive::Tar         0     2.10    
    ExtUtils::MakeMaker  0     7.24    
    File::pushd          0     1.009   
    File::Spec           0     3.63    
    File::Temp           0     0.2304  
    FindBin              0     1.51    
    lib                  0     0.63    
    Package::Stash       0     0.37    
    Scalar::Util         0     1.45    
    Test::More           0     1.302052

configure_requires:

    Module               Need  Have    
    -------------------- ----- --------
    ExtUtils::MakeMaker  0     7.24    
    perl                 5.006 5.024000


------------------------------
ENVIRONMENT AND OTHER CONTEXT
------------------------------

Environment variables:

    LANG = en_US.UTF-8
    LANGUAGE = en_US:en
    LC_ALL = en_US.UTF-8
    PATH = /usr/local/bin:/usr/bin:/bin:/usr/local/sbin:/usr/sbin:/sbin:/home/cpansand/bin/linux-gnu:/home/cpansand/bin/sh:/home/cpansand/bin:/usr/games:/home/cpansand/devel:/home/eserte/src/srezic-misc/scripts
    PERL5LIB = /home/cpansand/.cpan/build/2017030915/Git-PurePerl-0.53-1/blib/arch:/home/cpansand/.cpan/build/2017030915/Git-PurePerl-0.53-1/blib/lib:/home/cpansand/.cpan/build/2017030915/IO-Digest-0.11-1/blib/arch:/home/cpansand/.cpan/build/2017030915/IO-Digest-0.11-1/blib/lib:/home/cpansand/.cpan/build/2017030915/PerlIO-via-dynamic-0.14-1/blib/arch:/home/cpansand/.cpan/build/2017030915/PerlIO-via-dynamic-0.14-1/blib/lib
    PERL5OPT = 
    PERL5_CPANPLUS_IS_RUNNING = 6580
    PERL5_CPAN_IS_RUNNING = 6580
    PERL5_CPAN_IS_RUNNING_IN_RECURSION = 6465,6580
    PERLDOC = -MPod::Perldoc::ToTextOverstrike
    PERL_BATCH = yes
    PERL_CANARY_STABILITY_NOPROMPT = 1
    PERL_CPAN_REPORTER_CONFIG = /var/tmp/cpansmoker-1023/2017030915/cpanreporter_000_config.ini
    PERL_EXTUTILS_AUTOINSTALL = --defaultdeps
    PERL_PARALLEL_SMOKER = yes
    PERL_USE_UNSAFE_INC = 1
    SHELL = /bin/zsh
    TERM = screen
    TMPDIR = /var/tmp/cpansmoker-1023/2017030915

Perl special variables (and OS-specific diagnostics, for MSWin32):

    $^X = /opt/perl-5.24.0/bin/perl5.24.0
    $UID/$EUID = 1023 / 1023
    $GID = 1023 1023
    $EGID = 1023 1023

Perl module toolchain versions installed:

    Module              Have    
    ------------------- --------
    CPAN                2.14    
    CPAN::Meta          2.150010
    Cwd                 3.63    
    ExtUtils::CBuilder  0.280225
    ExtUtils::Command   7.24    
    ExtUtils::Install   2.04    
    ExtUtils::MakeMaker 7.24    
    ExtUtils::Manifest  1.70    
    ExtUtils::ParseXS   3.31    
    File::Spec          3.63    
    JSON                2.90    
    JSON::PP            2.27300 
    Module::Build       0.4220  
    Module::Signature   0.80    
    Parse::CPAN::Meta   2.150010
    Test::Harness       3.36    
    Test::More          1.302052
    YAML                1.17    
    YAML::Syck          1.29    
    version             0.9916  


--

Summary of my perl5 (revision 5 version 24 subversion 0) configuration:
   
  Platform:
    osname=linux, osvers=3.2.0-4-amd64, archname=x86_64-linux
    uname='linux cvrsnica-wheezy 3.2.0-4-amd64 #1 smp debian 3.2.54-2 x86_64 gnulinux '
    config_args='-ds -e -Dprefix=/opt/perl-5.24.0 -Dcf_email=srezic@cpan.org'
    hint=recommended, useposix=true, d_sigaction=define
    useithreads=undef, usemultiplicity=undef
    use64bitint=define, use64bitall=define, uselongdouble=undef
    usemymalloc=n, bincompat5005=undef
  Compiler:
    cc='cc', ccflags ='-fwrapv -fno-strict-aliasing -pipe -fstack-protector -I/usr/local/include -D_LARGEFILE_SOURCE -D_FILE_OFFSET_BITS=64 -D_FORTIFY_SOURCE=2',
    optimize='-O2',
    cppflags='-fwrapv -fno-strict-aliasing -pipe -fstack-protector -I/usr/local/include'
    ccversion='', gccversion='4.7.2', gccosandvers=''
    intsize=4, longsize=8, ptrsize=8, doublesize=8, byteorder=12345678, doublekind=3
    d_longlong=define, longlongsize=8, d_longdbl=define, longdblsize=16, longdblkind=3
    ivtype='long', ivsize=8, nvtype='double', nvsize=8, Off_t='off_t', lseeksize=8
    alignbytes=8, prototype=define
  Linker and Libraries:
    ld='cc', ldflags =' -fstack-protector -L/usr/local/lib'
    libpth=/usr/local/lib /usr/lib/gcc/x86_64-linux-gnu/4.7/include-fixed /usr/include/x86_64-linux-gnu /usr/lib /lib/x86_64-linux-gnu /lib/../lib /usr/lib/x86_64-linux-gnu /usr/lib/../lib /lib
    libs=-lpthread -lnsl -ldb -ldl -lm -lcrypt -lutil -lc
    perllibs=-lpthread -lnsl -ldl -lm -lcrypt -lutil -lc
    libc=libc-2.13.so, so=so, useshrplib=false, libperl=libperl.a
    gnulibc_version='2.13'
  Dynamic Linking:
    dlsrc=dl_dlopen.xs, dlext=so, d_dlsymun=undef, ccdlflags='-Wl,-E'
    cccdlflags='-fPIC', lddlflags='-shared -O2 -L/usr/local/lib -fstack-protector'


Characteristics of this binary (from libperl): 
  Compile-time options: HAS_TIMES PERLIO_LAYERS PERL_COPY_ON_WRITE
                        PERL_DONT_CREATE_GVSV
                        PERL_HASH_FUNC_ONE_AT_A_TIME_HARD PERL_MALLOC_WRAP
                        PERL_PRESERVE_IVUV USE_64_BIT_ALL USE_64_BIT_INT
                        USE_LARGE_FILES USE_LOCALE USE_LOCALE_COLLATE
                        USE_LOCALE_CTYPE USE_LOCALE_NUMERIC USE_LOCALE_TIME
                        USE_PERLIO USE_PERL_ATOF
  Built under linux
  Compiled at May 30 2016 08:43:25
  %ENV:
    PERL5LIB="/home/cpansand/.cpan/build/2017030915/Git-PurePerl-0.53-1/blib/arch:/home/cpansand/.cpan/build/2017030915/Git-PurePerl-0.53-1/blib/lib:/home/cpansand/.cpan/build/2017030915/IO-Digest-0.11-1/blib/arch:/home/cpansand/.cpan/build/2017030915/IO-Digest-0.11-1/blib/lib:/home/cpansand/.cpan/build/2017030915/PerlIO-via-dynamic-0.14-1/blib/arch:/home/cpansand/.cpan/build/2017030915/PerlIO-via-dynamic-0.14-1/blib/lib"
    PERL5OPT=""
    PERL5_CPANPLUS_IS_RUNNING="6580"
    PERL5_CPAN_IS_RUNNING="6580"
    PERL5_CPAN_IS_RUNNING_IN_RECURSION="6465,6580"
    PERLDOC="-MPod::Perldoc::ToTextOverstrike"
    PERL_BATCH="yes"
    PERL_CANARY_STABILITY_NOPROMPT="1"
    PERL_CPAN_REPORTER_CONFIG="/var/tmp/cpansmoker-1023/2017030915/cpanreporter_000_config.ini"
    PERL_EXTUTILS_AUTOINSTALL="--defaultdeps"
    PERL_PARALLEL_SMOKER="yes"
    PERL_USE_UNSAFE_INC="1"
  @INC:
    /home/cpansand/.cpan/build/2017030915/Git-PurePerl-0.53-1/blib/arch
    /home/cpansand/.cpan/build/2017030915/Git-PurePerl-0.53-1/blib/lib
    /home/cpansand/.cpan/build/2017030915/IO-Digest-0.11-1/blib/arch
    /home/cpansand/.cpan/build/2017030915/IO-Digest-0.11-1/blib/lib
    /home/cpansand/.cpan/build/2017030915/PerlIO-via-dynamic-0.14-1/blib/arch
    /home/cpansand/.cpan/build/2017030915/PerlIO-via-dynamic-0.14-1/blib/lib
    /opt/perl-5.24.0/lib/site_perl/5.24.0/x86_64-linux
    /opt/perl-5.24.0/lib/site_perl/5.24.0
    /opt/perl-5.24.0/lib/5.24.0/x86_64-linux
    /opt/perl-5.24.0/lib/5.24.0
    .