HTML-Strip v2.12 Perl 5 v5.39.10 x86_64-linux
- Status
- Pass
- From
- Slaven Rezić
- Dist
-
HTML-Strip v2.12
- Platform
- Perl 5 v5.39.10 x86_64-linux
- Date
- 2024-05-02 08:47:47
- ID
- a6579c7a-0860-11ef-b825-92346e8775ea
This distribution has been tested as part of the CPAN Testers
project, supporting the Perl programming language. See
http://wiki.cpantesters.org/ for more information or email
questions to cpan-testers-discuss@perl.org
--
Dear Alex Bowley,
This is a computer-generated report for HTML-Strip-2.12
on perl 5.39.10, created by CPAN-Reporter-1.2019.
Thank you for uploading your work to CPAN. Congratulations!
All tests were successful.
Sections of this report:
* Tester comments
* Program output
* Prerequisites
* Environment and other context
------------------------------
TESTER COMMENTS
------------------------------
Additional comments from tester:
none provided
------------------------------
PROGRAM OUTPUT
------------------------------
Output from '/usr/bin/make test':
"/opt/perl-5.39.10/bin/perl5.39.10" -MExtUtils::Command::MM -e 'cp_nonempty' -- Strip.bs blib/arch/auto/HTML/Strip/Strip.bs 644
PERL_DL_NONLAZY=1 "/opt/perl-5.39.10/bin/perl5.39.10" "-MExtUtils::Command::MM" "-MTest::Harness" "-e" "undef *Test::Harness::Switches; test_harness(0, 'blib/lib', 'blib/arch')" t/*.t
t/001_smoke.t ....................... ok
t/100_basic.t ....................... ok
t/200_comment.t ..................... ok
t/210_auto_reset.t .................. ok
t/220_edge_case.t ................... ok
t/230_filter.t ...................... ok
t/240_striptags.t ................... ok
t/250_whitespace_single_char.t ...... ok
t/260_offbyone.t .................... ok
t/270_mathematical_comparisons.t .... ok
t/280_invalid_multiline_segfault.t .. ok
t/300_utf8.t ........................ ok
t/310_latin1.t ...................... ok
t/400_kwalitee.t .................... skipped: these tests are for release candidate testing
t/410_pod.t ......................... ok
t/420_pod_coverage.t ................ ok
All tests successful.
Test Summary Report
-------------------
t/300_utf8.t (Wstat: 0 Tests: 5 Failed: 0)
TODO passed: 5
Files=16, Tests=40, 0 wallclock secs ( 0.03 usr 0.02 sys + 0.66 cusr 0.06 csys = 0.77 CPU)
Result: PASS
------------------------------
PREREQUISITES
------------------------------
Prerequisite modules loaded:
requires:
Module Need Have
------------------- ----- --------
Carp 0 1.54
DynaLoader 0 1.56
perl 5.008 5.039010
strict 0 1.13
Test::Exception 0 0.43
Test::More 0 1.302199
warnings 0 1.69
build_requires:
Module Need Have
------------------- ----- --------
ExtUtils::MakeMaker 0 7.70
configure_requires:
Module Need Have
------------------- ----- --------
ExtUtils::MakeMaker 0 7.70
------------------------------
ENVIRONMENT AND OTHER CONTEXT
------------------------------
Environment variables:
LANG = en_US.UTF-8
PATH = /usr/local/bin:/usr/bin:/bin:/usr/local/sbin:/usr/sbin:/sbin:/home/cpansand/bin/linux-gnu:/home/cpansand/bin/sh:/home/cpansand/bin:/usr/games:/home/cpansand/devel:/home/eserte/src/srezic-misc/scripts
PERL5LIB =
PERL5OPT =
PERL5_CPANPLUS_IS_RUNNING = 457313
PERL5_CPAN_IS_RUNNING = 457313
PERL5_CPAN_IS_RUNNING_IN_RECURSION = 457239,457313
PERLDOC = -MPod::Perldoc::ToTextOverstrike
PERL_BATCH = yes
PERL_CANARY_STABILITY_NOPROMPT = 1
PERL_CPAN_REPORTER_CONFIG = /var/tmp/cpansmoker-1023/2024050208/cpanreporter_000_config.ini
PERL_EXTUTILS_AUTOINSTALL = --defaultdeps
PERL_USE_UNSAFE_INC = 1
SHELL = /usr/bin/zsh
TERM = screen
TMPDIR = /var/tmp/cpansmoker-1023/2024050208
Perl special variables (and OS-specific diagnostics, for MSWin32):
$^X = /opt/perl-5.39.10/bin/perl5.39.10
$UID/$EUID = 1023 / 1023
$GID = 1023 1023
$EGID = 1023 1023
Perl module toolchain versions installed:
Module Have
------------------- --------
CPAN 2.36
CPAN::Meta 2.150010
Cwd 3.90
ExtUtils::CBuilder 0.280240
ExtUtils::Command 7.70
ExtUtils::Install 2.22
ExtUtils::MakeMaker 7.70
ExtUtils::Manifest 1.75
ExtUtils::ParseXS 3.51
File::Spec 3.90
JSON 4.10
JSON::PP 4.16
Module::Build 0.4234
Module::Signature n/a
Parse::CPAN::Meta 2.150010
Test2 1.302199
Test::Harness 3.48
Test::More 1.302199
YAML 1.31
YAML::Syck 1.34
version 0.9932
--
Summary of my perl5 (revision 5 version 39 subversion 10) configuration:
Platform:
osname=linux
osvers=5.10.0-28-amd64
archname=x86_64-linux
uname='linux cloud7.bbbike.org 5.10.0-28-amd64 #1 smp debian 5.10.209-2 (2024-01-31) x86_64 gnulinux '
config_args='-ds -e -Dprefix=/opt/perl-5.39.10 -Dusedevel -Dusemallocwrap=no -Dcf_email=srezic@cpan.org'
hint=recommended
useposix=true
d_sigaction=define
useithreads=undef
usemultiplicity=undef
use64bitint=define
use64bitall=define
uselongdouble=undef
usemymalloc=n
default_inc_excludes_dot=define
Compiler:
cc='cc'
ccflags ='-fwrapv -fno-strict-aliasing -pipe -fstack-protector-strong -I/usr/local/include -D_LARGEFILE_SOURCE -D_FILE_OFFSET_BITS=64 -D_FORTIFY_SOURCE=2'
optimize='-O2'
cppflags='-fwrapv -fno-strict-aliasing -pipe -fstack-protector-strong -I/usr/local/include'
ccversion=''
gccversion='10.2.1 20210110'
gccosandvers=''
intsize=4
longsize=8
ptrsize=8
doublesize=8
byteorder=12345678
doublekind=3
d_longlong=define
longlongsize=8
d_longdbl=define
longdblsize=16
longdblkind=3
ivtype='long'
ivsize=8
nvtype='double'
nvsize=8
Off_t='off_t'
lseeksize=8
alignbytes=8
prototype=define
Linker and Libraries:
ld='cc'
ldflags =' -fstack-protector-strong -L/usr/local/lib'
libpth=/usr/local/lib /usr/lib/x86_64-linux-gnu /usr/lib /usr/lib64
libs=-lpthread -lgdbm -ldb -ldl -lm -lcrypt -lutil -lc
perllibs=-lpthread -ldl -lm -lcrypt -lutil -lc
libc=libc-2.31.so
so=so
useshrplib=false
libperl=libperl.a
gnulibc_version='2.31'
Dynamic Linking:
dlsrc=dl_dlopen.xs
dlext=so
d_dlsymun=undef
ccdlflags='-Wl,-E'
cccdlflags='-fPIC'
lddlflags='-shared -O2 -L/usr/local/lib -fstack-protector-strong'
Characteristics of this binary (from libperl):
Compile-time options:
HAS_LONG_DOUBLE
HAS_STRTOLD
HAS_TIMES
PERLIO_LAYERS
PERL_COPY_ON_WRITE
PERL_DONT_CREATE_GVSV
PERL_HASH_FUNC_SIPHASH13
PERL_HASH_USE_SBOX32
PERL_OP_PARENT
PERL_PRESERVE_IVUV
PERL_USE_DEVEL
PERL_USE_SAFE_PUTENV
USE_64_BIT_ALL
USE_64_BIT_INT
USE_LARGE_FILES
USE_LOCALE
USE_LOCALE_COLLATE
USE_LOCALE_CTYPE
USE_LOCALE_NUMERIC
USE_LOCALE_TIME
USE_PERLIO
USE_PERL_ATOF
Built under linux
Compiled at Apr 27 2024 20:38:04
%ENV:
PERL5LIB=""
PERL5OPT=""
PERL5_CPANPLUS_IS_RUNNING="457313"
PERL5_CPAN_IS_RUNNING="457313"
PERL5_CPAN_IS_RUNNING_IN_RECURSION="457239,457313"
PERLDOC="-MPod::Perldoc::ToTextOverstrike"
PERL_BATCH="yes"
PERL_CANARY_STABILITY_NOPROMPT="1"
PERL_CPAN_REPORTER_CONFIG="/var/tmp/cpansmoker-1023/2024050208/cpanreporter_000_config.ini"
PERL_EXTUTILS_AUTOINSTALL="--defaultdeps"
PERL_USE_UNSAFE_INC="1"
@INC:
/opt/perl-5.39.10/lib/site_perl/5.39.10/x86_64-linux
/opt/perl-5.39.10/lib/site_perl/5.39.10
/opt/perl-5.39.10/lib/5.39.10/x86_64-linux
/opt/perl-5.39.10/lib/5.39.10
.