Report for Text-Sprintf-Named-0.0301

Back
From: metabase:user:30f4dfbe-2aae-11df-837a-5e0a49663a4f
Subject: PASS Text-Sprintf-Named-0.0301 v5.12.3 GNU/Linux
Date: 2011-07-01T18:33:43Z

This distribution has been tested as part of the CPAN Testers
project, supporting the Perl programming language.  See
http://wiki.cpantesters.org/ for more information or email
questions to cpan-testers-discuss@perl.org


--
Dear Shlomi Fish,

This is a computer-generated report for Text-Sprintf-Named-0.0301
on perl 5.12.3 patch v5.12.3-12-gea253de, created by CPAN-Reporter-1.1902.

Thank you for uploading your work to CPAN.  Congratulations!
All tests were successful.

Sections of this report:

    * Tester comments
    * Program output
    * Prerequisites
    * Environment and other context

------------------------------
TESTER COMMENTS
------------------------------

Additional comments from tester:

this report is from an automated smoke testing program
and was not reviewed by a human for accuracy

------------------------------
PROGRAM OUTPUT
------------------------------

Output from './Build test':

# Testing Text::Sprintf::Named 0.0301, Perl 5.012003, /usr/local/bin/perl5.12.3
t/00-load.t ...................... ok
t/01-use.t ....................... ok
t/02-override-param-retrieval.t .. ok
t/03-incomplete.t ................ ok
t/boilerplate.t .................. ok
t/pod-coverage.t ................. ok
t/pod.t .......................... ok
All tests successful.
Files=7, Tests=29,  0 wallclock secs ( 0.04 usr  0.03 sys +  0.31 cusr  0.06 csys =  0.44 CPU)
Result: PASS

------------------------------
PREREQUISITES
------------------------------

Prerequisite modules loaded:

build_requires:

    Module        Need Have  
    ------------- ---- ------
    Test::More    0    0.98  
    Test::Warn    0.21 0.23  

configure_requires:

    Module        Need Have  
    ------------- ---- ------
    Module::Build 0.35 0.3800


------------------------------
ENVIRONMENT AND OTHER CONTEXT
------------------------------

Environment variables:

    AUTOMATED_TESTING = 1
    LANG = en_US.UTF-8
    PATH = /usr/bin:/bin
    PERL5LIB = /home/njh/.local/share/.cpan/build/MooseX-Getopt-0.37-REK5C_/blib/arch:/home/njh/.local/share/.cpan/build/MooseX-Getopt-0.37-REK5C_/blib/lib:/home/njh/.local/share/.cpan/build/MooseX-Role-Parameterized-0.26-ujNzsn/blib/arch:/home/njh/.local/share/.cpan/build/MooseX-Role-Parameterized-0.26-ujNzsn/blib/lib:/home/njh/.local/share/.cpan/build/Getopt-Long-Descriptive-0.090-f0rjhW/blib/arch:/home/njh/.local/share/.cpan/build/Getopt-Long-Descriptive-0.090-f0rjhW/blib/lib:/home/njh/.local/share/.cpan/build/Games-Solitaire-Verify-0.0901-HLrF81/blib/arch:/home/njh/.local/share/.cpan/build/Games-Solitaire-Verify-0.0901-HLrF81/blib/lib:/home/njh/.local/share/.cpan/build/Class-XSAccessor-1.11-IWk5Gj/blib/arch:/home/njh/.local/share/.cpan/build/Class-XSAccessor-1.11-IWk5Gj/blib/lib
    PERL5OPT = 
    PERL5_CPANPLUS_IS_RUNNING = 8788
    PERL5_CPAN_IS_RUNNING = 8788
    PERL5_MINISMOKEBOX = 0.44
    PERL_EXTUTILS_AUTOINSTALL = --defaultdeps
    PERL_MM_USE_DEFAULT = 1
    SHELL = /bin/sh

Perl special variables (and OS-specific diagnostics, for MSWin32):

    $^X = /usr/local/bin/perl5.12.3
    $UID/$EUID = 1000 / 1000
    $GID = 1000 20 24 25 29 44 46 104 112 1000
    $EGID = 1000 20 24 25 29 44 46 104 112 1000

Perl module toolchain versions installed:

    Module              Have    
    ------------------- --------
    CPAN                1.9600  
    Cwd                 3.31    
    ExtUtils::CBuilder  0.280202
    ExtUtils::Command   1.17    
    ExtUtils::Install   1.55    
    ExtUtils::MakeMaker 6.56    
    ExtUtils::Manifest  1.58    
    ExtUtils::ParseXS   2.2206  
    File::Spec          3.31_01 
    Module::Build       0.3800  
    Module::Signature   0.66    
    Test::Harness       3.17    
    Test::More          0.98    
    YAML                0.73    
    YAML::Syck          1.17    
    version             0.88    


--

Summary of my perl5 (revision 5 version 12 subversion 3 patch v5.12.3-12-gea253de) configuration:
  Snapshot of: ea253de0a8a29197750660cfc23be8e1fe06484b
  Platform:
    osname=linux, osvers=2.6.39-1-amd64, archname=x86_64-linux-thread-multi
    uname='linux bandsman.dyndns-ip.com 2.6.39-1-amd64 #1 smp tue may 24 14:34:19 utc 2011 x86_64 gnulinux '
    config_args='-des -Dusedevel -Accflags=-O2 -W -Wformat=2 -Wall -Wextra -pipe -mtune=native -march=native -fomit-frame-pointer -msse2 -msse -mmmx -mfpmath=sse -D_FORTIFY_SOURCE=2 -fstack-protector -Wstack-protector -Wfloat-equal -Duseithreads'
    hint=recommended, useposix=true, d_sigaction=define
    useithreads=define, usemultiplicity=define
    useperlio=define, d_sfio=undef, uselargefiles=define, usesocks=undef
    use64bitint=define, use64bitall=define, uselongdouble=undef
    usemymalloc=n, bincompat5005=undef
  Compiler:
    cc='cc', ccflags ='-D_REENTRANT -D_GNU_SOURCE -DDEBUGGING -O2 -W -Wformat=2 -Wall -Wextra -pipe -mtune=native -march=native -fomit-frame-pointer -msse2 -msse -mmmx -mfpmath=sse -D_FORTIFY_SOURCE=2 -fstack-protector -Wstack-protector -Wfloat-equal -fno-strict-aliasing -I/usr/local/include -D_LARGEFILE_SOURCE -D_FILE_OFFSET_BITS=64',
    optimize='-O2',
    cppflags='-D_REENTRANT -D_GNU_SOURCE -DDEBUGGING -O2 -W -Wformat=2 -Wall -Wextra -pipe -mtune=native -march=native -fomit-frame-pointer -msse2 -msse -mmmx -mfpmath=sse -D_FORTIFY_SOURCE=2 -fstack-protector -Wstack-protector -Wfloat-equal -fno-strict-aliasing -I/usr/local/include'
    ccversion='', gccversion='4.6.1 20110526 (prerelease)', gccosandvers=''
    intsize=4, longsize=8, ptrsize=8, doublesize=8, byteorder=12345678
    d_longlong=define, longlongsize=8, d_longdbl=define, longdblsize=16
    ivtype='long', ivsize=8, nvtype='double', nvsize=8, Off_t='off_t', lseeksize=8
    alignbytes=8, prototype=define
  Linker and Libraries:
    ld='cc', ldflags =' -fstack-protector -L/usr/local/lib'
    libpth=/usr/local/lib /lib/../lib /usr/lib/../lib /lib /usr/lib /lib64 /usr/lib64
    libs=-lnsl -ldb -ldl -lm -lcrypt -lutil -lpthread -lc
    perllibs=-lnsl -ldl -lm -lcrypt -lutil -lpthread -lc
    libc=/lib/libc-2.13.so, so=so, useshrplib=false, libperl=libperl.a
    gnulibc_version='2.13'
  Dynamic Linking:
    dlsrc=dl_dlopen.xs, dlext=so, d_dlsymun=undef, ccdlflags='-Wl,-E'
    cccdlflags='-fPIC', lddlflags='-shared -O2 -L/usr/local/lib -fstack-protector'


Characteristics of this binary (from libperl): 
  Compile-time options: DEBUGGING MULTIPLICITY PERL_DONT_CREATE_GVSV
                        PERL_IMPLICIT_CONTEXT PERL_MALLOC_WRAP
                        PERL_TRACK_MEMPOOL PERL_USE_DEVEL USE_64_BIT_ALL
                        USE_64_BIT_INT USE_ITHREADS USE_LARGE_FILES
                        USE_PERLIO USE_PERL_ATOF USE_REENTRANT_API
  Locally applied patches:
	SMOKEea253de0a8a29197750660cfc23be8e1fe06484b
  Built under linux
  Compiled at Jun  4 2011 04:16:34
  %ENV:
    PERL5LIB="/home/njh/.local/share/.cpan/build/MooseX-Getopt-0.37-REK5C_/blib/arch:/home/njh/.local/share/.cpan/build/MooseX-Getopt-0.37-REK5C_/blib/lib:/home/njh/.local/share/.cpan/build/MooseX-Role-Parameterized-0.26-ujNzsn/blib/arch:/home/njh/.local/share/.cpan/build/MooseX-Role-Parameterized-0.26-ujNzsn/blib/lib:/home/njh/.local/share/.cpan/build/Getopt-Long-Descriptive-0.090-f0rjhW/blib/arch:/home/njh/.local/share/.cpan/build/Getopt-Long-Descriptive-0.090-f0rjhW/blib/lib:/home/njh/.local/share/.cpan/build/Games-Solitaire-Verify-0.0901-HLrF81/blib/arch:/home/njh/.local/share/.cpan/build/Games-Solitaire-Verify-0.0901-HLrF81/blib/lib:/home/njh/.local/share/.cpan/build/Class-XSAccessor-1.11-IWk5Gj/blib/arch:/home/njh/.local/share/.cpan/build/Class-XSAccessor-1.11-IWk5Gj/blib/lib"
    PERL5OPT=""
    PERL5_CPANPLUS_IS_RUNNING="8788"
    PERL5_CPAN_IS_RUNNING="8788"
    PERL5_MINISMOKEBOX="0.44"
    PERL_EXTUTILS_AUTOINSTALL="--defaultdeps"
    PERL_MM_USE_DEFAULT="1"
  @INC:
    /home/njh/.local/share/.cpan/build/MooseX-Getopt-0.37-REK5C_/blib/arch
    /home/njh/.local/share/.cpan/build/MooseX-Getopt-0.37-REK5C_/blib/lib
    /home/njh/.local/share/.cpan/build/MooseX-Role-Parameterized-0.26-ujNzsn/blib/arch
    /home/njh/.local/share/.cpan/build/MooseX-Role-Parameterized-0.26-ujNzsn/blib/lib
    /home/njh/.local/share/.cpan/build/Getopt-Long-Descriptive-0.090-f0rjhW/blib/arch
    /home/njh/.local/share/.cpan/build/Getopt-Long-Descriptive-0.090-f0rjhW/blib/lib
    /home/njh/.local/share/.cpan/build/Games-Solitaire-Verify-0.0901-HLrF81/blib/arch
    /home/njh/.local/share/.cpan/build/Games-Solitaire-Verify-0.0901-HLrF81/blib/lib
    /home/njh/.local/share/.cpan/build/Class-XSAccessor-1.11-IWk5Gj/blib/arch
    /home/njh/.local/share/.cpan/build/Class-XSAccessor-1.11-IWk5Gj/blib/lib
    /usr/local/lib/perl5/site_perl/5.12.3/x86_64-linux-thread-multi
    /usr/local/lib/perl5/site_perl/5.12.3
    /usr/local/lib/perl5/5.12.3/x86_64-linux-thread-multi
    /usr/local/lib/perl5/5.12.3
    /usr/local/lib/perl5/site_perl
    .