Back
From: metabase:user:c5d8ed3c-9413-11e3-9500-9628c7c7991c
Subject: PASS NetHack-Menu-0.08 v5.16.3 FreeBSD
Date: 2014-06-11T14:49:54Z
This distribution has been tested as part of the CPAN Testers
project, supporting the Perl programming language. See
http://wiki.cpantesters.org/ for more information or email
questions to cpan-testers-discuss@perl.org
--
Dear Shawn M Moore,
This is a computer-generated report for NetHack-Menu-0.08
on perl 5.16.3, created by CPAN-Reporter-1.2006.
Thank you for uploading your work to CPAN. Congratulations!
All tests were successful.
Sections of this report:
* Tester comments
* Program output
* Prerequisites
* Environment and other context
------------------------------
TESTER COMMENTS
------------------------------
Additional comments from tester:
this report is from an automated smoke testing program
and was not reviewed by a human for accuracy
------------------------------
PROGRAM OUTPUT
------------------------------
Output from '/usr/bin/make test':
PERL_DL_NONLAZY=1 /usr/local/bin/perl5.16.3 "-MExtUtils::Command::MM" "-e" "test_harness(0, 'blib/lib', 'blib/arch')" t/*.t
Passing a list of values to enum is deprecated. Enum values should be wrapped in an arrayref. at /home/cpan/.cpan/build/Moose-2.1209-x1Q3s6/blib/lib/Moose/Util/TypeConstraints.pm line 440.
Moose::Util::TypeConstraints::enum("NetHack::Menu::Item::SelectedAll", "all") called at lib/NetHack/Menu/Item.pm line 11
require NetHack/Menu/Item.pm called at lib/NetHack/Menu.pm line 10
NetHack::Menu::BEGIN() called at lib/NetHack/Menu/Item.pm line 0
eval {...} called at lib/NetHack/Menu/Item.pm line 0
require NetHack/Menu.pm called at -e line 1
Passing a list of values to enum is deprecated. Enum values should be wrapped in an arrayref. at /home/cpan/.cpan/build/Moose-2.1209-x1Q3s6/blib/lib/Moose/Util/TypeConstraints.pm line 440.
Moose::Util::TypeConstraints::enum("NetHack::Menu::Item::SelectedAll", "all") called at lib/NetHack/Menu/Item.pm line 11
require NetHack/Menu/Item.pm called at -e line 1
t/00-compile.t ............... ok
Passing a list of values to enum is deprecated. Enum values should be wrapped in an arrayref. at /home/cpan/.cpan/build/Moose-2.1209-x1Q3s6/blib/lib/Moose/Util/TypeConstraints.pm line 440.
Moose::Util::TypeConstraints::enum("NetHack::Menu::Item::SelectedAll", "all") called at /usr/home/cpan/.cpan/build/NetHack-Menu-0.08-7vVmP4/blib/lib/NetHack/Menu/Item.pm line 11
require NetHack/Menu/Item.pm called at /usr/home/cpan/.cpan/build/NetHack-Menu-0.08-7vVmP4/blib/lib/NetHack/Menu.pm line 10
NetHack::Menu::BEGIN() called at /usr/home/cpan/.cpan/build/NetHack-Menu-0.08-7vVmP4/blib/lib/NetHack/Menu/Item.pm line 0
eval {...} called at /usr/home/cpan/.cpan/build/NetHack-Menu-0.08-7vVmP4/blib/lib/NetHack/Menu/Item.pm line 0
require NetHack/Menu.pm called at t/lib/MockVT.pm line 5
MockVT::BEGIN() called at /usr/home/cpan/.cpan/build/NetHack-Menu-0.08-7vVmP4/blib/lib/NetHack/Menu/Item.pm line 0
eval {...} called at /usr/home/cpan/.cpan/build/NetHack-Menu-0.08-7vVmP4/blib/lib/NetHack/Menu/Item.pm line 0
require MockVT.pm called at t/001-basic.t line 4
main::BEGIN() called at /usr/home/cpan/.cpan/build/NetHack-Menu-0.08-7vVmP4/blib/lib/NetHack/Menu/Item.pm line 0
eval {...} called at /usr/home/cpan/.cpan/build/NetHack-Menu-0.08-7vVmP4/blib/lib/NetHack/Menu/Item.pm line 0
t/001-basic.t ................ ok
Passing a list of values to enum is deprecated. Enum values should be wrapped in an arrayref. at /home/cpan/.cpan/build/Moose-2.1209-x1Q3s6/blib/lib/Moose/Util/TypeConstraints.pm line 440.
Moose::Util::TypeConstraints::enum("NetHack::Menu::Item::SelectedAll", "all") called at /usr/home/cpan/.cpan/build/NetHack-Menu-0.08-7vVmP4/blib/lib/NetHack/Menu/Item.pm line 11
require NetHack/Menu/Item.pm called at /usr/home/cpan/.cpan/build/NetHack-Menu-0.08-7vVmP4/blib/lib/NetHack/Menu.pm line 10
NetHack::Menu::BEGIN() called at /usr/home/cpan/.cpan/build/NetHack-Menu-0.08-7vVmP4/blib/lib/NetHack/Menu/Item.pm line 0
eval {...} called at /usr/home/cpan/.cpan/build/NetHack-Menu-0.08-7vVmP4/blib/lib/NetHack/Menu/Item.pm line 0
require NetHack/Menu.pm called at t/lib/MockVT.pm line 5
MockVT::BEGIN() called at /usr/home/cpan/.cpan/build/NetHack-Menu-0.08-7vVmP4/blib/lib/NetHack/Menu/Item.pm line 0
eval {...} called at /usr/home/cpan/.cpan/build/NetHack-Menu-0.08-7vVmP4/blib/lib/NetHack/Menu/Item.pm line 0
require MockVT.pm called at t/002-no-menu.t line 4
main::BEGIN() called at /usr/home/cpan/.cpan/build/NetHack-Menu-0.08-7vVmP4/blib/lib/NetHack/Menu/Item.pm line 0
eval {...} called at /usr/home/cpan/.cpan/build/NetHack-Menu-0.08-7vVmP4/blib/lib/NetHack/Menu/Item.pm line 0
t/002-no-menu.t .............. ok
Passing a list of values to enum is deprecated. Enum values should be wrapped in an arrayref. at /home/cpan/.cpan/build/Moose-2.1209-x1Q3s6/blib/lib/Moose/Util/TypeConstraints.pm line 440.
Moose::Util::TypeConstraints::enum("NetHack::Menu::Item::SelectedAll", "all") called at /usr/home/cpan/.cpan/build/NetHack-Menu-0.08-7vVmP4/blib/lib/NetHack/Menu/Item.pm line 11
require NetHack/Menu/Item.pm called at /usr/home/cpan/.cpan/build/NetHack-Menu-0.08-7vVmP4/blib/lib/NetHack/Menu.pm line 10
NetHack::Menu::BEGIN() called at /usr/home/cpan/.cpan/build/NetHack-Menu-0.08-7vVmP4/blib/lib/NetHack/Menu/Item.pm line 0
eval {...} called at /usr/home/cpan/.cpan/build/NetHack-Menu-0.08-7vVmP4/blib/lib/NetHack/Menu/Item.pm line 0
require NetHack/Menu.pm called at t/lib/MockVT.pm line 5
MockVT::BEGIN() called at /usr/home/cpan/.cpan/build/NetHack-Menu-0.08-7vVmP4/blib/lib/NetHack/Menu/Item.pm line 0
eval {...} called at /usr/home/cpan/.cpan/build/NetHack-Menu-0.08-7vVmP4/blib/lib/NetHack/Menu/Item.pm line 0
require MockVT.pm called at t/003-some-selected.t line 4
main::BEGIN() called at /usr/home/cpan/.cpan/build/NetHack-Menu-0.08-7vVmP4/blib/lib/NetHack/Menu/Item.pm line 0
eval {...} called at /usr/home/cpan/.cpan/build/NetHack-Menu-0.08-7vVmP4/blib/lib/NetHack/Menu/Item.pm line 0
t/003-some-selected.t ........ ok
Passing a list of values to enum is deprecated. Enum values should be wrapped in an arrayref. at /home/cpan/.cpan/build/Moose-2.1209-x1Q3s6/blib/lib/Moose/Util/TypeConstraints.pm line 440.
Moose::Util::TypeConstraints::enum("NetHack::Menu::Item::SelectedAll", "all") called at /usr/home/cpan/.cpan/build/NetHack-Menu-0.08-7vVmP4/blib/lib/NetHack/Menu/Item.pm line 11
require NetHack/Menu/Item.pm called at /usr/home/cpan/.cpan/build/NetHack-Menu-0.08-7vVmP4/blib/lib/NetHack/Menu.pm line 10
NetHack::Menu::BEGIN() called at /usr/home/cpan/.cpan/build/NetHack-Menu-0.08-7vVmP4/blib/lib/NetHack/Menu/Item.pm line 0
eval {...} called at /usr/home/cpan/.cpan/build/NetHack-Menu-0.08-7vVmP4/blib/lib/NetHack/Menu/Item.pm line 0
require NetHack/Menu.pm called at t/lib/MockVT.pm line 5
MockVT::BEGIN() called at /usr/home/cpan/.cpan/build/NetHack-Menu-0.08-7vVmP4/blib/lib/NetHack/Menu/Item.pm line 0
eval {...} called at /usr/home/cpan/.cpan/build/NetHack-Menu-0.08-7vVmP4/blib/lib/NetHack/Menu/Item.pm line 0
require MockVT.pm called at t/004-multipage.t line 4
main::BEGIN() called at /usr/home/cpan/.cpan/build/NetHack-Menu-0.08-7vVmP4/blib/lib/NetHack/Menu/Item.pm line 0
eval {...} called at /usr/home/cpan/.cpan/build/NetHack-Menu-0.08-7vVmP4/blib/lib/NetHack/Menu/Item.pm line 0
t/004-multipage.t ............ ok
Passing a list of values to enum is deprecated. Enum values should be wrapped in an arrayref. at /home/cpan/.cpan/build/Moose-2.1209-x1Q3s6/blib/lib/Moose/Util/TypeConstraints.pm line 440.
Moose::Util::TypeConstraints::enum("NetHack::Menu::Item::SelectedAll", "all") called at /usr/home/cpan/.cpan/build/NetHack-Menu-0.08-7vVmP4/blib/lib/NetHack/Menu/Item.pm line 11
require NetHack/Menu/Item.pm called at /usr/home/cpan/.cpan/build/NetHack-Menu-0.08-7vVmP4/blib/lib/NetHack/Menu.pm line 10
NetHack::Menu::BEGIN() called at /usr/home/cpan/.cpan/build/NetHack-Menu-0.08-7vVmP4/blib/lib/NetHack/Menu/Item.pm line 0
eval {...} called at /usr/home/cpan/.cpan/build/NetHack-Menu-0.08-7vVmP4/blib/lib/NetHack/Menu/Item.pm line 0
require NetHack/Menu.pm called at t/lib/MockVT.pm line 5
MockVT::BEGIN() called at /usr/home/cpan/.cpan/build/NetHack-Menu-0.08-7vVmP4/blib/lib/NetHack/Menu/Item.pm line 0
eval {...} called at /usr/home/cpan/.cpan/build/NetHack-Menu-0.08-7vVmP4/blib/lib/NetHack/Menu/Item.pm line 0
require MockVT.pm called at t/005-start-at-middle.t line 4
main::BEGIN() called at /usr/home/cpan/.cpan/build/NetHack-Menu-0.08-7vVmP4/blib/lib/NetHack/Menu/Item.pm line 0
eval {...} called at /usr/home/cpan/.cpan/build/NetHack-Menu-0.08-7vVmP4/blib/lib/NetHack/Menu/Item.pm line 0
t/005-start-at-middle.t ...... ok
Passing a list of values to enum is deprecated. Enum values should be wrapped in an arrayref. at /home/cpan/.cpan/build/Moose-2.1209-x1Q3s6/blib/lib/Moose/Util/TypeConstraints.pm line 440.
Moose::Util::TypeConstraints::enum("NetHack::Menu::Item::SelectedAll", "all") called at /usr/home/cpan/.cpan/build/NetHack-Menu-0.08-7vVmP4/blib/lib/NetHack/Menu/Item.pm line 11
require NetHack/Menu/Item.pm called at /usr/home/cpan/.cpan/build/NetHack-Menu-0.08-7vVmP4/blib/lib/NetHack/Menu.pm line 10
NetHack::Menu::BEGIN() called at /usr/home/cpan/.cpan/build/NetHack-Menu-0.08-7vVmP4/blib/lib/NetHack/Menu/Item.pm line 0
eval {...} called at /usr/home/cpan/.cpan/build/NetHack-Menu-0.08-7vVmP4/blib/lib/NetHack/Menu/Item.pm line 0
require NetHack/Menu.pm called at t/lib/MockVT.pm line 5
MockVT::BEGIN() called at /usr/home/cpan/.cpan/build/NetHack-Menu-0.08-7vVmP4/blib/lib/NetHack/Menu/Item.pm line 0
eval {...} called at /usr/home/cpan/.cpan/build/NetHack-Menu-0.08-7vVmP4/blib/lib/NetHack/Menu/Item.pm line 0
require MockVT.pm called at t/007-single-select.t line 4
main::BEGIN() called at /usr/home/cpan/.cpan/build/NetHack-Menu-0.08-7vVmP4/blib/lib/NetHack/Menu/Item.pm line 0
eval {...} called at /usr/home/cpan/.cpan/build/NetHack-Menu-0.08-7vVmP4/blib/lib/NetHack/Menu/Item.pm line 0
t/007-single-select.t ........ ok
Passing a list of values to enum is deprecated. Enum values should be wrapped in an arrayref. at /home/cpan/.cpan/build/Moose-2.1209-x1Q3s6/blib/lib/Moose/Util/TypeConstraints.pm line 440.
Moose::Util::TypeConstraints::enum("NetHack::Menu::Item::SelectedAll", "all") called at /usr/home/cpan/.cpan/build/NetHack-Menu-0.08-7vVmP4/blib/lib/NetHack/Menu/Item.pm line 11
require NetHack/Menu/Item.pm called at /usr/home/cpan/.cpan/build/NetHack-Menu-0.08-7vVmP4/blib/lib/NetHack/Menu.pm line 10
NetHack::Menu::BEGIN() called at /usr/home/cpan/.cpan/build/NetHack-Menu-0.08-7vVmP4/blib/lib/NetHack/Menu/Item.pm line 0
eval {...} called at /usr/home/cpan/.cpan/build/NetHack-Menu-0.08-7vVmP4/blib/lib/NetHack/Menu/Item.pm line 0
require NetHack/Menu.pm called at t/lib/MockVT.pm line 5
MockVT::BEGIN() called at /usr/home/cpan/.cpan/build/NetHack-Menu-0.08-7vVmP4/blib/lib/NetHack/Menu/Item.pm line 0
eval {...} called at /usr/home/cpan/.cpan/build/NetHack-Menu-0.08-7vVmP4/blib/lib/NetHack/Menu/Item.pm line 0
require MockVT.pm called at t/008-single-select-paged.t line 4
main::BEGIN() called at /usr/home/cpan/.cpan/build/NetHack-Menu-0.08-7vVmP4/blib/lib/NetHack/Menu/Item.pm line 0
eval {...} called at /usr/home/cpan/.cpan/build/NetHack-Menu-0.08-7vVmP4/blib/lib/NetHack/Menu/Item.pm line 0
t/008-single-select-paged.t .. ok
Passing a list of values to enum is deprecated. Enum values should be wrapped in an arrayref. at /home/cpan/.cpan/build/Moose-2.1209-x1Q3s6/blib/lib/Moose/Util/TypeConstraints.pm line 440.
Moose::Util::TypeConstraints::enum("NetHack::Menu::Item::SelectedAll", "all") called at /usr/home/cpan/.cpan/build/NetHack-Menu-0.08-7vVmP4/blib/lib/NetHack/Menu/Item.pm line 11
require NetHack/Menu/Item.pm called at /usr/home/cpan/.cpan/build/NetHack-Menu-0.08-7vVmP4/blib/lib/NetHack/Menu.pm line 10
NetHack::Menu::BEGIN() called at /usr/home/cpan/.cpan/build/NetHack-Menu-0.08-7vVmP4/blib/lib/NetHack/Menu/Item.pm line 0
eval {...} called at /usr/home/cpan/.cpan/build/NetHack-Menu-0.08-7vVmP4/blib/lib/NetHack/Menu/Item.pm line 0
require NetHack/Menu.pm called at t/lib/MockVT.pm line 5
MockVT::BEGIN() called at /usr/home/cpan/.cpan/build/NetHack-Menu-0.08-7vVmP4/blib/lib/NetHack/Menu/Item.pm line 0
eval {...} called at /usr/home/cpan/.cpan/build/NetHack-Menu-0.08-7vVmP4/blib/lib/NetHack/Menu/Item.pm line 0
require MockVT.pm called at t/009-single-select-none.t line 4
main::BEGIN() called at /usr/home/cpan/.cpan/build/NetHack-Menu-0.08-7vVmP4/blib/lib/NetHack/Menu/Item.pm line 0
eval {...} called at /usr/home/cpan/.cpan/build/NetHack-Menu-0.08-7vVmP4/blib/lib/NetHack/Menu/Item.pm line 0
t/009-single-select-none.t ... ok
Passing a list of values to enum is deprecated. Enum values should be wrapped in an arrayref. at /home/cpan/.cpan/build/Moose-2.1209-x1Q3s6/blib/lib/Moose/Util/TypeConstraints.pm line 440.
Moose::Util::TypeConstraints::enum("NetHack::Menu::Item::SelectedAll", "all") called at /usr/home/cpan/.cpan/build/NetHack-Menu-0.08-7vVmP4/blib/lib/NetHack/Menu/Item.pm line 11
require NetHack/Menu/Item.pm called at /usr/home/cpan/.cpan/build/NetHack-Menu-0.08-7vVmP4/blib/lib/NetHack/Menu.pm line 10
NetHack::Menu::BEGIN() called at /usr/home/cpan/.cpan/build/NetHack-Menu-0.08-7vVmP4/blib/lib/NetHack/Menu/Item.pm line 0
eval {...} called at /usr/home/cpan/.cpan/build/NetHack-Menu-0.08-7vVmP4/blib/lib/NetHack/Menu/Item.pm line 0
require NetHack/Menu.pm called at t/lib/MockVT.pm line 5
MockVT::BEGIN() called at /usr/home/cpan/.cpan/build/NetHack-Menu-0.08-7vVmP4/blib/lib/NetHack/Menu/Item.pm line 0
eval {...} called at /usr/home/cpan/.cpan/build/NetHack-Menu-0.08-7vVmP4/blib/lib/NetHack/Menu/Item.pm line 0
require MockVT.pm called at t/010-enhance.t line 4
main::BEGIN() called at /usr/home/cpan/.cpan/build/NetHack-Menu-0.08-7vVmP4/blib/lib/NetHack/Menu/Item.pm line 0
eval {...} called at /usr/home/cpan/.cpan/build/NetHack-Menu-0.08-7vVmP4/blib/lib/NetHack/Menu/Item.pm line 0
t/010-enhance.t .............. ok
Passing a list of values to enum is deprecated. Enum values should be wrapped in an arrayref. at /home/cpan/.cpan/build/Moose-2.1209-x1Q3s6/blib/lib/Moose/Util/TypeConstraints.pm line 440.
Moose::Util::TypeConstraints::enum("NetHack::Menu::Item::SelectedAll", "all") called at /usr/home/cpan/.cpan/build/NetHack-Menu-0.08-7vVmP4/blib/lib/NetHack/Menu/Item.pm line 11
require NetHack/Menu/Item.pm called at /usr/home/cpan/.cpan/build/NetHack-Menu-0.08-7vVmP4/blib/lib/NetHack/Menu.pm line 10
NetHack::Menu::BEGIN() called at /usr/home/cpan/.cpan/build/NetHack-Menu-0.08-7vVmP4/blib/lib/NetHack/Menu/Item.pm line 0
eval {...} called at /usr/home/cpan/.cpan/build/NetHack-Menu-0.08-7vVmP4/blib/lib/NetHack/Menu/Item.pm line 0
require NetHack/Menu.pm called at t/lib/MockVT.pm line 5
MockVT::BEGIN() called at /usr/home/cpan/.cpan/build/NetHack-Menu-0.08-7vVmP4/blib/lib/NetHack/Menu/Item.pm line 0
eval {...} called at /usr/home/cpan/.cpan/build/NetHack-Menu-0.08-7vVmP4/blib/lib/NetHack/Menu/Item.pm line 0
require MockVT.pm called at t/011-select-count.t line 4
main::BEGIN() called at /usr/home/cpan/.cpan/build/NetHack-Menu-0.08-7vVmP4/blib/lib/NetHack/Menu/Item.pm line 0
eval {...} called at /usr/home/cpan/.cpan/build/NetHack-Menu-0.08-7vVmP4/blib/lib/NetHack/Menu/Item.pm line 0
t/011-select-count.t ......... ok
Passing a list of values to enum is deprecated. Enum values should be wrapped in an arrayref. at /home/cpan/.cpan/build/Moose-2.1209-x1Q3s6/blib/lib/Moose/Util/TypeConstraints.pm line 440.
Moose::Util::TypeConstraints::enum("NetHack::Menu::Item::SelectedAll", "all") called at /usr/home/cpan/.cpan/build/NetHack-Menu-0.08-7vVmP4/blib/lib/NetHack/Menu/Item.pm line 11
require NetHack/Menu/Item.pm called at /usr/home/cpan/.cpan/build/NetHack-Menu-0.08-7vVmP4/blib/lib/NetHack/Menu.pm line 10
NetHack::Menu::BEGIN() called at /usr/home/cpan/.cpan/build/NetHack-Menu-0.08-7vVmP4/blib/lib/NetHack/Menu/Item.pm line 0
eval {...} called at /usr/home/cpan/.cpan/build/NetHack-Menu-0.08-7vVmP4/blib/lib/NetHack/Menu/Item.pm line 0
require NetHack/Menu.pm called at t/lib/MockVT.pm line 5
MockVT::BEGIN() called at /usr/home/cpan/.cpan/build/NetHack-Menu-0.08-7vVmP4/blib/lib/NetHack/Menu/Item.pm line 0
eval {...} called at /usr/home/cpan/.cpan/build/NetHack-Menu-0.08-7vVmP4/blib/lib/NetHack/Menu/Item.pm line 0
require MockVT.pm called at t/012-counted-transitions.t line 4
main::BEGIN() called at /usr/home/cpan/.cpan/build/NetHack-Menu-0.08-7vVmP4/blib/lib/NetHack/Menu/Item.pm line 0
eval {...} called at /usr/home/cpan/.cpan/build/NetHack-Menu-0.08-7vVmP4/blib/lib/NetHack/Menu/Item.pm line 0
t/012-counted-transitions.t .. ok
Passing a list of values to enum is deprecated. Enum values should be wrapped in an arrayref. at /home/cpan/.cpan/build/Moose-2.1209-x1Q3s6/blib/lib/Moose/Util/TypeConstraints.pm line 440.
Moose::Util::TypeConstraints::enum("NetHack::Menu::Item::SelectedAll", "all") called at /usr/home/cpan/.cpan/build/NetHack-Menu-0.08-7vVmP4/blib/lib/NetHack/Menu/Item.pm line 11
require NetHack/Menu/Item.pm called at /usr/home/cpan/.cpan/build/NetHack-Menu-0.08-7vVmP4/blib/lib/NetHack/Menu.pm line 10
NetHack::Menu::BEGIN() called at /usr/home/cpan/.cpan/build/NetHack-Menu-0.08-7vVmP4/blib/lib/NetHack/Menu/Item.pm line 0
eval {...} called at /usr/home/cpan/.cpan/build/NetHack-Menu-0.08-7vVmP4/blib/lib/NetHack/Menu/Item.pm line 0
require NetHack/Menu.pm called at t/lib/MockVT.pm line 5
MockVT::BEGIN() called at /usr/home/cpan/.cpan/build/NetHack-Menu-0.08-7vVmP4/blib/lib/NetHack/Menu/Item.pm line 0
eval {...} called at /usr/home/cpan/.cpan/build/NetHack-Menu-0.08-7vVmP4/blib/lib/NetHack/Menu/Item.pm line 0
require MockVT.pm called at t/013-select-item.t line 4
main::BEGIN() called at /usr/home/cpan/.cpan/build/NetHack-Menu-0.08-7vVmP4/blib/lib/NetHack/Menu/Item.pm line 0
eval {...} called at /usr/home/cpan/.cpan/build/NetHack-Menu-0.08-7vVmP4/blib/lib/NetHack/Menu/Item.pm line 0
t/013-select-item.t .......... ok
All tests successful.
Files=13, Tests=134, 7 wallclock secs ( 0.06 usr 0.04 sys + 5.05 cusr 1.89 csys = 7.04 CPU)
Result: PASS
------------------------------
PREREQUISITES
------------------------------
Prerequisite modules loaded:
requires:
Module Need Have
---------------------------- ---- --------
Moose 0 2.1209
Moose::Util::TypeConstraints 0 2.1209
build_requires:
Module Need Have
---------------------------- ---- --------
File::Find 0 1.20
File::Temp 0 0.2301
lib 0 0.63
parent 0 0.225
strict 0 1.07
Term::VT102 0 0.91
Test::Deep 0 0.112
Test::Fatal 0 0.013
Test::More 0.88 1.001002
warnings 0 1.13
configure_requires:
Module Need Have
---------------------------- ---- --------
ExtUtils::MakeMaker 6.30 6.6302
------------------------------
ENVIRONMENT AND OTHER CONTEXT
------------------------------
Environment variables:
AUTOMATED_TESTING = 1
PATH = /sbin:/bin:/usr/sbin:/usr/bin:/usr/games:/usr/local/sbin:/usr/local/bin:/home/cpan/bin
PERL5LIB = /home/cpan/.cpan/build/Term-VT102-0.91-98fJzj/blib/arch:/home/cpan/.cpan/build/Term-VT102-0.91-98fJzj/blib/lib:/home/cpan/.cpan/build/Moose-2.1209-x1Q3s6/blib/arch:/home/cpan/.cpan/build/Moose-2.1209-x1Q3s6/blib/lib:/home/cpan/.cpan/build/Devel-GlobalDestruction-0.12-cCHAKy/blib/arch:/home/cpan/.cpan/build/Devel-GlobalDestruction-0.12-cCHAKy/blib/lib:/home/cpan/.cpan/build/Sub-Exporter-Progressive-0.001011-Ogwjqt/blib/arch:/home/cpan/.cpan/build/Sub-Exporter-Progressive-0.001011-Ogwjqt/blib/lib:/home/cpan/.cpan/build/Sub-Name-0.05-WbRKWk/blib/arch:/home/cpan/.cpan/build/Sub-Name-0.05-WbRKWk/blib/lib:/home/cpan/.cpan/build/Eval-Closure-0.11-dNsNaP/blib/arch:/home/cpan/.cpan/build/Eval-Closure-0.11-dNsNaP/blib/lib:/home/cpan/.cpan/build/Devel-StackTrace-1.32-BSfdHB/blib/arch:/home/cpan/.cpan/build/Devel-StackTrace-1.32-BSfdHB/blib/lib:/home/cpan/.cpan/build/Class-Load-XS-0.08-1wpN0z/blib/arch:/home/cpan/.cpan/build/Class-Load-XS-0.08-1wpN0z/blib/lib:/home/cpan/.cpan/build/Class-Load-0.21-vQr7TW/blib/arch:/home/cpan/.cpan/build/Class-Load-0.21-vQr7TW/blib/lib:/home/cpan/.cpan/build/Package-Stash-0.36-8czDzz/blib/arch:/home/cpan/.cpan/build/Package-Stash-0.36-8czDzz/blib/lib:/home/cpan/.cpan/build/Module-Build-Tiny-0.036-gG8JPI/blib/arch:/home/cpan/.cpan/build/Module-Build-Tiny-0.036-gG8JPI/blib/lib:/home/cpan/.cpan/build/ExtUtils-InstallPaths-0.010-QmAgFG/blib/arch:/home/cpan/.cpan/build/ExtUtils-InstallPaths-0.010-QmAgFG/blib/lib:/home/cpan/.cpan/build/ExtUtils-Config-0.007-GIxt5C/blib/arch:/home/cpan/.cpan/build/ExtUtils-Config-0.007-GIxt5C/blib/lib:/home/cpan/.cpan/build/ExtUtils-Helpers-0.022-pVZuyj/blib/arch:/home/cpan/.cpan/build/ExtUtils-Helpers-0.022-pVZuyj/blib/lib:/home/cpan/.cpan/build/Test-Harness-3.31-dfHypu/blib/arch:/home/cpan/.cpan/build/Test-Harness-3.31-dfHypu/blib/lib:/home/cpan/.cpan/build/Module-Implementation-0.07-jhykNb/blib/arch:/home/cpan/.cpan/build/Module-Implementation-0.07-jhykNb/blib/lib:/home/cpan/.cpan/build/Task-Weaken-1.04-yoM1jS/blib/arch:/home/cpan/.cpan/build/Task-Weaken-1.04-yoM1jS/blib/lib:/home/cpan/.cpan/build/Package-Stash-XS-0.28-AfCRdP/blib/arch:/home/cpan/.cpan/build/Package-Stash-XS-0.28-AfCRdP/blib/lib:/home/cpan/.cpan/build/CPAN-Meta-Check-0.008-nRR0lY/blib/arch:/home/cpan/.cpan/build/CPAN-Meta-Check-0.008-nRR0lY/blib/lib:/home/cpan/.cpan/build/Package-DeprecationManager-0.13-rGO6Jl/blib/arch:/home/cpan/.cpan/build/Package-DeprecationManager-0.13-rGO6Jl/blib/lib:/home/cpan/.cpan/build/List-MoreUtils-0.33-B41T3D/blib/arch:/home/cpan/.cpan/build/List-MoreUtils-0.33-B41T3D/blib/lib:/home/cpan/.cpan/build/Test-Requires-0.07-H5squt/blib/arch:/home/cpan/.cpan/build/Test-Requires-0.07-H5squt/blib/lib:/home/cpan/.cpan/build/Dist-CheckConflicts-0.11-q0PIqn/blib/arch:/home/cpan/.cpan/build/Dist-CheckConflicts-0.11-q0PIqn/blib/lib:/home/cpan/.cpan/build/Test-Fatal-0.013-Xd0HWX/blib/arch:/home/cpan/.cpan/build/Test-Fatal-0.013-Xd0HWX/blib/lib:/home/cpan/.cpan/build/Try-Tiny-0.22-7aWOfN/blib/arch:/home/cpan/.cpan/build/Try-Tiny-0.22-7aWOfN/blib/lib
PERL5OPT =
PERL5_CPANPLUS_IS_RUNNING = 3163
PERL5_CPAN_IS_RUNNING = 3163
PERL5_CPAN_IS_RUNNING_IN_RECURSION = 55428,3163
PERL_CR_SMOKER_CURRENT = NetHack-Menu-0.08
PERL_EXTUTILS_AUTOINSTALL = --defaultdeps
PERL_MM_USE_DEFAULT = 1
SHELL = /bin/sh
TERM = screen
Perl special variables (and OS-specific diagnostics, for MSWin32):
$^X = /usr/local/bin/perl5.16.3
$UID/$EUID = 1001 / 1001
$GID = 1001 1001
$EGID = 1001 1001
Perl module toolchain versions installed:
Module Have
------------------- --------
CPAN 1.9800
CPAN::Meta 2.140640
Cwd 3.40
ExtUtils::CBuilder 0.280206
ExtUtils::Command 1.17
ExtUtils::Install 1.58
ExtUtils::MakeMaker 6.6302
ExtUtils::Manifest 1.61
ExtUtils::ParseXS 3.16
File::Spec 3.40
JSON 2.90
JSON::PP 2.27200
Module::Build 0.39_01
Module::Signature 0.73
Parse::CPAN::Meta 1.4414
Test::Harness 3.31
Test::More 1.001002
YAML 0.87
YAML::Syck n/a
version 0.99
--
Summary of my perl5 (revision 5 version 16 subversion 3) configuration:
Platform:
osname=freebsd, osvers=9.1-release-p10, archname=amd64-freebsd-thread-multi
uname='freebsd 91amd64-default-job-07 9.1-release-p10 freebsd 9.1-release-p10 amd64 '
config_args='-sde -Dprefix=/usr/local -Darchlib=/usr/local/lib/perl5/5.16/mach -Dprivlib=/usr/local/lib/perl5/5.16 -Dman3dir=/usr/local/lib/perl5/5.16/perl/man/man3 -Dman1dir=/usr/local/man/man1 -Dsitearch=/usr/local/lib/perl5/site_perl/5.16/mach -Dsitelib=/usr/local/lib/perl5/site_perl/5.16 -Dscriptdir=/usr/local/bin -Dsiteman3dir=/usr/local/lib/perl5/5.16/man/man3 -Dsiteman1dir=/usr/local/man/man1 -Ui_malloc -Ui_iconv -Uinstallusrbinperl -Dcc=cc -Duseshrplib -Dinc_version_list=none -Dccflags=-DAPPLLIB_EXP="/usr/local/lib/perl5/5.16/BSDPAN" -Doptimize=-O2 -pipe -fno-strict-aliasing -Ui_gdbm -Dusethreads=y -Dusemymalloc=n -Duse64bitint'
hint=recommended, useposix=true, d_sigaction=define
useithreads=define, usemultiplicity=define
useperlio=define, d_sfio=undef, uselargefiles=define, usesocks=undef
use64bitint=define, use64bitall=define, uselongdouble=undef
usemymalloc=n, bincompat5005=undef
Compiler:
cc='cc', ccflags ='-DAPPLLIB_EXP="/usr/local/lib/perl5/5.16/BSDPAN" -DHAS_FPSETMASK -DHAS_FLOATINGPOINT_H -fno-strict-aliasing -pipe -fstack-protector -I/usr/local/include',
optimize='-O2 -pipe -fno-strict-aliasing',
cppflags='-DAPPLLIB_EXP="/usr/local/lib/perl5/5.16/BSDPAN" -DHAS_FPSETMASK -DHAS_FLOATINGPOINT_H -fno-strict-aliasing -pipe -fstack-protector -I/usr/local/include'
ccversion='', gccversion='4.2.1 20070831 patched [FreeBSD]', gccosandvers=''
intsize=4, longsize=8, ptrsize=8, doublesize=8, byteorder=12345678
d_longlong=define, longlongsize=8, d_longdbl=define, longdblsize=16
ivtype='long', ivsize=8, nvtype='double', nvsize=8, Off_t='off_t', lseeksize=8
alignbytes=8, prototype=define
Linker and Libraries:
ld='cc', ldflags ='-pthread -Wl,-E -fstack-protector -L/usr/local/lib'
libpth=/usr/lib /usr/local/lib
libs=-lm -lcrypt -lutil
perllibs=-lm -lcrypt -lutil
libc=, so=so, useshrplib=true, libperl=libperl.so
gnulibc_version=''
Dynamic Linking:
dlsrc=dl_dlopen.xs, dlext=so, d_dlsymun=undef, ccdlflags=' -Wl,-R/usr/local/lib/perl5/5.16/mach/CORE'
cccdlflags='-DPIC -fPIC', lddlflags='-shared -L/usr/local/lib -fstack-protector'
Characteristics of this binary (from libperl):
Compile-time options: HAS_TIMES MULTIPLICITY PERLIO_LAYERS
PERL_DONT_CREATE_GVSV PERL_IMPLICIT_CONTEXT
PERL_MALLOC_WRAP PERL_PRESERVE_IVUV USE_64_BIT_ALL
USE_64_BIT_INT USE_ITHREADS USE_LARGE_FILES
USE_LOCALE USE_LOCALE_COLLATE USE_LOCALE_CTYPE
USE_LOCALE_NUMERIC USE_PERLIO USE_PERL_ATOF
USE_REENTRANT_API
Built under freebsd
Compiled at Mar 19 2014 19:17:27
%ENV:
PERL5LIB="/home/cpan/.cpan/build/Term-VT102-0.91-98fJzj/blib/arch:/home/cpan/.cpan/build/Term-VT102-0.91-98fJzj/blib/lib:/home/cpan/.cpan/build/Moose-2.1209-x1Q3s6/blib/arch:/home/cpan/.cpan/build/Moose-2.1209-x1Q3s6/blib/lib:/home/cpan/.cpan/build/Devel-GlobalDestruction-0.12-cCHAKy/blib/arch:/home/cpan/.cpan/build/Devel-GlobalDestruction-0.12-cCHAKy/blib/lib:/home/cpan/.cpan/build/Sub-Exporter-Progressive-0.001011-Ogwjqt/blib/arch:/home/cpan/.cpan/build/Sub-Exporter-Progressive-0.001011-Ogwjqt/blib/lib:/home/cpan/.cpan/build/Sub-Name-0.05-WbRKWk/blib/arch:/home/cpan/.cpan/build/Sub-Name-0.05-WbRKWk/blib/lib:/home/cpan/.cpan/build/Eval-Closure-0.11-dNsNaP/blib/arch:/home/cpan/.cpan/build/Eval-Closure-0.11-dNsNaP/blib/lib:/home/cpan/.cpan/build/Devel-StackTrace-1.32-BSfdHB/blib/arch:/home/cpan/.cpan/build/Devel-StackTrace-1.32-BSfdHB/blib/lib:/home/cpan/.cpan/build/Class-Load-XS-0.08-1wpN0z/blib/arch:/home/cpan/.cpan/build/Class-Load-XS-0.08-1wpN0z/blib/lib:/home/cpan/.cpan/build/Class-Load-0.21-vQr7TW/blib/arch:/home/cpan/.cpan/build/Class-Load-0.21-vQr7TW/blib/lib:/home/cpan/.cpan/build/Package-Stash-0.36-8czDzz/blib/arch:/home/cpan/.cpan/build/Package-Stash-0.36-8czDzz/blib/lib:/home/cpan/.cpan/build/Module-Build-Tiny-0.036-gG8JPI/blib/arch:/home/cpan/.cpan/build/Module-Build-Tiny-0.036-gG8JPI/blib/lib:/home/cpan/.cpan/build/ExtUtils-InstallPaths-0.010-QmAgFG/blib/arch:/home/cpan/.cpan/build/ExtUtils-InstallPaths-0.010-QmAgFG/blib/lib:/home/cpan/.cpan/build/ExtUtils-Config-0.007-GIxt5C/blib/arch:/home/cpan/.cpan/build/ExtUtils-Config-0.007-GIxt5C/blib/lib:/home/cpan/.cpan/build/ExtUtils-Helpers-0.022-pVZuyj/blib/arch:/home/cpan/.cpan/build/ExtUtils-Helpers-0.022-pVZuyj/blib/lib:/home/cpan/.cpan/build/Test-Harness-3.31-dfHypu/blib/arch:/home/cpan/.cpan/build/Test-Harness-3.31-dfHypu/blib/lib:/home/cpan/.cpan/build/Module-Implementation-0.07-jhykNb/blib/arch:/home/cpan/.cpan/build/Module-Implementation-0.07-jhykNb/blib/lib:/home/cpan/.cpan/build/Task-Weaken-1.04-yoM1jS/blib/arch:/home/cpan/.cpan/build/Task-Weaken-1.04-yoM1jS/blib/lib:/home/cpan/.cpan/build/Package-Stash-XS-0.28-AfCRdP/blib/arch:/home/cpan/.cpan/build/Package-Stash-XS-0.28-AfCRdP/blib/lib:/home/cpan/.cpan/build/CPAN-Meta-Check-0.008-nRR0lY/blib/arch:/home/cpan/.cpan/build/CPAN-Meta-Check-0.008-nRR0lY/blib/lib:/home/cpan/.cpan/build/Package-DeprecationManager-0.13-rGO6Jl/blib/arch:/home/cpan/.cpan/build/Package-DeprecationManager-0.13-rGO6Jl/blib/lib:/home/cpan/.cpan/build/List-MoreUtils-0.33-B41T3D/blib/arch:/home/cpan/.cpan/build/List-MoreUtils-0.33-B41T3D/blib/lib:/home/cpan/.cpan/build/Test-Requires-0.07-H5squt/blib/arch:/home/cpan/.cpan/build/Test-Requires-0.07-H5squt/blib/lib:/home/cpan/.cpan/build/Dist-CheckConflicts-0.11-q0PIqn/blib/arch:/home/cpan/.cpan/build/Dist-CheckConflicts-0.11-q0PIqn/blib/lib:/home/cpan/.cpan/build/Test-Fatal-0.013-Xd0HWX/blib/arch:/home/cpan/.cpan/build/Test-Fatal-0.013-Xd0HWX/blib/lib:/home/cpan/.cpan/build/Try-Tiny-0.22-7aWOfN/blib/arch:/home/cpan/.cpan/build/Try-Tiny-0.22-7aWOfN/blib/lib"
PERL5OPT=""
PERL5_CPANPLUS_IS_RUNNING="3163"
PERL5_CPAN_IS_RUNNING="3163"
PERL5_CPAN_IS_RUNNING_IN_RECURSION="55428,3163"
PERL_CR_SMOKER_CURRENT="NetHack-Menu-0.08"
PERL_EXTUTILS_AUTOINSTALL="--defaultdeps"
PERL_MM_USE_DEFAULT="1"
@INC:
/home/cpan/.cpan/build/Term-VT102-0.91-98fJzj/blib/arch
/home/cpan/.cpan/build/Term-VT102-0.91-98fJzj/blib/lib
/home/cpan/.cpan/build/Moose-2.1209-x1Q3s6/blib/arch
/home/cpan/.cpan/build/Moose-2.1209-x1Q3s6/blib/lib
/home/cpan/.cpan/build/Devel-GlobalDestruction-0.12-cCHAKy/blib/arch
/home/cpan/.cpan/build/Devel-GlobalDestruction-0.12-cCHAKy/blib/lib
/home/cpan/.cpan/build/Sub-Exporter-Progressive-0.001011-Ogwjqt/blib/arch
/home/cpan/.cpan/build/Sub-Exporter-Progressive-0.001011-Ogwjqt/blib/lib
/home/cpan/.cpan/build/Sub-Name-0.05-WbRKWk/blib/arch
/home/cpan/.cpan/build/Sub-Name-0.05-WbRKWk/blib/lib
/home/cpan/.cpan/build/Eval-Closure-0.11-dNsNaP/blib/arch
/home/cpan/.cpan/build/Eval-Closure-0.11-dNsNaP/blib/lib
/home/cpan/.cpan/build/Devel-StackTrace-1.32-BSfdHB/blib/arch
/home/cpan/.cpan/build/Devel-StackTrace-1.32-BSfdHB/blib/lib
/home/cpan/.cpan/build/Class-Load-XS-0.08-1wpN0z/blib/arch
/home/cpan/.cpan/build/Class-Load-XS-0.08-1wpN0z/blib/lib
/home/cpan/.cpan/build/Class-Load-0.21-vQr7TW/blib/arch
/home/cpan/.cpan/build/Class-Load-0.21-vQr7TW/blib/lib
/home/cpan/.cpan/build/Package-Stash-0.36-8czDzz/blib/arch
/home/cpan/.cpan/build/Package-Stash-0.36-8czDzz/blib/lib
/home/cpan/.cpan/build/Module-Build-Tiny-0.036-gG8JPI/blib/arch
/home/cpan/.cpan/build/Module-Build-Tiny-0.036-gG8JPI/blib/lib
/home/cpan/.cpan/build/ExtUtils-InstallPaths-0.010-QmAgFG/blib/arch
/home/cpan/.cpan/build/ExtUtils-InstallPaths-0.010-QmAgFG/blib/lib
/home/cpan/.cpan/build/ExtUtils-Config-0.007-GIxt5C/blib/arch
/home/cpan/.cpan/build/ExtUtils-Config-0.007-GIxt5C/blib/lib
/home/cpan/.cpan/build/ExtUtils-Helpers-0.022-pVZuyj/blib/arch
/home/cpan/.cpan/build/ExtUtils-Helpers-0.022-pVZuyj/blib/lib
/home/cpan/.cpan/build/Test-Harness-3.31-dfHypu/blib/arch
/home/cpan/.cpan/build/Test-Harness-3.31-dfHypu/blib/lib
/home/cpan/.cpan/build/Module-Implementation-0.07-jhykNb/blib/arch
/home/cpan/.cpan/build/Module-Implementation-0.07-jhykNb/blib/lib
/home/cpan/.cpan/build/Task-Weaken-1.04-yoM1jS/blib/arch
/home/cpan/.cpan/build/Task-Weaken-1.04-yoM1jS/blib/lib
/home/cpan/.cpan/build/Package-Stash-XS-0.28-AfCRdP/blib/arch
/home/cpan/.cpan/build/Package-Stash-XS-0.28-AfCRdP/blib/lib
/home/cpan/.cpan/build/CPAN-Meta-Check-0.008-nRR0lY/blib/arch
/home/cpan/.cpan/build/CPAN-Meta-Check-0.008-nRR0lY/blib/lib
/home/cpan/.cpan/build/Package-DeprecationManager-0.13-rGO6Jl/blib/arch
/home/cpan/.cpan/build/Package-DeprecationManager-0.13-rGO6Jl/blib/lib
/home/cpan/.cpan/build/List-MoreUtils-0.33-B41T3D/blib/arch
/home/cpan/.cpan/build/List-MoreUtils-0.33-B41T3D/blib/lib
/home/cpan/.cpan/build/Test-Requires-0.07-H5squt/blib/arch
/home/cpan/.cpan/build/Test-Requires-0.07-H5squt/blib/lib
/home/cpan/.cpan/build/Dist-CheckConflicts-0.11-q0PIqn/blib/arch
/home/cpan/.cpan/build/Dist-CheckConflicts-0.11-q0PIqn/blib/lib
/home/cpan/.cpan/build/Test-Fatal-0.013-Xd0HWX/blib/arch
/home/cpan/.cpan/build/Test-Fatal-0.013-Xd0HWX/blib/lib
/home/cpan/.cpan/build/Try-Tiny-0.22-7aWOfN/blib/arch
/home/cpan/.cpan/build/Try-Tiny-0.22-7aWOfN/blib/lib
/usr/local/lib/perl5/5.16/BSDPAN
/usr/local/lib/perl5/site_perl/5.16/mach
/usr/local/lib/perl5/site_perl/5.16
/usr/local/lib/perl5/5.16/mach
/usr/local/lib/perl5/5.16
.