Twitter-API v0.0113 Perl 5 v5.26.1 RC1 amd64-freebsd

Status
Pass
From
Slaven Rezić (SREZIC)
Dist
Twitter-API v0.0113
Platform
Perl 5 v5.26.1 RC1 amd64-freebsd
Date
2017-09-12 07:40:29
ID
a68e1d2c-978d-11e7-a857-ac7c84002fdc
This distribution has been tested as part of the CPAN Testers
project, supporting the Perl programming language.  See
http://wiki.cpantesters.org/ for more information or email
questions to cpan-testers-discuss@perl.org


--
Dear Marc Mims,

This is a computer-generated report for Twitter-API-0.0113
on perl 5.26.1, created by CPAN-Reporter-1.2018.

Thank you for uploading your work to CPAN.  Congratulations!
All tests were successful.

Sections of this report:

    * Tester comments
    * Program output
    * Prerequisites
    * Environment and other context

------------------------------
TESTER COMMENTS
------------------------------

Additional comments from tester:

none provided

------------------------------
PROGRAM OUTPUT
------------------------------

Output from './Build test':

t/000_load.t ..................................... ok
t/author-pod-syntax.t ............................ skipped: these tests are for testing by the author
t/base.t ......................................... ok
t/error.t ........................................ ok
t/oauth.t ........................................ ok
t/role/request-args.t ............................ ok
t/trait/api-methods/net-twitter-compatibility.t .. ok
t/trait/api-methods/update.t ..................... ok
t/trait/api-methods/upload-media.t ............... ok
t/trait/app-auth.t ............................... ok
t/trait/decode-html-entities.t ................... ok
t/trait/migration.t .............................. ok
t/trait/normalize-booleans.t ..................... ok
t/trait/retry-on-error.t ......................... ok
t/url-for.t ...................................... ok
t/util.t ......................................... ok
All tests successful.
Files=16, Tests=393,  4 wallclock secs ( 0.08 usr  0.03 sys +  2.84 cusr  0.49 csys =  3.45 CPU)
Result: PASS

------------------------------
PREREQUISITES
------------------------------

Prerequisite modules loaded:

requires:

    Module                     Need    Have    
    -------------------------- ------- --------
    Carp                       0       1.42    
    Digest::SHA                0       5.97    
    Encode                     0       2.92    
    HTML::Entities             0       3.69    
    HTTP::Request::Common      0       6.13    
    HTTP::Thin                 0       0.006   
    IO::Socket::SSL            0       2.051   
    JSON::MaybeXS              0       1.003009
    Module::Runtime            0       0.015   
    Moo                        0       2.003002
    Moo::Role                  0       2.003002
    MooX::Aliases              0       0.001006
    MooX::Traits               0       0.005   
    namespace::clean           0       0.27    
    perl                       v5.14.1 5.026001
    Ref::Util                  0       0.203   
    Scalar::Util               0       1.49    
    StackTrace::Auto           0       0.200013
    Sub::Exporter::Progressive 0       0.001013
    Throwable                  0       0.200013
    Time::HiRes                0       1.9746  
    Time::Local                0       1.25    
    Try::Tiny                  0       0.28    
    URI                        0       1.72    
    URL::Encode                0       0.03    
    WWW::OAuth                 0.006   0.006   

build_requires:

    Module                     Need    Have    
    -------------------------- ------- --------
    Test::Fatal                0       0.014   
    Test::More                 0       1.302096
    Test::Pod                  0       1.51    
    Test::Spec                 0       0.53    
    Test::Warnings             0       0.026   

configure_requires:

    Module                     Need    Have    
    -------------------------- ------- --------
    Module::Build::Tiny        0.034   0.039   


------------------------------
ENVIRONMENT AND OTHER CONTEXT
------------------------------

Environment variables:

    PATH = /usr/local/bin:/usr/bin:/bin:/usr/local/sbin:/usr/sbin:/sbin:/home/cpansand/bin/freebsd11.0:/home/cpansand/bin/sh:/home/cpansand/bin:/usr/games:/home/cpansand/devel:/home/eserte/src/srezic-misc/scripts
    PERL5LIB = 
    PERL5OPT = 
    PERL5_CPANPLUS_IS_RUNNING = 48219
    PERL5_CPAN_IS_RUNNING = 48219
    PERL5_CPAN_IS_RUNNING_IN_RECURSION = 48145,48219
    PERLDOC = -MPod::Perldoc::ToTextOverstrike
    PERL_BATCH = yes
    PERL_CANARY_STABILITY_NOPROMPT = 1
    PERL_CPAN_REPORTER_CONFIG = /var/tmp/cpansmoker-1023/2017091203/cpanreporter_000_config.ini
    PERL_EXTUTILS_AUTOINSTALL = --defaultdeps
    PERL_USE_UNSAFE_INC = 1
    SHELL = /usr/local/bin/zsh
    TERM = screen
    TMPDIR = /var/tmp/cpansmoker-1023/2017091203

Perl special variables (and OS-specific diagnostics, for MSWin32):

    $^X = /usr/perl5.26.1-RC1p/bin/perl5.26.1
    $UID/$EUID = 1023 / 1023
    $GID = 1023 1023
    $EGID = 1023 1023

Perl module toolchain versions installed:

    Module              Have    
    ------------------- --------
    CPAN                2.18    
    CPAN::Meta          2.150010
    Cwd                 3.67    
    ExtUtils::CBuilder  0.280226
    ExtUtils::Command   7.30    
    ExtUtils::Install   2.06    
    ExtUtils::MakeMaker 7.30    
    ExtUtils::Manifest  1.70    
    ExtUtils::ParseXS   3.34    
    File::Spec          3.67    
    JSON                2.94    
    JSON::PP            2.94    
    Module::Build       0.4224  
    Module::Signature   0.81    
    Parse::CPAN::Meta   2.150010
    Test::Harness       3.38    
    Test::More          1.302096
    YAML                1.23    
    YAML::Syck          1.30    
    version             0.9917  


--

Summary of my perl5 (revision 5 version 26 subversion 1) configuration:
   
  Platform:
    osname=freebsd
    osvers=11.1-stable
    archname=amd64-freebsd
    uname='freebsd ali3.bbbike.org 11.1-stable freebsd 11.1-stable #0 r313908+86423c22e2d(stable11): thu sep 7 22:30:27 utc 2017 root@ali3.bbbike.org:usrobjhomeprojectsfreebsdsysgeneric amd64 '
    config_args='-ds -e -Dprefix=/usr/perl5.26.1-RC1p -Dcf_email=srezic@cpan.org -Doptimize=-O2 -pipe'
    hint=recommended
    useposix=true
    d_sigaction=define
    useithreads=undef
    usemultiplicity=undef
    use64bitint=define
    use64bitall=define
    uselongdouble=undef
    usemymalloc=n
    default_inc_excludes_dot=define
    bincompat5005=undef
  Compiler:
    cc='cc'
    ccflags ='-DHAS_FPSETMASK -DHAS_FLOATINGPOINT_H -fno-strict-aliasing -pipe -fstack-protector-strong -I/usr/local/include -D_FORTIFY_SOURCE=2'
    optimize='-O2 -pipe'
    cppflags='-DHAS_FPSETMASK -DHAS_FLOATINGPOINT_H -fno-strict-aliasing -pipe -fstack-protector-strong -I/usr/local/include'
    ccversion=''
    gccversion='4.2.1 Compatible FreeBSD Clang 4.0.0 (tags/RELEASE_400/final 297347)'
    gccosandvers=''
    intsize=4
    longsize=8
    ptrsize=8
    doublesize=8
    byteorder=12345678
    doublekind=3
    d_longlong=define
    longlongsize=8
    d_longdbl=define
    longdblsize=16
    longdblkind=3
    ivtype='long'
    ivsize=8
    nvtype='double'
    nvsize=8
    Off_t='off_t'
    lseeksize=8
    alignbytes=8
    prototype=define
  Linker and Libraries:
    ld='cc'
    ldflags ='-pthread -Wl,-E  -fstack-protector-strong -L/usr/local/lib'
    libpth=/usr/lib /usr/local/lib /usr/bin/../lib/clang/4.0.0/lib /usr/lib
    libs=-lpthread -lgdbm -lm -lcrypt -lutil -lc
    perllibs=-lpthread -lm -lcrypt -lutil -lc
    libc=
    so=so
    useshrplib=false
    libperl=libperl.a
    gnulibc_version=''
  Dynamic Linking:
    dlsrc=dl_dlopen.xs
    dlext=so
    d_dlsymun=undef
    ccdlflags=' '
    cccdlflags='-DPIC -fPIC'
    lddlflags='-shared  -L/usr/local/lib -fstack-protector-strong'


Characteristics of this binary (from libperl): 
  Compile-time options:
    HAS_TIMES
    PERLIO_LAYERS
    PERL_COPY_ON_WRITE
    PERL_DONT_CREATE_GVSV
    PERL_MALLOC_WRAP
    PERL_OP_PARENT
    PERL_PRESERVE_IVUV
    USE_64_BIT_ALL
    USE_64_BIT_INT
    USE_LARGE_FILES
    USE_LOCALE
    USE_LOCALE_COLLATE
    USE_LOCALE_CTYPE
    USE_LOCALE_NUMERIC
    USE_LOCALE_TIME
    USE_PERLIO
    USE_PERL_ATOF
  Locally applied patches:
    RC1
  Built under freebsd
  Compiled at Sep 10 2017 15:53:34
  %ENV:
    PERL5LIB=""
    PERL5OPT=""
    PERL5_CPANPLUS_IS_RUNNING="48219"
    PERL5_CPAN_IS_RUNNING="48219"
    PERL5_CPAN_IS_RUNNING_IN_RECURSION="48145,48219"
    PERLDOC="-MPod::Perldoc::ToTextOverstrike"
    PERL_BATCH="yes"
    PERL_CANARY_STABILITY_NOPROMPT="1"
    PERL_CPAN_REPORTER_CONFIG="/var/tmp/cpansmoker-1023/2017091203/cpanreporter_000_config.ini"
    PERL_EXTUTILS_AUTOINSTALL="--defaultdeps"
    PERL_USE_UNSAFE_INC="1"
  @INC:
    /usr/perl5.26.1-RC1p/lib/site_perl/5.26.1/amd64-freebsd
    /usr/perl5.26.1-RC1p/lib/site_perl/5.26.1
    /usr/perl5.26.1-RC1p/lib/5.26.1/amd64-freebsd
    /usr/perl5.26.1-RC1p/lib/5.26.1
    .