MooseX-SimpleConfig v0.11 Perl 5 v5.26.3 x86_64-linux-thread-multi

Status
Pass
From
Pär Karlsson
Dist
MooseX-SimpleConfig v0.11
Platform
Perl 5 v5.26.3 x86_64-linux-thread-multi
Date
2019-05-08 15:05:00
ID
a697ced0-71a2-11e9-b56b-db5b42b4d0e8
This distribution has been tested as part of the CPAN Testers
project, supporting the Perl programming language.  See
http://wiki.cpantesters.org/ for more information or email
questions to cpan-testers-discuss@perl.org


--
Dear Karen Etheridge,

This is a computer-generated report for MooseX-SimpleConfig-0.11
on perl 5.26.3, created by CPAN-Reporter-1.2018.

Thank you for uploading your work to CPAN.  Congratulations!
All tests were successful.

Sections of this report:

    * Tester comments
    * Program output
    * Prerequisites
    * Environment and other context

------------------------------
TESTER COMMENTS
------------------------------

Additional comments from tester:

none provided

------------------------------
PROGRAM OUTPUT
------------------------------

Output from './Build test':

# 
# Versions for all modules listed in MYMETA.json (including optional ones):
# 
# === Configure Requires ===
# 
#     Module               Want  Have
#     ------------------- ----- -----
#     Module::Build::Tiny 0.039 0.039
# 
# === Test Requires ===
# 
#     Module                Want     Have
#     --------------------- ---- --------
#     ExtUtils::MakeMaker    any     7.24
#     File::Spec             any     3.67
#     File::Spec::Functions  any     3.67
#     File::Temp             any   0.2304
#     Moose                  any   2.2011
#     Test::Fatal            any    0.014
#     Test::More            0.88 1.302164
#     lib                    any     0.64
#     strict                 any     1.11
#     warnings               any     1.37
# 
# === Test Recommends ===
# 
#     Module         Want     Have
#     ---------- -------- --------
#     CPAN::Meta 2.120900 2.150010
# 
# === Runtime Requires ===
# 
#     Module                 Want   Have
#     ---------------------- ---- ------
#     Config::Any            0.13   0.32
#     Moose::Role             any 2.2011
#     MooseX::ConfigFromFile  any   0.14
# 
# === Other Modules ===
# 
#     Module               Want Have
#     -------------------- ---- ----
#     Dist::CheckConflicts  any 0.11
# 
t/00-report-prereqs.t .. ok
t/01use.t .............. ok
t/10simple.t ........... ok
t/11default.t .......... ok
t/12config_any_args.t .. ok
t/multiple.t ........... ok
t/zzz-check-breaks.t ... ok
All tests successful.
Files=7, Tests=31,  3 wallclock secs ( 0.03 usr  0.01 sys +  2.25 cusr  0.21 csys =  2.50 CPU)
Result: PASS

------------------------------
PREREQUISITES
------------------------------

Prerequisite modules loaded:

requires:

    Module                 Need     Have    
    ---------------------- -------- --------
    Config::Any            0.13     0.32    
    Moose::Role            0        2.2011  
    MooseX::ConfigFromFile 0        0.14    
    perl                   5.006    5.026003

build_requires:

    Module                 Need     Have    
    ---------------------- -------- --------
    ExtUtils::MakeMaker    0        7.24    
    File::Spec             0        3.67    
    File::Spec::Functions  0        3.67    
    File::Temp             0        0.2304  
    lib                    0        0.64    
    Moose                  0        2.2011  
    perl                   5.006    5.026003
    strict                 0        1.11    
    Test::Fatal            0        0.014   
    Test::More             0.88     1.302164
    warnings               0        1.37    

configure_requires:

    Module                 Need     Have    
    ---------------------- -------- --------
    Module::Build::Tiny    0.039    0.039   
    perl                   5.004    5.026003

opt_build_requires:

    Module                 Need     Have    
    ---------------------- -------- --------
    CPAN::Meta             2.120900 2.150010


------------------------------
ENVIRONMENT AND OTHER CONTEXT
------------------------------

Environment variables:

    LANG = en_US.utf8
    LC_MEASUREMENT = sv_SE.UTF-8
    LC_MONETARY = sv_SE.UTF-8
    LC_NUMERIC = sv_SE.UTF-8
    LC_PAPER = sv_SE.UTF-8
    LC_TIME = sv_SE.UTF-8
    NONINTERACTIVE_TESTING = 1
    PATH = /opt/perlbrew/bin:/opt/perlbrew/perls/perl-5.26.3/bin:/home/pk/.local/google-cloud-sdk/bin:/home/pk/.nvm/versions/node/v10.15.3/bin:/home/pk/.local/bin:/home/pk/.cargo/bin:/home/pk/.cargo/bin:/usr/lib/llvm/6/bin:/usr/local/sbin:/usr/local/bin:/usr/sbin:/usr/bin:/sbin:/bin:/opt/bin:/opt/nvidia-cg-toolkit/bin:/opt/cuda/bin:/opt/cuda/libnvvp
    PERL5LIB = 
    PERL5OPT = 
    PERL5_CPANPLUS_IS_RUNNING = 19254
    PERL5_CPAN_IS_RUNNING = 19254
    PERLBREW_HOME = /home/pk/.perlbrew
    PERLBREW_MANPATH = /opt/perlbrew/perls/perl-5.26.3/man
    PERLBREW_PATH = /opt/perlbrew/bin:/opt/perlbrew/perls/perl-5.26.3/bin
    PERLBREW_PERL = perl-5.26.3
    PERLBREW_ROOT = /opt/perlbrew
    PERLBREW_SHELLRC_VERSION = 0.86
    PERLBREW_VERSION = 0.86
    PERL_MM_USE_DEFAULT = 1
    PERL_USE_UNSAFE_INC = 1
    SHELL = /bin/bash
    TERM = xterm-256color

Perl special variables (and OS-specific diagnostics, for MSWin32):

    $^X = /opt/perlbrew/perls/perl-5.26.3/bin/perl
    $UID/$EUID = 1000 / 1000
    $GID = 1000 10 18 27 78 85 97 100 250 985 988 989 991 992 995 1000
    $EGID = 1000 10 18 27 78 85 97 100 250 985 988 989 991 992 995 1000

Perl module toolchain versions installed:

    Module              Have      
    ------------------- ----------
    CPAN                2.18      
    CPAN::Meta          2.150010  
    Cwd                 3.67      
    ExtUtils::CBuilder  0.280225  
    ExtUtils::Command   7.24      
    ExtUtils::Install   2.04      
    ExtUtils::MakeMaker 7.24      
    ExtUtils::Manifest  1.70      
    ExtUtils::ParseXS   3.34      
    File::Spec          3.67      
    JSON                4.02      
    JSON::PP            2.27400_02
    Module::Build       0.4229    
    Module::Signature   n/a       
    Parse::CPAN::Meta   2.150010  
    Test::Harness       3.38      
    Test::More          1.302164  
    YAML                1.28      
    YAML::Syck          n/a       
    version             0.9917    


--

Summary of my perl5 (revision 5 version 26 subversion 3) configuration:
   
  Platform:
    osname=linux
    osvers=4.19.37-gentoo
    archname=x86_64-linux-thread-multi
    uname='linux pandora 4.19.37-gentoo #1 smp preempt mon may 6 08:45:37 cest 2019 x86_64 intel(r) core(tm) i7-7700hq cpu @ 2.80ghz genuineintel gnulinux '
    config_args='-de -Dprefix=/opt/perlbrew/perls/perl-5.26.3 -Doptimize=-O3 -march=native -Duseshrplib -Dusemultiplicity -Dusethreads -Aeval:scriptdir=/opt/perlbrew/perls/perl-5.26.3/bin'
    hint=recommended
    useposix=true
    d_sigaction=define
    useithreads=define
    usemultiplicity=define
    use64bitint=define
    use64bitall=define
    uselongdouble=undef
    usemymalloc=n
    default_inc_excludes_dot=define
    bincompat5005=undef
  Compiler:
    cc='cc'
    ccflags ='-D_REENTRANT -D_GNU_SOURCE -fwrapv -fno-strict-aliasing -pipe -fstack-protector-strong -D_LARGEFILE_SOURCE -D_FILE_OFFSET_BITS=64'
    optimize='-O3 -march=native'
    cppflags='-D_REENTRANT -D_GNU_SOURCE -fwrapv -fno-strict-aliasing -pipe -fstack-protector-strong'
    ccversion=''
    gccversion='8.3.0'
    gccosandvers=''
    intsize=4
    longsize=8
    ptrsize=8
    doublesize=8
    byteorder=12345678
    doublekind=3
    d_longlong=define
    longlongsize=8
    d_longdbl=define
    longdblsize=16
    longdblkind=3
    ivtype='long'
    ivsize=8
    nvtype='double'
    nvsize=8
    Off_t='off_t'
    lseeksize=8
    alignbytes=8
    prototype=define
  Linker and Libraries:
    ld='cc'
    ldflags =' -fstack-protector-strong -L/usr/local/lib'
    libpth=/usr/lib/gcc/x86_64-pc-linux-gnu/8.3.0/include-fixed /usr/lib /usr/local/lib /lib/../lib64 /usr/lib/../lib64 /lib /lib64 /usr/lib64 /usr/local/lib64
    libs=-lpthread -lnsl -lgdbm -ldb -ldl -lm -lcrypt -lutil -lc -lgdbm_compat
    perllibs=-lpthread -lnsl -ldl -lm -lcrypt -lutil -lc
    libc=libc-2.28.so
    so=so
    useshrplib=true
    libperl=libperl.so
    gnulibc_version='2.28'
  Dynamic Linking:
    dlsrc=dl_dlopen.xs
    dlext=so
    d_dlsymun=undef
    ccdlflags='-Wl,-E -Wl,-rpath,/opt/perlbrew/perls/perl-5.26.3/lib/5.26.3/x86_64-linux-thread-multi/CORE'
    cccdlflags='-fPIC'
    lddlflags='-shared -O3 -march=native -L/usr/local/lib -fstack-protector-strong'


Characteristics of this binary (from libperl): 
  Compile-time options:
    HAS_TIMES
    MULTIPLICITY
    PERLIO_LAYERS
    PERL_COPY_ON_WRITE
    PERL_DONT_CREATE_GVSV
    PERL_IMPLICIT_CONTEXT
    PERL_MALLOC_WRAP
    PERL_OP_PARENT
    PERL_PRESERVE_IVUV
    USE_64_BIT_ALL
    USE_64_BIT_INT
    USE_ITHREADS
    USE_LARGE_FILES
    USE_LOCALE
    USE_LOCALE_COLLATE
    USE_LOCALE_CTYPE
    USE_LOCALE_NUMERIC
    USE_LOCALE_TIME
    USE_PERLIO
    USE_PERL_ATOF
    USE_REENTRANT_API
  Locally applied patches:
    Devel::PatchPerl 1.52
  Built under linux
  Compiled at May  8 2019 16:04:07
  %ENV:
    PERL5LIB=""
    PERL5OPT=""
    PERL5_CPANPLUS_IS_RUNNING="19254"
    PERL5_CPAN_IS_RUNNING="19254"
    PERLBREW_HOME="/home/pk/.perlbrew"
    PERLBREW_MANPATH="/opt/perlbrew/perls/perl-5.26.3/man"
    PERLBREW_PATH="/opt/perlbrew/bin:/opt/perlbrew/perls/perl-5.26.3/bin"
    PERLBREW_PERL="perl-5.26.3"
    PERLBREW_ROOT="/opt/perlbrew"
    PERLBREW_SHELLRC_VERSION="0.86"
    PERLBREW_VERSION="0.86"
    PERL_MM_USE_DEFAULT="1"
    PERL_USE_UNSAFE_INC="1"
  @INC:
    /opt/perlbrew/perls/perl-5.26.3/lib/site_perl/5.26.3/x86_64-linux-thread-multi
    /opt/perlbrew/perls/perl-5.26.3/lib/site_perl/5.26.3
    /opt/perlbrew/perls/perl-5.26.3/lib/5.26.3/x86_64-linux-thread-multi
    /opt/perlbrew/perls/perl-5.26.3/lib/5.26.3
    .