Text-WikiFormat v0.79 Perl 5 v5.10.1 i86pc-solaris-thread-multi-64int

Status
Pass
From
Chris Williams (BINGOS)
Dist
Text-WikiFormat v0.79
Platform
Perl 5 v5.10.1 i86pc-solaris-thread-multi-64int
Date
2010-08-21 19:45:29
ID
a6c7c946-ad5c-11df-9ebc-c4a68065c34d
This distribution has been tested as part of the CPAN Testers
project, supporting the Perl programming language.  See
http://wiki.cpantesters.org/ for more information or email
questions to cpan-testers-discuss@perl.org


--

Dear chromatic,
    
This is a computer-generated error report created automatically by
CPANPLUS, version 0.9007. Testers personal comments may appear 
at the end of this report.

MAKE TEST passed:
t/Wiki.t ................. ok
t/absolute_links.t ....... ok
t/base.t ................. ok
t/bugs.t ................. ok
t/embedded-links.t ....... ok
t/explicit.t ............. ok
t/implicit.t ............. ok
t/kake.t ................. ok
t/lists-nested.t ......... ok
t/lists-no-indent.t ...... ok
t/lists.t ................ ok
t/merge-hash.t ........... ok
t/tag-override-use-as.t .. ok
t/tag-override.t ......... ok
All tests successful.
Files=14, Tests=141,  8 wallclock secs ( 0.55 usr  1.30 sys +  2.23 cusr  3.21 csys =  7.29 CPU)
Result: PASS

[MSG] [Sat Aug 21 20:24:31 2010] Sending test report for 'Text-WikiFormat-0.79'

This report was machine-generated by CPANPLUS::Dist::YACSmoke 0.58.
Powered by minismokebox version 0.26

------------------------------
ENVIRONMENT AND OTHER CONTEXT
------------------------------

Environment variables:

    AUTOMATED_TESTING = 1
    LC_COLLATE = en_GB.UTF-8
    LC_CTYPE = en_GB.UTF-8
    LC_MESSAGES = C
    LC_MONETARY = en_GB.UTF-8
    LC_NUMERIC = en_GB.UTF-8
    LC_TIME = en_GB.UTF-8
    PATH = /opt/SUNWspro/bin:/usr/ccs/bin:/usr/perl5/bin:/usr/local/bin:/usr/local/sbin:/usr/bin::/usr/sfw/bin
    PERL5LIB = :/export/home/cpan/pit/rel/conf/perl-5.10.1/.cpanplus/5.10.1/build/DBI-1.613/blib/lib:/export/home/cpan/pit/rel/conf/perl-5.10.1/.cpanplus/5.10.1/build/DBI-1.613/blib/arch:/export/home/cpan/pit/rel/conf/perl-5.10.1/.cpanplus/5.10.1/build/HTML-Tagset-3.20/blib/lib:/export/home/cpan/pit/rel/conf/perl-5.10.1/.cpanplus/5.10.1/build/HTML-Tagset-3.20/blib/arch:/export/home/cpan/pit/rel/conf/perl-5.10.1/.cpanplus/5.10.1/build/HTML-Parser-3.67/blib/lib:/export/home/cpan/pit/rel/conf/perl-5.10.1/.cpanplus/5.10.1/build/HTML-Parser-3.67/blib/arch:/export/home/cpan/pit/rel/conf/perl-5.10.1/.cpanplus/5.10.1/build/URI-1.54/blib/lib:/export/home/cpan/pit/rel/conf/perl-5.10.1/.cpanplus/5.10.1/build/URI-1.54/blib/arch:/export/home/cpan/pit/rel/conf/perl-5.10.1/.cpanplus/5.10.1/build/Text-WikiFormat-0.79/blib/lib:/export/home/cpan/pit/rel/conf/perl-5.10.1/.cpanplus/5.10.1/build/Text-WikiFormat-0.79/blib/arch
    PERL5_CPANPLUS_IS_RUNNING = 18300
    PERL5_CPANPLUS_IS_VERSION = 0.9007
    PERL5_MINISMOKEBOX = 0.26
    PERL5_YACSMOKE_BASE = /export/home/cpan/pit/rel/conf/perl-5.10.1
    PERL_EXTUTILS_AUTOINSTALL = --defaultdeps
    PERL_MM_USE_DEFAULT = 1
    SHELL = /usr/bin/bash
    TERM = vt100

Perl special variables (and OS-specific diagnostics, for MSWin32):

    Perl: $^X = /export/home/cpan/pit/rel/perl-5.10.1/bin/perl
    UID:  $<  = 100
    EUID: $>  = 100
    GID:  $(  = 100 100
    EGID: $)  = 100 100


-------------------------------


--

Summary of my perl5 (revision 5 version 10 subversion 1) configuration:
   
  Platform:
    osname=solaris, osvers=2.10, archname=i86pc-solaris-thread-multi-64int
    uname='sunos solarity 5.10 generic_118855-33 i86pc i386 i86pc '
    config_args='-de -Dprefix=/export/home/cpan/pit/rel/perl-5.10.1 -Dusethreads -Duse64bitint'
    hint=recommended, useposix=true, d_sigaction=define
    useithreads=define, usemultiplicity=define
    useperlio=define, d_sfio=undef, uselargefiles=define, usesocks=undef
    use64bitint=define, use64bitall=undef, uselongdouble=undef
    usemymalloc=n, bincompat5005=undef
  Compiler:
    cc='/opt/SUNWspro/bin/cc', ccflags ='-D_REENTRANT -DPTR_IS_LONG -I/usr/local/include -D_LARGEFILE_SOURCE -D_FILE_OFFSET_BITS=64 -DPERL_USE_SAFE_PUTENV',
    optimize='-O',
    cppflags='-D_REENTRANT -DPTR_IS_LONG -I/usr/local/include'
    ccversion='Sun C 5.8 2005/10/13', gccversion='', gccosandvers=''
    intsize=4, longsize=4, ptrsize=4, doublesize=8, byteorder=12345678
    d_longlong=define, longlongsize=8, d_longdbl=define, longdblsize=12
    ivtype='long long', ivsize=8, nvtype='double', nvsize=8, Off_t='off_t', lseeksize=8
    alignbytes=4, prototype=define
  Linker and Libraries:
    ld='/opt/SUNWspro/bin/cc', ldflags =' -L/usr/lib -L/usr/ccs/lib -L/opt/SUNWspro/prod/lib -L/lib -L/usr/local/lib '
    libpth=/usr/lib /usr/ccs/lib /opt/SUNWspro/prod/lib /lib /usr/local/lib
    libs=-lsocket -lnsl -ldl -lm -lpthread -lc
    perllibs=-lsocket -lnsl -ldl -lm -lpthread -lc
    libc=/lib/libc.so, so=so, useshrplib=false, libperl=libperl.a
    gnulibc_version=''
  Dynamic Linking:
    dlsrc=dl_dlopen.xs, dlext=so, d_dlsymun=undef, ccdlflags=' '
    cccdlflags='-KPIC', lddlflags='-G -L/usr/lib -L/usr/ccs/lib -L/opt/SUNWspro/prod/lib -L/lib -L/usr/local/lib'


Characteristics of this binary (from libperl): 
  Compile-time options: MULTIPLICITY PERL_DONT_CREATE_GVSV
                        PERL_IMPLICIT_CONTEXT PERL_MALLOC_WRAP
                        PERL_USE_SAFE_PUTENV USE_64_BIT_INT USE_ITHREADS
                        USE_LARGE_FILES USE_PERLIO USE_REENTRANT_API
  Built under solaris
  Compiled at Aug 31 2009 19:52:45
  %ENV:
    PERL5LIB=":/export/home/cpan/pit/rel/conf/perl-5.10.1/.cpanplus/5.10.1/build/DBI-1.613/blib/lib:/export/home/cpan/pit/rel/conf/perl-5.10.1/.cpanplus/5.10.1/build/DBI-1.613/blib/arch:/export/home/cpan/pit/rel/conf/perl-5.10.1/.cpanplus/5.10.1/build/HTML-Tagset-3.20/blib/lib:/export/home/cpan/pit/rel/conf/perl-5.10.1/.cpanplus/5.10.1/build/HTML-Tagset-3.20/blib/arch:/export/home/cpan/pit/rel/conf/perl-5.10.1/.cpanplus/5.10.1/build/HTML-Parser-3.67/blib/lib:/export/home/cpan/pit/rel/conf/perl-5.10.1/.cpanplus/5.10.1/build/HTML-Parser-3.67/blib/arch:/export/home/cpan/pit/rel/conf/perl-5.10.1/.cpanplus/5.10.1/build/URI-1.54/blib/lib:/export/home/cpan/pit/rel/conf/perl-5.10.1/.cpanplus/5.10.1/build/URI-1.54/blib/arch:/export/home/cpan/pit/rel/conf/perl-5.10.1/.cpanplus/5.10.1/build/Text-WikiFormat-0.79/blib/lib:/export/home/cpan/pit/rel/conf/perl-5.10.1/.cpanplus/5.10.1/build/Text-WikiFormat-0.79/blib/arch"
    PERL5_CPANPLUS_IS_RUNNING="18300"
    PERL5_CPANPLUS_IS_VERSION="0.9007"
    PERL5_MINISMOKEBOX="0.26"
    PERL5_YACSMOKE_BASE="/export/home/cpan/pit/rel/conf/perl-5.10.1"
    PERL_EXTUTILS_AUTOINSTALL="--defaultdeps"
    PERL_MM_USE_DEFAULT="1"
  @INC:
    /export/home/cpan/pit/rel/conf/perl-5.10.1/.cpanplus/5.10.1/build/DBI-1.613/blib/lib
    /export/home/cpan/pit/rel/conf/perl-5.10.1/.cpanplus/5.10.1/build/DBI-1.613/blib/arch
    /export/home/cpan/pit/rel/conf/perl-5.10.1/.cpanplus/5.10.1/build/HTML-Tagset-3.20/blib/lib
    /export/home/cpan/pit/rel/conf/perl-5.10.1/.cpanplus/5.10.1/build/HTML-Tagset-3.20/blib/arch
    /export/home/cpan/pit/rel/conf/perl-5.10.1/.cpanplus/5.10.1/build/HTML-Parser-3.67/blib/lib
    /export/home/cpan/pit/rel/conf/perl-5.10.1/.cpanplus/5.10.1/build/HTML-Parser-3.67/blib/arch
    /export/home/cpan/pit/rel/conf/perl-5.10.1/.cpanplus/5.10.1/build/URI-1.54/blib/lib
    /export/home/cpan/pit/rel/conf/perl-5.10.1/.cpanplus/5.10.1/build/URI-1.54/blib/arch
    /export/home/cpan/pit/rel/conf/perl-5.10.1/.cpanplus/5.10.1/build/Text-WikiFormat-0.79/blib/lib
    /export/home/cpan/pit/rel/conf/perl-5.10.1/.cpanplus/5.10.1/build/Text-WikiFormat-0.79/blib/arch
    /export/home/cpan/pit/rel/perl-5.10.1/lib/5.10.1/i86pc-solaris-thread-multi-64int
    /export/home/cpan/pit/rel/perl-5.10.1/lib/5.10.1
    /export/home/cpan/pit/rel/perl-5.10.1/lib/site_perl/5.10.1/i86pc-solaris-thread-multi-64int
    /export/home/cpan/pit/rel/perl-5.10.1/lib/site_perl/5.10.1
    .