Types-SQL vv0.7.0 Perl 5 v5.41.2 amd64-freebsd
- Status
- Pass
- From
- Carlos Guevara
- Dist
-
Types-SQL vv0.7.0
- Platform
- Perl 5 v5.41.2 amd64-freebsd
- Date
- 2024-07-07 00:41:30
- ID
- a6e07ffa-3bf9-11ef-a8df-9f6abaffdba0
This distribution has been tested as part of the CPAN Testers
project, supporting the Perl programming language. See
http://wiki.cpantesters.org/ for more information or email
questions to cpan-testers-discuss@perl.org
--
Dear Robert Rothenberg,
This is a computer-generated report for Types-SQL-v0.7.0
on perl 5.41.2, created by CPAN-Reporter-1.2019.
Thank you for uploading your work to CPAN. Congratulations!
All tests were successful.
Sections of this report:
* Tester comments
* Program output
* Prerequisites
* Environment and other context
------------------------------
TESTER COMMENTS
------------------------------
Additional comments from tester:
this report is from an automated smoke testing program
and was not reviewed by a human for accuracy
------------------------------
PROGRAM OUTPUT
------------------------------
Output from '/usr/bin/make test':
PERL_DL_NONLAZY=1 "/home/cpan/bin/perl/bin/perl5.41.2" "-MExtUtils::Command::MM" "-MTest::Harness" "-e" "undef *Test::Harness::Switches; test_harness(0, 'blib/lib', 'blib/arch')" t/*.t
#
# Versions for all modules listed in MYMETA.json (including optional ones):
#
# === Configure Requires ===
#
# Module Want Have
# ------------------- ---- ----
# ExtUtils::MakeMaker any 7.70
#
# === Build Requires ===
#
# Module Want Have
# ------------------- ---- ----
# ExtUtils::MakeMaker any 7.70
#
# === Test Requires ===
#
# Module Want Have
# ---------------------- ---- ---------
# File::Spec any 3.90
# Module::Metadata any 1.000038
# Test::More any 1.302199
# Test::Most any 0.38
# Time::Piece 1.16 1.3401_01
# Types::Common::Numeric any 2.004000
# Types::Common::String any 2.004000
# if any 0.0610
#
# === Test Recommends ===
#
# Module Want Have
# ---------- -------- --------
# CPAN::Meta 2.120900 2.150010
#
# === Runtime Requires ===
#
# Module Want Have
# -------------------- -------- --------
# Exporter 5.57 5.78
# PerlX::Maybe any 1.202
# Ref::Util any 0.204
# Safe::Isa 1.000008 1.000010
# Type::Library any 2.004000
# Type::Utils 0.44 2.004000
# Types::Standard any 2.004000
# namespace::autoclean any 0.29
# version 0.77 0.9930
#
# === Runtime Recommends ===
#
# Module Want Have
# ---------------- ---- -------
# PerlX::Maybe::XS any missing
# Ref::Util::XS any 0.117
# Type::Tiny::XS any missing
#
t/00-report-prereqs.t ....... ok
t/001-use.t ................. ok
t/100-blob.t ................ ok
t/100-bool.t ................ ok
t/100-char.t ................ ok
t/100-datetime.t ............ ok
t/100-enum.t ................ ok
t/100-int.t ................. ok
t/100-integer.t ............. ok
t/100-num.t ................. ok
t/100-numeric.t ............. ok
t/100-serial.t .............. ok
t/100-str.t ................. ok
t/100-text.t ................ ok
t/100-varchar.t ............. ok
t/101-types-datetime.t ...... skipped: Types::DateTime not installed
t/199-unsupported.t ......... ok
t/200-custom.t .............. ok
t/author-critic.t ........... skipped: these tests are for testing by the author
t/author-eof.t .............. skipped: these tests are for testing by the author
t/author-eol.t .............. skipped: these tests are for testing by the author
t/author-minimum-version.t .. skipped: these tests are for testing by the author
t/author-no-tabs.t .......... skipped: these tests are for testing by the author
t/author-pod-coverage.t ..... skipped: these tests are for testing by the author
t/author-pod-linkcheck.t .... skipped: these tests are for testing by the author
t/author-pod-syntax.t ....... skipped: these tests are for testing by the author
t/author-portability.t ...... skipped: these tests are for testing by the author
t/release-check-manifest.t .. skipped: these tests are for release candidate testing
t/release-fixme.t ........... skipped: these tests are for release candidate testing
t/release-kwalitee.t ........ skipped: these tests are for release candidate testing
t/release-trailing-space.t .. skipped: these tests are for release candidate testing
All tests successful.
Files=31, Tests=70, 1 wallclock secs ( 0.07 usr 0.02 sys + 1.53 cusr 0.19 csys = 1.80 CPU)
Result: PASS
------------------------------
PREREQUISITES
------------------------------
Prerequisite modules loaded:
requires:
Module Need Have
---------------------- -------- ---------
Exporter 5.57 5.78
namespace::autoclean 0 0.29
perl 5.014000 5.041002
PerlX::Maybe 0 1.202
Ref::Util 0 0.204
Safe::Isa 1.000008 1.000010
Type::Library 0 2.004000
Type::Utils 0.44 2.004000
Types::Standard 0 2.004000
version 0.77 0.9930
build_requires:
Module Need Have
---------------------- -------- ---------
ExtUtils::MakeMaker 0 7.70
File::Spec 0 3.90
if 0 0.0610
Module::Metadata 0 1.000038
Test::More 0 1.302199
Test::Most 0 0.38
Time::Piece 1.16 1.3401_01
Types::Common::Numeric 0 2.004000
Types::Common::String 0 2.004000
configure_requires:
Module Need Have
---------------------- -------- ---------
ExtUtils::MakeMaker 0 7.70
------------------------------
ENVIRONMENT AND OTHER CONTEXT
------------------------------
Environment variables:
AUTOMATED_TESTING = 1
DATE_MANIP_TEST_DM5 = 1
LANG = C.UTF-8
LC_ALL = C
NONINTERACTIVE_TESTING = 1
NO_NETWORK_TESTING = 1
PATH = /home/cpan/bin/perl/bin:/home/cpan/bin:/sbin:/bin:/usr/sbin:/usr/bin:/usr/local/sbin:/usr/local/bin:/home/cpan/bin
PERL5LIB =
PERL5OPT =
PERL5_CPANPLUS_IS_RUNNING = 77052
PERL5_CPAN_IS_RUNNING = 77052
PERL_MM_USE_DEFAULT = 1
PERL_USE_UNSAFE_INC = 1
SHELL = /usr/local/bin/bash
TERM = screen
TMPDIR = /home/cpan/tmp
Perl special variables (and OS-specific diagnostics, for MSWin32):
$^X = /home/cpan/bin/perl/bin/perl5.41.2
$UID/$EUID = 1002 / 1002
$GID = 1002 1002
$EGID = 1002 1002
Perl module toolchain versions installed:
Module Have
------------------- --------
CPAN 2.36
CPAN::Meta 2.150010
Cwd 3.90
ExtUtils::CBuilder 0.280240
ExtUtils::Command 7.70
ExtUtils::Install 2.22
ExtUtils::MakeMaker 7.70
ExtUtils::Manifest 1.75
ExtUtils::ParseXS 3.52
File::Spec 3.90
JSON n/a
JSON::PP 4.16
Module::Build 0.4234
Module::Signature n/a
Parse::CPAN::Meta 2.150010
Test2 1.302199
Test::Harness 3.48
Test::More 1.302199
YAML n/a
YAML::Syck n/a
version 0.9930
--
Summary of my perl5 (revision 5 version 41 subversion 2) configuration:
Commit id: b786e5e6e5e961082d2f48dac2a1f3ab69339b14
Platform:
osname=freebsd
osvers=14.1-release
archname=amd64-freebsd
uname='freebsd cjg-freebsd14 14.1-release freebsd 14.1-release releng14.1-n267679-10e31f0946d8 generic amd64 '
config_args='-des -Dprefix=/home/cpan/bin/perl -Dscriptdir=/home/cpan/bin/perl/bin -Dusedevel -Duse64bitall'
hint=recommended
useposix=true
d_sigaction=define
useithreads=undef
usemultiplicity=undef
use64bitint=define
use64bitall=define
uselongdouble=undef
usemymalloc=n
default_inc_excludes_dot=define
Compiler:
cc='cc'
ccflags ='-DHAS_FPSETMASK -DHAS_FLOATINGPOINT_H -DNO_POSIX_2008_LOCALE -fno-strict-aliasing -pipe -fstack-protector-strong -I/usr/local/include'
optimize='-O2'
cppflags='-DHAS_FPSETMASK -DHAS_FLOATINGPOINT_H -DNO_POSIX_2008_LOCALE -fno-strict-aliasing -pipe -fstack-protector-strong -I/usr/local/include'
ccversion=''
gccversion='FreeBSD Clang 18.1.5 (https://github.com/llvm/llvm-project.git llvmorg-18.1.5-0-g617a15a9eac9)'
gccosandvers=''
intsize=4
longsize=8
ptrsize=8
doublesize=8
byteorder=12345678
doublekind=3
d_longlong=define
longlongsize=8
d_longdbl=define
longdblsize=16
longdblkind=3
ivtype='long'
ivsize=8
nvtype='double'
nvsize=8
Off_t='off_t'
lseeksize=8
alignbytes=8
prototype=define
Linker and Libraries:
ld='cc'
ldflags ='-Wl,-E -fstack-protector-strong -L/usr/local/lib'
libpth=/usr/lib /usr/local/lib /usr/lib/clang/18/lib
libs=-lpthread -lgdbm -ldl -lm -lcrypt -lutil -lc
perllibs=-lpthread -ldl -lm -lcrypt -lutil -lc
libc=
so=so
useshrplib=false
libperl=libperl.a
gnulibc_version=''
Dynamic Linking:
dlsrc=dl_dlopen.xs
dlext=so
d_dlsymun=undef
ccdlflags=' '
cccdlflags='-DPIC -fPIC'
lddlflags='-shared -L/usr/local/lib -fstack-protector-strong'
Characteristics of this binary (from libperl):
Compile-time options:
HAS_LONG_DOUBLE
HAS_STRTOLD
HAS_TIMES
PERLIO_LAYERS
PERL_COPY_ON_WRITE
PERL_DONT_CREATE_GVSV
PERL_HASH_FUNC_SIPHASH13
PERL_HASH_USE_SBOX32
PERL_MALLOC_WRAP
PERL_OP_PARENT
PERL_PRESERVE_IVUV
PERL_USE_DEVEL
PERL_USE_SAFE_PUTENV
USE_64_BIT_ALL
USE_64_BIT_INT
USE_LARGE_FILES
USE_LOCALE
USE_LOCALE_COLLATE
USE_LOCALE_CTYPE
USE_LOCALE_NUMERIC
USE_LOCALE_TIME
USE_PERLIO
USE_PERL_ATOF
Built under freebsd
Compiled at Jul 6 2024 19:50:53
%ENV:
PERL5LIB=""
PERL5OPT=""
PERL5_CPANPLUS_IS_RUNNING="77052"
PERL5_CPAN_IS_RUNNING="77052"
PERL_MM_USE_DEFAULT="1"
PERL_USE_UNSAFE_INC="1"
@INC:
/home/cpan/bin/perl/lib/site_perl/5.41.2/amd64-freebsd
/home/cpan/bin/perl/lib/site_perl/5.41.2
/home/cpan/bin/perl/lib/5.41.2/amd64-freebsd
/home/cpan/bin/perl/lib/5.41.2
.