Back
From: metabase:user:31d414ea-2aae-11df-837a-5e0a49663a4f
Subject: PASS Git-DescribeVersion-1.000010 v5.8.8 IRIX
Date: 2010-12-11T12:17:41Z
This distribution has been tested as part of the CPAN Testers
project, supporting the Perl programming language. See
http://wiki.cpantesters.org/ for more information or email
questions to cpan-testers-discuss@perl.org
--
Dear Randy Stauner,
This is a computer-generated report for Git-DescribeVersion-1.000010
on perl 5.8.8, created by CPAN-Reporter-1.1711.
Thank you for uploading your work to CPAN. Congratulations!
All tests were successful.
Sections of this report:
* Tester comments
* Program output
* Prerequisites
* Environment and other context
------------------------------
TESTER COMMENTS
------------------------------
Additional comments from tester:
this report is from an automated smoke testing program
and was not reviewed by a human for accuracy
------------------------------
PROGRAM OUTPUT
------------------------------
Output from '/sbin/make test':
PERL_DL_NONLAZY=1 /usr/people/drc/cpantesting/perl-5.8.8/bin/perl "-MExtUtils::Command::MM" "-e" "test_harness(0, 'blib/lib', 'blib/arch')" t/*.t
t/00-compile.t ............... ok
t/app.t ...................... skipped: Test::Output required for testing STDOUT
t/author-wrappers.t .......... skipped: these tests are for testing by the author
t/count-objects.t ............ ok
t/describe.t ................. ok
# warning expected:
Version could not be determined.
# warning expected:
Version could not be determined.
# warning expected:
Version could not be determined.
# warning expected:
Version 'vx.y' not a valid version string.
Invalid version format (dotted-decimal versions require at least three parts)
# warning expected:
Version 'vx.y' not a valid version string.
Invalid version format (dotted-decimal versions require at least three parts)
# warning expected:
Version 'vx.y' not a valid version string.
Invalid version format (dotted-decimal versions require at least three parts)
# warning expected:
Version 'v .201' not a valid version string.
Invalid version format (dotted-decimal versions require at least three parts)
# warning expected:
Version 'v .201' not a valid version string.
Invalid version format (dotted-decimal versions require at least three parts)
# warning expected:
Version 'v .201' not a valid version string.
Invalid version format (dotted-decimal versions require at least three parts)
# warning expected:
Version 'v4.ppp' not a valid version string.
Invalid version format (non-numeric data)
# warning expected:
Version 'v4.ppp' not a valid version string.
Invalid version format (non-numeric data)
# warning expected:
Version 'v4.ppp' not a valid version string.
Invalid version format (non-numeric data)
t/parse_version.t ............ ok
t/release-distmeta.t ......... skipped: these tests are for release candidate testing
t/release-kwalitee.t ......... skipped: these tests are for release candidate testing
t/release-minimum-version.t .. skipped: these tests are for release candidate testing
t/release-pod-coverage.t ..... skipped: these tests are for release candidate testing
t/release-pod-spell.t ........ skipped: these tests are for release candidate testing
t/release-pod-syntax.t ....... skipped: these tests are for release candidate testing
t/release-portability.t ...... skipped: these tests are for release candidate testing
t/wrappers.t ................. ok
All tests successful.
Files=14, Tests=1098, 4 wallclock secs ( 0.91 usr 0.11 sys + 3.12 cusr 0.45 csys = 4.59 CPU)
Result: PASS
------------------------------
PREREQUISITES
------------------------------
Prerequisite modules loaded:
requires:
Module Need Have
------------------------- ----- --------
perl 5.006 5.008008
version 0.77 0.87
build_requires:
Module Need Have
------------------------- ----- --------
Exporter 0 5.63
File::Find 0 1.10
File::Temp 0 0.22
FindBin 0 1.47
Test::MockObject 0 1.09
Test::MockObject::Extends 1.09 1.09
Test::More 0.96 0.96
configure_requires:
Module Need Have
------------------------- ----- --------
ExtUtils::MakeMaker 6.31 6.56
------------------------------
ENVIRONMENT AND OTHER CONTEXT
------------------------------
Environment variables:
AUTOMATED_TESTING = 1
LC_ALL = en
PATH = /usr/people/drc/bin:/usr/people/drc/cpantesting/bin:/sbin:/usr/sbin:/usr/nekoware/sbin:/usr/nekoware/bin:/usr/bsd:/usr/bin:/etc:/usr/sysadm/privbin:/usr/etc:/usr/bin/X11:/usr/gfx:/usr/nekoware/mysql4/bin:/usr/nekoware/qt4/bin:/usr/nekoware/kde/bin:/usr/nekoware/php5/bin
PERL5LIB =
PERL5OPT =
PERL5_CPANPLUS_IS_RUNNING = 28563014
PERL5_CPAN_IS_RUNNING = 28563014
SHELL = /usr/nekoware/bin/bash
TERM = vt100
Perl special variables (and OS-specific diagnostics, for MSWin32):
$^X = /usr/people/drc/cpantesting/perl-5.8.8/bin/perl
$UID/$EUID = 25020 / 25020
$GID = 20 20
$EGID = 20 20
Perl module toolchain versions installed:
Module Have
------------------- ------
CPAN 1.9402
Cwd 3.31
ExtUtils::CBuilder 0.2703
ExtUtils::Command 1.16
ExtUtils::Install 1.52
ExtUtils::MakeMaker 6.56
ExtUtils::Manifest 1.56
ExtUtils::ParseXS 2.2206
File::Spec 3.31
Module::Build 0.3607
Module::Signature n/a
Test::Harness 3.21
Test::More 0.96
YAML 0.72
YAML::Syck 1.17
version 0.87
--
Summary of my perl5 (revision 5 version 8 subversion 8) configuration:
Platform:
osname=irix, osvers=6.5, archname=IP35-irix-64int
uname='irix64 o3k 6.5 07202013 ip35 '
config_args='-de -Dprefix=/usr/people/drc/cpantesting/perl-5.8.8 -Duse64bitint'
hint=recommended, useposix=true, d_sigaction=define
usethreads=undef use5005threads=undef useithreads=undef usemultiplicity=undef
useperlio=define d_sfio=undef uselargefiles=define usesocks=undef
use64bitint=define use64bitall=undef uselongdouble=undef
usemymalloc=n, bincompat5005=undef
Compiler:
cc='cc -n32', ccflags ='-D_BSD_TYPES -D_BSD_TIME -woff 1184,1552 -I/usr/local/include -DLANGUAGE_C',
optimize='-O3 -OPT:Olimit=0:space=ON',
cppflags='-D_BSD_TYPES -D_BSD_TIME -woff 1184,1552 -I/usr/local/include -DLANGUAGE_C'
ccversion='MIPSpro Compilers: Version 7.4.4m', gccversion='', gccosandvers=''
intsize=4, longsize=4, ptrsize=4, doublesize=8, byteorder=87654321
d_longlong=define, longlongsize=8, d_longdbl=define, longdblsize=16
ivtype='long long', ivsize=8, nvtype='double', nvsize=8, Off_t='off_t', lseeksize=8
alignbytes=8, prototype=define
Linker and Libraries:
ld='cc -n32', ldflags =' -Wl,-woff,84 -L/usr/local/lib'
libpth=/usr/local/lib /usr/lib32 /lib32 /lib /usr/lib
libs=-ldb -lm -lc
perllibs=-lm -lc
libc=/usr/lib32/libc.so, so=so, useshrplib=false, libperl=libperl.a
gnulibc_version=''
Dynamic Linking:
dlsrc=dl_dlopen.xs, dlext=so, d_dlsymun=undef, ccdlflags=' '
cccdlflags=' ', lddlflags='-n32 -shared -L/usr/local/lib'
Characteristics of this binary (from libperl):
Compile-time options: USE_64_BIT_INT USE_LARGE_FILES USE_PERLIO
Built under irix
Compiled at Jun 5 2008 18:52:27
%ENV:
PERL5LIB=""
PERL5OPT=""
PERL5_CPANPLUS_IS_RUNNING="28563014"
PERL5_CPAN_IS_RUNNING="28563014"
@INC:
/usr/people/drc/cpantesting/perl-5.8.8/lib/5.8.8/IP35-irix-64int
/usr/people/drc/cpantesting/perl-5.8.8/lib/5.8.8
/usr/people/drc/cpantesting/perl-5.8.8/lib/site_perl/5.8.8/IP35-irix-64int
/usr/people/drc/cpantesting/perl-5.8.8/lib/site_perl/5.8.8
/usr/people/drc/cpantesting/perl-5.8.8/lib/site_perl
.