Report for Test-Portability-Files-0.06

Back
From: metabase:user:1eed3a18-483e-11e2-a87b-a3931c712682
Subject: PASS Test-Portability-Files-0.06 v5.18.0 RC1 Mac OS X
Date: 2013-05-12T21:05:19Z

This distribution has been tested as part of the CPAN Testers
project, supporting the Perl programming language.  See
http://wiki.cpantesters.org/ for more information or email
questions to cpan-testers-discuss@perl.org


--
Test-Portability-Files-0.06 ... PASS

Perl           : v5.18.0
System         : darwin
Local Versions :
    Data::Printer                    : 0.35
    CatalystX::Component::Traits     : 0.16
    charnames                        : 1.36
    Catalyst::ActionRole::ACL        : 0.07
    IO::Uncompress::Inflate          : 2.060
    constant                         : 1.27
    IO::Uncompress::Gunzip           : 2.060
    Net::FTP                         : 2.77
    Class::Method::Modifiers         : 2.04
    Class::Accessor::Fast            : 0.34
    HTTP::Status                     : 6.03
    Perl::Critic::Utils::PPI         : 1.118
    Test::NoWarnings                 : 1.04
    Time::Piece                      : 1.20_01
    CPAN::Testers::Common::Client    : 0.06
    open                             : 1.10
    Benchmark                        : 1.15
    File::ShareDir::Install          : 0.04
    Algorithm::SlopeOne              : 0.003
    Data::Dump                       : 1.22
    IO::Uncompress::RawInflate       : 2.060
    Metabase::Fact::Hash             : 0.021
    Path::Class                      : 0.32
    IO::Uncompress::Bunzip2          : 2.060
    Devel::Peek                      : 1.11
    IO::Scalar                       : 2.110
    Dist::Zilla::Role::VersionProvider : 4.300034
    Class::XSAccessor                : 1.16
    Devel::Dwarn                     : 
    Crypt::DSA                       : 1.17
    WWW::Mechanize                   : 1.72
    Dist::Zilla                      : 4.300034
    Pod::Simple::RTF                 : 3.26
    Pod::LaTeX                       : 0.61
    Params::Util                     : 1.07
    Params::Classify                 : 0.013
    Lingua::EN::Inflect              : 1.895
    Module::Install                  : 1.06
    Module::Implementation           : 0.06
    DBIx::Class::Core                : 
    IPC::Run3                        : 0.045
    Dist::Zilla::Role::TextTemplate  : 4.300034
    Task::Weaken                     : 1.04
    Perl::Tidy                       : 20121207
    ExtUtils::Helpers                : 0.021
    App::Cmd::Tester::CaptureExternal : 0.320
    Fcntl                            : 1.11
    Dist::Zilla::Role::FileGatherer  : 4.300034
    Moose::Autobox                   : 0.13
    LWP::Protocol                    : 6.00
    File::Basename                   : 2.84
    Hash::Merge                      : 0.12
    Try::Tiny                        : 0.12
    DateTime::Locale                 : 0.45
    Moose::Role                      : 2.0802
    File::Find::Iterator             : 0.4
    Config::Any                      : 0.23
    File::Remove                     : 1.52
    DBIx::Class::Schema::Loader      : 0.07035
    Module::ExtractUse               : 0.30
    attributes                       : 0.21
    HTTP::Request::AsCGI             : 1.2
    MooseX::LazyRequire              : 0.10
    AnyEvent                         : 7.04
    namespace::autoclean             : 0.13
    Compress::Raw::Zlib              : 2.060
    Module::Signature                : 0.70
    Software::LicenseUtils           : 0.103005
    Test::use::ok                    : 0.11
    Catalyst::Controller::ActionRole : 0.15
    HTTP::Server::Simple::CGI        : 0
    HTML::TreeBuilder                : 5.03
    Data::Float                      : 0.012
    Log::Message::Simple             : 0.10
    Test::Pod::Coverage              : 1.08
    Pod::Elemental::Types            : 0.102362
    Devel::InnerPackage              : 0.4
    Math::BigInt                     : 1.9991
    IO::File                         : 1.16
    autodie::exception               : 2.13
    HTTP::Negotiate                  : 6.01
    Email::MIME::Kit                 : 2.102012
    B::Lint                          : 1.17
    HTTP::Parser::XS                 : 0.16
    Net::SMTP                        : 2.31
    Dist::Zilla::Role::FilePruner    : 4.300034
    Test::Pod                        : 1.48
    HTTP::Request                    : 6.00
    SelectSaver                      : 1.02
    Text::Patch                      : 1.8
    Software::License::None          : 0.103005
    Email::Sender                    : 1.300006
    MooseX::Storage::Deferred        : 0.33
    Imager::File::TIFF               : 0.87
    Pod::Elemental::Transformer::Nester : 0.102362
    File::Find::Rule                 : 0.33
    aliased                          : 0.31
    HTML::Tree                       : 5.03
    MooseX::Getopt                   : 0.56
    Pod::Weaver                      : 3.101638
    Test::UseAllModules              : 0.14
    IO::Zlib                         : 1.10
    Config::Any::YAML                : 
    MooseX::Types                    : 0.35
    MIME::Base64                     : 3.13
    File::Path                       : 2.09
    Perl6::Junction                  : 1.50000
    Path::Class::Dir                 : 0.32
    Compress::Zlib                   : 2.060
    Glib::Object::Introspection      : 0.015
    CGI                              : 3.63
    Log::Trace                       : 1.070
    B::Utils                         : 0.21
    Text::ParseWords                 : 3.28
    XSLoader                         : 0.16
    Net::Cmd                         : 2.29
    Catalyst::Authentication::Credential::HTTP : 1.015
    Moo                              : 1.002000
    Cairo                            : 1.103
    Tree::Simple                     : 1.18
    Module::Build::Pluggable         : 0.10
    I18N::LangTags                   : 0.39
    AnyEvent::Log                    : 0
    Data::Section                    : 0.101621
    Mouse                            : 1.11
    Data::Section::Simple            : 0.04
    XML::XPathEngine                 : 0.13
    IO::Dir                          : 1.10
    Catalyst::Model::Adaptor         : 0.10
    Text::Unidecode                  : 0.04
    Log::Dispatchouli                : 2.006
    MooseX::Types::Moose             : 0.35
    Test::SharedFork                 : 0.21
    Config::MVP::Reader::Finder      : 2.200003
    Plack::Loader                    : 
    MooX::Types::MooseLike::Base     : 0.23
    Pod::Coverage                    : 0.23
    Metabase::Resource               : 0.021
    Acme::Damn                       : 0.05
    Test::Moose                      : 2.0802
    Filter::Simple                   : 0.89
    MooseX::MethodAttributes         : 0.28
    Pod::Weaver::Role::Finalizer     : 3.101638
    Bash::Completion::Utils          : 0.008
    Moose::Util::TypeConstraints     : 2.0802
    IO::Capture                      : 0.05
    Class::Accessor::Grouped         : 0.10010
    base                             : 2.18
    Cwd                              : 3.40
    CPAN::Changes                    : 0.20
    MooseX::Emulate::Class::Accessor::Fast : 0.00903
    Pod::Simple::HTML                : 3.26
    Module::Metadata                 : 1.000014
    PerlIO                           : 1.07
    AnyEvent::Socket                 : 0
    DateTime::Format::Builder        : 0.81
    Catalyst::Plugin::Session::Store::File : 0.18
    Devel::Declare                   : 0.006011
    Email::MIME                      : 1.911
    Perl::MinimumVersion             : 1.32
    Attribute::Handlers              : 0.94
    Catalyst::Runtime                : 5.90030
    Sub::Uplevel                     : 0.24
    HTML::TokeParser                 : 3.69
    Package::Constants               : 0.02
    Sys::Syslog                      : 0.32
    Carp                             : 1.29
    Dist::Zilla::Role::Releaser      : 4.300034
    strict                           : 1.07
    CatalystX::Profile               : 0.02
    UNIVERSAL::require               : 0.13
    Symbol                           : 1.07
    Text::SimpleTable                : 2.03
    File::Listing                    : 6.04
    Probe::Perl                      : 0.02
    Mozilla::CA                      : 20130114
    IO::Compress::Bzip2              : 2.060
    Catalyst::Plugin::Session::State::Cookie : 0.17
    String::Formatter                : 0.102082
    Algorithm::Diff::XS              : 0.04
    Pod::Eventual::Simple            : 0.093330
    URI::Escape                      : 3.31
    List::AllUtils                   : 0.03
    Pod::Elemental::Transformer::Gatherer : 0.102362
    Test::Tester                     : 0.108
    Dist::Zilla::Role::PluginBundle  : 4.300034
    OLE::Storage_Lite                : 0.19
    Class::Data::Inheritable         : 0.08
    AnyEvent::Handle                 : 0
    Test::Differences                : 0.61
    File::Glob                       : 1.20
    diagnostics                      : 1.31
    Mac::SystemDirectory             : 0.06
    MooseX::Types::Util              : 0.35
    Socket                           : 2.009
    Test::More                       : 0.98
    Moose::Util::MetaRole            : 2.0802
    UNIVERSAL::can                   : 1.20120726
    CPAN::Meta::Converter            : 2.120921
    Pod::PlainText                   : 2.06
    DateTime::TimeZone               : 1.59
    MooseX::Types::Perl              : 0.101341
    Pod::Man                         : 2.27
    Clone                            : 0.34
    Sub::Name                        : 0.05
    MooseX::Storage                  : 0.33
    Date::Parse                      : 2.30
    ExtUtils::Install                : 1.59
    Crypt::Rijndael                  : 1.11
    Readonly                         : 1.03
    App::cpanminus::reporter         : 0.08
    namespace::clean                 : 0.24
    Authen::SASL                     : 2.16
    Tie::Hash                        : 1.04
    Spreadsheet::WriteExcel          : 2.38
    Module::Runtime                  : 0.013
    Memoize                          : 1.03
    Fatal                            : 2.18
    IO::String                       : 1.08
    Class::ErrorHandler              : 0.02
    MIME::QuotedPrint                : 3.13
    Config::MVP::Reader::INI         : 2.101461
    Cairo::GObject                   : 1.001
    Eval::Closure                    : 0.08
    CPAN::Changes::Release           : 
    CPAN::DistnameInfo               : 0.12
    Data::Buffer                     : 0.04
    File::Spec::Functions            : 3.40
    Sub::Exporter::Progressive       : 0.001010
    B                                : 1.42
    YAML::XS                         : 0.41
    Test::LongString                 : 0.15
    Object::Signature                : 1.07
    ExtUtils::MakeMaker::Config      : 6.66
    LWP::Simple                      : 6.00
    Devel::Cycle                     : 1.11
    Test::WWW::Mechanize             : 1.44
    Moose::Meta::TypeConstraint      : 2.0802
    Config::MVP::Reader              : 2.200003
    Errno                            : 1.18
    Catalyst::Plugin::Unicode::Encoding : 1.9
    common::sense                    : 3.6
    IPC::Cmd                         : 0.80
    List::Util                       : 1.27
    File::MMagic                     : 1.29
    Object::Accessor                 : 0.46
    Time::HiRes                      : 1.9725
    Imager::File::PNG                : 0.87
    Test::TCP                        : 1.26
    Software::License::Artistic_1_0  : 0.103005
    WWW::RobotRules                  : 6.02
    Config::MVP::Assembler::WithBundles : 2.200003
    Digest                           : 1.17
    re                               : 0.23
    MooseX::Has::Sugar               : 0.05070421
    Perl::PrereqScanner              : 1.015
    Filter::Util::Call               : 1.49
    YAML::Any                        : 0.84
    Module::Build::Tiny              : 0.019
    Starman                          : 0.3011
    Regexp::Common                   : 2013031301
    Dist::Zilla::Role::AfterRelease  : 4.300034
    Date::Format                     : 2.24
    DBIx::Class                      : 0.08250
    Apache::LogFormat::Compiler      : 0.12
    Catalyst::Plugin::ConfigLoader   : 0.32
    IPC::Run                         : 0.92
    Package::DeprecationManager      : 0.13
    POE::Test::Loops                 : 1.351
    Module::CoreList                 : 2.88
    FileHandle                       : 2.02
    MooseX::Meta::TypeConstraint::ForceCoercion : 0.01
    IO::Pty                          : 1.10
    File::Compare                    : 1.1006
    Pod::Elemental::Element::Pod5::Region : 0.102362
    Exporter                         : 5.68
    Pod::Perldoc                     : 3.19
    Module::Load                     : 0.24
    Pod::Elemental::Document         : 0.102362
    Test                             : 1.26
    Search::Dict                     : 1.07
    Net::Ping                        : 2.41
    WWW::Curl::Easy                  : 4.15
    Test::YAML::Valid                : 0.04
    Sub::Exporter::Util              : 0.985
    Log::Dispatch                    : 2.39
    Cache::FileCache                 : 
    Pod::Escapes                     : 1.04
    B::Hooks::EndOfScope             : 0.12
    TAP::Harness                     : 3.26
    Sort::Versions                   : 1.5
    Metabase::Fact::String           : 0.021
    HTTP::Server::Simple             : 0.44
    AppConfig                        : 1.66
    HTML::Entities                   : 3.69
    Metabase::User::Profile          : 0.021
    Catalyst::Plugin::Authentication : 0.10023
    HTTP::Message                    : 6.06
    PPI::Document                    : 1.215
    Test::Deep                       : 0.110
    Dist::Zilla::Plugin::PodCoverageTests : 4.300034
    Perl::Critic::Utils              : 1.118
    Moose::Exporter                  : 2.0802
    Data::CosineSimilarity           : 0.02
    JSON::XS                         : 2.33
    CPAN                             : 2.00
    Data::Page                       : 2.02
    Test::Version                    : 1.002001
    Test::NoTabs                     : 1.3
    Test::Fatal                      : 0.010
    Pod::Elemental::Element::Nested  : 0.102362
    Module::Pluggable::Object        : 4.6
    Mock::Quick                      : 1.105
    Lingua::EN::Inflect::Number      : 1.1
    constant::defer                  : 5
    ExtUtils::MakeMaker              : 6.66
    Capture::Tiny                    : 0.22
    Event                            : 1.21
    Software::License::CC0_1_0       : 0.103005
    Moose                            : 2.0802
    CSS::Minifier::XS                : 0.08
    ExtUtils::Installed              : 1.999003
    App::cpantimes                   : 1.502101
    Term::ReadLine                   : 1.12
    Config::Perl::V                  : 0.17
    Safe                             : 2.35
    XML::Writer                      : 0.621
    Unicode::CheckUTF8               : 1.03
    ExtUtils::PkgConfig              : 1.14
    Plack::Request                   : 1.0024
    Data::Dumper::Concise            : 2.020
    Convert::ASCII::Armour           : 1.4
    Dist::Zilla::Tester              : 4.300034
    LWP::Protocol::https             : 6.04
    Parse::RecDescent                : 1.967009
    Class::Accessor::Lite            : 0.05
    Software::License::Perl_5        : 0.103005
    Class::Load::XS                  : 0.06
    IO                               : 1.28
    File::Copy                       : 2.26
    Catalyst::Plugin::Session::Store::Dummy : 
    CPAN::Meta                       : 2.130880
    File::HomeDir                    : 1.00
    Getopt::Long                     : 2.39
    Hash::Util                       : 0.16
    ExtUtils::Depends                : 0.304
    Algorithm::Diff                  : 1.1902
    Catalyst::ClassData              : 
    Metabase::User::Secret           : 0.021
    Test::MockTime                   : 0.12
    YAML::Tiny                       : 1.51
    File::chdir                      : 0.1008
    IPC::Open3                       : 1.13
    DBI                              : 1.625
    File::stat                       : 1.07
    Devel::SimpleTrace               : 0.08
    warnings::register               : 1.02
    Devel::Symdump                   : 2.10
    Catalyst::Component::InstancePerContext : 0.001001
    HTTP::Tiny                       : 0.029
    Text::Diff                       : 1.41
    PPI::Node                        : 1.215
    Module::Build                    : 0.4005
    overload                         : 1.22
    Config::INI::Reader              : 0.019
    Tie::Handle                      : 4.2
    FindBin                          : 1.51
    Pod::Simple                      : 3.28
    Plack::Middleware                : 
    Dist::Zilla::Plugin::PodSyntaxTests : 4.300034
    CPAN::Meta::Check                : 0.005
    IO::Compress::Gzip               : 2.060
    Dist::Zilla::Role::InstallTool   : 4.300034
    Devel::Declare::Context::Simple  : 0.006011
    Data::Dumper                     : 2.145
    Text::Balanced                   : 2.02
    Lingua::Stem::En                 : 2.16
    Import::Into                     : 1.001001
    Env                              : 1.04
    LWP                              : 6.05
    MooseX::Types::Common            : 0.001008
    Dist::Zilla::Plugin::MinimumPerl : 1.003
    CHI                              : 0.56
    URI::URL                         : 5.04
    Encode                           : 2.51
    DBD::SQLite                      : 1.37
    AnyEvent::Net::Curl::Queued      : 0.045
    HTML::Parser                     : 3.71
    Bash::Completion::Plugin         : 0.008
    CPAN::Meta::Prereqs              : 2.130880
    Scalar::Util                     : 1.27
    Pod::Strip                       : 1.02
    Dist::Zilla::Role::PrereqSource  : 4.300034
    File::Copy::Recursive            : 0.38
    File::HomeDir::Test              : 1.00
    B::Hooks::OP::Check              : 0.19
    MooseX::Role::Parameterized      : 1.00
    Tie::IxHash                      : 1.23
    IO::Handle                       : 1.34
    YAML                             : 0.84
    Pod::Parser                      : 1.60
    Pod::Coverage::CountParents      : 
    Devel::GlobalDestruction         : 0.11
    ok                               : 0.11
    App::CLI                         : 0.313
    Catalyst::Utils                  : 
    AnyEvent::Util                   : 0
    Dist::Zilla::Plugin::GatherDir   : 4.300034
    Test::Builder::Tester            : 1.22
    Data::Clone                      : 0.003
    bytes                            : 1.04
    Convert::ASN1                    : 0.26
    Storable                         : 2.41
    Term::UI                         : 0.34
    File::Slurp                      : 9999.19
    lib                              : 0.63
    Locale::Maketext                 : 1.23
    Dist::Zilla::File::InMemory      : 4.300034
    File::ShareDir                   : 1.03
    Config::MVP::Assembler           : 2.200003
    Digest::base                     : 1.16
    Test::Mojibake                   : 0.8
    Mixin::Linewise::Readers         : 0.003
    Catalyst::Plugin::I18N           : 0.10
    CPAN::Meta::Validator            : 2.120921
    Moose::Util                      : 2.0802
    Sort::Key                        : 1.32
    File::Spec                       : 3.40
    DateTime::Format::ICal           : 0.09
    Metabase::Client::Simple         : 0.009
    locale                           : 1.02
    subs                             : 1.01
    Module::Load::Conditional        : 0.54
    Sub::Quote                       : 
    Package::Stash                   : 0.34
    ExtUtils::CBuilder               : 0.280210
    Email::Abstract                  : 3.004
    CPAN::Meta::YAML                 : 0.008
    Digest::SHA                      : 5.84
    Pod::ParseUtils                  : 1.60
    Plack                            : 1.0024
    WWW::Mechanize::GZip             : 0.12
    Test::Builder                    : 0.98
    Email::Simple                    : 2.201
    Net::CIDR::Lite                  : 0.21
    Email::Valid                     : 0.190
    Test::CPAN::Meta::YAML::Version  : 0.21
    lib::abs                         : 0.92
    Class::Accessor::Chained::Fast   : 
    Pod::Markdown                    : 1.322
    HTTP::Headers::Util              : 6.03
    MIME::Types                      : 1.38
    DateTime::Format::Strptime       : 1.54
    App::cpanoutdated                : 0.28
    ExtUtils::Manifest               : 1.63
    DB_File                          : 1.828
    Test::CPAN::Changes              : 0.20
    HTTP::Cookies                    : 6.01
    Pod::Elemental::Selectors        : 0.102362
    Module::Find                     : 0.11
    Module::Pluggable                : 4.7
    Error                            : 0.17020
    Parse::CPAN::Meta                : 1.4404
    FCGI                             : 0.74
    B::Debug                         : 1.18
    Catalyst::Model                  : 
    Tie::RefHash                     : 1.39
    Dist::Zilla::Plugin::MetaTests   : 4.300034
    CPAN::Meta::Requirements         : 2.122
    Class::Load                      : 0.20
    Test::DZil                       : 4.300034
    Any::Moose                       : 0.21
    HTTP::Request::Common            : 6.04
    Moose::Meta::Attribute           : 2.0802
    Context::Preserve                : 0.01
    Imager                           : 0.95
    Glib                             : 1.280
    App::Prove                       : 3.26
    App::Cmd::Setup                  : 0.320
    Digest::HMAC_SHA1                : 1.03
    Role::Tiny::With                 : 
    Proc::Wait3                      : 0.04
    File::Which                      : 1.09
    Pango                            : 1.224
    XML::SAX                         : 0.99
    Dist::CheckConflicts             : 0.02
    String::Flogger                  : 1.101243
    Authen::DecHpwd                  : 2.006
    CatalystX::LeakChecker           : 0.06
    Text::Template                   : 1.46
    Lexical::Persistence             : 1.020
    File::Find                       : 1.23
    Moose::Meta::TypeConstraint::Parameterizable : 2.0802
    Test::Script                     : 1.07
    Config::MVP::Reader::Findable::ByExtension : 2.200003
    utf8                             : 1.10
    JSON::Any                        : 1.29
    Set::Scalar                      : 1.25
    Term::ANSIColor                  : 4.02
    integer                          : 1.00
    Net::Domain                      : 2.20
    HTML::HeadParser                 : 3.71
    Imager::File::JPEG               : 0.87
    Variable::Magic                  : 0.52
    Digest::HMAC_MD5                 : 1.01
    Test::MockObject                 : 1.20120301
    bigint                           : 0.34
    URI::QueryParam                  : 
    Exporter::Declare                : 0.112
    URI::file                        : 4.21
    Dist::Zilla::Plugin::MetaResources : 4.300034
    Cache::FastMmap                  : 1.40
    Catalyst                         : 5.90030
    strictures                       : 1.004004
    Test::CPAN::Meta::YAML           : 0.21
    Catalyst::Action::RenderView     : 0.16
    Pod::Simple::Checker             : 3.26
    Test::InDistDir                  : 1.112071
    Class::XSAccessor::Array         : 1.14
    Exception::Class                 : 1.37
    AutoLoader                       : 5.73
    PPIx::Regexp                     : 0.034
    Tie::Array                       : 1.05
    parent                           : 0.225
    Carp::Assert::More               : 1.14
    IO::WrapTie                      : 2.110
    Pod::Find                        : 1.60
    Config::MVP                      : 2.200003
    Email::MessageID                 : 1.402
    Catalyst::Plugin::Static::Simple : 0.30
    Text::Wrap                       : 2012.0818
    IO::Prompt::Tiny                 : 0.002
    Locale::Codes                    : 3.25
    DateTime::Duration               : 1.03
    Bash::Completion::Plugins::perlbrew : 0.09
    Class::MOP                       : 2.0802
    JSON::PP                         : 2.27202
    Getopt::Long::Descriptive        : 0.093
    Pod::Simple::XMLOutStream        : 3.26
    DateTime::Set                    : 0.31
    Sub::Install                     : 0.926
    Time::Local                      : 1.2300
    Catalyst::Model::DBIC::Schema    : 0.60
    Log::Log4perl                    : 1.41
    Cache::Cache                     : 1.06
    HTTP::Response                   : 6.04
    DynaLoader                       : 1.18
    PPI::Document::Fragment          : 1.215
    App::Cmd::Tester                 : 0.320
    Pod::Usage                       : 1.61
    Text::Glob                       : 0.09
    ExtUtils::Constant               : 0.23
    Data::GUID                       : 0.046
    JSON                             : 2.57
    Moose::Meta::Method              : 2.0802
    Parallel::Scoreboard             : 0.03
    Test::Exception                  : 0.32
    Class::Iterator                  : 0.3
    PPI::Document::File              : 1.215
    Algorithm::ContextVector         : 0.01
    Archive::Tar                     : 1.90
    Unicode::Normalize               : 1.16
    Module::Build::ModuleInfo        : 0.4003
    Config::Tiny                     : 2.14
    Number::Compare                  : 0.03
    Pod::Text                        : 3.17
    LWP::UserAgent                   : 6.05
    Pod::Elemental                   : 0.102362
    Pod::Checker                     : 1.60
    Devel::StackTrace                : 1.30
    Net::HTTP                        : 6.06
    DateTime::Event::ICal            : 0.11
    Locale::Maketext::Simple         : 0.21
    Crypt::Random                    : 1.25
    B::Deparse                       : 1.20
    Test::Output                     : 1.01
    Pod::Elemental::Element::Pod5::Verbatim : 0.102362
    if                               : 0.0602
    Algorithm::C3                    : 0.08
    Moose::Meta::Class               : 2.0802
    boolean                          : 0.30
    Test::Builder::Module            : 0.98
    IO::HTML                         : 1.00
    Catalyst::View::Email            : 0.33
    Acme::Goatse                     : 0.02
    IPC::Open2                       : 1.04
    MRO::Compat                      : 0.12
    Carp::Clan                       : 6.04
    DBIx::Class::Schema              : 
    Archive::Peek                    : 0.35
    Fennec::Lite                     : 0.004
    Catalyst::Exception              : 
    Digest::SHA1                     : 2.13
    Test::Reporter                   : 1.58
    Time::Zone                       : 2.24
    Email::Send                      : 2.198
    PadWalker                        : 1.96
    Net::SSLeay                      : 1.54
    HTML::Tagset                     : 3.20
    TAP::Parser                      : 3.26
    Email::MIME::Creator             : 1.911
    Text::CSV_XS                     : 0.97
    HTTP::Message::PSGI              : 
    version                          : 0.9902
    Scope::Guard                     : 0.20
    Dist::Zilla::Plugin::InlineFiles : 4.300034
    Data::UUID                       : 1.218
    Plack::Builder                   : 
    Devel::Leak                      : 0.03
    Devel::NYTProf                   : 5.02
    DirHandle                        : 1.04
    ExtUtils::InstallPaths           : 0.009
    Carp::Assert                     : 0.20
    utf8::all                        : 0.010
    Catalyst::Plugin::StackTrace     : 0.11
    Dist::Zilla::Role::AfterMint     : 4.300034
    local::lib                       : 1.008009
    App::pmodinfo                    : 0.10
    IO::Socket::INET                 : 1.33
    POSIX                            : 1.32
    Encode::Alias                    : 2.16
    Class::MethodMaker               : 2.18
    B::Concise                       : 0.95
    PerlIO::via::QuotedPrint         : 0.07
    Class::Accessor                  : 0.34
    Pod::ParseLink                   : 1.10
    ExtUtils::Mkbootstrap            : 6.66
    CPAN::Testers::Report            : 1.999001
    Perl::Critic                     : 1.118
    Text::Abbrev                     : 1.02
    Sys::SigAction                   : 0.15
    Number::Format                   : 1.73
    Email::MIME::Kit::Role::Renderer : 2.102012
    ExtUtils::Config                 : 0.007
    Dist::Zilla::Role::MintingProfile::ShareDir : 4.300034
    Pod::Elemental::Element::Pod5::Ordinary : 0.102362
    Test::CheckDeps                  : 0.002
    AnyEvent::HTTP                   : 2.15
    Log::Dispatch::Output            : 2.39
    Dist::Zilla::Role::AfterBuild    : 4.300034
    Params::Validate                 : 1.07
    File::pushd                      : 1.005
    Sys::Hostname                    : 1.17
    Archive::Any                     : 0.0932
    DateTime::Format::Natural        : 1.02
    HTML::TreeBuilder::XPath         : 0.14
    PPI::Dumper                      : 1.215
    File::Temp                       : 0.2301
    Plack::Test                      : 
    Test::Simple                     : 0.98
    IO::Compress::Deflate            : 2.060
    Compress::Raw::Bzip2             : 2.060
    Path::Tiny                       : 0.020
    IO::Socket                       : 1.36
    PPI::Token::Whitespace           : 1.215
    Crypt::CBC                       : 2.32
    File::Spec::Unix                 : 3.40
    Catalyst::Controller             : 
    ExtUtils::ParseXS                : 3.18
    Test::Warn                       : 0.24
    MooX::Types::MooseLike           : 0.23
    Catalyst::Test                   : 
    Test::Requires                   : 0.06
    Test::Portability::Files         : 0.06
    Array::Diff                      : 0.07
    threads                          : 1.86
    CPANPLUS::Dist::Build            : 0.70
    CPANPLUS                         : 0.9136
    HTTP::Server::PSGI               : 
    Getopt::Std                      : 1.07
    Devel::PPPort                    : 3.20
    IO::Socket::SSL                  : 1.88
    Catalyst::Plugin::Session        : 0.37
    Software::License                : 0.103005
    Sub::Identify                    : 0.04
    metaclass                        : 2.0802
    File::Find::Rule::Perl           : 1.13
    Perl::Critic::Violation          : 1.118
    accessors                        : 1.01
    Pod::Elemental::Element::Pod5::Command : 0.102362
    Text::CSV                        : 1.21
    Test::CPAN::Meta                 : 0.23
    Inline                           : 0.53
    Math::Trig                       : 1.23
    Perl::OSType                     : 1.003
    Module::Locate                   : 1.72
    File::Fetch                      : 0.38
    LWP::MediaTypes                  : 6.02
    Digest::MD5                      : 2.52
    Return::Value                    : 1.666002
    SQL::Translator                  : 0.11016
    Package::Stash::XS               : 0.26
    HTTP::Daemon                     : 6.01
    IO::Compress::Base               : 2.060
    URI                              : 1.60
    Catalyst::Plugin::Session::Store::DBIC : 0.12
    Crypt::CAST5_PP                  : 1.04
    Test::Trap                       : 0.2.2
    Dist::Zilla::Role::FileFinderUser : 4.300034
    Module::Loaded                   : 0.08
    Catalyst::Manual                 : 5.9007
    String::RewritePrefix            : 0.006
    warnings                         : 1.18
    Class::Inspector                 : 1.28
    Sub::Exporter                    : 0.985
    Moo::Role                        : 
    HTTP::Date                       : 6.02
    HTTP::Headers                    : 6.05
    Data::Visitor                    : 0.28
    DateTime                         : 1.03
    Net::Curl                        : 0.28
    Devel::Caller                    : 2.06
    Email::Address                   : 1.898
    Imager::Font::FT2                : 0.91
    Math::Complex                    : 1.59
    IO::Select                       : 1.21
    Log::Message                     : 0.08
    Encode::Locale                   : 1.03
    Metabase::Report                 : 0.021
    UNIVERSAL::isa                   : 1.20120726
    Imager::File::GIF                : 0.87
    Throwable::Error                 : 0.200008
    IO::Seekable                     : 1.10
    Devel::LexAlias                  : 0.05
    Metabase::Fact                   : 0.021
    List::MoreUtils                  : 0.33
    MooseX::RelatedClassRoles        : 0.004
    Net::SMTP::TLS::ButMaintained    : 0.24
    English                          : 1.06
    Term::ReadKey                    : 2.30
    MooseX::Types::Path::Class       : 0.06
    Exporter::Everything             : 0.001
    Sub::Exporter::ForMethods        : 0.100050
    Devel::Platform::Info            : 0.11
    Bash::Completion                 : 0.008
    Catalyst::Action                 : 
    vars                             : 1.03
    XML::LibXML                      : 2.0017
    NEXT                             : 0.65
    Data::Printer::Filter            : 
    CGI::Simple::Cookie              : 1.113
    Pod::Elemental::Transformer::Pod5 : 0.102362
    Test::Most                       : 0.31
    Pod::Select                      : 1.60
    Bash::Completion::Plugins::cpanm : 0.0.2
    Test::Base                       : 0.60
    FCGI::ProcManager                : 0.24
    Devel::FindPerl                  : 0.006
    B::Hooks::OP::Annotation         : 0.44
    Archive::Extract                 : 0.68
    App::Cpan                        : 1.61
    DateTime::Format::Flexible       : 0.25
    Unicode::UCD                     : 0.51
    Test::Harness                    : 3.26
    File::CheckTree                  : 4.42
    blib                             : 1.06
    Params::Check                    : 0.36
    Class::Loader                    : 2.03
    JavaScript::Minifier::XS         : 0.09
    autodie                          : 2.18
    App::p                           : 0.0304
    Dist::Zilla::Role::BeforeRelease : 4.300034
    Perl::Critic::Policy             : 1.118
    Pod::Elemental::Transformer      : 0.102362
    Devel::PartialDump               : 0.15
    Pod::Simple::Text                : 3.26
    Math::Pari                       : 2.01080605
    PPI                              : 1.215
    IO::Tty                          : 1.10
    CatalystX::InjectComponent       : 0.025
    Dist::Zilla::Role::PluginBundle::Easy : 4.300034
    Net::HTTPS                       : 6.04
    Moose::Meta::TypeCoercion        : 2.0802
    Archive::Zip                     : 1.30
    B::Keywords                      : 1.13
    feature                          : 1.32
    Dist::Zilla::Role::FileMunger    : 4.300034
    PPI::Token::Quote::Single        : 1.215
    Data::OptList                    : 0.107

Test Output    :

PERL_DL_NONLAZY=1 /Users/stas/perl5/perlbrew/perls/perl-5.18.0-RC1/bin/perl "-MExtUtils::Command::MM" "-e" "test_harness(0, 'blib/lib', 'blib/arch')" t/*.t
t/00-compile.t ............... ok
t/01basic.t .................. ok
t/author-critic.t ............ skipped: these tests are for testing by the author
t/author-test-eol.t .......... skipped: these tests are for testing by the author
t/portfs.t ................... ok
t/release-cpan-changes.t ..... skipped: these tests are for release candidate testing
t/release-dist-manifest.t .... skipped: these tests are for release candidate testing
t/release-distmeta.t ......... skipped: these tests are for release candidate testing
t/release-kwalitee.t ......... skipped: these tests are for release candidate testing
t/release-meta-json.t ........ skipped: these tests are for release candidate testing
t/release-minimum-version.t .. skipped: these tests are for release candidate testing
t/release-mojibake.t ......... skipped: these tests are for release candidate testing
t/release-no-tabs.t .......... skipped: these tests are for release candidate testing
t/release-pod-coverage.t ..... skipped: these tests are for release candidate testing
t/release-pod-linkcheck.t .... skipped: these tests are for release candidate testing
t/release-pod-syntax.t ....... skipped: these tests are for release candidate testing
t/release-portability.t ...... skipped: these tests are for release candidate testing
t/release-synopsis.t ......... skipped: these tests are for release candidate testing
t/release-test-version.t ..... skipped: these tests are for release candidate testing
t/release-unused-vars.t ...... skipped: these tests are for release candidate testing
All tests successful.
Files=20, Tests=5,  1 wallclock secs ( 0.09 usr  0.05 sys +  0.55 cusr  0.16 csys =  0.85 CPU)
Result: PASS


--

Summary of my perl5 (revision 5 version 18 subversion 0) configuration:
   
  Platform:
    osname=darwin, osvers=12.3.0, archname=darwin-2level
    uname='darwin stanislaws-macbook-pro.local 12.3.0 darwin kernel version 12.3.0: sun jan 6 22:37:10 pst 2013; root:xnu-2050.22.13~1release_x86_64 x86_64 '
    config_args='-de -Dprefix=/Users/stas/perl5/perlbrew/perls/perl-5.18.0-RC1 -Aeval:scriptdir=/Users/stas/perl5/perlbrew/perls/perl-5.18.0-RC1/bin'
    hint=recommended, useposix=true, d_sigaction=define
    useithreads=undef, usemultiplicity=undef
    useperlio=define, d_sfio=undef, uselargefiles=define, usesocks=undef
    use64bitint=define, use64bitall=define, uselongdouble=undef
    usemymalloc=n, bincompat5005=undef
  Compiler:
    cc='cc', ccflags ='-fno-common -DPERL_DARWIN -fno-strict-aliasing -pipe -fstack-protector -I/opt/local/include',
    optimize='-O3',
    cppflags='-fno-common -DPERL_DARWIN -fno-strict-aliasing -pipe -fstack-protector -I/opt/local/include'
    ccversion='', gccversion='4.2.1 Compatible Apple Clang 4.0 ((tags/Apple/clang-421.0.60))', gccosandvers=''
    intsize=4, longsize=8, ptrsize=8, doublesize=8, byteorder=12345678
    d_longlong=define, longlongsize=8, d_longdbl=define, longdblsize=16
    ivtype='long', ivsize=8, nvtype='double', nvsize=8, Off_t='off_t', lseeksize=8
    alignbytes=8, prototype=define
  Linker and Libraries:
    ld='env MACOSX_DEPLOYMENT_TARGET=10.3 cc', ldflags =' -fstack-protector -L/opt/local/lib'
    libpth=/opt/local/lib /usr/lib
    libs=-lgdbm -ldbm -ldl -lm -lutil -lc
    perllibs=-ldl -lm -lutil -lc
    libc=, so=dylib, useshrplib=false, libperl=libperl.a
    gnulibc_version=''
  Dynamic Linking:
    dlsrc=dl_dlopen.xs, dlext=bundle, d_dlsymun=undef, ccdlflags=' '
    cccdlflags=' ', lddlflags=' -bundle -undefined dynamic_lookup -L/opt/local/lib -fstack-protector'


Characteristics of this binary (from libperl): 
  Compile-time options: HAS_TIMES PERLIO_LAYERS PERL_DONT_CREATE_GVSV
                        PERL_HASH_FUNC_ONE_AT_A_TIME_HARD PERL_MALLOC_WRAP
                        PERL_PRESERVE_IVUV PERL_SAWAMPERSAND USE_64_BIT_ALL
                        USE_64_BIT_INT USE_LARGE_FILES USE_LOCALE
                        USE_LOCALE_COLLATE USE_LOCALE_CTYPE
                        USE_LOCALE_NUMERIC USE_PERLIO USE_PERL_ATOF
  Locally applied patches:
	RC1
  Built under darwin
  Compiled at May 11 2013 12:51:18
  %ENV:
    PERLBREW_BASHRC_VERSION="0.63"
    PERLBREW_HOME="/Users/stas/.perlbrew"
    PERLBREW_MANPATH="/Users/stas/perl5/perlbrew/perls/perl-5.18.0-RC1/man"
    PERLBREW_PATH="/Users/stas/perl5/perlbrew/bin:/Users/stas/perl5/perlbrew/perls/perl-5.18.0-RC1/bin"
    PERLBREW_PERL="perl-5.18.0-RC1"
    PERLBREW_ROOT="/Users/stas/perl5/perlbrew"
    PERLBREW_VERSION="0.63"
    PERL_MM_USE_DEFAULT="1"
  @INC:
    /Users/stas/perl5/perlbrew/perls/perl-5.18.0-RC1/lib/site_perl/5.18.0/darwin-2level
    /Users/stas/perl5/perlbrew/perls/perl-5.18.0-RC1/lib/site_perl/5.18.0
    /Users/stas/perl5/perlbrew/perls/perl-5.18.0-RC1/lib/5.18.0/darwin-2level
    /Users/stas/perl5/perlbrew/perls/perl-5.18.0-RC1/lib/5.18.0
    .