MooseX-AttributeIndexes v2.000001 Perl 5 v5.14.4 MSWin32-x64-multi-thread

Status
Pass
From
LNATION
Dist
MooseX-AttributeIndexes v2.000001
Platform
Perl 5 v5.14.4 MSWin32-x64-multi-thread
Date
2025-05-19 21:45:54
ID
a7146f3c-6f3b-1014-aa69-d824290baeb3
This distribution has been tested as part of the CPAN Testers
project, supporting the Perl programming language.  See
http://wiki.cpantesters.org/ for more information or email
questions to cpan-testers-discuss@perl.org


--
Dear Kent Fredric (PAUSE Custodial Account),

This is a computer-generated report for MooseX-AttributeIndexes-2.000001
on perl 5.14.4, created by CPAN-Reporter-1.2020.

Thank you for uploading your work to CPAN.  Congratulations!
All tests were successful.

Sections of this report:

    * Tester comments
    * Program output
    * Prerequisites
    * Environment and other context

------------------------------
TESTER COMMENTS
------------------------------

Additional comments from tester:

this report is from an automated smoke testing program
and was not reviewed by a human for accuracy

------------------------------
PROGRAM OUTPUT
------------------------------

Output from 'C:\strawberry\c\bin\dmake.exe test':

"C:\strawberry\perl\bin\perl.exe" "-MExtUtils::Command::MM" "-MTest::Harness" "-e" "undef *Test::Harness::Switches; test_harness(0, 'blib\lib', 'blib\arch')" t/*.t t/00-compile/*.t
t/00-compile/lib_Moose_Meta_Attribute_Custom_Trait_Indexed_pm.t ............. ok
t/00-compile/lib_MooseX_AttributeIndexes_Meta_Attribute_Trait_Indexed_pm.t .. ok
t/00-compile/lib_MooseX_AttributeIndexes_Meta_Role_ApplicationToClass_pm.t .. ok
t/00-compile/lib_MooseX_AttributeIndexes_Meta_Role_ApplicationToRole_pm.t ... ok
t/00-compile/lib_MooseX_AttributeIndexes_Meta_Role_Composite_pm.t ........... ok
t/00-compile/lib_MooseX_AttributeIndexes_Meta_Role_pm.t ..................... ok
t/00-compile/lib_MooseX_AttributeIndexes_pm.t ............................... ok
t/00-compile/lib_MooseX_AttributeIndexes_Provider_FromAttributes_pm.t ....... ok
t/00-compile/lib_MooseX_AttributeIndexes_Provider_pm.t ...................... ok
# 
# Versions for all modules listed in MYMETA.json (including optional ones):
# 
# === Configure Requires ===
# 
#     Module              Want Have
#     ------------------- ---- ----
#     ExtUtils::MakeMaker  any 7.74
# 
# === Configure Recommends ===
# 
#     Module              Want Have
#     ------------------- ---- ----
#     ExtUtils::MakeMaker 7.00 7.74
# 
# === Build Requires ===
# 
#     Module              Want Have
#     ------------------- ---- ----
#     ExtUtils::MakeMaker  any 7.74
# 
# === Test Requires ===
# 
#     Module              Want     Have
#     ------------------- ---- --------
#     ExtUtils::MakeMaker  any     7.74
#     File::Spec           any     3.75
#     Test::Moose          any   2.2207
#     Test::More          0.92 1.302213
#     lib                  any     0.63
# 
# === Test Recommends ===
# 
#     Module                  Want     Have
#     ------------------- -------- --------
#     CPAN::Meta          2.120900 2.150010
#     ExtUtils::MakeMaker     7.00     7.74
#     Test::More              0.99 1.302213
# 
# === Runtime Requires ===
# 
#     Module                Want   Have
#     --------------------- ---- ------
#     Moose                 0.94 2.2207
#     Moose::Exporter        any 2.2207
#     Moose::Role            any 2.2207
#     Moose::Util::MetaRole  any 2.2207
#     MooseX::Types::Moose  0.19   0.51
#     Scalar::Util           any   1.69
#     namespace::clean       any   0.27
#     strict                 any   1.04
#     warnings               any   1.12
# 
# === Runtime Recommends ===
# 
#     Module  Want   Have
#     ------ ----- ------
#     Moose  2.000 2.2207
# 
t/00-report-prereqs.t ....................................................... ok
t/01-load.t ................................................................. ok
t/02-basic.t ................................................................ ok
t/03-callback.t ............................................................. ok
t/04-roles.t ................................................................ ok
All tests successful.
Files=14, Tests=28,  6 wallclock secs ( 0.08 usr +  0.05 sys =  0.13 CPU)
Result: PASS

------------------------------
PREREQUISITES
------------------------------

Prerequisite modules loaded:

requires:

    Module                Need  Have    
    --------------------- ----- --------
    Moose                 0.94  2.2207  
    Moose::Exporter       0     2.2207  
    Moose::Role           0     2.2207  
    Moose::Util::MetaRole 0     2.2207  
    MooseX::Types::Moose  0.19  0.51    
    namespace::clean      0     0.27    
    perl                  5.006 5.014004
    Scalar::Util          0     1.69    
    strict                0     1.04    
    warnings              0     1.12    

build_requires:

    Module                Need  Have    
    --------------------- ----- --------
    ExtUtils::MakeMaker   0     7.74    
    File::Spec            0     3.75    
    lib                   0     0.63    
    Test::Moose           0     2.2207  
    Test::More            0.92  1.302213

configure_requires:

    Module                Need  Have    
    --------------------- ----- --------
    ExtUtils::MakeMaker   0     7.74    
    perl                  5.006 5.014004


------------------------------
ENVIRONMENT AND OTHER CONTEXT
------------------------------

Environment variables:

    AUTOMATED_TESTING = 1
    COMSPEC = C:\Windows\system32\cmd.exe
    NUMBER_OF_PROCESSORS = 2
    PATH = C:\Windows\system32;C:\Windows;C:\Windows\System32\Wbem;C:\Windows\System32\WindowsPowerShell\v1.0\;C:\Windows\System32\OpenSSH\;C:\Program Files\Amazon\cfn-bootstrap\;C:\strawberry\c\bin;C:\strawberry\perl\site\bin;C:\strawberry\perl\bin;C:\Users\Administrator\AppData\Local\Microsoft\WindowsApps;C:\Users\Administrator\AppData\Local\Microsoft\WinGet\Links;
    PERL5LIB = 
    PERL5OPT = 
    PERL5_CPANPLUS_IS_RUNNING = 3288
    PERL5_CPAN_IS_RUNNING = 3288
    PERL5_CPAN_IS_RUNNING_IN_RECURSION = 9172,3288
    PERL_CR_SMOKER_CURRENT = MooseX-AttributeIndexes-2.000001
    PERL_EXTUTILS_AUTOINSTALL = --defaultdeps
    PERL_MM_USE_DEFAULT = 1
    PROCESSOR_IDENTIFIER = Intel64 Family 6 Model 85 Stepping 7, GenuineIntel
    TEMP = C:\Users\ADMINI~1\AppData\Local\Temp\2
    TERM = dumb

Perl special variables (and OS-specific diagnostics, for MSWin32):

    $^X = C:\strawberry\perl\bin\perl.exe
    $UID/$EUID = 0 / 0
    $GID = 0
    $EGID = 0
    Win32::GetOSName = Win2012
    Win32::GetOSVersion = , 6, 2, 9200, 2, 0, 0, 400, 3
    Win32::FsType = NTFS
    Win32::IsAdminUser = 1

Perl module toolchain versions installed:

    Module              Have    
    ------------------- --------
    CPAN                1.9800  
    CPAN::Meta          2.150010
    Cwd                 3.75    
    ExtUtils::CBuilder  0.280236
    ExtUtils::Command   7.74    
    ExtUtils::Install   2.06    
    ExtUtils::MakeMaker 7.74    
    ExtUtils::Manifest  1.75    
    ExtUtils::ParseXS   3.57    
    File::Spec          3.75    
    JSON                4.10    
    JSON::PP            4.16    
    Module::Build       0.4234  
    Module::Signature   n/a     
    Parse::CPAN::Meta   2.150010
    Test2               1.302213
    Test::Harness       3.52    
    Test::More          1.302213
    YAML                1.31    
    YAML::Syck          1.23    
    version             0.9933  


--

Summary of my perl5 (revision 5 version 14 subversion 4) configuration:
   
  Platform:
    osname=MSWin32, osvers=4.0, archname=MSWin32-x64-multi-thread
    uname='Win32 strawberry-perl 5.14.4.1 #1 Mon Mar 11 18:06:54 2013 x64'
    config_args='undef'
    hint=recommended, useposix=true, d_sigaction=undef
    useithreads=define, usemultiplicity=define
    useperlio=define, d_sfio=undef, uselargefiles=define, usesocks=undef
    use64bitint=define, use64bitall=undef, uselongdouble=undef
    usemymalloc=n, bincompat5005=undef
  Compiler:
    cc='gcc', ccflags =' -s -O2 -DWIN32 -DWIN64 -DCONSERVATIVE  -DPERL_TEXTMODE_SCRIPTS -DPERL_IMPLICIT_CONTEXT -DPERL_IMPLICIT_SYS -fno-strict-aliasing -mms-bitfields',
    optimize='-s -O2',
    cppflags='-DWIN32'
    ccversion='', gccversion='4.6.3', gccosandvers=''
    intsize=4, longsize=4, ptrsize=8, doublesize=8, byteorder=12345678
    d_longlong=define, longlongsize=8, d_longdbl=define, longdblsize=12
    ivtype='long long', ivsize=8, nvtype='double', nvsize=8, Off_t='long long', lseeksize=8
    alignbytes=8, prototype=define
  Linker and Libraries:
    ld='g++', ldflags ='-s -L"C:\strawberry\perl\lib\CORE" -L"C:\strawberry\c\lib"'
    libpth=C:\strawberry\c\lib C:\strawberry\c\x86_64-w64-mingw32\lib
    libs=-lmoldname -lkernel32 -luser32 -lgdi32 -lwinspool -lcomdlg32 -ladvapi32 -lshell32 -lole32 -loleaut32 -lnetapi32 -luuid -lws2_32 -lmpr -lwinmm -lversion -lodbc32 -lodbccp32 -lcomctl32
    perllibs=-lmoldname -lkernel32 -luser32 -lgdi32 -lwinspool -lcomdlg32 -ladvapi32 -lshell32 -lole32 -loleaut32 -lnetapi32 -luuid -lws2_32 -lmpr -lwinmm -lversion -lodbc32 -lodbccp32 -lcomctl32
    libc=, so=dll, useshrplib=true, libperl=libperl514.a
    gnulibc_version=''
  Dynamic Linking:
    dlsrc=dl_win32.xs, dlext=dll, d_dlsymun=undef, ccdlflags=' '
    cccdlflags=' ', lddlflags='-mdll -s -L"C:\strawberry\perl\lib\CORE" -L"C:\strawberry\c\lib"'


Characteristics of this binary (from libperl): 
  Compile-time options: MULTIPLICITY PERL_DONT_CREATE_GVSV
                        PERL_IMPLICIT_CONTEXT PERL_IMPLICIT_SYS
                        PERL_MALLOC_WRAP PERL_PRESERVE_IVUV PL_OP_SLAB_ALLOC
                        USE_64_BIT_INT USE_ITHREADS USE_LARGE_FILES
                        USE_PERLIO USE_PERL_ATOF
  Built under MSWin32
  Compiled at Mar 11 2013 18:11:21
  %ENV:
    PERL5_CPANPLUS_IS_RUNNING="3288"
    PERL5_CPAN_IS_RUNNING="3288"
    PERL5_CPAN_IS_RUNNING_IN_RECURSION="9172,3288"
    PERL_CR_SMOKER_CURRENT="MooseX-AttributeIndexes-2.000001"
    PERL_EXTUTILS_AUTOINSTALL="--defaultdeps"
    PERL_MM_USE_DEFAULT="1"
  @INC:
    C:/strawberry/perl/site/lib
    C:/strawberry/perl/vendor/lib
    C:/strawberry/perl/lib
    .