File-Codeowners v0.55 Perl 5 v5.18.3 i86pc-solaris-64
- Status
- Pass
- From
- Chris Williams (BINGOS)
- Dist
-
File-Codeowners v0.55
- Platform
- Perl 5 v5.18.3 i86pc-solaris-64
- Date
- 2022-06-30 18:15:42
- ID
- a715a2d2-f8a0-11ec-8f4e-c962458f5e5b
This distribution has been tested as part of the CPAN Testers
project, supporting the Perl programming language. See
http://wiki.cpantesters.org/ for more information or email
questions to cpan-testers-discuss@perl.org
--
Dear Charles McGarvey,
This is a computer-generated error report created automatically by
CPANPLUS, version 0.9914. Testers personal comments may appear
at the end of this report.
Thank you for uploading your work to CPAN. Congratulations!
All tests were successful.
TEST RESULTS:
Below is the error stack from stage 'make test':
PERL_DL_NONLAZY=1 "/home/cpan/pit/bare/perl-5.18.3/bin/perl" "-MExtUtils::Command::MM" "-MTest::Harness" "-e" "undef *Test::Harness::Switches; test_harness(0, 'blib/lib', 'blib/arch')" t/*.t
t/00-compile.t ............ ok
#
# Versions for all modules listed in MYMETA.json (including optional ones):
#
# === Configure Requires ===
#
# Module Want Have
# ------------------- ---- ----
# ExtUtils::MakeMaker any 7.64
#
# === Build Requires ===
#
# Module Want Have
# ------------------- ---- ----
# ExtUtils::MakeMaker any 7.64
#
# === Test Requires ===
#
# Module Want Have
# ------------------- ---- --------
# ExtUtils::MakeMaker any 7.64
# File::Spec any 3.75
# IO::Handle any 1.34
# IPC::Open3 any 1.13
# Test::More any 1.302190
#
# === Test Recommends ===
#
# Module Want Have
# ---------- -------- --------
# CPAN::Meta 2.120900 2.150010
#
# === Runtime Requires ===
#
# Module Want Have
# --------------- ----- -----
# Carp any 1.29
# Encode any 2.49
# Exporter any 5.68
# FindBin any 1.51
# IPC::Open2 any 1.04
# Path::Tiny 0.089 0.122
# Scalar::Util any 1.27
# Text::Gitignore any 0.04
# strict any 1.07
# warnings any 1.18
#
# === Runtime Suggests ===
#
# Module Want Have
# ------------- ---- --------
# Test::Builder any 1.302190
#
t/00-report-prereqs.t ..... ok
hint: Using 'master' as the name for the initial branch. This default branch name
hint: is subject to change. To configure the initial branch name to use in all
hint: of your new repositories, which will suppress this warning, call:
hint:
hint: git config --global init.defaultBranch <name>
hint:
hint: Names commonly chosen instead of 'master' are 'main', 'trunk' and
hint: 'development'. The just-created branch can be renamed via this command:
hint:
hint: git branch -m <name>
hint: Using 'master' as the name for the initial branch. This default branch name
hint: is subject to change. To configure the initial branch name to use in all
hint: of your new repositories, which will suppress this warning, call:
hint:
hint: git config --global init.defaultBranch <name>
hint:
hint: Names commonly chosen instead of 'master' are 'main', 'trunk' and
hint: 'development'. The just-created branch can be renamed via this command:
hint:
hint: git branch -m <name>
hint: Using 'master' as the name for the initial branch. This default branch name
hint: is subject to change. To configure the initial branch name to use in all
hint: of your new repositories, which will suppress this warning, call:
hint:
hint: git config --global init.defaultBranch <name>
hint:
hint: Names commonly chosen instead of 'master' are 'main', 'trunk' and
hint: 'development'. The just-created branch can be renamed via this command:
hint:
hint: git branch -m <name>
hint: Using 'master' as the name for the initial branch. This default branch name
hint: is subject to change. To configure the initial branch name to use in all
hint: of your new repositories, which will suppress this warning, call:
hint:
hint: git config --global init.defaultBranch <name>
hint:
hint: Names commonly chosen instead of 'master' are 'main', 'trunk' and
hint: 'development'. The just-created branch can be renamed via this command:
hint:
hint: git branch -m <name>
t/file-codeowners-util.t .. ok
t/file-codeowners.t ....... ok
All tests successful.
Files=4, Tests=15, 2 wallclock secs ( 0.06 usr 0.03 sys + 1.21 cusr 0.52 csys = 1.81 CPU)
Result: PASS
PREREQUISITES:
Here is a list of prerequisites you specified and versions we
managed to load:
Module Name Have Want
Carp 1.29 0
Encode 2.49 0
Exporter 5.68 0
ExtUtils::MakeMaker 7.64 0
File::Spec 3.75 0
FindBin 1.51 0
IO::Handle 1.34 0
IPC::Open2 1.04 0
IPC::Open3 1.13 0
Path::Tiny 0.122 0.089
Scalar::Util 1.27 0
Test::More 1.302190 0
Text::Gitignore 0.04 0
strict 1.07 0
warnings 1.18 0
Perl module toolchain versions installed:
Module Name Have
CPANPLUS 0.9914
CPANPLUS::Dist::Build 0.90
Cwd 3.75
ExtUtils::CBuilder 0.280236
ExtUtils::Command 7.64
ExtUtils::Install 2.20
ExtUtils::MakeMaker 7.64
ExtUtils::Manifest 1.73
ExtUtils::ParseXS 3.44
File::Spec 3.75
Module::Build 0.4231
Pod::Parser 1.60
Pod::Simple 3.28
Test2 1.302190
Test::Harness 3.44
Test::More 1.302190
version 0.9929
******************************** NOTE ********************************
The comments above are created mechanically, possibly without manual
checking by the sender. As there are many people performing automatic
tests on each upload to CPAN, it is likely that you will receive
identical messages about the same problem.
If you believe that the message is mistaken, please reply to the first
one with correction and/or additional informations, and do not take
it personally. We appreciate your patience. :)
**********************************************************************
Additional comments:
This report was machine-generated by CPANPLUS::Dist::YACSmoke 1.08.
Powered by minismokebox version 0.68
CPANPLUS is prefering Build.PL
------------------------------
ENVIRONMENT AND OTHER CONTEXT
------------------------------
Environment variables:
AUTOMATED_TESTING = 1
LANG = en_GB.UTF-8
NONINTERACTIVE_TESTING = 1
PATH = /usr/bin:/usr/sbin:/sbin:/opt/ooce/bin:/usr/gnu/bin
PERL5LIB = /home/cpan/pit/jail/v7XAUkL5f3/lib/perl5:/home/cpan/pit/bare/conf/perl-5.18.3/.cpanplus/5.18.3/build/z9Bz4FPya2/Module-Build-Tiny-0.039/blib/lib:/home/cpan/pit/bare/conf/perl-5.18.3/.cpanplus/5.18.3/build/z9Bz4FPya2/Module-Build-Tiny-0.039/blib/arch:/home/cpan/pit/bare/conf/perl-5.18.3/.cpanplus/5.18.3/build/oP2kt3o1us/Text-Gitignore-0.04/blib/lib:/home/cpan/pit/bare/conf/perl-5.18.3/.cpanplus/5.18.3/build/oP2kt3o1us/Text-Gitignore-0.04/blib/arch:/home/cpan/pit/bare/conf/perl-5.18.3/.cpanplus/5.18.3/build/wwE8ZySAFx/File-Codeowners-0.55/blib/lib:/home/cpan/pit/bare/conf/perl-5.18.3/.cpanplus/5.18.3/build/wwE8ZySAFx/File-Codeowners-0.55/blib/arch
PERL5_CPANPLUS_IS_RUNNING = 24397
PERL5_CPANPLUS_IS_VERSION = 0.9914
PERL5_MINISMOKEBOX = 0.68
PERL5_YACSMOKE_BASE = /home/cpan/pit/bare/conf/perl-5.18.3
PERL_EXTUTILS_AUTOINSTALL = --defaultdeps
PERL_LOCAL_LIB_ROOT = /home/cpan/pit/jail/v7XAUkL5f3
PERL_MB_OPT = --install_base "/home/cpan/pit/jail/v7XAUkL5f3"
PERL_MM_OPT = INSTALL_BASE=/home/cpan/pit/jail/v7XAUkL5f3
PERL_MM_USE_DEFAULT = 1
PERL_USE_UNSAFE_INC = 1
SHELL = /bin/bash
TERM = screen.xterm-256color
Perl special variables (and OS-specific diagnostics, for MSWin32):
Perl: $^X = /home/cpan/pit/bare/perl-5.18.3/bin/perl
UID: $< = 101
EUID: $> = 101
GID: $( = 101 101
EGID: $) = 101 101
-------------------------------
--
Summary of my perl5 (revision 5 version 18 subversion 3) configuration:
Platform:
osname=solaris, osvers=2.11, archname=i86pc-solaris-64
uname='sunos ouzel 5.11 omnios-r151034-0d278a0cc5 i86pc i386 i86pc '
config_args='-des -Dprefix=/home/cpan/pit/bare/perl-5.18.3 -Duse64bitall -Dcc=gcc'
hint=recommended, useposix=true, d_sigaction=define
useithreads=undef, usemultiplicity=undef
useperlio=define, d_sfio=undef, uselargefiles=define, usesocks=undef
use64bitint=define, use64bitall=define, uselongdouble=undef
usemymalloc=n, bincompat5005=undef
Compiler:
cc='gcc', ccflags ='-m64 -fwrapv -fno-strict-aliasing -pipe -fstack-protector -D_LARGEFILE_SOURCE -D_FILE_OFFSET_BITS=64 -DPERL_USE_SAFE_PUTENV',
optimize='-O',
cppflags='-m64 -fwrapv -fno-strict-aliasing -pipe -fstack-protector'
ccversion='', gccversion='9.3.0', gccosandvers=''
intsize=4, longsize=8, ptrsize=8, doublesize=8, byteorder=12345678
d_longlong=define, longlongsize=8, d_longdbl=define, longdblsize=16
ivtype='long', ivsize=8, nvtype='double', nvsize=8, Off_t='off_t', lseeksize=8
alignbytes=8, prototype=define
Linker and Libraries:
ld='gcc', ldflags =' -m64 -fstack-protector -L/usr/gnu/lib '
libpth=/usr/gnu/lib /usr/lib /usr/ccs/lib
libs=-lsocket -lnsl -ldl -lm -lc
perllibs=-lsocket -lnsl -ldl -lm -lc
libc=/lib/libc.so, so=so, useshrplib=true, libperl=libperl.so
gnulibc_version=''
Dynamic Linking:
dlsrc=dl_dlopen.xs, dlext=so, d_dlsymun=undef, ccdlflags=' -R /home/cpan/pit/bare/perl-5.18.3/lib/5.18.3/i86pc-solaris-64/CORE'
cccdlflags='-fPIC', lddlflags=' -shared -m64 -L/usr/gnu/lib -fstack-protector'
Characteristics of this binary (from libperl):
Compile-time options: HAS_TIMES PERLIO_LAYERS PERL_DONT_CREATE_GVSV
PERL_HASH_FUNC_ONE_AT_A_TIME_HARD PERL_MALLOC_WRAP
PERL_PRESERVE_IVUV PERL_SAWAMPERSAND
PERL_USE_SAFE_PUTENV USE_64_BIT_ALL USE_64_BIT_INT
USE_LARGE_FILES USE_LOCALE USE_LOCALE_COLLATE
USE_LOCALE_CTYPE USE_LOCALE_NUMERIC USE_PERLIO
USE_PERL_ATOF
Locally applied patches:
Devel::PatchPerl 2.00
Built under solaris
Compiled at Aug 19 2020 09:12:41
%ENV:
PERL5LIB="/home/cpan/pit/jail/v7XAUkL5f3/lib/perl5:/home/cpan/pit/bare/conf/perl-5.18.3/.cpanplus/5.18.3/build/z9Bz4FPya2/Module-Build-Tiny-0.039/blib/lib:/home/cpan/pit/bare/conf/perl-5.18.3/.cpanplus/5.18.3/build/z9Bz4FPya2/Module-Build-Tiny-0.039/blib/arch:/home/cpan/pit/bare/conf/perl-5.18.3/.cpanplus/5.18.3/build/oP2kt3o1us/Text-Gitignore-0.04/blib/lib:/home/cpan/pit/bare/conf/perl-5.18.3/.cpanplus/5.18.3/build/oP2kt3o1us/Text-Gitignore-0.04/blib/arch:/home/cpan/pit/bare/conf/perl-5.18.3/.cpanplus/5.18.3/build/wwE8ZySAFx/File-Codeowners-0.55/blib/lib:/home/cpan/pit/bare/conf/perl-5.18.3/.cpanplus/5.18.3/build/wwE8ZySAFx/File-Codeowners-0.55/blib/arch"
PERL5_CPANPLUS_IS_RUNNING="24397"
PERL5_CPANPLUS_IS_VERSION="0.9914"
PERL5_MINISMOKEBOX="0.68"
PERL5_YACSMOKE_BASE="/home/cpan/pit/bare/conf/perl-5.18.3"
PERL_EXTUTILS_AUTOINSTALL="--defaultdeps"
PERL_LOCAL_LIB_ROOT="/home/cpan/pit/jail/v7XAUkL5f3"
PERL_MB_OPT="--install_base "/home/cpan/pit/jail/v7XAUkL5f3""
PERL_MM_OPT="INSTALL_BASE=/home/cpan/pit/jail/v7XAUkL5f3"
PERL_MM_USE_DEFAULT="1"
PERL_USE_UNSAFE_INC="1"
@INC:
/home/cpan/pit/jail/v7XAUkL5f3/lib/perl5/5.18.3/i86pc-solaris-64
/home/cpan/pit/jail/v7XAUkL5f3/lib/perl5/5.18.3
/home/cpan/pit/jail/v7XAUkL5f3/lib/perl5/i86pc-solaris-64
/home/cpan/pit/jail/v7XAUkL5f3/lib/perl5
/home/cpan/pit/bare/conf/perl-5.18.3/.cpanplus/5.18.3/build/z9Bz4FPya2/Module-Build-Tiny-0.039/blib/lib
/home/cpan/pit/bare/conf/perl-5.18.3/.cpanplus/5.18.3/build/z9Bz4FPya2/Module-Build-Tiny-0.039/blib/arch
/home/cpan/pit/bare/conf/perl-5.18.3/.cpanplus/5.18.3/build/oP2kt3o1us/Text-Gitignore-0.04/blib/lib
/home/cpan/pit/bare/conf/perl-5.18.3/.cpanplus/5.18.3/build/oP2kt3o1us/Text-Gitignore-0.04/blib/arch
/home/cpan/pit/bare/conf/perl-5.18.3/.cpanplus/5.18.3/build/wwE8ZySAFx/File-Codeowners-0.55/blib/lib
/home/cpan/pit/bare/conf/perl-5.18.3/.cpanplus/5.18.3/build/wwE8ZySAFx/File-Codeowners-0.55/blib/arch
/home/cpan/pit/bare/perl-5.18.3/lib/site_perl/5.18.3/i86pc-solaris-64
/home/cpan/pit/bare/perl-5.18.3/lib/site_perl/5.18.3
/home/cpan/pit/bare/perl-5.18.3/lib/5.18.3/i86pc-solaris-64
/home/cpan/pit/bare/perl-5.18.3/lib/5.18.3
.