Report for Dist-Zilla-Plugin-SpellingCommonMistakesTests-1.001000

Back
From: metabase:user:0d96120c-29e2-11e5-b049-ede3035d37de
Subject: PASS Dist-Zilla-Plugin-SpellingCommonMistakesTests-1.001000 v5.22.0 Windows (Cygwin)
Date: 2015-08-08T15:38:59Z

This distribution has been tested as part of the CPAN Testers
project, supporting the Perl programming language.  See
http://wiki.cpantesters.org/ for more information or email
questions to cpan-testers-discuss@perl.org


--
Dear Adam Lesperance,

This is a computer-generated report for Dist-Zilla-Plugin-SpellingCommonMistakesTests-1.001000
on perl 5.22.0, created by CPAN-Reporter-1.2014.

Thank you for uploading your work to CPAN.  Congratulations!
All tests were successful.

Sections of this report:

    * Tester comments
    * Program output
    * Prerequisites
    * Environment and other context

------------------------------
TESTER COMMENTS
------------------------------

Additional comments from tester:

this report is from an automated smoke testing program
and was not reviewed by a human for accuracy

------------------------------
PROGRAM OUTPUT
------------------------------

Output from './Build test':

t/00-compile.t .................. ok
# 
# 
# perl: v5.22.0 (wanted 5.008) on cygwin from /home/jmaslak/perl5/perlbrew/perls/perl-5.22.0/bin/perl
# 
# Dist::Zilla::Plugin::Bootstrap::lib           => 1.001000   (want any version)
# Dist::Zilla::Plugin::InlineFiles              => 5.037      (want any version)
# English                                       => 1.09       (want any version)
# File::Find                                    => 1.29       (want any version)
# File::Temp                                    => 0.2304     (want any version)
# Module::Build                                 => 0.4214     (want 0.3601) 
# Moose                                         => 2.1405     (want any version)
# Pod::Spell::CommonMistakes                    => 1.002      (want any version)
# Test::More                                    => 1.001014   (want 0.88)   
# Test::Pod::Spelling::CommonMistakes           => 1.001      (want any version)
# utf8                                          => 1.17       (want any version)
# 
# Thanks for using my code.  I hope it works for you.
# If not, please try and include this output in the bug report.
# That will help me reproduce the issue and solve you problem.
# 
t/000-report-versions-tiny.t .... ok
t/author-critic.t ............... skipped: these tests are for testing by the author
t/release-common_spelling.t ..... skipped: these tests are for release candidate testing
t/release-consistent-version.t .. skipped: these tests are for release candidate testing
t/release-cpan-changes.t ........ skipped: these tests are for release candidate testing
t/release-dist-manifest.t ....... skipped: these tests are for release candidate testing
t/release-distmeta.t ............ skipped: these tests are for release candidate testing
t/release-eol.t ................. skipped: these tests are for release candidate testing
t/release-has-version.t ......... skipped: these tests are for release candidate testing
t/release-kwalitee.t ............ skipped: these tests are for release candidate testing
t/release-minimum-version.t ..... skipped: these tests are for release candidate testing
t/release-no-tabs.t ............. skipped: these tests are for release candidate testing
t/release-pod-coverage.t ........ skipped: these tests are for release candidate testing
t/release-pod-syntax.t .......... skipped: these tests are for release candidate testing
t/release-portability.t ......... skipped: these tests are for release candidate testing
t/release-unused-vars.t ......... skipped: these tests are for release candidate testing
All tests successful.
Files=17, Tests=2,  8 wallclock secs ( 0.05 usr  0.56 sys +  1.40 cusr  3.84 csys =  5.85 CPU)
Result: PASS

------------------------------
PREREQUISITES
------------------------------

Prerequisite modules loaded:

requires:

    Module                              Need   Have    
    ----------------------------------- ------ --------
    Dist::Zilla::Plugin::InlineFiles    0      5.037   
    Moose                               0      2.1405  
    perl                                5.008  5.022000
    Pod::Spell::CommonMistakes          0      1.002   
    Test::Pod::Spelling::CommonMistakes 0      1.001   
    utf8                                0      1.17    

build_requires:

    Module                              Need   Have    
    ----------------------------------- ------ --------
    Dist::Zilla::Plugin::Bootstrap::lib 0      1.001000
    English                             0      1.09    
    File::Find                          0      1.29    
    File::Temp                          0      0.2304  
    Module::Build                       0.3601 0.4214  
    Test::More                          0.88   1.001014

configure_requires:

    Module                              Need   Have    
    ----------------------------------- ------ --------
    Module::Build                       0.3601 0.4214  


------------------------------
ENVIRONMENT AND OTHER CONTEXT
------------------------------

Environment variables:

    AUTOMATED_TESTING = 1
    COMSPEC = C:\Windows\system32\cmd.exe
    LANG = en_US.UTF-8
    NONINTERACTIVE_TESTING = 1
    NUMBER_OF_PROCESSORS = 2
    PATH = /home/jmaslak/perl5/perlbrew/bin:/home/jmaslak/perl5/perlbrew/perls/perl-5.22.0/bin:/usr/local/bin:/usr/bin:/cygdrive/c/Windows/system32:/cygdrive/c/Windows:/cygdrive/c/Windows/System32/Wbem:/cygdrive/c/Windows/System32/WindowsPowerShell/v1.0:/cygdrive/c/Strawberry/c/bin:/cygdrive/c/Strawberry/perl/site/bin:/cygdrive/c/Strawberry/perl/bin:/usr/lib/lapack:/usr/sbin:~/perltest/bin
    PERL5LIB = /home/jmaslak/.cpan/build/Test-Pod-Spelling-CommonMistakes-1.001-j0Ru48/blib/arch:/home/jmaslak/.cpan/build/Test-Pod-Spelling-CommonMistakes-1.001-j0Ru48/blib/lib:/home/jmaslak/.cpan/build/Dist-Zilla-Plugin-Bootstrap-lib-1.001000-XSaG5L/blib/arch:/home/jmaslak/.cpan/build/Dist-Zilla-Plugin-Bootstrap-lib-1.001000-XSaG5L/blib/lib:/home/jmaslak/.cpan/build/Dist-Zilla-Util-Test-KENTNL-1.005012-m0WFTc/blib/arch:/home/jmaslak/.cpan/build/Dist-Zilla-Util-Test-KENTNL-1.005012-m0WFTc/blib/lib:/home/jmaslak/.cpan/build/Data-DPath-0.53-WDhfKi/blib/arch:/home/jmaslak/.cpan/build/Data-DPath-0.53-WDhfKi/blib/lib:/home/jmaslak/.cpan/build/Iterator-Util-0.02-qBEKr7/blib/arch:/home/jmaslak/.cpan/build/Iterator-Util-0.02-qBEKr7/blib/lib:/home/jmaslak/.cpan/build/Iterator-0.03-1op6n6/blib/arch:/home/jmaslak/.cpan/build/Iterator-0.03-1op6n6/blib/lib:/home/jmaslak/.cpan/build/recommended-0.003-eUI7RX/blib/arch:/home/jmaslak/.cpan/build/recommended-0.003-eUI7RX/blib/lib:/home/jmaslak/.cpan/build/Dist-Zilla-Role-Bootstrap-1.001002-eV_MRp/blib/arch:/home/jmaslak/.cpan/build/Dist-Zilla-Role-Bootstrap-1.001002-eV_MRp/blib/lib:/home/jmaslak/.cpan/build/Pod-Spell-CommonMistakes-1.002-kycNzQ/blib/arch:/home/jmaslak/.cpan/build/Pod-Spell-CommonMistakes-1.002-kycNzQ/blib/lib
    PERL5OPT = 
    PERL5_CPANPLUS_IS_RUNNING = 7552
    PERL5_CPAN_IS_RUNNING = 7552
    PERL5_CPAN_IS_RUNNING_IN_RECURSION = 7624,7552
    PERLBREW_BASHRC_VERSION = 0.73
    PERLBREW_HOME = /home/jmaslak/.perlbrew
    PERLBREW_MANPATH = /home/jmaslak/perl5/perlbrew/perls/perl-5.22.0/man
    PERLBREW_PATH = /home/jmaslak/perl5/perlbrew/bin:/home/jmaslak/perl5/perlbrew/perls/perl-5.22.0/bin
    PERLBREW_PERL = perl-5.22.0
    PERLBREW_ROOT = /home/jmaslak/perl5/perlbrew
    PERLBREW_VERSION = 0.73
    PERL_CR_SMOKER_CURRENT = Dist-Zilla-Plugin-SpellingCommonMistakesTests-1.001000
    PERL_EXTUTILS_AUTOINSTALL = --defaultdeps
    PERL_MM_USE_DEFAULT = 1
    PROCESSOR_IDENTIFIER = Intel64 Family 6 Model 63 Stepping 2, GenuineIntel
    SHELL = /bin/bash
    TEMP = /tmp
    TERM = xterm-256color

Perl special variables (and OS-specific diagnostics, for MSWin32):

    $^X = /home/jmaslak/perl5/perlbrew/perls/perl-5.22.0/bin/perl
    $UID/$EUID = 197609 / 197609
    $GID = 197121 197121 545
    $EGID = 197121 197121 545

Perl module toolchain versions installed:

    Module              Have    
    ------------------- --------
    CPAN                2.11    
    CPAN::Meta          2.150001
    Cwd                 3.56    
    ExtUtils::CBuilder  0.280221
    ExtUtils::Command   1.20    
    ExtUtils::Install   2.04    
    ExtUtils::MakeMaker 7.04_01 
    ExtUtils::Manifest  1.70    
    ExtUtils::ParseXS   3.28    
    File::Spec          3.56    
    JSON                2.90    
    JSON::PP            2.27300 
    Module::Build       0.4214  
    Module::Signature   n/a     
    Parse::CPAN::Meta   1.4414  
    Test::Harness       3.35    
    Test::More          1.001014
    YAML                1.15    
    YAML::Syck          n/a     
    version             0.9909  


--

Summary of my perl5 (revision 5 version 22 subversion 0) configuration:
   
  Platform:
    osname=cygwin, osvers=2.1.0(0.28753), archname=cygwin-thread-multi
    uname='cygwin_nt-10.0 win-cvlv0hlkdu7 2.1.0(0.28753) 2015-07-14 21:28 x86_64 cygwin '
    config_args='-de -Dprefix=/home/jmaslak/perl5/perlbrew/perls/perl-5.22.0 -Aeval:scriptdir=/home/jmaslak/perl5/perlbrew/perls/perl-5.22.0/bin'
    hint=recommended, useposix=true, d_sigaction=define
    useithreads=define, usemultiplicity=define
    use64bitint=define, use64bitall=define, uselongdouble=undef
    usemymalloc=n, bincompat5005=undef
  Compiler:
    cc='gcc', ccflags ='-DPERL_USE_SAFE_PUTENV -U__STRICT_ANSI__ -fwrapv -fno-strict-aliasing -pipe -fstack-protector-strong -D_FORTIFY_SOURCE=2',
    optimize='-O3',
    cppflags='-DPERL_USE_SAFE_PUTENV -U__STRICT_ANSI__ -fwrapv -fno-strict-aliasing -pipe -fstack-protector-strong'
    ccversion='', gccversion='4.9.3', gccosandvers=''
    intsize=4, longsize=8, ptrsize=8, doublesize=8, byteorder=12345678, doublekind=3
    d_longlong=define, longlongsize=8, d_longdbl=define, longdblsize=16, longdblkind=3
    ivtype='long', ivsize=8, nvtype='double', nvsize=8, Off_t='off_t', lseeksize=8
    alignbytes=8, prototype=define
  Linker and Libraries:
    ld='g++', ldflags =' -Wl,--enable-auto-import -Wl,--export-all-symbols -Wl,--enable-auto-image-base -fstack-protector-strong -L/usr/local/lib'
    libpth=/usr/lib/gcc/x86_64-pc-cygwin/4.9.3/include-fixed /usr/lib /usr/lib/gcc/x86_64-pc-cygwin/4.9.3/../../../../lib/../include/w32api /usr/local/lib /lib
    libs=-lpthread -ldb -ldl -lcrypt
    perllibs=-lpthread -ldl -lcrypt
    libc=/usr/lib/libc.a, so=dll, useshrplib=true, libperl=cygperl5_22_0.dll
    gnulibc_version=''
  Dynamic Linking:
    dlsrc=dl_dlopen.xs, dlext=dll, d_dlsymun=undef, ccdlflags=' '
    cccdlflags=' ', lddlflags=' --shared  -Wl,--enable-auto-import -Wl,--export-all-symbols -Wl,--enable-auto-image-base -L/usr/local/lib -fstack-protector-strong'


Characteristics of this binary (from libperl): 
  Compile-time options: HAS_TIMES MULTIPLICITY PERLIO_LAYERS
                        PERL_DONT_CREATE_GVSV
                        PERL_HASH_FUNC_ONE_AT_A_TIME_HARD
                        PERL_IMPLICIT_CONTEXT PERL_NEW_COPY_ON_WRITE
                        PERL_PRESERVE_IVUV PERL_USE_SAFE_PUTENV
                        USE_64_BIT_ALL USE_64_BIT_INT USE_ITHREADS
                        USE_LARGE_FILES USE_LOCALE USE_LOCALE_COLLATE
                        USE_LOCALE_CTYPE USE_LOCALE_NUMERIC USE_LOCALE_TIME
                        USE_PERLIO USE_PERL_ATOF USE_REENTRANT_API
  Locally applied patches:
	Devel::PatchPerl 1.38
  Built under cygwin
  Compiled at Jul 27 2015 18:29:57
  %ENV:
    PERL5LIB="/home/jmaslak/.cpan/build/Test-Pod-Spelling-CommonMistakes-1.001-j0Ru48/blib/arch:/home/jmaslak/.cpan/build/Test-Pod-Spelling-CommonMistakes-1.001-j0Ru48/blib/lib:/home/jmaslak/.cpan/build/Dist-Zilla-Plugin-Bootstrap-lib-1.001000-XSaG5L/blib/arch:/home/jmaslak/.cpan/build/Dist-Zilla-Plugin-Bootstrap-lib-1.001000-XSaG5L/blib/lib:/home/jmaslak/.cpan/build/Dist-Zilla-Util-Test-KENTNL-1.005012-m0WFTc/blib/arch:/home/jmaslak/.cpan/build/Dist-Zilla-Util-Test-KENTNL-1.005012-m0WFTc/blib/lib:/home/jmaslak/.cpan/build/Data-DPath-0.53-WDhfKi/blib/arch:/home/jmaslak/.cpan/build/Data-DPath-0.53-WDhfKi/blib/lib:/home/jmaslak/.cpan/build/Iterator-Util-0.02-qBEKr7/blib/arch:/home/jmaslak/.cpan/build/Iterator-Util-0.02-qBEKr7/blib/lib:/home/jmaslak/.cpan/build/Iterator-0.03-1op6n6/blib/arch:/home/jmaslak/.cpan/build/Iterator-0.03-1op6n6/blib/lib:/home/jmaslak/.cpan/build/recommended-0.003-eUI7RX/blib/arch:/home/jmaslak/.cpan/build/recommended-0.003-eUI7RX/blib/lib:/home/jmaslak/.cpan/build/Dist-Zilla-Role-Bootstrap-1.001002-eV_MRp/blib/arch:/home/jmaslak/.cpan/build/Dist-Zilla-Role-Bootstrap-1.001002-eV_MRp/blib/lib:/home/jmaslak/.cpan/build/Pod-Spell-CommonMistakes-1.002-kycNzQ/blib/arch:/home/jmaslak/.cpan/build/Pod-Spell-CommonMistakes-1.002-kycNzQ/blib/lib"
    PERL5OPT=""
    PERL5_CPANPLUS_IS_RUNNING="7552"
    PERL5_CPAN_IS_RUNNING="7552"
    PERL5_CPAN_IS_RUNNING_IN_RECURSION="7624,7552"
    PERLBREW_BASHRC_VERSION="0.73"
    PERLBREW_HOME="/home/jmaslak/.perlbrew"
    PERLBREW_MANPATH="/home/jmaslak/perl5/perlbrew/perls/perl-5.22.0/man"
    PERLBREW_PATH="/home/jmaslak/perl5/perlbrew/bin:/home/jmaslak/perl5/perlbrew/perls/perl-5.22.0/bin"
    PERLBREW_PERL="perl-5.22.0"
    PERLBREW_ROOT="/home/jmaslak/perl5/perlbrew"
    PERLBREW_VERSION="0.73"
    PERL_CR_SMOKER_CURRENT="Dist-Zilla-Plugin-SpellingCommonMistakesTests-1.001000"
    PERL_EXTUTILS_AUTOINSTALL="--defaultdeps"
    PERL_MM_USE_DEFAULT="1"
  @INC:
    /home/jmaslak/.cpan/build/Test-Pod-Spelling-CommonMistakes-1.001-j0Ru48/blib/arch
    /home/jmaslak/.cpan/build/Test-Pod-Spelling-CommonMistakes-1.001-j0Ru48/blib/lib
    /home/jmaslak/.cpan/build/Dist-Zilla-Plugin-Bootstrap-lib-1.001000-XSaG5L/blib/arch
    /home/jmaslak/.cpan/build/Dist-Zilla-Plugin-Bootstrap-lib-1.001000-XSaG5L/blib/lib
    /home/jmaslak/.cpan/build/Dist-Zilla-Util-Test-KENTNL-1.005012-m0WFTc/blib/arch
    /home/jmaslak/.cpan/build/Dist-Zilla-Util-Test-KENTNL-1.005012-m0WFTc/blib/lib
    /home/jmaslak/.cpan/build/Data-DPath-0.53-WDhfKi/blib/arch
    /home/jmaslak/.cpan/build/Data-DPath-0.53-WDhfKi/blib/lib
    /home/jmaslak/.cpan/build/Iterator-Util-0.02-qBEKr7/blib/arch
    /home/jmaslak/.cpan/build/Iterator-Util-0.02-qBEKr7/blib/lib
    /home/jmaslak/.cpan/build/Iterator-0.03-1op6n6/blib/arch
    /home/jmaslak/.cpan/build/Iterator-0.03-1op6n6/blib/lib
    /home/jmaslak/.cpan/build/recommended-0.003-eUI7RX/blib/arch
    /home/jmaslak/.cpan/build/recommended-0.003-eUI7RX/blib/lib
    /home/jmaslak/.cpan/build/Dist-Zilla-Role-Bootstrap-1.001002-eV_MRp/blib/arch
    /home/jmaslak/.cpan/build/Dist-Zilla-Role-Bootstrap-1.001002-eV_MRp/blib/lib
    /home/jmaslak/.cpan/build/Pod-Spell-CommonMistakes-1.002-kycNzQ/blib/arch
    /home/jmaslak/.cpan/build/Pod-Spell-CommonMistakes-1.002-kycNzQ/blib/lib
    /home/jmaslak/perl5/perlbrew/perls/perl-5.22.0/lib/site_perl/5.22.0/cygwin-thread-multi
    /home/jmaslak/perl5/perlbrew/perls/perl-5.22.0/lib/site_perl/5.22.0
    /home/jmaslak/perl5/perlbrew/perls/perl-5.22.0/lib/5.22.0/cygwin-thread-multi
    /home/jmaslak/perl5/perlbrew/perls/perl-5.22.0/lib/5.22.0
    .