Report for DateTime-Format-Strptime-1.73

Back
From: metabase:user:30f4dfbe-2aae-11df-837a-5e0a49663a4f
Subject: PASS DateTime-Format-Strptime-1.73 v5.20.2 GNU/Linux
Date: 2017-03-21T12:05:19Z

This distribution has been tested as part of the CPAN Testers
project, supporting the Perl programming language.  See
http://wiki.cpantesters.org/ for more information or email
questions to cpan-testers-discuss@perl.org


--
Dear Dave Rolsky,

This is a computer-generated report for DateTime-Format-Strptime-1.73
on perl 5.20.2, created by CPAN-Reporter-1.2018.

Thank you for uploading your work to CPAN.  Congratulations!
All tests were successful.

Sections of this report:

    * Tester comments
    * Program output
    * Prerequisites
    * Environment and other context

------------------------------
TESTER COMMENTS
------------------------------

Additional comments from tester:

this report is from an automated smoke testing program
and was not reviewed by a human for accuracy

------------------------------
PROGRAM OUTPUT
------------------------------

Output from '/usr/bin/make test':

PERL_DL_NONLAZY=1 "/home/njh/perl5/perlbrew/perls/perl-5.20.2/bin/perl5.20.2" "-MExtUtils::Command::MM" "-MTest::Harness" "-e" "undef *Test::Harness::Switches; test_harness(0, 'blib/lib', 'blib/arch')" t/*.t
# 
# Versions for all modules listed in MYMETA.json (including optional ones):
# 
# === Configure Requires ===
# 
#     Module              Want Have
#     ------------------- ---- ----
#     ExtUtils::MakeMaker  any 7.24
# 
# === Configure Suggests ===
# 
#     Module      Want    Have
#     -------- ------- -------
#     JSON::PP 2.27300 2.27400
# 
# === Build Requires ===
# 
#     Module              Want Have
#     ------------------- ---- ----
#     ExtUtils::MakeMaker  any 7.24
# 
# === Test Requires ===
# 
#     Module              Want     Have
#     ------------------- ---- --------
#     ExtUtils::MakeMaker  any     7.24
#     File::Spec           any  3.48_01
#     Test::Builder        any 1.302078
#     Test::Fatal          any    0.014
#     Test::More          0.96 1.302078
#     Test::Warnings       any    0.020
#     lib                  any     0.63
#     utf8                 any  1.13_01
# 
# === Test Recommends ===
# 
#     Module         Want     Have
#     ---------- -------- --------
#     CPAN::Meta 2.120900 2.150005
# 
# === Runtime Requires ===
# 
#     Module                      Want   Have
#     --------------------------- ---- ------
#     Carp                         any 1.3301
#     DateTime                    1.00   1.19
#     DateTime::Locale            1.05   1.14
#     DateTime::Locale::Base       any   1.14
#     DateTime::Locale::FromData   any   1.14
#     DateTime::TimeZone          2.09   2.10
#     Exporter                     any   5.72
#     Package::DeprecationManager 0.15   0.17
#     Params::ValidationCompiler   any   0.23
#     Specio                      0.33   0.36
#     Specio::Declare              any   0.36
#     Specio::Exporter             any   0.36
#     Specio::Library::Builtins    any   0.36
#     Specio::Library::String      any   0.36
#     Try::Tiny                    any   0.22
#     constant                     any   1.31
#     parent                       any  0.234
#     strict                       any   1.08
#     warnings                     any   1.23
# 
t/00-report-prereqs.t ... ok
t/basic.t ............... ok
t/edge.t ................ ok
t/errors.t .............. ok
t/format-datetime.t ..... ok
t/format-with-locale.t .. ok
t/import.t .............. ok
t/locale-de.t ........... ok
t/locale-en.t ........... ok
t/locale-ga.t ........... ok
t/locale-pt.t ........... ok
t/locale-zh.t ........... ok
t/zones.t ............... ok
All tests successful.
Files=13, Tests=143,  3 wallclock secs ( 0.14 usr  0.01 sys +  2.74 cusr  0.24 csys =  3.13 CPU)
Result: PASS

------------------------------
PREREQUISITES
------------------------------

Prerequisite modules loaded:

requires:

    Module                      Need Have    
    --------------------------- ---- --------
    Carp                        0    1.3301  
    constant                    0    1.31    
    DateTime                    1.00 1.19    
    DateTime::Locale            1.05 1.14    
    DateTime::Locale::Base      0    1.14    
    DateTime::Locale::FromData  0    1.14    
    DateTime::TimeZone          2.09 2.10    
    Exporter                    0    5.72    
    Package::DeprecationManager 0.15 0.17    
    Params::ValidationCompiler  0    0.23    
    parent                      0    0.234   
    Specio                      0.33 0.36    
    Specio::Declare             0    0.36    
    Specio::Exporter            0    0.36    
    Specio::Library::Builtins   0    0.36    
    Specio::Library::String     0    0.36    
    strict                      0    1.08    
    Try::Tiny                   0    0.22    
    warnings                    0    1.23    

build_requires:

    Module                      Need Have    
    --------------------------- ---- --------
    ExtUtils::MakeMaker         0    7.24    
    File::Spec                  0    3.48_01 
    lib                         0    0.63    
    Test::Builder               0    1.302078
    Test::Fatal                 0    0.014   
    Test::More                  0.96 1.302078
    Test::Warnings              0    0.020   
    utf8                        0    1.13_01 

configure_requires:

    Module                      Need Have    
    --------------------------- ---- --------
    ExtUtils::MakeMaker         0    7.24    


------------------------------
ENVIRONMENT AND OTHER CONTEXT
------------------------------

Environment variables:

    AUTOMATED_TESTING = 1
    LANG = en_GB.UTF-8
    LANGUAGE = en_GB:en
    PATH = /home/njh/perl5/perlbrew/bin:/home/njh/perl5/perlbrew/perls/perl-5.20.2/bin:/home/njh/perl5/perlbrew/bin:/usr/bin:/bin
    PERL5LIB = /home/njh/.cpan/build/DateTime-Locale-1.14-441yWe/blib/arch:/home/njh/.cpan/build/DateTime-Locale-1.14-441yWe/blib/lib:/home/njh/.cpan/build/Scalar-List-Utils-1.47-15aQnj/blib/arch:/home/njh/.cpan/build/Scalar-List-Utils-1.47-15aQnj/blib/lib:/home/njh/.cpan/build/Package-DeprecationManager-0.17-_rRiVK/blib/arch:/home/njh/.cpan/build/Package-DeprecationManager-0.17-_rRiVK/blib/lib:/home/njh/.cpan/build/DateTime-TimeZone-2.10-HwY348/blib/arch:/home/njh/.cpan/build/DateTime-TimeZone-2.10-HwY348/blib/lib:/home/njh/.cpan/build/Params-ValidationCompiler-0.23-BBI6nx/blib/arch:/home/njh/.cpan/build/Params-ValidationCompiler-0.23-BBI6nx/blib/lib:/home/njh/.cpan/build/Test2-Plugin-NoWarnings-0.05-RiM3pQ/blib/arch:/home/njh/.cpan/build/Test2-Plugin-NoWarnings-0.05-RiM3pQ/blib/lib:/home/njh/.cpan/build/Test2-Suite-0.000070-MqZxKD/blib/arch:/home/njh/.cpan/build/Test2-Suite-0.000070-MqZxKD/blib/lib:/home/njh/.cpan/build/Sub-Info-0.002-iXhwHG/blib/arch:/home/njh/.cpan/build/Sub-Info-0.002-iXhwHG/blib/lib:/home/njh/.cpan/build/Term-Table-0.008-WVFY8F/blib/arch:/home/njh/.cpan/build/Term-Table-0.008-WVFY8F/blib/lib:/home/njh/.cpan/build/Test-Simple-1.302078-eSkuic/blib/arch:/home/njh/.cpan/build/Test-Simple-1.302078-eSkuic/blib/lib:/home/njh/.cpan/build/Importer-0.024-dzlDQY/blib/arch:/home/njh/.cpan/build/Importer-0.024-dzlDQY/blib/lib:/home/njh/.cpan/build/Specio-0.36-iH7yF9/blib/arch:/home/njh/.cpan/build/Specio-0.36-iH7yF9/blib/lib:/home/njh/.cpan/build/Test-Needs-0.002005-uNjxrR/blib/arch:/home/njh/.cpan/build/Test-Needs-0.002005-uNjxrR/blib/lib
    PERL5OPT = 
    PERL5_CPANPLUS_IS_RUNNING = 17363
    PERL5_CPAN_IS_RUNNING = 17363
    PERL5_MINISMOKEBOX = 0.58
    PERLBREW_BASHRC_VERSION = 0.73
    PERLBREW_LIB = 
    PERLBREW_MANPATH = /home/njh/perl5/perlbrew/perls/perl-5.20.2/man
    PERLBREW_PATH = /home/njh/perl5/perlbrew/bin:/home/njh/perl5/perlbrew/perls/perl-5.20.2/bin
    PERLBREW_PERL = perl-5.20.2
    PERLBREW_ROOT = /home/njh/perl5/perlbrew
    PERLBREW_VERSION = 0.73
    PERL_EXTUTILS_AUTOINSTALL = --defaultdeps
    PERL_LOCAL_LIB_ROOT = 
    PERL_MM_USE_DEFAULT = 1
    SHELL = /bin/sh

Perl special variables (and OS-specific diagnostics, for MSWin32):

    $^X = /home/njh/perl5/perlbrew/perls/perl-5.20.2/bin/perl5.20.2
    $UID/$EUID = 1000 / 1000
    $GID = 1000 4 24 25 29 30 44 46 108 112 1000
    $EGID = 1000 4 24 25 29 30 44 46 108 112 1000

Perl module toolchain versions installed:

    Module              Have    
    ------------------- --------
    CPAN                1.9800  
    CPAN::Meta          2.150005
    Cwd                 3.48_01 
    ExtUtils::CBuilder  0.280223
    ExtUtils::Command   7.24    
    ExtUtils::Install   2.04    
    ExtUtils::MakeMaker 7.24    
    ExtUtils::Manifest  1.70    
    ExtUtils::ParseXS   3.30    
    File::Spec          3.48_01 
    JSON                2.90    
    JSON::PP            2.27400 
    Module::Build       0.4214  
    Module::Signature   n/a     
    Parse::CPAN::Meta   1.4422  
    Test::Harness       3.36    
    Test::More          1.302078
    YAML                1.15    
    YAML::Syck          1.29    
    version             0.9912  


--

Summary of my perl5 (revision 5 version 20 subversion 2) configuration:
   
  Platform:
    osname=linux, osvers=3.16.0-4-amd64, archname=x86_64-linux-thread-multi
    uname='linux nigelhorne.force9.co.uk 3.16.0-4-amd64 #1 smp debian 3.16.7-ckt4-3 (2015-02-03) x86_64 gnulinux '
    config_args='-de -Dprefix=/home/njh/perl5/perlbrew/perls/perl-5.20.2 -Duseithreads -Dusemultiplicity -Dusedevel -Accflags= -Aeval:scriptdir=/home/njh/perl5/perlbrew/perls/perl-5.20.2/bin'
    hint=recommended, useposix=true, d_sigaction=define
    useithreads=define, usemultiplicity=define
    use64bitint=define, use64bitall=define, uselongdouble=undef
    usemymalloc=n, bincompat5005=undef
  Compiler:
    cc='cc', ccflags ='-D_REENTRANT -D_GNU_SOURCE -fwrapv -fno-strict-aliasing -pipe -fstack-protector -I/usr/local/include -D_LARGEFILE_SOURCE -D_FILE_OFFSET_BITS=64',
    optimize='-O2',
    cppflags='-D_REENTRANT -D_GNU_SOURCE -fwrapv -fno-strict-aliasing -pipe -fstack-protector -I/usr/local/include'
    ccversion='', gccversion='4.9.2', gccosandvers=''
    intsize=4, longsize=8, ptrsize=8, doublesize=8, byteorder=12345678
    d_longlong=define, longlongsize=8, d_longdbl=define, longdblsize=16
    ivtype='long', ivsize=8, nvtype='double', nvsize=8, Off_t='off_t', lseeksize=8
    alignbytes=8, prototype=define
  Linker and Libraries:
    ld='cc', ldflags =' -fstack-protector -L/usr/local/lib'
    libpth=/usr/local/lib /usr/lib/gcc/x86_64-linux-gnu/4.9/include-fixed /usr/include/x86_64-linux-gnu /usr/lib /lib/x86_64-linux-gnu /lib/../lib /usr/lib/x86_64-linux-gnu /usr/lib/../lib /lib
    libs=-lnsl -lgdbm -ldb -ldl -lm -lcrypt -lutil -lpthread -lc -lgdbm_compat
    perllibs=-lnsl -ldl -lm -lcrypt -lutil -lpthread -lc
    libc=libc-2.19.so, so=so, useshrplib=false, libperl=libperl.a
    gnulibc_version='2.19'
  Dynamic Linking:
    dlsrc=dl_dlopen.xs, dlext=so, d_dlsymun=undef, ccdlflags='-Wl,-E'
    cccdlflags='-fPIC', lddlflags='-shared -O2 -L/usr/local/lib -fstack-protector'


Characteristics of this binary (from libperl): 
  Compile-time options: HAS_TIMES MULTIPLICITY PERLIO_LAYERS
                        PERL_DONT_CREATE_GVSV
                        PERL_HASH_FUNC_ONE_AT_A_TIME_HARD
                        PERL_IMPLICIT_CONTEXT PERL_MALLOC_WRAP
                        PERL_NEW_COPY_ON_WRITE PERL_PRESERVE_IVUV
                        PERL_USE_DEVEL USE_64_BIT_ALL USE_64_BIT_INT
                        USE_ITHREADS USE_LARGE_FILES USE_LOCALE
                        USE_LOCALE_COLLATE USE_LOCALE_CTYPE
                        USE_LOCALE_NUMERIC USE_PERLIO USE_PERL_ATOF
                        USE_REENTRANT_API
  Built under linux
  Compiled at Mar  1 2015 00:32:04
  %ENV:
    PERL5LIB="/home/njh/.cpan/build/DateTime-Locale-1.14-441yWe/blib/arch:/home/njh/.cpan/build/DateTime-Locale-1.14-441yWe/blib/lib:/home/njh/.cpan/build/Scalar-List-Utils-1.47-15aQnj/blib/arch:/home/njh/.cpan/build/Scalar-List-Utils-1.47-15aQnj/blib/lib:/home/njh/.cpan/build/Package-DeprecationManager-0.17-_rRiVK/blib/arch:/home/njh/.cpan/build/Package-DeprecationManager-0.17-_rRiVK/blib/lib:/home/njh/.cpan/build/DateTime-TimeZone-2.10-HwY348/blib/arch:/home/njh/.cpan/build/DateTime-TimeZone-2.10-HwY348/blib/lib:/home/njh/.cpan/build/Params-ValidationCompiler-0.23-BBI6nx/blib/arch:/home/njh/.cpan/build/Params-ValidationCompiler-0.23-BBI6nx/blib/lib:/home/njh/.cpan/build/Test2-Plugin-NoWarnings-0.05-RiM3pQ/blib/arch:/home/njh/.cpan/build/Test2-Plugin-NoWarnings-0.05-RiM3pQ/blib/lib:/home/njh/.cpan/build/Test2-Suite-0.000070-MqZxKD/blib/arch:/home/njh/.cpan/build/Test2-Suite-0.000070-MqZxKD/blib/lib:/home/njh/.cpan/build/Sub-Info-0.002-iXhwHG/blib/arch:/home/njh/.cpan/build/Sub-Info-0.002-iXhwHG/blib/lib:/home/njh/.cpan/build/Term-Table-0.008-WVFY8F/blib/arch:/home/njh/.cpan/build/Term-Table-0.008-WVFY8F/blib/lib:/home/njh/.cpan/build/Test-Simple-1.302078-eSkuic/blib/arch:/home/njh/.cpan/build/Test-Simple-1.302078-eSkuic/blib/lib:/home/njh/.cpan/build/Importer-0.024-dzlDQY/blib/arch:/home/njh/.cpan/build/Importer-0.024-dzlDQY/blib/lib:/home/njh/.cpan/build/Specio-0.36-iH7yF9/blib/arch:/home/njh/.cpan/build/Specio-0.36-iH7yF9/blib/lib:/home/njh/.cpan/build/Test-Needs-0.002005-uNjxrR/blib/arch:/home/njh/.cpan/build/Test-Needs-0.002005-uNjxrR/blib/lib"
    PERL5OPT=""
    PERL5_CPANPLUS_IS_RUNNING="17363"
    PERL5_CPAN_IS_RUNNING="17363"
    PERL5_MINISMOKEBOX="0.58"
    PERLBREW_BASHRC_VERSION="0.73"
    PERLBREW_LIB=""
    PERLBREW_MANPATH="/home/njh/perl5/perlbrew/perls/perl-5.20.2/man"
    PERLBREW_PATH="/home/njh/perl5/perlbrew/bin:/home/njh/perl5/perlbrew/perls/perl-5.20.2/bin"
    PERLBREW_PERL="perl-5.20.2"
    PERLBREW_ROOT="/home/njh/perl5/perlbrew"
    PERLBREW_VERSION="0.73"
    PERL_EXTUTILS_AUTOINSTALL="--defaultdeps"
    PERL_LOCAL_LIB_ROOT=""
    PERL_MM_USE_DEFAULT="1"
  @INC:
    /home/njh/.cpan/build/DateTime-Locale-1.14-441yWe/blib/arch
    /home/njh/.cpan/build/DateTime-Locale-1.14-441yWe/blib/lib
    /home/njh/.cpan/build/Scalar-List-Utils-1.47-15aQnj/blib/arch
    /home/njh/.cpan/build/Scalar-List-Utils-1.47-15aQnj/blib/lib
    /home/njh/.cpan/build/Package-DeprecationManager-0.17-_rRiVK/blib/arch
    /home/njh/.cpan/build/Package-DeprecationManager-0.17-_rRiVK/blib/lib
    /home/njh/.cpan/build/DateTime-TimeZone-2.10-HwY348/blib/arch
    /home/njh/.cpan/build/DateTime-TimeZone-2.10-HwY348/blib/lib
    /home/njh/.cpan/build/Params-ValidationCompiler-0.23-BBI6nx/blib/arch
    /home/njh/.cpan/build/Params-ValidationCompiler-0.23-BBI6nx/blib/lib
    /home/njh/.cpan/build/Test2-Plugin-NoWarnings-0.05-RiM3pQ/blib/arch
    /home/njh/.cpan/build/Test2-Plugin-NoWarnings-0.05-RiM3pQ/blib/lib
    /home/njh/.cpan/build/Test2-Suite-0.000070-MqZxKD/blib/arch
    /home/njh/.cpan/build/Test2-Suite-0.000070-MqZxKD/blib/lib
    /home/njh/.cpan/build/Sub-Info-0.002-iXhwHG/blib/arch
    /home/njh/.cpan/build/Sub-Info-0.002-iXhwHG/blib/lib
    /home/njh/.cpan/build/Term-Table-0.008-WVFY8F/blib/arch
    /home/njh/.cpan/build/Term-Table-0.008-WVFY8F/blib/lib
    /home/njh/.cpan/build/Test-Simple-1.302078-eSkuic/blib/arch
    /home/njh/.cpan/build/Test-Simple-1.302078-eSkuic/blib/lib
    /home/njh/.cpan/build/Importer-0.024-dzlDQY/blib/arch
    /home/njh/.cpan/build/Importer-0.024-dzlDQY/blib/lib
    /home/njh/.cpan/build/Specio-0.36-iH7yF9/blib/arch
    /home/njh/.cpan/build/Specio-0.36-iH7yF9/blib/lib
    /home/njh/.cpan/build/Test-Needs-0.002005-uNjxrR/blib/arch
    /home/njh/.cpan/build/Test-Needs-0.002005-uNjxrR/blib/lib
    /home/njh/perl5/perlbrew/perls/perl-5.20.2/lib/site_perl/5.20.2/x86_64-linux-thread-multi
    /home/njh/perl5/perlbrew/perls/perl-5.20.2/lib/site_perl/5.20.2
    /home/njh/perl5/perlbrew/perls/perl-5.20.2/lib/5.20.2/x86_64-linux-thread-multi
    /home/njh/perl5/perlbrew/perls/perl-5.20.2/lib/5.20.2
    .