Term-Table v0.024 Perl 5 v5.34.1 darwin-thread-multi-2level
- Status
- Pass
- From
- Gintautas Grigelionis
- Dist
-
Term-Table v0.024
- Platform
- Perl 5 v5.34.1 darwin-thread-multi-2level
- Date
- 2025-04-01 09:21:12
- ID
- a77d5078-0eda-11f0-8271-a15e70d6ff0e
This distribution has been tested as part of the CPAN Testers
project, supporting the Perl programming language. See
http://wiki.cpantesters.org/ for more information or email
questions to cpan-testers-discuss@perl.org
--
Dear Chad Granum,
This is a computer-generated report for Term-Table-0.024
on perl 5.34.1, created by CPAN-Reporter-1.2020.
Thank you for uploading your work to CPAN. Congratulations!
All tests were successful.
Sections of this report:
* Tester comments
* Program output
* Prerequisites
* Environment and other context
------------------------------
TESTER COMMENTS
------------------------------
Additional comments from tester:
none provided
------------------------------
PROGRAM OUTPUT
------------------------------
Output from '/usr/bin/make test':
PERL_DL_NONLAZY=1 "/usr/bin/perl" "-MExtUtils::Command::MM" "-MTest::Harness" "-e" "undef *Test::Harness::Switches; test_harness(0, 'blib/lib', 'blib/arch')" t/*.t t/Table/*.t
t/bad_blank_line.t ........ ok
t/HashBase.t .............. ok
# Using Test2::Tools::Tiny 1.302210
t/honor_env_in_non_tty.t .. ok
t/issue-9.t ............... ok
t/Table.t ................. ok
t/Table/Cell.t ............ ok
t/Table/CellStack.t ....... ok
t/Table/LineBreak.t ....... ok
All tests successful.
Files=8, Tests=83, 0 wallclock secs ( 0.02 usr 0.00 sys + 0.36 cusr 0.08 csys = 0.46 CPU)
Result: PASS
------------------------------
PREREQUISITES
------------------------------
Prerequisite modules loaded:
requires:
Module Need Have
------------------- -------- --------
Carp 0 1.52
List::Util 0 1.68
perl 5.008001 5.034001
Scalar::Util 0 1.68
build_requires:
Module Need Have
------------------- -------- --------
ExtUtils::MakeMaker 0 7.70
utf8 0 1.24
configure_requires:
Module Need Have
------------------- -------- --------
ExtUtils::MakeMaker 0 7.70
opt_requires:
Module Need Have
------------------- -------- --------
Term::Size::Any 0.002 0.002
Unicode::GCString 2013.10 2013.10
Unicode::LineBreak 2015.06 2019.001
------------------------------
ENVIRONMENT AND OTHER CONTEXT
------------------------------
Environment variables:
LANG = sv_SE.UTF-8
PATH = /usr/local/bin:/System/Cryptexes/App/usr/bin:/usr/bin:/bin:/usr/sbin:/sbin:/var/run/com.apple.security.cryptexd/codex.system/bootstrap/usr/local/bin:/var/run/com.apple.security.cryptexd/codex.system/bootstrap/usr/bin:/var/run/com.apple.security.cryptexd/codex.system/bootstrap/usr/appleinternal/bin:/opt/X11/bin:/Library/Apple/usr/bin:/usr/local/MacGPG2/bin:/Library/TeX/texbin
PERL5LIB = /Users/gintas/.cpan/build/Text-ParseWords-3.31-1/blib/arch:/Users/gintas/.cpan/build/Text-ParseWords-3.31-1/blib/lib
PERL5OPT =
PERL5_CPANPLUS_IS_RUNNING = 31165
PERL5_CPAN_IS_RUNNING = 31165
PERL_USE_UNSAFE_INC = 1
SHELL = /bin/bash
TERM = xterm-256color
TMPDIR = /var/folders/y9/7vddvyqs64j1pfp28_p_6dfm0000gq/T/
Perl special variables (and OS-specific diagnostics, for MSWin32):
$^X = /usr/bin/perl
$UID/$EUID = 503 / 503
$GID = 20 20 12 61 79 80 81 98 701 702 33 100 204 250 395 398 399 400
$EGID = 20 20 12 61 79 80 81 98 701 702 33 100 204 250 395 398 399 400
Perl module toolchain versions installed:
Module Have
------------------- --------
CPAN 2.37
CPAN::Meta 2.150010
Cwd 3.80
ExtUtils::CBuilder 0.280236
ExtUtils::Command 7.70
ExtUtils::Install 2.22
ExtUtils::MakeMaker 7.70
ExtUtils::Manifest 1.75
ExtUtils::ParseXS 3.51
File::Spec 3.80
JSON 4.10
JSON::PP 4.16
Module::Build 0.4234
Module::Signature 0.89
Parse::CPAN::Meta 2.150010
Test2 1.302210
Test::Harness 3.50
Test::More 1.302210
YAML 1.31
YAML::Syck 1.32
version 0.9933
--
Summary of my perl5 (revision 5 version 34 subversion 1) configuration:
Platform:
osname=darwin
osvers=24.0
archname=darwin-thread-multi-2level
uname='darwin pkdqd.p1s.plx.sd.apple.com 24.0 darwin kernel version 23.0.0: thu feb 1 13:18:34 pst 2024; root:xnu-10002.1.11.100.4~1development_x86_64 x86_64 '
config_args='-ds -e -Dprefix=/usr -Dccflags=-g -pipe -Dldflags= -Dman3ext=3pm -Duseithreads -Duseshrplib -Dinc_version_list=none -Dcc=cc'
hint=recommended
useposix=true
d_sigaction=define
useithreads=define
usemultiplicity=define
use64bitint=define
use64bitall=define
uselongdouble=undef
usemymalloc=n
default_inc_excludes_dot=define
Compiler:
cc='cc'
ccflags =' -g -pipe -fno-strict-aliasing -fstack-protector-strong -DPERL_USE_SAFE_PUTENV'
optimize='-Os'
cppflags='-g -pipe -fno-strict-aliasing -fstack-protector-strong'
ccversion=''
gccversion='Apple LLVM 17.0.0 (clang-1700.0.13.3) [+internal-os]'
gccosandvers=''
intsize=4
longsize=8
ptrsize=8
doublesize=8
byteorder=12345678
doublekind=3
d_longlong=define
longlongsize=8
d_longdbl=define
longdblsize=16
longdblkind=3
ivtype='long'
ivsize=8
nvtype='double'
nvsize=8
Off_t='off_t'
lseeksize=8
alignbytes=8
prototype=define
Linker and Libraries:
ld='cc'
ldflags =' -fstack-protector-strong'
libpth=/AppleInternal/Library/BuildRoots/01adf19d-fba1-11ef-a947-f2a857e00a32/Applications/Xcode.app/Contents/Developer/Platforms/MacOSX.platform/Developer/SDKs/MacOSX15.4.Internal.sdk/usr/local/lib /AppleInternal/Library/BuildRoots/01adf19d-fba1-11ef-a947-f2a857e00a32/Applications/Xcode.app/Contents/Developer/Toolchains/OSX15.4.xctoolchain/usr/lib/clang/17/lib /AppleInternal/Library/BuildRoots/01adf19d-fba1-11ef-a947-f2a857e00a32/Applications/Xcode.app/Contents/Developer/Platforms/MacOSX.platform/Developer/SDKs/MacOSX15.4.Internal.sdk/usr/lib /AppleInternal/Library/BuildRoots/01adf19d-fba1-11ef-a947-f2a857e00a32/Applications/Xcode.app/Contents/Developer/Toolchains/XcodeDefault.xctoolchain/usr/lib /usr/lib /usr/local/lib
libs=
perllibs=
libc=
so=dylib
useshrplib=true
libperl=libperl.dylib
gnulibc_version=''
Dynamic Linking:
dlsrc=dl_dlopen.xs
dlext=bundle
d_dlsymun=undef
ccdlflags=' '
cccdlflags=' '
lddlflags=' -bundle -undefined dynamic_lookup -fstack-protector-strong'
Characteristics of this binary (from libperl):
Compile-time options:
HAS_TIMES
MULTIPLICITY
PERLIO_LAYERS
PERL_COPY_ON_WRITE
PERL_DONT_CREATE_GVSV
PERL_IMPLICIT_CONTEXT
PERL_MALLOC_WRAP
PERL_OP_PARENT
PERL_PRESERVE_IVUV
PERL_USE_SAFE_PUTENV
USE_64_BIT_ALL
USE_64_BIT_INT
USE_ITHREADS
USE_LARGE_FILES
USE_LOCALE
USE_LOCALE_COLLATE
USE_LOCALE_CTYPE
USE_LOCALE_NUMERIC
USE_LOCALE_TIME
USE_PERLIO
USE_PERL_ATOF
USE_REENTRANT_API
USE_THREAD_SAFE_LOCALE
Locally applied patches:
/Library/Perl/Updates/<version> comes before system perl directories
installprivlib and installarchlib points to the Updates directory
Built under darwin
Compiled at Mar 7 2025 19:40:28
%ENV:
PERL5LIB="/Users/gintas/.cpan/build/Text-ParseWords-3.31-1/blib/arch:/Users/gintas/.cpan/build/Text-ParseWords-3.31-1/blib/lib"
PERL5OPT=""
PERL5_CPANPLUS_IS_RUNNING="31165"
PERL5_CPAN_IS_RUNNING="31165"
PERL_USE_UNSAFE_INC="1"
@INC:
/Users/gintas/.cpan/build/Text-ParseWords-3.31-1/blib/arch
/Users/gintas/.cpan/build/Text-ParseWords-3.31-1/blib/lib
/Library/Perl/5.34/darwin-thread-multi-2level
/Library/Perl/5.34
/Network/Library/Perl/5.34/darwin-thread-multi-2level
/Network/Library/Perl/5.34
/Library/Perl/Updates/5.34.1/darwin-thread-multi-2level
/Library/Perl/Updates/5.34.1
/System/Library/Perl/5.34/darwin-thread-multi-2level
/System/Library/Perl/5.34
/System/Library/Perl/Extras/5.34/darwin-thread-multi-2level
/System/Library/Perl/Extras/5.34
.