Back
From: metabase:user:30f0bd62-2aae-11df-837a-5e0a49663a4f
Subject: PASS CatalystX-ExtJS-1.123000 v5.12.2 GNU/Linux
Date: 2010-11-30T12:30:46Z
This distribution has been tested as part of the CPAN Testers
project, supporting the Perl programming language. See
http://wiki.cpantesters.org/ for more information or email
questions to cpan-testers-discuss@perl.org
--
Dear Moritz Onken,
This is a computer-generated report for CatalystX-ExtJS-1.123000
on perl 5.12.2, created by CPAN-Reporter-1.1805.
Thank you for uploading your work to CPAN. Congratulations!
All tests were successful.
Sections of this report:
* Tester comments
* Program output
* Prerequisites
* Environment and other context
------------------------------
TESTER COMMENTS
------------------------------
Additional comments from tester:
this report is from an automated smoke testing program
and was not reviewed by a human for accuracy
------------------------------
PROGRAM OUTPUT
------------------------------
Output from './Build test':
t/00-compile.t ................ ok
# Testing with Perl 5.012002, /home/sts/cpansmoke/perl-5.12.2/bin/perl
# Carp version is 1.17
# Catalyst version is 5.80029
# Catalyst::Action version is undefined
# Catalyst::Action::Deserialize version is 0.87
# Catalyst::Action::REST version is 0.87
# Catalyst::Action::RenderView version is 0.14
# Catalyst::Action::Serialize version is 0.87
# Catalyst::Controller version is undefined
# Catalyst::Controller::REST version is 0.87
# Catalyst::Engine::HTTP version is undefined
# Catalyst::Model::DBIC::Schema version is 0.43
# Catalyst::Request::REST::ForBrowsers version is 0.87
# Catalyst::Runtime version is 5.80029
# Catalyst::Utils version is undefined
# Catalyst::View::JSON version is 0.31
# Catalyst::View::TT version is 0.36
# Class::Accessor::Fast version is 0.34
# Config::Any version is 0.20
# DBIx::Class version is 0.08124
# DBIx::Class::ResultSet version is undefined
# DBIx::Class::Schema version is undefined
# English version is 1.04
# File::Find version is 1.15
# File::Spec version is 3.3101
# File::Temp version is 0.22
# FindBin version is 1.50
# Getopt::Long version is 2.38
# HTML::Entities version is 3.68
# HTML::FormFu version is 0.08002
# HTML::FormFu::ExtJS version is 0.077
# HTML::FormFu::Model::DBIC version is 0.08002
# HTTP::Request::Common version is 5.824
# JSON version is 2.26
# JSON::Any version is 1.25
# JSON::XS version is 2.3
# JavaScript::Dumper version is 0.011
# Lingua::EN::Inflect version is 1.893
# List::Util version is 1.22
# Module::Build version is 0.3603
# Moose version is 1.19
# Moose::Util::TypeConstraints version is 1.19
# MooseX::MethodAttributes version is 0.24
# Path::Class version is 0.21
# Path::Class::File version is 0.21
# Pod::Usage version is 1.36
# Scalar::Util version is 1.22
# Test::More version is 0.96
# Test::WWW::Mechanize::Catalyst version is 0.52
# namespace::autoclean version is 0.11
t/000-report-versions.t ....... ok
t/author-critic.t ............. skipped: these tests are for testing by the author
[debug] Debug messages enabled
[debug] Statistics enabled
[debug] Loaded dispatcher "Catalyst::Dispatcher"
[debug] Loaded engine "Catalyst::Engine::CGI"
[debug] Found home "/home/sts/cpansmoke/perl-5.12.2/cpan/build/CatalystX-ExtJS-1.123000-doBSyB/t/lib/MyApp"
[debug] Loaded components:
.-----------------------------------------------------------------+----------.
| Class | Type |
+-----------------------------------------------------------------+----------+
| MyApp::Controller::API | instance |
| MyApp::Controller::Artist | instance |
| MyApp::Controller::Calculator | instance |
| MyApp::Controller::FindOrDefault | instance |
| MyApp::Controller::ForBrowser | instance |
| MyApp::Controller::ForBrowsers | instance |
| MyApp::Controller::JSON | instance |
| MyApp::Controller::Nested::Controller | instance |
| MyApp::Controller::REST | instance |
| MyApp::Controller::RequestClass | instance |
| MyApp::Controller::SkipEnd | instance |
| MyApp::Controller::User | instance |
| MyApp::Model::DBIC | instance |
| MyApp::Model::DBIC::FindOrDefault | class |
| MyApp::Model::DBIC::SkipEnd | class |
| MyApp::Model::DBIC::User | class |
| MyApp::View::JSON | instance |
| MyApp::View::TT | instance |
'-----------------------------------------------------------------+----------'
[debug] Loaded Private actions:
.----------------------+--------------------------------------+--------------.
| Private | Class | Method |
+----------------------+--------------------------------------+--------------+
| /api/src | MyApp::Controller::API | src |
| /api/router | MyApp::Controller::API | router |
| /api/end | MyApp::Controller::API | end |
| /api/index | MyApp::Controller::API | index |
| /api/begin | MyApp::Controller::API | begin |
| /findordefault/base | MyApp::Controller::FindOrDefault | base |
| /findordefault/obje- | MyApp::Controller::FindOrDefault | object |
| ct | | |
| /findordefault/obje- | MyApp::Controller::FindOrDefault | object_DELE- |
| ct_DELETE | | TE |
| /findordefault/obje- | MyApp::Controller::FindOrDefault | object_POST |
| ct_POST | | |
| /findordefault/obje- | MyApp::Controller::FindOrDefault | object_GET |
| ct_GET | | |
| /findordefault/obje- | MyApp::Controller::FindOrDefault | object_PUT |
| ct_PUT | | |
| /findordefault/end | MyApp::Controller::FindOrDefault | end |
| /findordefault/begin | MyApp::Controller::FindOrDefault | begin |
| /findordefault/list | MyApp::Controller::FindOrDefault | list |
| /calc/add | MyApp::Controller::Calculator | add |
| /calc/subtract | MyApp::Controller::Calculator | subtract |
| /calc/upload | MyApp::Controller::Calculator | upload |
| /calc/add_to | MyApp::Controller::Calculator | add_to |
| /json/index | MyApp::Controller::JSON | index |
| /forbrowsers/base | MyApp::Controller::ForBrowsers | base |
| /forbrowsers/object | MyApp::Controller::ForBrowsers | object |
| /forbrowsers/object- | MyApp::Controller::ForBrowsers | object_DELE- |
| _DELETE | | TE |
| /forbrowsers/object- | MyApp::Controller::ForBrowsers | object_POST |
| _POST | | |
| /forbrowsers/object- | MyApp::Controller::ForBrowsers | object_GET |
| _GET | | |
| /forbrowsers/object- | MyApp::Controller::ForBrowsers | object_PUT |
| _PUT | | |
| /forbrowsers/end | MyApp::Controller::ForBrowsers | end |
| /forbrowsers/begin | MyApp::Controller::ForBrowsers | begin |
| /forbrowsers/list | MyApp::Controller::ForBrowsers | list |
| /rest/object | MyApp::Controller::REST | object |
| /rest/begin | MyApp::Controller::REST | begin |
| /rest/end | MyApp::Controller::REST | end |
| /nested/controller/- | MyApp::Controller::Nested::Controll- | index |
| index | er | |
| /skipend/load_form | MyApp::Controller::SkipEnd | load_form |
| /skipend/object | MyApp::Controller::SkipEnd | object |
| /skipend/object_GET | MyApp::Controller::SkipEnd | object_GET |
| /skipend/object_PUT | MyApp::Controller::SkipEnd | object_PUT |
| /skipend/begin | MyApp::Controller::SkipEnd | begin |
| /skipend/list | MyApp::Controller::SkipEnd | list |
| /skipend/base | MyApp::Controller::SkipEnd | base |
| /skipend/object_POST | MyApp::Controller::SkipEnd | object_POST |
| /skipend/object_DEL- | MyApp::Controller::SkipEnd | object_DELE- |
| ETE | | TE |
| /skipend/end | MyApp::Controller::SkipEnd | end |
| /skipend/edit_record | MyApp::Controller::SkipEnd | edit_record |
| /forbrowser/base | MyApp::Controller::ForBrowser | base |
| /forbrowser/object | MyApp::Controller::ForBrowser | object |
| /forbrowser/object_- | MyApp::Controller::ForBrowser | object_DELE- |
| DELETE | | TE |
| /forbrowser/object_- | MyApp::Controller::ForBrowser | object_POST |
| POST | | |
| /forbrowser/object_- | MyApp::Controller::ForBrowser | object_GET |
| GET | | |
| /forbrowser/object_- | MyApp::Controller::ForBrowser | object_PUT |
| PUT | | |
| /forbrowser/end | MyApp::Controller::ForBrowser | end |
| /forbrowser/begin | MyApp::Controller::ForBrowser | begin |
| /forbrowser/list | MyApp::Controller::ForBrowser | list |
| /requestclass/params | MyApp::Controller::RequestClass | params |
| /requestclass/reque- | MyApp::Controller::RequestClass | request_cla- |
| st_class | | ss |
| /user/base | MyApp::Controller::User | base |
| /user/object | MyApp::Controller::User | object |
| /user/object_DELETE | MyApp::Controller::User | object_DELE- |
| | | TE |
| /user/object_POST | MyApp::Controller::User | object_POST |
| /user/object_GET | MyApp::Controller::User | object_GET |
| /user/object_PUT | MyApp::Controller::User | object_PUT |
| /user/end | MyApp::Controller::User | end |
| /user/add_to_group | MyApp::Controller::User | add_to_group |
| /user/begin | MyApp::Controller::User | begin |
| /user/list | MyApp::Controller::User | list |
'----------------------+--------------------------------------+--------------'
[debug] Loaded Path actions:
.-------------------------------------+--------------------------------------.
| Path | Private |
+-------------------------------------+--------------------------------------+
| /api | /api/index |
| /api/router | /api/router |
| /api/src | /api/src |
| /calc | /calc/upload |
| /calc | /calc/add |
| /calc/subtract | /calc/subtract |
| /nested/controller/index | /nested/controller/index |
| /requestclass/params | /requestclass/params |
| /requestclass/request_class | /requestclass/request_class |
'-------------------------------------+--------------------------------------'
[debug] Loaded Chained actions:
.-------------------------------------+--------------------------------------.
| Path Spec | Private |
+-------------------------------------+--------------------------------------+
| /add/*/to/* | /calc/add (1) |
| | => /calc/add_to |
| /findordefaults/... | /findordefault/list |
| /findordefault/... | /findordefault/object |
| /forbrowsers/... | /forbrowser/list |
| /forbrowser/... | /forbrowser/object |
| /forbrowser/... | /forbrowsers/list |
| /forbrowsers/... | /forbrowsers/object |
| /rest/object/* | /rest/object |
| /skipend/form/edit_record | /skipend/load_form (0) |
| | => /skipend/edit_record |
| /skipends/... | /skipend/list |
| /skipend/... | /skipend/object |
| /user/*/add_to_group/* | /user/base (1) |
| | => /user/add_to_group |
| /users/... | /user/list |
| /user/... | /user/object |
'-------------------------------------+--------------------------------------'
[info] Application powered by Catalyst 5.80029
[info] *** Request 1 (0.250/s) [8572] [Tue Nov 30 13:30:17 2010] ***
[debug] "GET" request for "api" from "127.0.0.1"
[debug] Path is "api"
[debug] Serializing with Catalyst::Action::Serialize::JSON
[debug] Response Code: 200; Content-Type: application/json; Content-Length: 561
[info] Request took 0.041581s (24.049/s)
.------------------------------------------------------------+-----------.
| Action | Time |
+------------------------------------------------------------+-----------+
| /api/begin | 0.000209s |
| /api/index | 0.000075s |
| /api/end | 0.038576s |
'------------------------------------------------------------+-----------'
t/direct/api.t ................ ok
[debug] Debug messages enabled
[debug] Statistics enabled
[debug] Loaded dispatcher "Catalyst::Dispatcher"
[debug] Loaded engine "Catalyst::Engine::CGI"
[debug] Found home "/home/sts/cpansmoke/perl-5.12.2/cpan/build/CatalystX-ExtJS-1.123000-doBSyB/t/lib/MyApp"
[debug] Loaded components:
.-----------------------------------------------------------------+----------.
| Class | Type |
+-----------------------------------------------------------------+----------+
| MyApp::Controller::API | instance |
| MyApp::Controller::Artist | instance |
| MyApp::Controller::Calculator | instance |
| MyApp::Controller::FindOrDefault | instance |
| MyApp::Controller::ForBrowser | instance |
| MyApp::Controller::ForBrowsers | instance |
| MyApp::Controller::JSON | instance |
| MyApp::Controller::Nested::Controller | instance |
| MyApp::Controller::REST | instance |
| MyApp::Controller::RequestClass | instance |
| MyApp::Controller::SkipEnd | instance |
| MyApp::Controller::User | instance |
| MyApp::Model::DBIC | instance |
| MyApp::Model::DBIC::FindOrDefault | class |
| MyApp::Model::DBIC::SkipEnd | class |
| MyApp::Model::DBIC::User | class |
| MyApp::View::JSON | instance |
| MyApp::View::TT | instance |
'-----------------------------------------------------------------+----------'
[debug] Loaded Private actions:
.----------------------+--------------------------------------+--------------.
| Private | Class | Method |
+----------------------+--------------------------------------+--------------+
| /api/src | MyApp::Controller::API | src |
| /api/router | MyApp::Controller::API | router |
| /api/end | MyApp::Controller::API | end |
| /api/index | MyApp::Controller::API | index |
| /api/begin | MyApp::Controller::API | begin |
| /findordefault/base | MyApp::Controller::FindOrDefault | base |
| /findordefault/obje- | MyApp::Controller::FindOrDefault | object |
| ct | | |
| /findordefault/obje- | MyApp::Controller::FindOrDefault | object_DELE- |
| ct_DELETE | | TE |
| /findordefault/obje- | MyApp::Controller::FindOrDefault | object_POST |
| ct_POST | | |
| /findordefault/obje- | MyApp::Controller::FindOrDefault | object_GET |
| ct_GET | | |
| /findordefault/obje- | MyApp::Controller::FindOrDefault | object_PUT |
| ct_PUT | | |
| /findordefault/end | MyApp::Controller::FindOrDefault | end |
| /findordefault/begin | MyApp::Controller::FindOrDefault | begin |
| /findordefault/list | MyApp::Controller::FindOrDefault | list |
| /calc/add | MyApp::Controller::Calculator | add |
| /calc/subtract | MyApp::Controller::Calculator | subtract |
| /calc/upload | MyApp::Controller::Calculator | upload |
| /calc/add_to | MyApp::Controller::Calculator | add_to |
| /json/index | MyApp::Controller::JSON | index |
| /forbrowsers/base | MyApp::Controller::ForBrowsers | base |
| /forbrowsers/object | MyApp::Controller::ForBrowsers | object |
| /forbrowsers/object- | MyApp::Controller::ForBrowsers | object_DELE- |
| _DELETE | | TE |
| /forbrowsers/object- | MyApp::Controller::ForBrowsers | object_POST |
| _POST | | |
| /forbrowsers/object- | MyApp::Controller::ForBrowsers | object_GET |
| _GET | | |
| /forbrowsers/object- | MyApp::Controller::ForBrowsers | object_PUT |
| _PUT | | |
| /forbrowsers/end | MyApp::Controller::ForBrowsers | end |
| /forbrowsers/begin | MyApp::Controller::ForBrowsers | begin |
| /forbrowsers/list | MyApp::Controller::ForBrowsers | list |
| /rest/object | MyApp::Controller::REST | object |
| /rest/begin | MyApp::Controller::REST | begin |
| /rest/end | MyApp::Controller::REST | end |
| /nested/controller/- | MyApp::Controller::Nested::Controll- | index |
| index | er | |
| /skipend/load_form | MyApp::Controller::SkipEnd | load_form |
| /skipend/object | MyApp::Controller::SkipEnd | object |
| /skipend/object_GET | MyApp::Controller::SkipEnd | object_GET |
| /skipend/object_PUT | MyApp::Controller::SkipEnd | object_PUT |
| /skipend/begin | MyApp::Controller::SkipEnd | begin |
| /skipend/list | MyApp::Controller::SkipEnd | list |
| /skipend/base | MyApp::Controller::SkipEnd | base |
| /skipend/object_POST | MyApp::Controller::SkipEnd | object_POST |
| /skipend/object_DEL- | MyApp::Controller::SkipEnd | object_DELE- |
| ETE | | TE |
| /skipend/end | MyApp::Controller::SkipEnd | end |
| /skipend/edit_record | MyApp::Controller::SkipEnd | edit_record |
| /forbrowser/base | MyApp::Controller::ForBrowser | base |
| /forbrowser/object | MyApp::Controller::ForBrowser | object |
| /forbrowser/object_- | MyApp::Controller::ForBrowser | object_DELE- |
| DELETE | | TE |
| /forbrowser/object_- | MyApp::Controller::ForBrowser | object_POST |
| POST | | |
| /forbrowser/object_- | MyApp::Controller::ForBrowser | object_GET |
| GET | | |
| /forbrowser/object_- | MyApp::Controller::ForBrowser | object_PUT |
| PUT | | |
| /forbrowser/end | MyApp::Controller::ForBrowser | end |
| /forbrowser/begin | MyApp::Controller::ForBrowser | begin |
| /forbrowser/list | MyApp::Controller::ForBrowser | list |
| /requestclass/params | MyApp::Controller::RequestClass | params |
| /requestclass/reque- | MyApp::Controller::RequestClass | request_cla- |
| st_class | | ss |
| /user/base | MyApp::Controller::User | base |
| /user/object | MyApp::Controller::User | object |
| /user/object_DELETE | MyApp::Controller::User | object_DELE- |
| | | TE |
| /user/object_POST | MyApp::Controller::User | object_POST |
| /user/object_GET | MyApp::Controller::User | object_GET |
| /user/object_PUT | MyApp::Controller::User | object_PUT |
| /user/end | MyApp::Controller::User | end |
| /user/add_to_group | MyApp::Controller::User | add_to_group |
| /user/begin | MyApp::Controller::User | begin |
| /user/list | MyApp::Controller::User | list |
'----------------------+--------------------------------------+--------------'
[debug] Loaded Path actions:
.-------------------------------------+--------------------------------------.
| Path | Private |
+-------------------------------------+--------------------------------------+
| /api | /api/index |
| /api/router | /api/router |
| /api/src | /api/src |
| /calc | /calc/upload |
| /calc | /calc/add |
| /calc/subtract | /calc/subtract |
| /nested/controller/index | /nested/controller/index |
| /requestclass/params | /requestclass/params |
| /requestclass/request_class | /requestclass/request_class |
'-------------------------------------+--------------------------------------'
[debug] Loaded Chained actions:
.-------------------------------------+--------------------------------------.
| Path Spec | Private |
+-------------------------------------+--------------------------------------+
| /add/*/to/* | /calc/add (1) |
| | => /calc/add_to |
| /findordefaults/... | /findordefault/list |
| /findordefault/... | /findordefault/object |
| /forbrowsers/... | /forbrowser/list |
| /forbrowser/... | /forbrowser/object |
| /forbrowser/... | /forbrowsers/list |
| /forbrowsers/... | /forbrowsers/object |
| /rest/object/* | /rest/object |
| /skipend/form/edit_record | /skipend/load_form (0) |
| | => /skipend/edit_record |
| /skipends/... | /skipend/list |
| /skipend/... | /skipend/object |
| /user/*/add_to_group/* | /user/base (1) |
| | => /user/add_to_group |
| /users/... | /user/list |
| /user/... | /user/object |
'-------------------------------------+--------------------------------------'
[info] Application powered by Catalyst 5.80029
[info] *** Request 1 (1.000/s) [8573] [Tue Nov 30 13:30:19 2010] ***
[debug] "POST" request for "api/router" from "127.0.0.1"
[debug] Path is "api/router"
[debug] Serializing with Catalyst::Action::Serialize::JSON
[debug] Response Code: 200; Content-Type: application/json; Content-Length: 78
[info] Request took 0.033328s (30.005/s)
.------------------------------------------------------------+-----------.
| Action | Time |
+------------------------------------------------------------+-----------+
| /api/begin | 0.013282s |
| /api/router | 0.002166s |
| /json/index | 0.000823s |
| -> MyApp::View::JSON->process | 0.000468s |
| /api/end | 0.014458s |
'------------------------------------------------------------+-----------'
t/direct/json.t ............... ok
[debug] Debug messages enabled
[debug] Statistics enabled
[debug] Loaded dispatcher "Catalyst::Dispatcher"
[debug] Loaded engine "Catalyst::Engine::CGI"
[debug] Found home "/home/sts/cpansmoke/perl-5.12.2/cpan/build/CatalystX-ExtJS-1.123000-doBSyB/t/lib/MyApp"
[debug] Loaded components:
.-----------------------------------------------------------------+----------.
| Class | Type |
+-----------------------------------------------------------------+----------+
| MyApp::Controller::API | instance |
| MyApp::Controller::Artist | instance |
| MyApp::Controller::Calculator | instance |
| MyApp::Controller::FindOrDefault | instance |
| MyApp::Controller::ForBrowser | instance |
| MyApp::Controller::ForBrowsers | instance |
| MyApp::Controller::JSON | instance |
| MyApp::Controller::Nested::Controller | instance |
| MyApp::Controller::REST | instance |
| MyApp::Controller::RequestClass | instance |
| MyApp::Controller::SkipEnd | instance |
| MyApp::Controller::User | instance |
| MyApp::Model::DBIC | instance |
| MyApp::Model::DBIC::FindOrDefault | class |
| MyApp::Model::DBIC::SkipEnd | class |
| MyApp::Model::DBIC::User | class |
| MyApp::View::JSON | instance |
| MyApp::View::TT | instance |
'-----------------------------------------------------------------+----------'
[debug] Loaded Private actions:
.----------------------+--------------------------------------+--------------.
| Private | Class | Method |
+----------------------+--------------------------------------+--------------+
| /api/src | MyApp::Controller::API | src |
| /api/router | MyApp::Controller::API | router |
| /api/end | MyApp::Controller::API | end |
| /api/index | MyApp::Controller::API | index |
| /api/begin | MyApp::Controller::API | begin |
| /findordefault/base | MyApp::Controller::FindOrDefault | base |
| /findordefault/obje- | MyApp::Controller::FindOrDefault | object |
| ct | | |
| /findordefault/obje- | MyApp::Controller::FindOrDefault | object_DELE- |
| ct_DELETE | | TE |
| /findordefault/obje- | MyApp::Controller::FindOrDefault | object_POST |
| ct_POST | | |
| /findordefault/obje- | MyApp::Controller::FindOrDefault | object_GET |
| ct_GET | | |
| /findordefault/obje- | MyApp::Controller::FindOrDefault | object_PUT |
| ct_PUT | | |
| /findordefault/end | MyApp::Controller::FindOrDefault | end |
| /findordefault/begin | MyApp::Controller::FindOrDefault | begin |
| /findordefault/list | MyApp::Controller::FindOrDefault | list |
| /calc/add | MyApp::Controller::Calculator | add |
| /calc/subtract | MyApp::Controller::Calculator | subtract |
| /calc/upload | MyApp::Controller::Calculator | upload |
| /calc/add_to | MyApp::Controller::Calculator | add_to |
| /json/index | MyApp::Controller::JSON | index |
| /forbrowsers/base | MyApp::Controller::ForBrowsers | base |
| /forbrowsers/object | MyApp::Controller::ForBrowsers | object |
| /forbrowsers/object- | MyApp::Controller::ForBrowsers | object_DELE- |
| _DELETE | | TE |
| /forbrowsers/object- | MyApp::Controller::ForBrowsers | object_POST |
| _POST | | |
| /forbrowsers/object- | MyApp::Controller::ForBrowsers | object_GET |
| _GET | | |
| /forbrowsers/object- | MyApp::Controller::ForBrowsers | object_PUT |
| _PUT | | |
| /forbrowsers/end | MyApp::Controller::ForBrowsers | end |
| /forbrowsers/begin | MyApp::Controller::ForBrowsers | begin |
| /forbrowsers/list | MyApp::Controller::ForBrowsers | list |
| /rest/object | MyApp::Controller::REST | object |
| /rest/begin | MyApp::Controller::REST | begin |
| /rest/end | MyApp::Controller::REST | end |
| /nested/controller/- | MyApp::Controller::Nested::Controll- | index |
| index | er | |
| /skipend/load_form | MyApp::Controller::SkipEnd | load_form |
| /skipend/object | MyApp::Controller::SkipEnd | object |
| /skipend/object_GET | MyApp::Controller::SkipEnd | object_GET |
| /skipend/object_PUT | MyApp::Controller::SkipEnd | object_PUT |
| /skipend/begin | MyApp::Controller::SkipEnd | begin |
| /skipend/list | MyApp::Controller::SkipEnd | list |
| /skipend/base | MyApp::Controller::SkipEnd | base |
| /skipend/object_POST | MyApp::Controller::SkipEnd | object_POST |
| /skipend/object_DEL- | MyApp::Controller::SkipEnd | object_DELE- |
| ETE | | TE |
| /skipend/end | MyApp::Controller::SkipEnd | end |
| /skipend/edit_record | MyApp::Controller::SkipEnd | edit_record |
| /forbrowser/base | MyApp::Controller::ForBrowser | base |
| /forbrowser/object | MyApp::Controller::ForBrowser | object |
| /forbrowser/object_- | MyApp::Controller::ForBrowser | object_DELE- |
| DELETE | | TE |
| /forbrowser/object_- | MyApp::Controller::ForBrowser | object_POST |
| POST | | |
| /forbrowser/object_- | MyApp::Controller::ForBrowser | object_GET |
| GET | | |
| /forbrowser/object_- | MyApp::Controller::ForBrowser | object_PUT |
| PUT | | |
| /forbrowser/end | MyApp::Controller::ForBrowser | end |
| /forbrowser/begin | MyApp::Controller::ForBrowser | begin |
| /forbrowser/list | MyApp::Controller::ForBrowser | list |
| /requestclass/params | MyApp::Controller::RequestClass | params |
| /requestclass/reque- | MyApp::Controller::RequestClass | request_cla- |
| st_class | | ss |
| /user/base | MyApp::Controller::User | base |
| /user/object | MyApp::Controller::User | object |
| /user/object_DELETE | MyApp::Controller::User | object_DELE- |
| | | TE |
| /user/object_POST | MyApp::Controller::User | object_POST |
| /user/object_GET | MyApp::Controller::User | object_GET |
| /user/object_PUT | MyApp::Controller::User | object_PUT |
| /user/end | MyApp::Controller::User | end |
| /user/add_to_group | MyApp::Controller::User | add_to_group |
| /user/begin | MyApp::Controller::User | begin |
| /user/list | MyApp::Controller::User | list |
'----------------------+--------------------------------------+--------------'
[debug] Loaded Path actions:
.-------------------------------------+--------------------------------------.
| Path | Private |
+-------------------------------------+--------------------------------------+
| /api | /api/index |
| /api/router | /api/router |
| /api/src | /api/src |
| /calc | /calc/upload |
| /calc | /calc/add |
| /calc/subtract | /calc/subtract |
| /nested/controller/index | /nested/controller/index |
| /requestclass/params | /requestclass/params |
| /requestclass/request_class | /requestclass/request_class |
'-------------------------------------+--------------------------------------'
[debug] Loaded Chained actions:
.-------------------------------------+--------------------------------------.
| Path Spec | Private |
+-------------------------------------+--------------------------------------+
| /add/*/to/* | /calc/add (1) |
| | => /calc/add_to |
| /findordefaults/... | /findordefault/list |
| /findordefault/... | /findordefault/object |
| /forbrowsers/... | /forbrowser/list |
| /forbrowser/... | /forbrowser/object |
| /forbrowser/... | /forbrowsers/list |
| /forbrowsers/... | /forbrowsers/object |
| /rest/object/* | /rest/object |
| /skipend/form/edit_record | /skipend/load_form (0) |
| | => /skipend/edit_record |
| /skipends/... | /skipend/list |
| /skipend/... | /skipend/object |
| /user/*/add_to_group/* | /user/base (1) |
| | => /user/add_to_group |
| /users/... | /user/list |
| /user/... | /user/object |
'-------------------------------------+--------------------------------------'
[info] Application powered by Catalyst 5.80029
[info] *** Request 1 (1.000/s) [8574] [Tue Nov 30 13:30:22 2010] ***
[debug] "GET" request for "add/8/to/9" from "127.0.0.1"
[debug] Path is "/calc/add_to"
[debug] Arguments are "9"
[debug] Response Code: 200; Content-Type: unknown; Content-Length: 2
[info] Request took 0.003317s (301.477/s)
.------------------------------------------------------------+-----------.
| Action | Time |
+------------------------------------------------------------+-----------+
| /calc/add | 0.000133s |
| /calc/add_to | 0.000097s |
'------------------------------------------------------------+-----------'
Use of uninitialized value in sprintf at /home/sts/cpansmoke/perl-5.12.2/cpan/build/CatalystX-ExtJS-1.123000-doBSyB/blib/lib/CatalystX/Controller/ExtJS/Direct/API.pm line 123.
Use of uninitialized value in sprintf at /home/sts/cpansmoke/perl-5.12.2/cpan/build/CatalystX-ExtJS-1.123000-doBSyB/blib/lib/CatalystX/Controller/ExtJS/Direct/API.pm line 123.
[info] *** Request 2 (2.000/s) [8574] [Tue Nov 30 13:30:22 2010] ***
[debug] "GET" request for "api/router" from "127.0.0.1"
[debug] Path is "api/router"
[debug] Status Bad Request: method in action does not exist
[debug] Serializing with Catalyst::Action::Serialize::JSON
[debug] Response Code: 400; Content-Type: application/json; Content-Length: 45
[info] Request took 0.018372s (54.431/s)
.------------------------------------------------------------+-----------.
| Action | Time |
+------------------------------------------------------------+-----------+
| /api/begin | 0.000216s |
| /api/router | 0.000421s |
| /api/end | 0.015233s |
'------------------------------------------------------------+-----------'
[info] *** Request 3 (3.000/s) [8574] [Tue Nov 30 13:30:22 2010] ***
[debug] "POST" request for "api/router" from "127.0.0.1"
[debug] Path is "api/router"
[debug] Serializing with Catalyst::Action::Serialize::JSON
[debug] Response Code: 200; Content-Type: application/json; Content-Length: 70
[info] Request took 0.018524s (53.984/s)
.------------------------------------------------------------+-----------.
| Action | Time |
+------------------------------------------------------------+-----------+
| /api/begin | 0.013068s |
| /api/router | 0.001694s |
| /calc/add | 0.000095s |
| /calc/add_to | 0.000099s |
| /api/end | 0.000662s |
'------------------------------------------------------------+-----------'
[info] *** Request 4 (4.000/s) [8574] [Tue Nov 30 13:30:22 2010] ***
[debug] "POST" request for "api/router" from "127.0.0.1"
[debug] Body Parameters are:
.-------------------------------------+--------------------------------------.
| Parameter | Value |
+-------------------------------------+--------------------------------------+
| extAction | Calculator |
| extData | [1,3] |
| extMethod | add |
| extTID | 2 |
| extType | rpc |
'-------------------------------------+--------------------------------------'
[debug] Path is "api/router"
[debug] I would have deserialized, but there was nothing in the body!
[debug] Serializing with Catalyst::Action::Serialize::JSON
[debug] Response Code: 200; Content-Type: application/json; Content-Length: 72
[info] Request took 0.005585s (179.051/s)
.------------------------------------------------------------+-----------.
| Action | Time |
+------------------------------------------------------------+-----------+
| /api/begin | 0.000363s |
| /api/router | 0.001722s |
| /calc/add | 0.000093s |
| /calc/add_to | 0.000096s |
| /api/end | 0.000632s |
'------------------------------------------------------------+-----------'
[info] *** Request 5 (5.000/s) [8574] [Tue Nov 30 13:30:22 2010] ***
[debug] "POST" request for "api/router" from "127.0.0.1"
[debug] Path is "api/router"
[debug] Serializing with Catalyst::Action::Serialize::JSON
[debug] Response Code: 200; Content-Type: application/json; Content-Length: 285
[info] Request took 0.009273s (107.840/s)
.------------------------------------------------------------+-----------.
| Action | Time |
+------------------------------------------------------------+-----------+
| /api/begin | 0.000396s |
| /api/router | 0.005396s |
| /calc/add | 0.000092s |
| /calc/add_to | 0.000097s |
| /calc/add | 0.000088s |
| /calc/add_to | 0.000087s |
| /calc/add | 0.000091s |
| /calc/add_to | 0.000087s |
| /calc/add | 0.000084s |
| /calc/add_to | 0.000086s |
| /api/end | 0.000673s |
'------------------------------------------------------------+-----------'
[info] *** Request 6 (6.000/s) [8574] [Tue Nov 30 13:30:22 2010] ***
[debug] "POST" request for "api/router" from "127.0.0.1"
[debug] Body Parameters are:
.-------------------------------------+--------------------------------------.
| Parameter | Value |
+-------------------------------------+--------------------------------------+
| extAction | Calculator |
| extMethod | upload |
| extTID | 9 |
| extType | rpc |
| extUpload | true |
'-------------------------------------+--------------------------------------'
[debug] File Uploads are:
.--------------+----------------------------+--------------------+-----------.
| Parameter | Filename | Type | Size |
+--------------+----------------------------+--------------------+-----------+
| file | calc.txt | text/plain | 3 |
'--------------+----------------------------+--------------------+-----------'
[debug] Path is "api/router"
[debug] Serializing with Catalyst::Action::Serialize::JSON
[debug] Response Code: 200; Content-Type: application/json; Content-Length: 76
[info] Request took 0.006764s (147.842/s)
.------------------------------------------------------------+-----------.
| Action | Time |
+------------------------------------------------------------+-----------+
| /api/begin | 0.000409s |
| /api/router | 0.001585s |
| /calc/upload | 0.000305s |
| /api/end | 0.000681s |
'------------------------------------------------------------+-----------'
[info] *** Request 7 (7.000/s) [8574] [Tue Nov 30 13:30:22 2010] ***
[debug] "POST" request for "api/router" from "127.0.0.1"
[debug] Body Parameters are:
.-------------------------------------+--------------------------------------.
| Parameter | Value |
+-------------------------------------+--------------------------------------+
| extAction | Calculator |
| extMethod | upload |
| extTID | 9 |
| extType | rpc |
| extUpload | true |
'-------------------------------------+--------------------------------------'
[debug] File Uploads are:
.--------------+----------------------------+--------------------+-----------.
| Parameter | Filename | Type | Size |
+--------------+----------------------------+--------------------+-----------+
| file | calc.txt | text/plain | 4 |
'--------------+----------------------------+--------------------+-----------'
[debug] Path is "api/router"
[debug]
[debug] Serializing with Catalyst::Action::Serialize::JSON
[debug] Response Code: 200; Content-Type: application/json; Content-Length: 43
[info] Request took 0.006758s (147.973/s)
.------------------------------------------------------------+-----------.
| Action | Time |
+------------------------------------------------------------+-----------+
| /api/begin | 0.000396s |
| /api/router | 0.001599s |
| /calc/upload | 0.000285s |
| /api/end | 0.000691s |
'------------------------------------------------------------+-----------'
[info] *** Request 8 (8.000/s) [8574] [Tue Nov 30 13:30:22 2010] ***
[debug] "POST" request for "rest/object/1" from "127.0.0.1"
[debug] Path is "/rest/object"
[debug] Arguments are "1"
[debug] Response Code: 200; Content-Type: text/plain; Content-Length: 54
[info] Request took 0.010089s (99.118/s)
.------------------------------------------------------------+-----------.
| Action | Time |
+------------------------------------------------------------+-----------+
| /rest/begin | 0.006785s |
| /rest/object | 0.000121s |
| /object_POST | 0.000179s |
| /rest/end | 0.000114s |
'------------------------------------------------------------+-----------'
[info] *** Request 9 (9.000/s) [8574] [Tue Nov 30 13:30:22 2010] ***
[debug] "POST" request for "api/router" from "127.0.0.1"
[debug] Path is "api/router"
[debug] I would have deserialized, but there was nothing in the body!
[debug] Serializing with Catalyst::Action::Serialize::JSON
[debug] Serializing with Catalyst::Action::Serialize::JSON
[debug] Response Code: 200; Content-Type: application/json; Content-Length: 85
[info] Request took 0.014016s (71.347/s)
.------------------------------------------------------------+-----------.
| Action | Time |
+------------------------------------------------------------+-----------+
| /api/begin | 0.000383s |
| /api/router | 0.010161s |
| /rest/begin | 0.000198s |
| /rest/object | 0.000079s |
| /object_POST | 0.000157s |
| /rest/end | 0.008002s |
| /api/end | 0.000595s |
'------------------------------------------------------------+-----------'
[info] *** Request 10 (10.000/s) [8574] [Tue Nov 30 13:30:22 2010] ***
[debug] "POST" request for "api/router" from "127.0.0.1"
[debug] Path is "api/router"
[debug] Serializing with Catalyst::Action::Serialize::JSON
[debug] Serializing with Catalyst::Action::Serialize::JSON
[debug] Response Code: 200; Content-Type: application/json; Content-Length: 81
[info] Request took 0.006818s (146.671/s)
.------------------------------------------------------------+-----------.
| Action | Time |
+------------------------------------------------------------+-----------+
| /api/begin | 0.000410s |
| /api/router | 0.002853s |
| /rest/begin | 0.000131s |
| /rest/object | 0.000085s |
| /object_GET | 0.000161s |
| /rest/end | 0.000679s |
| /api/end | 0.000576s |
'------------------------------------------------------------+-----------'
[info] *** Request 11 (11.000/s) [8574] [Tue Nov 30 13:30:22 2010] ***
[debug] "POST" request for "api/router" from "127.0.0.1"
[debug] Path is "api/router"
[debug] I would have deserialized, but there was nothing in the body!
[debug] Serializing with Catalyst::Action::Serialize::JSON
[debug] Serializing with Catalyst::Action::Serialize::JSON
[debug] Response Code: 200; Content-Type: application/json; Content-Length: 85
[info] Request took 0.006710s (149.031/s)
.------------------------------------------------------------+-----------.
| Action | Time |
+------------------------------------------------------------+-----------+
| /api/begin | 0.000423s |
| /api/router | 0.002867s |
| /rest/begin | 0.000209s |
| /rest/object | 0.000082s |
| /object_PUT | 0.000168s |
| /rest/end | 0.000659s |
| /api/end | 0.000512s |
'------------------------------------------------------------+-----------'
[info] *** Request 12 (12.000/s) [8574] [Tue Nov 30 13:30:22 2010] ***
[debug] "POST" request for "api/router" from "127.0.0.1"
[debug] Path is "api/router"
[debug] I would have deserialized, but there was nothing in the body!
[debug] Serializing with Catalyst::Action::Serialize::JSON
[debug] Serializing with Catalyst::Action::Serialize::JSON
[debug] Response Code: 200; Content-Type: application/json; Content-Length: 87
[info] Request took 0.006652s (150.331/s)
.------------------------------------------------------------+-----------.
| Action | Time |
+------------------------------------------------------------+-----------+
| /api/begin | 0.000422s |
| /api/router | 0.002835s |
| /rest/begin | 0.000198s |
| /rest/object | 0.000081s |
| /object_DELETE | 0.000161s |
| /rest/end | 0.000653s |
| /api/end | 0.000505s |
'------------------------------------------------------------+-----------'
[info] *** Request 13 (13.000/s) [8574] [Tue Nov 30 13:30:22 2010] ***
[debug] "POST" request for "api/router" from "127.0.0.1"
[debug] Body Parameters are:
.-------------------------------------+--------------------------------------.
| Parameter | Value |
+-------------------------------------+--------------------------------------+
| extAction | User |
| extMethod | create |
| extTID | 6 |
| extType | rpc |
| name | testuser |
| password | foobar |
'-------------------------------------+--------------------------------------'
[debug] Path is "api/router"
[debug] I would have deserialized, but there was nothing in the body!
[debug] I would have deserialized, but there was nothing in the body!
[debug] Calling default resultset method extjs_rest_user
[debug] Loading form t/root/forms/user.yml
[debug] Serializing with Catalyst::Action::Serialize::JSON
[debug] Serializing with Catalyst::Action::Serialize::JSON
[debug] Response Code: 200; Content-Type: application/json; Content-Length: 138
[info] Request took 0.135307s (7.391/s)
.------------------------------------------------------------+-----------.
| Action | Time |
+------------------------------------------------------------+-----------+
| /api/begin | 0.000374s |
| /api/router | 0.131193s |
| /user/begin | 0.006835s |
| /user/object | 0.113824s |
| -> /user/object_POST | 0.038687s |
| /user/end | 0.008278s |
| /api/end | 0.000653s |
'------------------------------------------------------------+-----------'
[info] *** Request 14 (14.000/s) [8574] [Tue Nov 30 13:30:22 2010] ***
[debug] "POST" request for "api/router" from "127.0.0.1"
[debug] Path is "api/router"
[debug] I would have deserialized, but there was nothing in the body!
[debug] Loading form t/root/lists/user.yml
[debug] found configuration file for parameters
[debug] Calling resultset method extjs_rest_user
[debug] Serializing with Catalyst::Action::Serialize::JSON
[debug] Serializing with Catalyst::Action::Serialize::JSON
[debug] Response Code: 200; Content-Type: application/json; Content-Length: 394
[info] Request took 0.104195s (9.597/s)
.------------------------------------------------------------+-----------.
| Action | Time |
+------------------------------------------------------------+-----------+
| /api/begin | 0.000416s |
| /api/router | 0.100221s |
| /user/begin | 0.000252s |
| /user/list | 0.097201s |
| /user/end | 0.000916s |
| /api/end | 0.000519s |
'------------------------------------------------------------+-----------'
[info] *** Request 15 (15.000/s) [8574] [Tue Nov 30 13:30:22 2010] ***
[debug] "POST" request for "api/router" from "127.0.0.1"
[debug] Path is "api/router"
[debug] Loading form t/root/lists/user.yml
[debug] found configuration file for parameters
[debug] Calling resultset method extjs_rest_user
[debug] Serializing with Catalyst::Action::Serialize::JSON
[debug] Serializing with Catalyst::Action::Serialize::JSON
[debug] Response Code: 200; Content-Type: application/json; Content-Length: 394
[info] Request took 0.035903s (27.853/s)
.------------------------------------------------------------+-----------.
| Action | Time |
+------------------------------------------------------------+-----------+
| /api/begin | 0.000395s |
| /api/router | 0.032251s |
| /user/begin | 0.000151s |
| /user/object | 0.029641s |
| -> /user/list | 0.021445s |
| /user/end | 0.000798s |
| /api/end | 0.000500s |
'------------------------------------------------------------+-----------'
[info] *** Request 16 (16.000/s) [8574] [Tue Nov 30 13:30:22 2010] ***
[debug] "POST" request for "api/router" from "127.0.0.1"
[debug] Body Parameters are:
.-------------------------------------+--------------------------------------.
| Parameter | Value |
+-------------------------------------+--------------------------------------+
| extAction | User |
| extMethod | update |
| extTID | 6 |
| extType | rpc |
| extUpload | true |
| id | 1 |
| name | testuser |
| password | foobar2 |
'-------------------------------------+--------------------------------------'
[debug] Path is "api/router"
[debug] I would have deserialized, but there was nothing in the body!
[debug] Calling default resultset method extjs_rest_user
[debug] Loading form t/root/forms/user.yml
[debug] Serializing with Catalyst::Action::Serialize::JSON
[debug] Serializing with Catalyst::Action::Serialize::JSON
[debug] Response Code: 200; Content-Type: application/json; Content-Length: 141
[info] Request took 0.023379s (42.773/s)
.------------------------------------------------------------+-----------.
| Action | Time |
+------------------------------------------------------------+-----------+
| /api/begin | 0.000369s |
| /api/router | 0.019021s |
| /user/begin | 0.000263s |
| /user/object | 0.016259s |
| -> /user/object_PUT | 0.005597s |
| /user/end | 0.000775s |
| /api/end | 0.000512s |
'------------------------------------------------------------+-----------'
[info] *** Request 17 (17.000/s) [8574] [Tue Nov 30 13:30:22 2010] ***
[debug] "POST" request for "api/router" from "127.0.0.1"
[debug] Body Parameters are:
.-------------------------------------+--------------------------------------.
| Parameter | Value |
+-------------------------------------+--------------------------------------+
| extAction | User |
| extMethod | update |
| extTID | 6 |
| extType | rpc |
| id | 1 |
| name | testuser |
| password | foobar2 |
'-------------------------------------+--------------------------------------'
[debug] Path is "api/router"
[debug] I would have deserialized, but there was nothing in the body!
[debug] I would have deserialized, but there was nothing in the body!
[debug] Calling default resultset method extjs_rest_user
[debug] Loading form t/root/forms/user.yml
[debug] Serializing with Catalyst::Action::Serialize::JSON
[debug] Serializing with Catalyst::Action::Serialize::JSON
[debug] Response Code: 200; Content-Type: application/json; Content-Length: 141
[info] Request took 0.022052s (45.347/s)
.------------------------------------------------------------+-----------.
| Action | Time |
+------------------------------------------------------------+-----------+
| /api/begin | 0.000362s |
| /api/router | 0.018232s |
| /user/begin | 0.000212s |
| /user/object | 0.015557s |
| -> /user/object_PUT | 0.004960s |
| /user/end | 0.000762s |
| /api/end | 0.000520s |
'------------------------------------------------------------+-----------'
[info] *** Request 18 (18.000/s) [8574] [Tue Nov 30 13:30:22 2010] ***
[debug] "POST" request for "api/router" from "127.0.0.1"
[debug] Path is "api/router"
[debug] I would have deserialized, but there was nothing in the body!
[debug] Loading form t/root/lists/user.yml
[debug] found configuration file for parameters
[debug] Calling resultset method extjs_rest_user
[debug] Serializing with Catalyst::Action::Serialize::JSON
[debug] Serializing with Catalyst::Action::Serialize::JSON
[debug] Response Code: 200; Content-Type: application/json; Content-Length: 395
[info] Request took 0.027927s (35.808/s)
.------------------------------------------------------------+-----------.
| Action | Time |
+------------------------------------------------------------+-----------+
| /api/begin | 0.000387s |
| /api/router | 0.024271s |
| /user/begin | 0.000209s |
| /user/list | 0.021620s |
| /user/end | 0.000783s |
| /api/end | 0.000502s |
'------------------------------------------------------------+-----------'
[info] *** Request 19 (19.000/s) [8574] [Tue Nov 30 13:30:22 2010] ***
[debug] "POST" request for "api/router" from "127.0.0.1"
[debug] Path is "api/router"
[debug] I would have deserialized, but there was nothing in the body!
[debug] Calling default resultset method extjs_rest_user
[debug] Loading form t/root/forms/user.yml
[debug] Serializing with Catalyst::Action::Serialize::JSON
[debug] Serializing with Catalyst::Action::Serialize::JSON
[debug] Response Code: 200; Content-Type: application/json; Content-Length: 129
[info] Request took 0.017458s (57.280/s)
.------------------------------------------------------------+-----------.
| Action | Time |
+------------------------------------------------------------+-----------+
| /api/begin | 0.000386s |
| /api/router | 0.013799s |
| /user/begin | 0.000216s |
| /user/object | 0.011199s |
| -> /user/object_DELETE | 0.000788s |
| /user/end | 0.000740s |
| /api/end | 0.000495s |
'------------------------------------------------------------+-----------'
[info] *** Request 20 (20.000/s) [8574] [Tue Nov 30 13:30:22 2010] ***
[debug] "POST" request for "api/router" from "127.0.0.1"
[debug] Path is "api/router"
[debug] I would have deserialized, but there was nothing in the body!
[debug] Loading form t/root/lists/user.yml
[debug] found configuration file for parameters
[debug] Calling resultset method extjs_rest_user
[debug] Serializing with Catalyst::Action::Serialize::JSON
[debug] Serializing with Catalyst::Action::Serialize::JSON
[debug] Response Code: 200; Content-Type: application/json; Content-Length: 348
[info] Request took 0.026308s (38.011/s)
.------------------------------------------------------------+-----------.
| Action | Time |
+------------------------------------------------------------+-----------+
| /api/begin | 0.000390s |
| /api/router | 0.022667s |
| /user/begin | 0.000207s |
| /user/list | 0.020045s |
| /user/end | 0.000778s |
| /api/end | 0.000497s |
'------------------------------------------------------------+-----------'
t/direct/router.t ............. ok
[debug] Debug messages enabled
[debug] Statistics enabled
[debug] Loaded dispatcher "Catalyst::Dispatcher"
[debug] Loaded engine "Catalyst::Engine::CGI"
[debug] Found home "/home/sts/cpansmoke/perl-5.12.2/cpan/build/CatalystX-ExtJS-1.123000-doBSyB/t/lib/MyApp"
[debug] Loaded components:
.-----------------------------------------------------------------+----------.
| Class | Type |
+-----------------------------------------------------------------+----------+
| MyApp::Controller::API | instance |
| MyApp::Controller::Artist | instance |
| MyApp::Controller::Calculator | instance |
| MyApp::Controller::FindOrDefault | instance |
| MyApp::Controller::ForBrowser | instance |
| MyApp::Controller::ForBrowsers | instance |
| MyApp::Controller::JSON | instance |
| MyApp::Controller::Nested::Controller | instance |
| MyApp::Controller::REST | instance |
| MyApp::Controller::RequestClass | instance |
| MyApp::Controller::SkipEnd | instance |
| MyApp::Controller::User | instance |
| MyApp::Model::DBIC | instance |
| MyApp::Model::DBIC::FindOrDefault | class |
| MyApp::Model::DBIC::SkipEnd | class |
| MyApp::Model::DBIC::User | class |
| MyApp::View::JSON | instance |
| MyApp::View::TT | instance |
'-----------------------------------------------------------------+----------'
[debug] Loaded Private actions:
.----------------------+--------------------------------------+--------------.
| Private | Class | Method |
+----------------------+--------------------------------------+--------------+
| /api/src | MyApp::Controller::API | src |
| /api/router | MyApp::Controller::API | router |
| /api/end | MyApp::Controller::API | end |
| /api/index | MyApp::Controller::API | index |
| /api/begin | MyApp::Controller::API | begin |
| /findordefault/base | MyApp::Controller::FindOrDefault | base |
| /findordefault/obje- | MyApp::Controller::FindOrDefault | object |
| ct | | |
| /findordefault/obje- | MyApp::Controller::FindOrDefault | object_DELE- |
| ct_DELETE | | TE |
| /findordefault/obje- | MyApp::Controller::FindOrDefault | object_POST |
| ct_POST | | |
| /findordefault/obje- | MyApp::Controller::FindOrDefault | object_GET |
| ct_GET | | |
| /findordefault/obje- | MyApp::Controller::FindOrDefault | object_PUT |
| ct_PUT | | |
| /findordefault/end | MyApp::Controller::FindOrDefault | end |
| /findordefault/begin | MyApp::Controller::FindOrDefault | begin |
| /findordefault/list | MyApp::Controller::FindOrDefault | list |
| /calc/add | MyApp::Controller::Calculator | add |
| /calc/subtract | MyApp::Controller::Calculator | subtract |
| /calc/upload | MyApp::Controller::Calculator | upload |
| /calc/add_to | MyApp::Controller::Calculator | add_to |
| /json/index | MyApp::Controller::JSON | index |
| /forbrowsers/base | MyApp::Controller::ForBrowsers | base |
| /forbrowsers/object | MyApp::Controller::ForBrowsers | object |
| /forbrowsers/object- | MyApp::Controller::ForBrowsers | object_DELE- |
| _DELETE | | TE |
| /forbrowsers/object- | MyApp::Controller::ForBrowsers | object_POST |
| _POST | | |
| /forbrowsers/object- | MyApp::Controller::ForBrowsers | object_GET |
| _GET | | |
| /forbrowsers/object- | MyApp::Controller::ForBrowsers | object_PUT |
| _PUT | | |
| /forbrowsers/end | MyApp::Controller::ForBrowsers | end |
| /forbrowsers/begin | MyApp::Controller::ForBrowsers | begin |
| /forbrowsers/list | MyApp::Controller::ForBrowsers | list |
| /rest/object | MyApp::Controller::REST | object |
| /rest/begin | MyApp::Controller::REST | begin |
| /rest/end | MyApp::Controller::REST | end |
| /nested/controller/- | MyApp::Controller::Nested::Controll- | index |
| index | er | |
| /skipend/load_form | MyApp::Controller::SkipEnd | load_form |
| /skipend/object | MyApp::Controller::SkipEnd | object |
| /skipend/object_GET | MyApp::Controller::SkipEnd | object_GET |
| /skipend/object_PUT | MyApp::Controller::SkipEnd | object_PUT |
| /skipend/begin | MyApp::Controller::SkipEnd | begin |
| /skipend/list | MyApp::Controller::SkipEnd | list |
| /skipend/base | MyApp::Controller::SkipEnd | base |
| /skipend/object_POST | MyApp::Controller::SkipEnd | object_POST |
| /skipend/object_DEL- | MyApp::Controller::SkipEnd | object_DELE- |
| ETE | | TE |
| /skipend/end | MyApp::Controller::SkipEnd | end |
| /skipend/edit_record | MyApp::Controller::SkipEnd | edit_record |
| /forbrowser/base | MyApp::Controller::ForBrowser | base |
| /forbrowser/object | MyApp::Controller::ForBrowser | object |
| /forbrowser/object_- | MyApp::Controller::ForBrowser | object_DELE- |
| DELETE | | TE |
| /forbrowser/object_- | MyApp::Controller::ForBrowser | object_POST |
| POST | | |
| /forbrowser/object_- | MyApp::Controller::ForBrowser | object_GET |
| GET | | |
| /forbrowser/object_- | MyApp::Controller::ForBrowser | object_PUT |
| PUT | | |
| /forbrowser/end | MyApp::Controller::ForBrowser | end |
| /forbrowser/begin | MyApp::Controller::ForBrowser | begin |
| /forbrowser/list | MyApp::Controller::ForBrowser | list |
| /requestclass/params | MyApp::Controller::RequestClass | params |
| /requestclass/reque- | MyApp::Controller::RequestClass | request_cla- |
| st_class | | ss |
| /user/base | MyApp::Controller::User | base |
| /user/object | MyApp::Controller::User | object |
| /user/object_DELETE | MyApp::Controller::User | object_DELE- |
| | | TE |
| /user/object_POST | MyApp::Controller::User | object_POST |
| /user/object_GET | MyApp::Controller::User | object_GET |
| /user/object_PUT | MyApp::Controller::User | object_PUT |
| /user/end | MyApp::Controller::User | end |
| /user/add_to_group | MyApp::Controller::User | add_to_group |
| /user/begin | MyApp::Controller::User | begin |
| /user/list | MyApp::Controller::User | list |
'----------------------+--------------------------------------+--------------'
[debug] Loaded Path actions:
.-------------------------------------+--------------------------------------.
| Path | Private |
+-------------------------------------+--------------------------------------+
| /api | /api/index |
| /api/router | /api/router |
| /api/src | /api/src |
| /calc | /calc/upload |
| /calc | /calc/add |
| /calc/subtract | /calc/subtract |
| /nested/controller/index | /nested/controller/index |
| /requestclass/params | /requestclass/params |
| /requestclass/request_class | /requestclass/request_class |
'-------------------------------------+--------------------------------------'
[debug] Loaded Chained actions:
.-------------------------------------+--------------------------------------.
| Path Spec | Private |
+-------------------------------------+--------------------------------------+
| /add/*/to/* | /calc/add (1) |
| | => /calc/add_to |
| /findordefaults/... | /findordefault/list |
| /findordefault/... | /findordefault/object |
| /forbrowsers/... | /forbrowser/list |
| /forbrowser/... | /forbrowser/object |
| /forbrowser/... | /forbrowsers/list |
| /forbrowsers/... | /forbrowsers/object |
| /rest/object/* | /rest/object |
| /skipend/form/edit_record | /skipend/load_form (0) |
| | => /skipend/edit_record |
| /skipends/... | /skipend/list |
| /skipend/... | /skipend/object |
| /user/*/add_to_group/* | /user/base (1) |
| | => /user/add_to_group |
| /users/... | /user/list |
| /user/... | /user/object |
'-------------------------------------+--------------------------------------'
[info] Application powered by Catalyst 5.80029
[info] *** Request 1 (1.000/s) [8575] [Tue Nov 30 13:30:25 2010] ***
[debug] "POST" request for "api/router" from "127.0.0.1"
[debug] Path is "api/router"
[debug] I would have deserialized, but there was nothing in the body!
[debug] Calling default resultset method extjs_rest_user
[debug] Loading form t/root/forms/user.yml
[debug] Serializing with Catalyst::Action::Serialize::JSON
[debug] I would have deserialized, but there was nothing in the body!
[debug] Calling default resultset method extjs_rest_user
[debug] Loading form t/root/forms/user.yml
[debug] Serializing with Catalyst::Action::Serialize::JSON
[debug] I would have deserialized, but there was nothing in the body!
[debug] Calling default resultset method extjs_rest_user
[debug] Loading form t/root/forms/user.yml
[debug] Serializing with Catalyst::Action::Serialize::JSON
[debug] Serializing with Catalyst::Action::Serialize::JSON
[debug] Response Code: 200; Content-Type: application/json; Content-Length: 370
[info] Request took 0.183742s (5.442/s)
.------------------------------------------------------------+-----------.
| Action | Time |
+------------------------------------------------------------+-----------+
| /api/begin | 0.012759s |
| /api/router | 0.159879s |
| /user/begin | 0.006500s |
| /user/object | 0.102654s |
| -> /user/object_POST | 0.035688s |
| /user/end | 0.015314s |
| /user/begin | 0.000305s |
| /user/object | 0.014083s |
| -> /user/object_POST | 0.004659s |
| /user/end | 0.000716s |
| /user/begin | 0.000261s |
| /user/object | 0.013844s |
| -> /user/object_POST | 0.004641s |
| /user/end | 0.000702s |
| /api/end | 0.007678s |
'------------------------------------------------------------+-----------'
[info] *** Request 2 (2.000/s) [8575] [Tue Nov 30 13:30:25 2010] ***
[debug] "POST" request for "api/router" from "127.0.0.1"
[debug] Path is "api/router"
[debug] I would have deserialized, but there was nothing in the body!
[debug] Loading form t/root/lists/user.yml
[debug] found configuration file for parameters
[debug] Calling resultset method extjs_rest_user
[debug] Serializing with Catalyst::Action::Serialize::JSON
[debug] Serializing with Catalyst::Action::Serialize::JSON
[debug] Response Code: 200; Content-Type: application/json; Content-Length: 452
[info] Request took 0.084767s (11.797/s)
.------------------------------------------------------------+-----------.
| Action | Time |
+------------------------------------------------------------+-----------+
| /api/begin | 0.000376s |
| /api/router | 0.081115s |
| /user/begin | 0.000208s |
| /user/list | 0.078276s |
| /user/end | 0.000895s |
| /api/end | 0.000497s |
'------------------------------------------------------------+-----------'
[info] *** Request 3 (3.000/s) [8575] [Tue Nov 30 13:30:25 2010] ***
[debug] "POST" request for "api/router" from "127.0.0.1"
[debug] Path is "api/router"
[debug] I would have deserialized, but there was nothing in the body!
[debug] Loading form t/root/lists/user.yml
[debug] found configuration file for parameters
[debug] Calling resultset method extjs_rest_user
[debug] Serializing with Catalyst::Action::Serialize::JSON
[debug] Serializing with Catalyst::Action::Serialize::JSON
[debug] Response Code: 200; Content-Type: application/json; Content-Length: 382
[info] Request took 0.030713s (32.560/s)
.------------------------------------------------------------+-----------.
| Action | Time |
+------------------------------------------------------------+-----------+
| /api/begin | 0.000371s |
| /api/router | 0.027126s |
| /user/begin | 0.000207s |
| /user/list | 0.024542s |
| /user/end | 0.000767s |
| /api/end | 0.000493s |
'------------------------------------------------------------+-----------'
[info] *** Request 4 (4.000/s) [8575] [Tue Nov 30 13:30:25 2010] ***
[debug] "POST" request for "api/router" from "127.0.0.1"
[debug] Path is "api/router"
[debug] I would have deserialized, but there was nothing in the body!
[debug] Loading form t/root/lists/user.yml
[debug] found configuration file for parameters
[debug] Calling resultset method extjs_rest_user
[debug] Calling resultset method none
[debug] Serializing with Catalyst::Action::Serialize::JSON
[debug] Serializing with Catalyst::Action::Serialize::JSON
[debug] Response Code: 200; Content-Type: application/json; Content-Length: 348
[info] Request took 0.026541s (37.678/s)
.------------------------------------------------------------+-----------.
| Action | Time |
+------------------------------------------------------------+-----------+
| /api/begin | 0.000372s |
| /api/router | 0.022953s |
| /user/begin | 0.000206s |
| /user/list | 0.020379s |
| /user/end | 0.000772s |
| /api/end | 0.000493s |
'------------------------------------------------------------+-----------'
Use of uninitialized value $params[0] in join or string at /home/sts/cpansmoke/perl-5.12.2/cpan/build/CatalystX-ExtJS-1.123000-doBSyB/blib/lib/CatalystX/Controller/ExtJS/REST.pm line 237.
Use of uninitialized value $params[0] in join or string at /home/sts/cpansmoke/perl-5.12.2/cpan/build/CatalystX-ExtJS-1.123000-doBSyB/blib/lib/CatalystX/Controller/ExtJS/REST.pm line 237.
[info] *** Request 5 (5.000/s) [8575] [Tue Nov 30 13:30:25 2010] ***
[debug] "POST" request for "api/router" from "127.0.0.1"
[debug] Path is "api/router"
[debug] I would have deserialized, but there was nothing in the body!
[debug] Loading form t/root/lists/user.yml
[debug] found configuration file for parameters
[debug] Calling resultset method extjs_rest_user
[debug] Calling resultset method foo with arguments ''
[debug] Calling resultset method not with arguments '1'
[debug] Calling resultset method not with arguments '2'
[debug] Calling resultset method not with arguments '3'
[debug] Calling resultset method not with arguments ''
[debug] Serializing with Catalyst::Action::Serialize::JSON
[debug] Serializing with Catalyst::Action::Serialize::JSON
[debug] Response Code: 200; Content-Type: application/json; Content-Length: 348
[info] Request took 0.029016s (34.464/s)
.------------------------------------------------------------+-----------.
| Action | Time |
+------------------------------------------------------------+-----------+
| /api/begin | 0.000387s |
| /api/router | 0.025411s |
| /user/begin | 0.000206s |
| /user/list | 0.022830s |
| /user/end | 0.000772s |
| /api/end | 0.000499s |
'------------------------------------------------------------+-----------'
[info] *** Request 6 (6.000/s) [8575] [Tue Nov 30 13:30:25 2010] ***
[debug] "POST" request for "api/router" from "127.0.0.1"
[debug] Path is "api/router"
[debug] I would have deserialized, but there was nothing in the body!
[debug] Calling default resultset method extjs_rest_user
[debug] Loading form t/root/forms/user.yml
[debug] Serializing with Catalyst::Action::Serialize::JSON
[debug] Serializing with Catalyst::Action::Serialize::JSON
[debug] Response Code: 200; Content-Type: application/json; Content-Length: 129
[info] Request took 0.017343s (57.660/s)
.------------------------------------------------------------+-----------.
| Action | Time |
+------------------------------------------------------------+-----------+
| /api/begin | 0.000372s |
| /api/router | 0.013750s |
| /user/begin | 0.000218s |
| /user/object | 0.011188s |
| -> /user/object_DELETE | 0.000745s |
| /user/end | 0.000730s |
| /api/end | 0.000502s |
'------------------------------------------------------------+-----------'
[info] *** Request 7 (7.000/s) [8575] [Tue Nov 30 13:30:25 2010] ***
[debug] "POST" request for "api/router" from "127.0.0.1"
[debug] Path is "api/router"
[debug] I would have deserialized, but there was nothing in the body!
[debug] Loading form t/root/lists/user.yml
[debug] found configuration file for parameters
[debug] Calling resultset method extjs_rest_user
[debug] Serializing with Catalyst::Action::Serialize::JSON
[debug] Serializing with Catalyst::Action::Serialize::JSON
[debug] Response Code: 200; Content-Type: application/json; Content-Length: 417
[info] Request took 0.029168s (34.284/s)
.------------------------------------------------------------+-----------.
| Action | Time |
+------------------------------------------------------------+-----------+
| /api/begin | 0.000378s |
| /api/router | 0.025566s |
| /user/begin | 0.000207s |
| /user/list | 0.022930s |
| /user/end | 0.000794s |
| /api/end | 0.000501s |
'------------------------------------------------------------+-----------'
[info] *** Request 8 (8.000/s) [8575] [Tue Nov 30 13:30:25 2010] ***
[debug] "POST" request for "api/router" from "127.0.0.1"
[debug] Path is "api/router"
[debug] I would have deserialized, but there was nothing in the body!
[debug] Calling default resultset method extjs_rest_user
[debug] Loading form t/root/forms/user.yml
[debug] Serializing with Catalyst::Action::Serialize::JSON
[debug] I would have deserialized, but there was nothing in the body!
[debug] Calling default resultset method extjs_rest_user
[debug] Loading form t/root/forms/user.yml
[debug] Serializing with Catalyst::Action::Serialize::JSON
[debug] Serializing with Catalyst::Action::Serialize::JSON
[debug] Response Code: 200; Content-Type: application/json; Content-Length: 261
[info] Request took 0.030922s (32.339/s)
.------------------------------------------------------------+-----------.
| Action | Time |
+------------------------------------------------------------+-----------+
| /api/begin | 0.000387s |
| /api/router | 0.027242s |
| /user/begin | 0.000218s |
| /user/object | 0.011101s |
| -> /user/object_DELETE | 0.000653s |
| /user/end | 0.000747s |
| /user/begin | 0.000258s |
| /user/object | 0.010998s |
| -> /user/object_DELETE | 0.000655s |
| /user/end | 0.000737s |
| /api/end | 0.000502s |
'------------------------------------------------------------+-----------'
[info] *** Request 9 (9.000/s) [8575] [Tue Nov 30 13:30:25 2010] ***
[debug] "POST" request for "api/router" from "127.0.0.1"
[debug] Path is "api/router"
[debug] I would have deserialized, but there was nothing in the body!
[debug] Loading form t/root/lists/user.yml
[debug] found configuration file for parameters
[debug] Calling resultset method extjs_rest_user
[debug] Serializing with Catalyst::Action::Serialize::JSON
[debug] Serializing with Catalyst::Action::Serialize::JSON
[debug] Response Code: 200; Content-Type: application/json; Content-Length: 348
[info] Request took 0.026356s (37.942/s)
.------------------------------------------------------------+-----------.
| Action | Time |
+------------------------------------------------------------+-----------+
| /api/begin | 0.000385s |
| /api/router | 0.022725s |
| /user/begin | 0.000210s |
| /user/list | 0.020097s |
| /user/end | 0.000782s |
| /api/end | 0.000495s |
'------------------------------------------------------------+-----------'
t/direct/router/rest_extjs.t .. ok
t/pod.t ....................... ok
t/release-distmeta.t .......... skipped: these tests are for release candidate testing
t/release-has-version.t ....... skipped: these tests are for release candidate testing
t/release-kwalitee.t .......... skipped: these tests are for release candidate testing
t/release-minimum-version.t ... skipped: these tests are for release candidate testing
t/release-pod-coverage.t ...... skipped: these tests are for release candidate testing
t/release-pod-syntax.t ........ skipped: these tests are for release candidate testing
t/release-portability.t ....... skipped: these tests are for release candidate testing
t/release-unused-vars.t ....... skipped: these tests are for release candidate testing
[debug] Debug messages enabled
[debug] Statistics enabled
[debug] Loaded dispatcher "Catalyst::Dispatcher"
[debug] Loaded engine "Catalyst::Engine::CGI"
[debug] Found home "/home/sts/cpansmoke/perl-5.12.2/cpan/build/CatalystX-ExtJS-1.123000-doBSyB/t/lib/MyApp"
[debug] Loaded components:
.-----------------------------------------------------------------+----------.
| Class | Type |
+-----------------------------------------------------------------+----------+
| MyApp::Controller::API | instance |
| MyApp::Controller::Artist | instance |
| MyApp::Controller::Calculator | instance |
| MyApp::Controller::FindOrDefault | instance |
| MyApp::Controller::ForBrowser | instance |
| MyApp::Controller::ForBrowsers | instance |
| MyApp::Controller::JSON | instance |
| MyApp::Controller::Nested::Controller | instance |
| MyApp::Controller::REST | instance |
| MyApp::Controller::RequestClass | instance |
| MyApp::Controller::SkipEnd | instance |
| MyApp::Controller::User | instance |
| MyApp::Model::DBIC | instance |
| MyApp::Model::DBIC::FindOrDefault | class |
| MyApp::Model::DBIC::SkipEnd | class |
| MyApp::Model::DBIC::User | class |
| MyApp::View::JSON | instance |
| MyApp::View::TT | instance |
'-----------------------------------------------------------------+----------'
[debug] Loaded Private actions:
.----------------------+--------------------------------------+--------------.
| Private | Class | Method |
+----------------------+--------------------------------------+--------------+
| /api/src | MyApp::Controller::API | src |
| /api/router | MyApp::Controller::API | router |
| /api/end | MyApp::Controller::API | end |
| /api/index | MyApp::Controller::API | index |
| /api/begin | MyApp::Controller::API | begin |
| /findordefault/base | MyApp::Controller::FindOrDefault | base |
| /findordefault/obje- | MyApp::Controller::FindOrDefault | object |
| ct | | |
| /findordefault/obje- | MyApp::Controller::FindOrDefault | object_DELE- |
| ct_DELETE | | TE |
| /findordefault/obje- | MyApp::Controller::FindOrDefault | object_POST |
| ct_POST | | |
| /findordefault/obje- | MyApp::Controller::FindOrDefault | object_GET |
| ct_GET | | |
| /findordefault/obje- | MyApp::Controller::FindOrDefault | object_PUT |
| ct_PUT | | |
| /findordefault/end | MyApp::Controller::FindOrDefault | end |
| /findordefault/begin | MyApp::Controller::FindOrDefault | begin |
| /findordefault/list | MyApp::Controller::FindOrDefault | list |
| /calc/add | MyApp::Controller::Calculator | add |
| /calc/subtract | MyApp::Controller::Calculator | subtract |
| /calc/upload | MyApp::Controller::Calculator | upload |
| /calc/add_to | MyApp::Controller::Calculator | add_to |
| /json/index | MyApp::Controller::JSON | index |
| /forbrowsers/base | MyApp::Controller::ForBrowsers | base |
| /forbrowsers/object | MyApp::Controller::ForBrowsers | object |
| /forbrowsers/object- | MyApp::Controller::ForBrowsers | object_DELE- |
| _DELETE | | TE |
| /forbrowsers/object- | MyApp::Controller::ForBrowsers | object_POST |
| _POST | | |
| /forbrowsers/object- | MyApp::Controller::ForBrowsers | object_GET |
| _GET | | |
| /forbrowsers/object- | MyApp::Controller::ForBrowsers | object_PUT |
| _PUT | | |
| /forbrowsers/end | MyApp::Controller::ForBrowsers | end |
| /forbrowsers/begin | MyApp::Controller::ForBrowsers | begin |
| /forbrowsers/list | MyApp::Controller::ForBrowsers | list |
| /rest/object | MyApp::Controller::REST | object |
| /rest/begin | MyApp::Controller::REST | begin |
| /rest/end | MyApp::Controller::REST | end |
| /nested/controller/- | MyApp::Controller::Nested::Controll- | index |
| index | er | |
| /skipend/load_form | MyApp::Controller::SkipEnd | load_form |
| /skipend/object | MyApp::Controller::SkipEnd | object |
| /skipend/object_GET | MyApp::Controller::SkipEnd | object_GET |
| /skipend/object_PUT | MyApp::Controller::SkipEnd | object_PUT |
| /skipend/begin | MyApp::Controller::SkipEnd | begin |
| /skipend/list | MyApp::Controller::SkipEnd | list |
| /skipend/base | MyApp::Controller::SkipEnd | base |
| /skipend/object_POST | MyApp::Controller::SkipEnd | object_POST |
| /skipend/object_DEL- | MyApp::Controller::SkipEnd | object_DELE- |
| ETE | | TE |
| /skipend/end | MyApp::Controller::SkipEnd | end |
| /skipend/edit_record | MyApp::Controller::SkipEnd | edit_record |
| /forbrowser/base | MyApp::Controller::ForBrowser | base |
| /forbrowser/object | MyApp::Controller::ForBrowser | object |
| /forbrowser/object_- | MyApp::Controller::ForBrowser | object_DELE- |
| DELETE | | TE |
| /forbrowser/object_- | MyApp::Controller::ForBrowser | object_POST |
| POST | | |
| /forbrowser/object_- | MyApp::Controller::ForBrowser | object_GET |
| GET | | |
| /forbrowser/object_- | MyApp::Controller::ForBrowser | object_PUT |
| PUT | | |
| /forbrowser/end | MyApp::Controller::ForBrowser | end |
| /forbrowser/begin | MyApp::Controller::ForBrowser | begin |
| /forbrowser/list | MyApp::Controller::ForBrowser | list |
| /requestclass/params | MyApp::Controller::RequestClass | params |
| /requestclass/reque- | MyApp::Controller::RequestClass | request_cla- |
| st_class | | ss |
| /user/base | MyApp::Controller::User | base |
| /user/object | MyApp::Controller::User | object |
| /user/object_DELETE | MyApp::Controller::User | object_DELE- |
| | | TE |
| /user/object_POST | MyApp::Controller::User | object_POST |
| /user/object_GET | MyApp::Controller::User | object_GET |
| /user/object_PUT | MyApp::Controller::User | object_PUT |
| /user/end | MyApp::Controller::User | end |
| /user/add_to_group | MyApp::Controller::User | add_to_group |
| /user/begin | MyApp::Controller::User | begin |
| /user/list | MyApp::Controller::User | list |
'----------------------+--------------------------------------+--------------'
[debug] Loaded Path actions:
.-------------------------------------+--------------------------------------.
| Path | Private |
+-------------------------------------+--------------------------------------+
| /api | /api/index |
| /api/router | /api/router |
| /api/src | /api/src |
| /calc | /calc/upload |
| /calc | /calc/add |
| /calc/subtract | /calc/subtract |
| /nested/controller/index | /nested/controller/index |
| /requestclass/params | /requestclass/params |
| /requestclass/request_class | /requestclass/request_class |
'-------------------------------------+--------------------------------------'
[debug] Loaded Chained actions:
.-------------------------------------+--------------------------------------.
| Path Spec | Private |
+-------------------------------------+--------------------------------------+
| /add/*/to/* | /calc/add (1) |
| | => /calc/add_to |
| /findordefaults/... | /findordefault/list |
| /findordefault/... | /findordefault/object |
| /forbrowsers/... | /forbrowser/list |
| /forbrowser/... | /forbrowser/object |
| /forbrowser/... | /forbrowsers/list |
| /forbrowsers/... | /forbrowsers/object |
| /rest/object/* | /rest/object |
| /skipend/form/edit_record | /skipend/load_form (0) |
| | => /skipend/edit_record |
| /skipends/... | /skipend/list |
| /skipend/... | /skipend/object |
| /user/*/add_to_group/* | /user/base (1) |
| | => /user/add_to_group |
| /users/... | /user/list |
| /user/... | /user/object |
'-------------------------------------+--------------------------------------'
[info] Application powered by Catalyst 5.80029
[info] *** Request 1 (1.000/s) [8585] [Tue Nov 30 13:30:29 2010] ***
[debug] "GET" request for "findordefault/nonsense" from "127.0.0.1"
[debug] Path is "/findordefault/object"
[debug] Arguments are "nonsense"
[debug] Default resultset method extjs_rest_findordefault cannot be found
[debug] Loading form t/root/forms/findordefault.yml
[debug] Serializing with Catalyst::Action::Serialize::JSON
[debug] Response Code: 200; Content-Type: application/json; Content-Length: 75
[info] Request took 0.121451s (8.234/s)
.------------------------------------------------------------+-----------.
| Action | Time |
+------------------------------------------------------------+-----------+
| /findordefault/begin | 0.000199s |
| /findordefault/object | 0.102368s |
| -> /findordefault/object_GET | 0.013419s |
| /findordefault/end | 0.015618s |
'------------------------------------------------------------+-----------'
t/rest/findordefault.t ........ ok
[debug] Debug messages enabled
[debug] Statistics enabled
[debug] Loaded dispatcher "Catalyst::Dispatcher"
[debug] Loaded engine "Catalyst::Engine::CGI"
[debug] Found home "/home/sts/cpansmoke/perl-5.12.2/cpan/build/CatalystX-ExtJS-1.123000-doBSyB/t/lib/MyApp"
[debug] Loaded components:
.-----------------------------------------------------------------+----------.
| Class | Type |
+-----------------------------------------------------------------+----------+
| MyApp::Controller::API | instance |
| MyApp::Controller::Artist | instance |
| MyApp::Controller::Calculator | instance |
| MyApp::Controller::FindOrDefault | instance |
| MyApp::Controller::ForBrowser | instance |
| MyApp::Controller::ForBrowsers | instance |
| MyApp::Controller::JSON | instance |
| MyApp::Controller::Nested::Controller | instance |
| MyApp::Controller::REST | instance |
| MyApp::Controller::RequestClass | instance |
| MyApp::Controller::SkipEnd | instance |
| MyApp::Controller::User | instance |
| MyApp::Model::DBIC | instance |
| MyApp::Model::DBIC::FindOrDefault | class |
| MyApp::Model::DBIC::SkipEnd | class |
| MyApp::Model::DBIC::User | class |
| MyApp::View::JSON | instance |
| MyApp::View::TT | instance |
'-----------------------------------------------------------------+----------'
[debug] Loaded Private actions:
.----------------------+--------------------------------------+--------------.
| Private | Class | Method |
+----------------------+--------------------------------------+--------------+
| /api/src | MyApp::Controller::API | src |
| /api/router | MyApp::Controller::API | router |
| /api/end | MyApp::Controller::API | end |
| /api/index | MyApp::Controller::API | index |
| /api/begin | MyApp::Controller::API | begin |
| /findordefault/base | MyApp::Controller::FindOrDefault | base |
| /findordefault/obje- | MyApp::Controller::FindOrDefault | object |
| ct | | |
| /findordefault/obje- | MyApp::Controller::FindOrDefault | object_DELE- |
| ct_DELETE | | TE |
| /findordefault/obje- | MyApp::Controller::FindOrDefault | object_POST |
| ct_POST | | |
| /findordefault/obje- | MyApp::Controller::FindOrDefault | object_GET |
| ct_GET | | |
| /findordefault/obje- | MyApp::Controller::FindOrDefault | object_PUT |
| ct_PUT | | |
| /findordefault/end | MyApp::Controller::FindOrDefault | end |
| /findordefault/begin | MyApp::Controller::FindOrDefault | begin |
| /findordefault/list | MyApp::Controller::FindOrDefault | list |
| /calc/add | MyApp::Controller::Calculator | add |
| /calc/subtract | MyApp::Controller::Calculator | subtract |
| /calc/upload | MyApp::Controller::Calculator | upload |
| /calc/add_to | MyApp::Controller::Calculator | add_to |
| /json/index | MyApp::Controller::JSON | index |
| /forbrowsers/base | MyApp::Controller::ForBrowsers | base |
| /forbrowsers/object | MyApp::Controller::ForBrowsers | object |
| /forbrowsers/object- | MyApp::Controller::ForBrowsers | object_DELE- |
| _DELETE | | TE |
| /forbrowsers/object- | MyApp::Controller::ForBrowsers | object_POST |
| _POST | | |
| /forbrowsers/object- | MyApp::Controller::ForBrowsers | object_GET |
| _GET | | |
| /forbrowsers/object- | MyApp::Controller::ForBrowsers | object_PUT |
| _PUT | | |
| /forbrowsers/end | MyApp::Controller::ForBrowsers | end |
| /forbrowsers/begin | MyApp::Controller::ForBrowsers | begin |
| /forbrowsers/list | MyApp::Controller::ForBrowsers | list |
| /rest/object | MyApp::Controller::REST | object |
| /rest/begin | MyApp::Controller::REST | begin |
| /rest/end | MyApp::Controller::REST | end |
| /nested/controller/- | MyApp::Controller::Nested::Controll- | index |
| index | er | |
| /skipend/load_form | MyApp::Controller::SkipEnd | load_form |
| /skipend/object | MyApp::Controller::SkipEnd | object |
| /skipend/object_GET | MyApp::Controller::SkipEnd | object_GET |
| /skipend/object_PUT | MyApp::Controller::SkipEnd | object_PUT |
| /skipend/begin | MyApp::Controller::SkipEnd | begin |
| /skipend/list | MyApp::Controller::SkipEnd | list |
| /skipend/base | MyApp::Controller::SkipEnd | base |
| /skipend/object_POST | MyApp::Controller::SkipEnd | object_POST |
| /skipend/object_DEL- | MyApp::Controller::SkipEnd | object_DELE- |
| ETE | | TE |
| /skipend/end | MyApp::Controller::SkipEnd | end |
| /skipend/edit_record | MyApp::Controller::SkipEnd | edit_record |
| /forbrowser/base | MyApp::Controller::ForBrowser | base |
| /forbrowser/object | MyApp::Controller::ForBrowser | object |
| /forbrowser/object_- | MyApp::Controller::ForBrowser | object_DELE- |
| DELETE | | TE |
| /forbrowser/object_- | MyApp::Controller::ForBrowser | object_POST |
| POST | | |
| /forbrowser/object_- | MyApp::Controller::ForBrowser | object_GET |
| GET | | |
| /forbrowser/object_- | MyApp::Controller::ForBrowser | object_PUT |
| PUT | | |
| /forbrowser/end | MyApp::Controller::ForBrowser | end |
| /forbrowser/begin | MyApp::Controller::ForBrowser | begin |
| /forbrowser/list | MyApp::Controller::ForBrowser | list |
| /requestclass/params | MyApp::Controller::RequestClass | params |
| /requestclass/reque- | MyApp::Controller::RequestClass | request_cla- |
| st_class | | ss |
| /user/base | MyApp::Controller::User | base |
| /user/object | MyApp::Controller::User | object |
| /user/object_DELETE | MyApp::Controller::User | object_DELE- |
| | | TE |
| /user/object_POST | MyApp::Controller::User | object_POST |
| /user/object_GET | MyApp::Controller::User | object_GET |
| /user/object_PUT | MyApp::Controller::User | object_PUT |
| /user/end | MyApp::Controller::User | end |
| /user/add_to_group | MyApp::Controller::User | add_to_group |
| /user/begin | MyApp::Controller::User | begin |
| /user/list | MyApp::Controller::User | list |
'----------------------+--------------------------------------+--------------'
[debug] Loaded Path actions:
.-------------------------------------+--------------------------------------.
| Path | Private |
+-------------------------------------+--------------------------------------+
| /api | /api/index |
| /api/router | /api/router |
| /api/src | /api/src |
| /calc | /calc/upload |
| /calc | /calc/add |
| /calc/subtract | /calc/subtract |
| /nested/controller/index | /nested/controller/index |
| /requestclass/params | /requestclass/params |
| /requestclass/request_class | /requestclass/request_class |
'-------------------------------------+--------------------------------------'
[debug] Loaded Chained actions:
.-------------------------------------+--------------------------------------.
| Path Spec | Private |
+-------------------------------------+--------------------------------------+
| /add/*/to/* | /calc/add (1) |
| | => /calc/add_to |
| /findordefaults/... | /findordefault/list |
| /findordefault/... | /findordefault/object |
| /forbrowsers/... | /forbrowser/list |
| /forbrowser/... | /forbrowser/object |
| /forbrowser/... | /forbrowsers/list |
| /forbrowsers/... | /forbrowsers/object |
| /rest/object/* | /rest/object |
| /skipend/form/edit_record | /skipend/load_form (0) |
| | => /skipend/edit_record |
| /skipends/... | /skipend/list |
| /skipend/... | /skipend/object |
| /user/*/add_to_group/* | /user/base (1) |
| | => /user/add_to_group |
| /users/... | /user/list |
| /user/... | /user/object |
'-------------------------------------+--------------------------------------'
[info] Application powered by Catalyst 5.80029
[info] *** Request 1 (1.000/s) [8586] [Tue Nov 30 13:30:31 2010] ***
[debug] "POST" request for "user" from "127.0.0.1"
[debug] Body Parameters are:
.-------------------------------------+--------------------------------------.
| Parameter | Value |
+-------------------------------------+--------------------------------------+
| name | bar |
| password | foo |
'-------------------------------------+--------------------------------------'
[debug] Path is "/user/object"
[debug] I would have deserialized, but there was nothing in the body!
[debug] Calling default resultset method extjs_rest_user
[debug] Loading form t/root/forms/user.yml
[debug] Serializing with Catalyst::Action::Serialize::JSON
[debug] Response Code: 201; Content-Type: application/json; Content-Length: 62
[info] Request took 0.134687s (7.425/s)
.------------------------------------------------------------+-----------.
| Action | Time |
+------------------------------------------------------------+-----------+
| /user/begin | 0.012787s |
| /user/object | 0.102875s |
| -> /user/object_POST | 0.035798s |
| /user/end | 0.015294s |
'------------------------------------------------------------+-----------'
[info] *** Request 2 (1.000/s) [8586] [Tue Nov 30 13:30:32 2010] ***
[debug] "DELETE" request for "user/1" from "127.0.0.1"
[debug] Query Parameters are:
.-------------------------------------+--------------------------------------.
| Parameter | Value |
+-------------------------------------+--------------------------------------+
| x-tunneled-method | DELETE |
'-------------------------------------+--------------------------------------'
[debug] Path is "/user/object"
[debug] Arguments are "1"
[debug] I would have deserialized, but there was nothing in the body!
[debug] Calling default resultset method extjs_rest_user
[debug] Loading form t/root/forms/user.yml
[debug] Serializing with Catalyst::Action::Serialize::JSON
[debug] Response Code: 200; Content-Type: application/json; Content-Length: 62
[info] Request took 0.015430s (64.809/s)
.------------------------------------------------------------+-----------.
| Action | Time |
+------------------------------------------------------------+-----------+
| /user/begin | 0.000404s |
| /user/object | 0.011486s |
| -> /user/object_DELETE | 0.000719s |
| /user/end | 0.000715s |
'------------------------------------------------------------+-----------'
[info] *** Request 3 (1.500/s) [8586] [Tue Nov 30 13:30:32 2010] ***
[debug] "GET" request for "users" from "127.0.0.1"
[debug] Path is "/user/list"
[debug] Loading form t/root/lists/user.yml
[debug] found configuration file for parameters
[debug] Calling resultset method extjs_rest_user
[debug] Serializing with Catalyst::Action::Serialize::JSON
[debug] Response Code: 200; Content-Type: application/json; Content-Length: 284
[info] Request took 0.078229s (12.783/s)
.------------------------------------------------------------+-----------.
| Action | Time |
+------------------------------------------------------------+-----------+
| /user/begin | 0.000175s |
| /user/list | 0.074522s |
| /user/end | 0.000971s |
'------------------------------------------------------------+-----------'
t/rest/for_browser.t .......... ok
[debug] Debug messages enabled
[debug] Statistics enabled
[debug] Loaded dispatcher "Catalyst::Dispatcher"
[debug] Loaded engine "Catalyst::Engine::CGI"
[debug] Found home "/home/sts/cpansmoke/perl-5.12.2/cpan/build/CatalystX-ExtJS-1.123000-doBSyB/t/lib/MyApp"
[debug] Loaded components:
.-----------------------------------------------------------------+----------.
| Class | Type |
+-----------------------------------------------------------------+----------+
| MyApp::Controller::API | instance |
| MyApp::Controller::Artist | instance |
| MyApp::Controller::Calculator | instance |
| MyApp::Controller::FindOrDefault | instance |
| MyApp::Controller::ForBrowser | instance |
| MyApp::Controller::ForBrowsers | instance |
| MyApp::Controller::JSON | instance |
| MyApp::Controller::Nested::Controller | instance |
| MyApp::Controller::REST | instance |
| MyApp::Controller::RequestClass | instance |
| MyApp::Controller::SkipEnd | instance |
| MyApp::Controller::User | instance |
| MyApp::Model::DBIC | instance |
| MyApp::Model::DBIC::FindOrDefault | class |
| MyApp::Model::DBIC::SkipEnd | class |
| MyApp::Model::DBIC::User | class |
| MyApp::View::JSON | instance |
| MyApp::View::TT | instance |
'-----------------------------------------------------------------+----------'
[debug] Loaded Private actions:
.----------------------+--------------------------------------+--------------.
| Private | Class | Method |
+----------------------+--------------------------------------+--------------+
| /api/src | MyApp::Controller::API | src |
| /api/router | MyApp::Controller::API | router |
| /api/end | MyApp::Controller::API | end |
| /api/index | MyApp::Controller::API | index |
| /api/begin | MyApp::Controller::API | begin |
| /findordefault/base | MyApp::Controller::FindOrDefault | base |
| /findordefault/obje- | MyApp::Controller::FindOrDefault | object |
| ct | | |
| /findordefault/obje- | MyApp::Controller::FindOrDefault | object_DELE- |
| ct_DELETE | | TE |
| /findordefault/obje- | MyApp::Controller::FindOrDefault | object_POST |
| ct_POST | | |
| /findordefault/obje- | MyApp::Controller::FindOrDefault | object_GET |
| ct_GET | | |
| /findordefault/obje- | MyApp::Controller::FindOrDefault | object_PUT |
| ct_PUT | | |
| /findordefault/end | MyApp::Controller::FindOrDefault | end |
| /findordefault/begin | MyApp::Controller::FindOrDefault | begin |
| /findordefault/list | MyApp::Controller::FindOrDefault | list |
| /calc/add | MyApp::Controller::Calculator | add |
| /calc/subtract | MyApp::Controller::Calculator | subtract |
| /calc/upload | MyApp::Controller::Calculator | upload |
| /calc/add_to | MyApp::Controller::Calculator | add_to |
| /json/index | MyApp::Controller::JSON | index |
| /forbrowsers/base | MyApp::Controller::ForBrowsers | base |
| /forbrowsers/object | MyApp::Controller::ForBrowsers | object |
| /forbrowsers/object- | MyApp::Controller::ForBrowsers | object_DELE- |
| _DELETE | | TE |
| /forbrowsers/object- | MyApp::Controller::ForBrowsers | object_POST |
| _POST | | |
| /forbrowsers/object- | MyApp::Controller::ForBrowsers | object_GET |
| _GET | | |
| /forbrowsers/object- | MyApp::Controller::ForBrowsers | object_PUT |
| _PUT | | |
| /forbrowsers/end | MyApp::Controller::ForBrowsers | end |
| /forbrowsers/begin | MyApp::Controller::ForBrowsers | begin |
| /forbrowsers/list | MyApp::Controller::ForBrowsers | list |
| /rest/object | MyApp::Controller::REST | object |
| /rest/begin | MyApp::Controller::REST | begin |
| /rest/end | MyApp::Controller::REST | end |
| /nested/controller/- | MyApp::Controller::Nested::Controll- | index |
| index | er | |
| /skipend/load_form | MyApp::Controller::SkipEnd | load_form |
| /skipend/object | MyApp::Controller::SkipEnd | object |
| /skipend/object_GET | MyApp::Controller::SkipEnd | object_GET |
| /skipend/object_PUT | MyApp::Controller::SkipEnd | object_PUT |
| /skipend/begin | MyApp::Controller::SkipEnd | begin |
| /skipend/list | MyApp::Controller::SkipEnd | list |
| /skipend/base | MyApp::Controller::SkipEnd | base |
| /skipend/object_POST | MyApp::Controller::SkipEnd | object_POST |
| /skipend/object_DEL- | MyApp::Controller::SkipEnd | object_DELE- |
| ETE | | TE |
| /skipend/end | MyApp::Controller::SkipEnd | end |
| /skipend/edit_record | MyApp::Controller::SkipEnd | edit_record |
| /forbrowser/base | MyApp::Controller::ForBrowser | base |
| /forbrowser/object | MyApp::Controller::ForBrowser | object |
| /forbrowser/object_- | MyApp::Controller::ForBrowser | object_DELE- |
| DELETE | | TE |
| /forbrowser/object_- | MyApp::Controller::ForBrowser | object_POST |
| POST | | |
| /forbrowser/object_- | MyApp::Controller::ForBrowser | object_GET |
| GET | | |
| /forbrowser/object_- | MyApp::Controller::ForBrowser | object_PUT |
| PUT | | |
| /forbrowser/end | MyApp::Controller::ForBrowser | end |
| /forbrowser/begin | MyApp::Controller::ForBrowser | begin |
| /forbrowser/list | MyApp::Controller::ForBrowser | list |
| /requestclass/params | MyApp::Controller::RequestClass | params |
| /requestclass/reque- | MyApp::Controller::RequestClass | request_cla- |
| st_class | | ss |
| /user/base | MyApp::Controller::User | base |
| /user/object | MyApp::Controller::User | object |
| /user/object_DELETE | MyApp::Controller::User | object_DELE- |
| | | TE |
| /user/object_POST | MyApp::Controller::User | object_POST |
| /user/object_GET | MyApp::Controller::User | object_GET |
| /user/object_PUT | MyApp::Controller::User | object_PUT |
| /user/end | MyApp::Controller::User | end |
| /user/add_to_group | MyApp::Controller::User | add_to_group |
| /user/begin | MyApp::Controller::User | begin |
| /user/list | MyApp::Controller::User | list |
'----------------------+--------------------------------------+--------------'
[debug] Loaded Path actions:
.-------------------------------------+--------------------------------------.
| Path | Private |
+-------------------------------------+--------------------------------------+
| /api | /api/index |
| /api/router | /api/router |
| /api/src | /api/src |
| /calc | /calc/upload |
| /calc | /calc/add |
| /calc/subtract | /calc/subtract |
| /nested/controller/index | /nested/controller/index |
| /requestclass/params | /requestclass/params |
| /requestclass/request_class | /requestclass/request_class |
'-------------------------------------+--------------------------------------'
[debug] Loaded Chained actions:
.-------------------------------------+--------------------------------------.
| Path Spec | Private |
+-------------------------------------+--------------------------------------+
| /add/*/to/* | /calc/add (1) |
| | => /calc/add_to |
| /findordefaults/... | /findordefault/list |
| /findordefault/... | /findordefault/object |
| /forbrowsers/... | /forbrowser/list |
| /forbrowser/... | /forbrowser/object |
| /forbrowser/... | /forbrowsers/list |
| /forbrowsers/... | /forbrowsers/object |
| /rest/object/* | /rest/object |
| /skipend/form/edit_record | /skipend/load_form (0) |
| | => /skipend/edit_record |
| /skipends/... | /skipend/list |
| /skipend/... | /skipend/object |
| /user/*/add_to_group/* | /user/base (1) |
| | => /user/add_to_group |
| /users/... | /user/list |
| /user/... | /user/object |
'-------------------------------------+--------------------------------------'
[info] Application powered by Catalyst 5.80029
[info] *** Request 1 (1.000/s) [8587] [Tue Nov 30 13:30:34 2010] ***
[debug] "GET" request for "skipend/form/edit_record" from "127.0.0.1"
[debug] Path is "/skipend/edit_record"
[debug] Rendering template "edit_record.tt2.js"
[debug] Response Code: 200; Content-Type: text/html; charset=utf-8; Content-Length: 3395
[info] Request took 0.125037s (7.998/s)
.------------------------------------------------------------+-----------.
| Action | Time |
+------------------------------------------------------------+-----------+
| /skipend/begin | 0.000200s |
| /skipend/load_form | 0.073531s |
| /skipend/edit_record | 0.047632s |
| -> MyApp::View::TT->process | 0.046749s |
| /skipend/end | 0.000214s |
'------------------------------------------------------------+-----------'
t/rest/skip_end.t ............. ok
[debug] Debug messages enabled
[debug] Statistics enabled
[debug] Loaded dispatcher "Catalyst::Dispatcher"
[debug] Loaded engine "Catalyst::Engine::CGI"
[debug] Found home "/home/sts/cpansmoke/perl-5.12.2/cpan/build/CatalystX-ExtJS-1.123000-doBSyB/t/lib/MyApp"
[debug] Loaded components:
.-----------------------------------------------------------------+----------.
| Class | Type |
+-----------------------------------------------------------------+----------+
| MyApp::Controller::API | instance |
| MyApp::Controller::Artist | instance |
| MyApp::Controller::Calculator | instance |
| MyApp::Controller::FindOrDefault | instance |
| MyApp::Controller::ForBrowser | instance |
| MyApp::Controller::ForBrowsers | instance |
| MyApp::Controller::JSON | instance |
| MyApp::Controller::Nested::Controller | instance |
| MyApp::Controller::REST | instance |
| MyApp::Controller::RequestClass | instance |
| MyApp::Controller::SkipEnd | instance |
| MyApp::Controller::User | instance |
| MyApp::Model::DBIC | instance |
| MyApp::Model::DBIC::FindOrDefault | class |
| MyApp::Model::DBIC::SkipEnd | class |
| MyApp::Model::DBIC::User | class |
| MyApp::View::JSON | instance |
| MyApp::View::TT | instance |
'-----------------------------------------------------------------+----------'
[debug] Loaded Private actions:
.----------------------+--------------------------------------+--------------.
| Private | Class | Method |
+----------------------+--------------------------------------+--------------+
| /api/src | MyApp::Controller::API | src |
| /api/router | MyApp::Controller::API | router |
| /api/end | MyApp::Controller::API | end |
| /api/index | MyApp::Controller::API | index |
| /api/begin | MyApp::Controller::API | begin |
| /findordefault/base | MyApp::Controller::FindOrDefault | base |
| /findordefault/obje- | MyApp::Controller::FindOrDefault | object |
| ct | | |
| /findordefault/obje- | MyApp::Controller::FindOrDefault | object_DELE- |
| ct_DELETE | | TE |
| /findordefault/obje- | MyApp::Controller::FindOrDefault | object_POST |
| ct_POST | | |
| /findordefault/obje- | MyApp::Controller::FindOrDefault | object_GET |
| ct_GET | | |
| /findordefault/obje- | MyApp::Controller::FindOrDefault | object_PUT |
| ct_PUT | | |
| /findordefault/end | MyApp::Controller::FindOrDefault | end |
| /findordefault/begin | MyApp::Controller::FindOrDefault | begin |
| /findordefault/list | MyApp::Controller::FindOrDefault | list |
| /calc/add | MyApp::Controller::Calculator | add |
| /calc/subtract | MyApp::Controller::Calculator | subtract |
| /calc/upload | MyApp::Controller::Calculator | upload |
| /calc/add_to | MyApp::Controller::Calculator | add_to |
| /json/index | MyApp::Controller::JSON | index |
| /forbrowsers/base | MyApp::Controller::ForBrowsers | base |
| /forbrowsers/object | MyApp::Controller::ForBrowsers | object |
| /forbrowsers/object- | MyApp::Controller::ForBrowsers | object_DELE- |
| _DELETE | | TE |
| /forbrowsers/object- | MyApp::Controller::ForBrowsers | object_POST |
| _POST | | |
| /forbrowsers/object- | MyApp::Controller::ForBrowsers | object_GET |
| _GET | | |
| /forbrowsers/object- | MyApp::Controller::ForBrowsers | object_PUT |
| _PUT | | |
| /forbrowsers/end | MyApp::Controller::ForBrowsers | end |
| /forbrowsers/begin | MyApp::Controller::ForBrowsers | begin |
| /forbrowsers/list | MyApp::Controller::ForBrowsers | list |
| /rest/object | MyApp::Controller::REST | object |
| /rest/begin | MyApp::Controller::REST | begin |
| /rest/end | MyApp::Controller::REST | end |
| /nested/controller/- | MyApp::Controller::Nested::Controll- | index |
| index | er | |
| /skipend/load_form | MyApp::Controller::SkipEnd | load_form |
| /skipend/object | MyApp::Controller::SkipEnd | object |
| /skipend/object_GET | MyApp::Controller::SkipEnd | object_GET |
| /skipend/object_PUT | MyApp::Controller::SkipEnd | object_PUT |
| /skipend/begin | MyApp::Controller::SkipEnd | begin |
| /skipend/list | MyApp::Controller::SkipEnd | list |
| /skipend/base | MyApp::Controller::SkipEnd | base |
| /skipend/object_POST | MyApp::Controller::SkipEnd | object_POST |
| /skipend/object_DEL- | MyApp::Controller::SkipEnd | object_DELE- |
| ETE | | TE |
| /skipend/end | MyApp::Controller::SkipEnd | end |
| /skipend/edit_record | MyApp::Controller::SkipEnd | edit_record |
| /forbrowser/base | MyApp::Controller::ForBrowser | base |
| /forbrowser/object | MyApp::Controller::ForBrowser | object |
| /forbrowser/object_- | MyApp::Controller::ForBrowser | object_DELE- |
| DELETE | | TE |
| /forbrowser/object_- | MyApp::Controller::ForBrowser | object_POST |
| POST | | |
| /forbrowser/object_- | MyApp::Controller::ForBrowser | object_GET |
| GET | | |
| /forbrowser/object_- | MyApp::Controller::ForBrowser | object_PUT |
| PUT | | |
| /forbrowser/end | MyApp::Controller::ForBrowser | end |
| /forbrowser/begin | MyApp::Controller::ForBrowser | begin |
| /forbrowser/list | MyApp::Controller::ForBrowser | list |
| /requestclass/params | MyApp::Controller::RequestClass | params |
| /requestclass/reque- | MyApp::Controller::RequestClass | request_cla- |
| st_class | | ss |
| /user/base | MyApp::Controller::User | base |
| /user/object | MyApp::Controller::User | object |
| /user/object_DELETE | MyApp::Controller::User | object_DELE- |
| | | TE |
| /user/object_POST | MyApp::Controller::User | object_POST |
| /user/object_GET | MyApp::Controller::User | object_GET |
| /user/object_PUT | MyApp::Controller::User | object_PUT |
| /user/end | MyApp::Controller::User | end |
| /user/add_to_group | MyApp::Controller::User | add_to_group |
| /user/begin | MyApp::Controller::User | begin |
| /user/list | MyApp::Controller::User | list |
'----------------------+--------------------------------------+--------------'
[debug] Loaded Path actions:
.-------------------------------------+--------------------------------------.
| Path | Private |
+-------------------------------------+--------------------------------------+
| /api | /api/index |
| /api/router | /api/router |
| /api/src | /api/src |
| /calc | /calc/upload |
| /calc | /calc/add |
| /calc/subtract | /calc/subtract |
| /nested/controller/index | /nested/controller/index |
| /requestclass/params | /requestclass/params |
| /requestclass/request_class | /requestclass/request_class |
'-------------------------------------+--------------------------------------'
[debug] Loaded Chained actions:
.-------------------------------------+--------------------------------------.
| Path Spec | Private |
+-------------------------------------+--------------------------------------+
| /add/*/to/* | /calc/add (1) |
| | => /calc/add_to |
| /findordefaults/... | /findordefault/list |
| /findordefault/... | /findordefault/object |
| /forbrowsers/... | /forbrowser/list |
| /forbrowser/... | /forbrowser/object |
| /forbrowser/... | /forbrowsers/list |
| /forbrowsers/... | /forbrowsers/object |
| /rest/object/* | /rest/object |
| /skipend/form/edit_record | /skipend/load_form (0) |
| | => /skipend/edit_record |
| /skipends/... | /skipend/list |
| /skipend/... | /skipend/object |
| /user/*/add_to_group/* | /user/base (1) |
| | => /user/add_to_group |
| /users/... | /user/list |
| /user/... | /user/object |
'-------------------------------------+--------------------------------------'
[info] Application powered by Catalyst 5.80029
[info] *** Request 1 (1.000/s) [8588] [Tue Nov 30 13:30:37 2010] ***
[debug] "GET" request for "users" from "127.0.0.1"
[debug] Path is "/user/list"
[debug] Loading form t/root/lists/user.yml
[debug] found configuration file for parameters
[debug] Calling resultset method extjs_rest_user
[debug] Serializing with Catalyst::Action::Serialize::JSON
[debug] Response Code: 200; Content-Type: application/json; Content-Length: 284
[info] Request took 0.169136s (5.912/s)
.------------------------------------------------------------+-----------.
| Action | Time |
+------------------------------------------------------------+-----------+
| /user/begin | 0.000199s |
| /user/list | 0.150341s |
| /user/end | 0.015407s |
'------------------------------------------------------------+-----------'
[info] *** Request 2 (2.000/s) [8588] [Tue Nov 30 13:30:37 2010] ***
[debug] "POST" request for "user" from "127.0.0.1"
[debug] Body Parameters are:
.-------------------------------------+--------------------------------------.
| Parameter | Value |
+-------------------------------------+--------------------------------------+
| name | bar |
| password | foo |
'-------------------------------------+--------------------------------------'
[debug] Path is "/user/object"
[debug] I would have deserialized, but there was nothing in the body!
[debug] Calling default resultset method extjs_rest_user
[debug] Loading form t/root/forms/user.yml
[debug] Serializing with Catalyst::Action::Serialize::JSON
[debug] Response Code: 201; Content-Type: application/json; Content-Length: 62
[info] Request took 0.043214s (23.141/s)
.------------------------------------------------------------+-----------.
| Action | Time |
+------------------------------------------------------------+-----------+
| /user/begin | 0.012784s |
| /user/object | 0.026551s |
| -> /user/object_POST | 0.016964s |
| /user/end | 0.000741s |
'------------------------------------------------------------+-----------'
[info] *** Request 3 (3.000/s) [8588] [Tue Nov 30 13:30:37 2010] ***
[debug] "GET" request for "users" from "127.0.0.1"
[debug] Path is "/user/list"
[debug] Loading form t/root/lists/user.yml
[debug] found configuration file for parameters
[debug] Calling resultset method extjs_rest_user
[debug] Serializing with Catalyst::Action::Serialize::JSON
[debug] Response Code: 200; Content-Type: application/json; Content-Length: 322
[info] Request took 0.025022s (39.965/s)
.------------------------------------------------------------+-----------.
| Action | Time |
+------------------------------------------------------------+-----------+
| /user/begin | 0.000174s |
| /user/list | 0.021486s |
| /user/end | 0.000831s |
'------------------------------------------------------------+-----------'
[info] *** Request 4 (4.000/s) [8588] [Tue Nov 30 13:30:37 2010] ***
[debug] "GET" request for "user/1" from "127.0.0.1"
[debug] Path is "/user/object"
[debug] Arguments are "1"
[debug] Calling default resultset method extjs_rest_user
[debug] Loading form t/root/forms/user.yml
[debug] Serializing with Catalyst::Action::Serialize::JSON
[debug] Response Code: 200; Content-Type: application/json; Content-Length: 62
[info] Request took 0.015716s (63.629/s)
.------------------------------------------------------------+-----------.
| Action | Time |
+------------------------------------------------------------+-----------+
| /user/begin | 0.000161s |
| /user/object | 0.012217s |
| -> /user/object_GET | 0.001830s |
| /user/end | 0.000802s |
'------------------------------------------------------------+-----------'
[info] *** Request 5 (5.000/s) [8588] [Tue Nov 30 13:30:37 2010] ***
[debug] "PUT" request for "user/1" from "127.0.0.1"
[debug] Body Parameters are:
.-------------------------------------+--------------------------------------.
| Parameter | Value |
+-------------------------------------+--------------------------------------+
| name | bas |
| password | foo |
'-------------------------------------+--------------------------------------'
[debug] Path is "/user/object"
[debug] Arguments are "1"
[debug] I would have deserialized, but there was nothing in the body!
[debug] Calling default resultset method extjs_rest_user
[debug] Loading form t/root/forms/user.yml
[debug] Serializing with Catalyst::Action::Serialize::JSON
[debug] Response Code: 200; Content-Type: application/json; Content-Length: 62
[info] Request took 0.019801s (50.502/s)
.------------------------------------------------------------+-----------.
| Action | Time |
+------------------------------------------------------------+-----------+
| /user/begin | 0.000408s |
| /user/object | 0.015711s |
| -> /user/object_PUT | 0.005509s |
| /user/end | 0.000734s |
'------------------------------------------------------------+-----------'
[info] *** Request 6 (6.000/s) [8588] [Tue Nov 30 13:30:37 2010] ***
[debug] "PUT" request for "user" from "127.0.0.1"
[debug] Body Parameters are:
.-------------------------------------+--------------------------------------.
| Parameter | Value |
+-------------------------------------+--------------------------------------+
| id | 1 |
| name | bast |
| password | foo |
'-------------------------------------+--------------------------------------'
[debug] Path is "/user/object"
[debug] I would have deserialized, but there was nothing in the body!
[debug] Calling default resultset method extjs_rest_user
[debug] Loading form t/root/forms/user.yml
[debug] Serializing with Catalyst::Action::Serialize::JSON
[debug] Response Code: 200; Content-Type: application/json; Content-Length: 65
[info] Request took 0.019603s (51.013/s)
.------------------------------------------------------------+-----------.
| Action | Time |
+------------------------------------------------------------+-----------+
| /user/begin | 0.000389s |
| /user/object | 0.015543s |
| -> /user/object_PUT | 0.005329s |
| /user/end | 0.000720s |
'------------------------------------------------------------+-----------'
[info] *** Request 7 (7.000/s) [8588] [Tue Nov 30 13:30:37 2010] ***
[debug] "GET" request for "user/1" from "127.0.0.1"
[debug] Path is "/user/object"
[debug] Arguments are "1"
[debug] Calling default resultset method extjs_rest_user
[debug] Loading form t/root/forms/user.yml
[debug] Serializing with Catalyst::Action::Serialize::JSON
[debug] Response Code: 200; Content-Type: application/json; Content-Length: 63
[info] Request took 0.015455s (64.704/s)
.------------------------------------------------------------+-----------.
| Action | Time |
+------------------------------------------------------------+-----------+
| /user/begin | 0.000174s |
| /user/object | 0.011936s |
| -> /user/object_GET | 0.001824s |
| /user/end | 0.000798s |
'------------------------------------------------------------+-----------'
[info] *** Request 8 (8.000/s) [8588] [Tue Nov 30 13:30:37 2010] ***
[debug] "DELETE" request for "user/1" from "127.0.0.1"
[debug] Body Parameters are:
.-------------------------------------+--------------------------------------.
| Parameter | Value |
+-------------------------------------+--------------------------------------+
| name | bas |
| password | foo |
'-------------------------------------+--------------------------------------'
[debug] Path is "/user/object"
[debug] Arguments are "1"
[debug] I would have deserialized, but there was nothing in the body!
[debug] Calling default resultset method extjs_rest_user
[debug] Loading form t/root/forms/user.yml
[debug] Serializing with Catalyst::Action::Serialize::JSON
[debug] Response Code: 200; Content-Type: application/json; Content-Length: 62
[info] Request took 0.014972s (66.791/s)
.------------------------------------------------------------+-----------.
| Action | Time |
+------------------------------------------------------------+-----------+
| /user/begin | 0.000408s |
| /user/object | 0.010920s |
| -> /user/object_DELETE | 0.000740s |
| /user/end | 0.000723s |
'------------------------------------------------------------+-----------'
[info] *** Request 9 (9.000/s) [8588] [Tue Nov 30 13:30:37 2010] ***
[debug] "GET" request for "user/1" from "127.0.0.1"
[debug] Path is "/user/object"
[debug] Arguments are "1"
[debug] Calling default resultset method extjs_rest_user
[debug] Loading form t/root/forms/user.yml
[debug] Status Not Found: Object could not be found.
[debug] Serializing with Catalyst::Action::Serialize::JSON
[debug] Response Code: 404; Content-Type: application/json; Content-Length: 38
[info] Request took 0.014049s (71.179/s)
.------------------------------------------------------------+-----------.
| Action | Time |
+------------------------------------------------------------+-----------+
| /user/begin | 0.000173s |
| /user/object | 0.010593s |
| -> /user/object_GET | 0.000601s |
| /user/end | 0.000773s |
'------------------------------------------------------------+-----------'
t/rest/user.t ................. ok
[debug] Debug messages enabled
[debug] Statistics enabled
[debug] Loaded dispatcher "Catalyst::Dispatcher"
[debug] Loaded engine "Catalyst::Engine::CGI"
[debug] Found home "/home/sts/cpansmoke/perl-5.12.2/cpan/build/CatalystX-ExtJS-1.123000-doBSyB/t/lib/MyApp"
[debug] Loaded components:
.-----------------------------------------------------------------+----------.
| Class | Type |
+-----------------------------------------------------------------+----------+
| MyApp::Controller::API | instance |
| MyApp::Controller::Artist | instance |
| MyApp::Controller::Calculator | instance |
| MyApp::Controller::FindOrDefault | instance |
| MyApp::Controller::ForBrowser | instance |
| MyApp::Controller::ForBrowsers | instance |
| MyApp::Controller::JSON | instance |
| MyApp::Controller::Nested::Controller | instance |
| MyApp::Controller::REST | instance |
| MyApp::Controller::RequestClass | instance |
| MyApp::Controller::SkipEnd | instance |
| MyApp::Controller::User | instance |
| MyApp::Model::DBIC | instance |
| MyApp::Model::DBIC::FindOrDefault | class |
| MyApp::Model::DBIC::SkipEnd | class |
| MyApp::Model::DBIC::User | class |
| MyApp::View::JSON | instance |
| MyApp::View::TT | instance |
'-----------------------------------------------------------------+----------'
[debug] Loaded Private actions:
.----------------------+--------------------------------------+--------------.
| Private | Class | Method |
+----------------------+--------------------------------------+--------------+
| /api/src | MyApp::Controller::API | src |
| /api/router | MyApp::Controller::API | router |
| /api/end | MyApp::Controller::API | end |
| /api/index | MyApp::Controller::API | index |
| /api/begin | MyApp::Controller::API | begin |
| /findordefault/base | MyApp::Controller::FindOrDefault | base |
| /findordefault/obje- | MyApp::Controller::FindOrDefault | object |
| ct | | |
| /findordefault/obje- | MyApp::Controller::FindOrDefault | object_DELE- |
| ct_DELETE | | TE |
| /findordefault/obje- | MyApp::Controller::FindOrDefault | object_POST |
| ct_POST | | |
| /findordefault/obje- | MyApp::Controller::FindOrDefault | object_GET |
| ct_GET | | |
| /findordefault/obje- | MyApp::Controller::FindOrDefault | object_PUT |
| ct_PUT | | |
| /findordefault/end | MyApp::Controller::FindOrDefault | end |
| /findordefault/begin | MyApp::Controller::FindOrDefault | begin |
| /findordefault/list | MyApp::Controller::FindOrDefault | list |
| /calc/add | MyApp::Controller::Calculator | add |
| /calc/subtract | MyApp::Controller::Calculator | subtract |
| /calc/upload | MyApp::Controller::Calculator | upload |
| /calc/add_to | MyApp::Controller::Calculator | add_to |
| /json/index | MyApp::Controller::JSON | index |
| /forbrowsers/base | MyApp::Controller::ForBrowsers | base |
| /forbrowsers/object | MyApp::Controller::ForBrowsers | object |
| /forbrowsers/object- | MyApp::Controller::ForBrowsers | object_DELE- |
| _DELETE | | TE |
| /forbrowsers/object- | MyApp::Controller::ForBrowsers | object_POST |
| _POST | | |
| /forbrowsers/object- | MyApp::Controller::ForBrowsers | object_GET |
| _GET | | |
| /forbrowsers/object- | MyApp::Controller::ForBrowsers | object_PUT |
| _PUT | | |
| /forbrowsers/end | MyApp::Controller::ForBrowsers | end |
| /forbrowsers/begin | MyApp::Controller::ForBrowsers | begin |
| /forbrowsers/list | MyApp::Controller::ForBrowsers | list |
| /rest/object | MyApp::Controller::REST | object |
| /rest/begin | MyApp::Controller::REST | begin |
| /rest/end | MyApp::Controller::REST | end |
| /nested/controller/- | MyApp::Controller::Nested::Controll- | index |
| index | er | |
| /skipend/load_form | MyApp::Controller::SkipEnd | load_form |
| /skipend/object | MyApp::Controller::SkipEnd | object |
| /skipend/object_GET | MyApp::Controller::SkipEnd | object_GET |
| /skipend/object_PUT | MyApp::Controller::SkipEnd | object_PUT |
| /skipend/begin | MyApp::Controller::SkipEnd | begin |
| /skipend/list | MyApp::Controller::SkipEnd | list |
| /skipend/base | MyApp::Controller::SkipEnd | base |
| /skipend/object_POST | MyApp::Controller::SkipEnd | object_POST |
| /skipend/object_DEL- | MyApp::Controller::SkipEnd | object_DELE- |
| ETE | | TE |
| /skipend/end | MyApp::Controller::SkipEnd | end |
| /skipend/edit_record | MyApp::Controller::SkipEnd | edit_record |
| /forbrowser/base | MyApp::Controller::ForBrowser | base |
| /forbrowser/object | MyApp::Controller::ForBrowser | object |
| /forbrowser/object_- | MyApp::Controller::ForBrowser | object_DELE- |
| DELETE | | TE |
| /forbrowser/object_- | MyApp::Controller::ForBrowser | object_POST |
| POST | | |
| /forbrowser/object_- | MyApp::Controller::ForBrowser | object_GET |
| GET | | |
| /forbrowser/object_- | MyApp::Controller::ForBrowser | object_PUT |
| PUT | | |
| /forbrowser/end | MyApp::Controller::ForBrowser | end |
| /forbrowser/begin | MyApp::Controller::ForBrowser | begin |
| /forbrowser/list | MyApp::Controller::ForBrowser | list |
| /requestclass/params | MyApp::Controller::RequestClass | params |
| /requestclass/reque- | MyApp::Controller::RequestClass | request_cla- |
| st_class | | ss |
| /user/base | MyApp::Controller::User | base |
| /user/object | MyApp::Controller::User | object |
| /user/object_DELETE | MyApp::Controller::User | object_DELE- |
| | | TE |
| /user/object_POST | MyApp::Controller::User | object_POST |
| /user/object_GET | MyApp::Controller::User | object_GET |
| /user/object_PUT | MyApp::Controller::User | object_PUT |
| /user/end | MyApp::Controller::User | end |
| /user/add_to_group | MyApp::Controller::User | add_to_group |
| /user/begin | MyApp::Controller::User | begin |
| /user/list | MyApp::Controller::User | list |
'----------------------+--------------------------------------+--------------'
[debug] Loaded Path actions:
.-------------------------------------+--------------------------------------.
| Path | Private |
+-------------------------------------+--------------------------------------+
| /api | /api/index |
| /api/router | /api/router |
| /api/src | /api/src |
| /calc | /calc/upload |
| /calc | /calc/add |
| /calc/subtract | /calc/subtract |
| /nested/controller/index | /nested/controller/index |
| /requestclass/params | /requestclass/params |
| /requestclass/request_class | /requestclass/request_class |
'-------------------------------------+--------------------------------------'
[debug] Loaded Chained actions:
.-------------------------------------+--------------------------------------.
| Path Spec | Private |
+-------------------------------------+--------------------------------------+
| /add/*/to/* | /calc/add (1) |
| | => /calc/add_to |
| /findordefaults/... | /findordefault/list |
| /findordefault/... | /findordefault/object |
| /forbrowsers/... | /forbrowser/list |
| /forbrowser/... | /forbrowser/object |
| /forbrowser/... | /forbrowsers/list |
| /forbrowsers/... | /forbrowsers/object |
| /rest/object/* | /rest/object |
| /skipend/form/edit_record | /skipend/load_form (0) |
| | => /skipend/edit_record |
| /skipends/... | /skipend/list |
| /skipend/... | /skipend/object |
| /user/*/add_to_group/* | /user/base (1) |
| | => /user/add_to_group |
| /users/... | /user/list |
| /user/... | /user/object |
'-------------------------------------+--------------------------------------'
[info] Application powered by Catalyst 5.80029
[info] *** Request 1 (0.500/s) [8589] [Tue Nov 30 13:30:40 2010] ***
[debug] "GET" request for "users" from "127.0.0.1"
[debug] Path is "/user/list"
[debug] Loading form t/root/lists/user.yml
[debug] found configuration file for parameters
[debug] Calling resultset method extjs_rest_user
[debug] Serializing with Catalyst::Action::Serialize::JSON
[debug] Response Code: 200; Content-Type: application/json; Content-Length: 10377
[info] Request took 0.388495s (2.574/s)
.------------------------------------------------------------+-----------.
| Action | Time |
+------------------------------------------------------------+-----------+
| /user/begin | 0.000194s |
| /user/list | 0.369168s |
| /user/end | 0.015900s |
'------------------------------------------------------------+-----------'
[info] *** Request 2 (1.000/s) [8589] [Tue Nov 30 13:30:40 2010] ***
[debug] "GET" request for "user" from "127.0.0.1"
[debug] Path is "/user/object"
[debug] Loading form t/root/lists/user.yml
[debug] found configuration file for parameters
[debug] Calling resultset method extjs_rest_user
[debug] Serializing with Catalyst::Action::Serialize::JSON
[debug] Response Code: 200; Content-Type: application/json; Content-Length: 10377
[info] Request took 0.258310s (3.871/s)
.------------------------------------------------------------+-----------.
| Action | Time |
+------------------------------------------------------------+-----------+
| /user/begin | 0.000165s |
| /user/object | 0.254333s |
| -> /user/list | 0.245725s |
| /user/end | 0.001154s |
'------------------------------------------------------------+-----------'
Use of uninitialized value in lc at /home/sts/cpansmoke/perl-5.12.2/cpan/build/CatalystX-ExtJS-1.123000-doBSyB/blib/lib/CatalystX/Controller/ExtJS/REST.pm line 269.
Use of uninitialized value in lc at /home/sts/cpansmoke/perl-5.12.2/cpan/build/CatalystX-ExtJS-1.123000-doBSyB/blib/lib/CatalystX/Controller/ExtJS/REST.pm line 269.
[info] *** Request 3 (1.500/s) [8589] [Tue Nov 30 13:30:40 2010] ***
[debug] "GET" request for "users" from "127.0.0.1"
[debug] Query Parameters are:
.-------------------------------------+--------------------------------------.
| Parameter | Value |
+-------------------------------------+--------------------------------------+
| start | 10 |
'-------------------------------------+--------------------------------------'
[debug] Path is "/user/list"
[debug] Loading form t/root/lists/user.yml
[debug] found configuration file for parameters
[debug] Calling resultset method extjs_rest_user
[debug] Serializing with Catalyst::Action::Serialize::JSON
[debug] Response Code: 200; Content-Type: application/json; Content-Length: 9886
[info] Request took 0.242521s (4.123/s)
.------------------------------------------------------------+-----------.
| Action | Time |
+------------------------------------------------------------+-----------+
| /user/begin | 0.000179s |
| /user/list | 0.238423s |
| /user/end | 0.001133s |
'------------------------------------------------------------+-----------'
Use of uninitialized value in lc at /home/sts/cpansmoke/perl-5.12.2/cpan/build/CatalystX-ExtJS-1.123000-doBSyB/blib/lib/CatalystX/Controller/ExtJS/REST.pm line 269.
Use of uninitialized value in lc at /home/sts/cpansmoke/perl-5.12.2/cpan/build/CatalystX-ExtJS-1.123000-doBSyB/blib/lib/CatalystX/Controller/ExtJS/REST.pm line 269.
[info] *** Request 4 (1.333/s) [8589] [Tue Nov 30 13:30:41 2010] ***
[debug] "GET" request for "users" from "127.0.0.1"
[debug] Query Parameters are:
.-------------------------------------+--------------------------------------.
| Parameter | Value |
+-------------------------------------+--------------------------------------+
| limit | 20 |
| start | 10 |
'-------------------------------------+--------------------------------------'
[debug] Path is "/user/list"
[debug] Loading form t/root/lists/user.yml
[debug] found configuration file for parameters
[debug] Calling resultset method extjs_rest_user
[debug] Serializing with Catalyst::Action::Serialize::JSON
[debug] Response Code: 200; Content-Type: application/json; Content-Length: 1285
[info] Request took 0.049846s (20.062/s)
.------------------------------------------------------------+-----------.
| Action | Time |
+------------------------------------------------------------+-----------+
| /user/begin | 0.000167s |
| /user/list | 0.046007s |
| /user/end | 0.000891s |
'------------------------------------------------------------+-----------'
Use of uninitialized value in lc at /home/sts/cpansmoke/perl-5.12.2/cpan/build/CatalystX-ExtJS-1.123000-doBSyB/blib/lib/CatalystX/Controller/ExtJS/REST.pm line 269.
Use of uninitialized value in lc at /home/sts/cpansmoke/perl-5.12.2/cpan/build/CatalystX-ExtJS-1.123000-doBSyB/blib/lib/CatalystX/Controller/ExtJS/REST.pm line 269.
[info] *** Request 5 (1.667/s) [8589] [Tue Nov 30 13:30:41 2010] ***
[debug] "GET" request for "users" from "127.0.0.1"
[debug] Query Parameters are:
.-------------------------------------+--------------------------------------.
| Parameter | Value |
+-------------------------------------+--------------------------------------+
| limit | 20 |
| sort | name |
| start | 10 |
'-------------------------------------+--------------------------------------'
[debug] Path is "/user/list"
[debug] Loading form t/root/lists/user.yml
[debug] found configuration file for parameters
[debug] Calling resultset method extjs_rest_user
[debug] Serializing with Catalyst::Action::Serialize::JSON
[debug] Response Code: 200; Content-Type: application/json; Content-Length: 1285
[info] Request took 0.050584s (19.769/s)
.------------------------------------------------------------+-----------.
| Action | Time |
+------------------------------------------------------------+-----------+
| /user/begin | 0.000166s |
| /user/list | 0.046734s |
| /user/end | 0.000875s |
'------------------------------------------------------------+-----------'
[info] *** Request 6 (2.000/s) [8589] [Tue Nov 30 13:30:41 2010] ***
[debug] "GET" request for "users" from "127.0.0.1"
[debug] Query Parameters are:
.-------------------------------------+--------------------------------------.
| Parameter | Value |
+-------------------------------------+--------------------------------------+
| dir | desc |
| limit | 20 |
| sort | name |
| start | 10 |
'-------------------------------------+--------------------------------------'
[debug] Path is "/user/list"
[debug] Loading form t/root/lists/user.yml
[debug] found configuration file for parameters
[debug] Calling resultset method extjs_rest_user
[debug] Serializing with Catalyst::Action::Serialize::JSON
[debug] Response Code: 200; Content-Type: application/json; Content-Length: 1305
[info] Request took 0.050762s (19.700/s)
.------------------------------------------------------------+-----------.
| Action | Time |
+------------------------------------------------------------+-----------+
| /user/begin | 0.000167s |
| /user/list | 0.046882s |
| /user/end | 0.000874s |
'------------------------------------------------------------+-----------'
[info] *** Request 7 (2.333/s) [8589] [Tue Nov 30 13:30:41 2010] ***
[debug] "GET" request for "users" from "127.0.0.1"
[debug] Query Parameters are:
.-------------------------------------+--------------------------------------.
| Parameter | Value |
+-------------------------------------+--------------------------------------+
| dir | asc |
| limit | 20 |
| sort | password |
| start | 10 |
'-------------------------------------+--------------------------------------'
[debug] Path is "/user/list"
[debug] Loading form t/root/lists/user.yml
[debug] found configuration file for parameters
[debug] Calling resultset method extjs_rest_user
[debug] Serializing with Catalyst::Action::Serialize::JSON
[debug] Response Code: 200; Content-Type: application/json; Content-Length: 1305
[info] Request took 0.050604s (19.761/s)
.------------------------------------------------------------+-----------.
| Action | Time |
+------------------------------------------------------------+-----------+
| /user/begin | 0.000168s |
| /user/list | 0.046692s |
| /user/end | 0.000881s |
'------------------------------------------------------------+-----------'
[info] *** Request 8 (2.667/s) [8589] [Tue Nov 30 13:30:41 2010] ***
[debug] "GET" request for "users" from "127.0.0.1"
[debug] Query Parameters are:
.-------------------------------------+--------------------------------------.
| Parameter | Value |
+-------------------------------------+--------------------------------------+
| dir | asc |
| ending | 1 |
| limit | 20 |
| sort | password |
| start | 10 |
'-------------------------------------+--------------------------------------'
[debug] Path is "/user/list"
[debug] Loading form t/root/lists/user.yml
[debug] found configuration file for parameters
[debug] Status Bad Request: One ore more parameters did not pass the validation
[debug] Serializing with Catalyst::Action::Serialize::JSON
[debug] Response Code: 400; Content-Type: application/json; Content-Length: 60
[info] Request took 0.041224s (24.258/s)
.------------------------------------------------------------+-----------.
| Action | Time |
+------------------------------------------------------------+-----------+
| /user/begin | 0.000167s |
| /user/list | 0.037319s |
| /user/end | 0.000862s |
'------------------------------------------------------------+-----------'
[info] *** Request 9 (3.000/s) [8589] [Tue Nov 30 13:30:41 2010] ***
[debug] "GET" request for "users" from "127.0.0.1"
[debug] Query Parameters are:
.-------------------------------------+--------------------------------------.
| Parameter | Value |
+-------------------------------------+--------------------------------------+
| dir | ASC |
| ending | 2 |
| limit | 20 |
| sort | password |
| start | 10 |
'-------------------------------------+--------------------------------------'
[debug] Path is "/user/list"
[debug] Loading form t/root/lists/user.yml
[debug] found configuration file for parameters
[debug] Calling resultset method extjs_rest_user
[debug] Serializing with Catalyst::Action::Serialize::JSON
[debug] Response Code: 200; Content-Type: application/json; Content-Length: 783
[info] Request took 0.039710s (25.183/s)
.------------------------------------------------------------+-----------.
| Action | Time |
+------------------------------------------------------------+-----------+
| /user/begin | 0.000166s |
| /user/list | 0.035768s |
| /user/end | 0.000870s |
'------------------------------------------------------------+-----------'
t/rest/users.t ................ ok
All tests successful.
Files=21, Tests=450, 43 wallclock secs ( 0.21 usr 0.07 sys + 23.28 cusr 14.79 csys = 38.35 CPU)
Result: PASS
------------------------------
PREREQUISITES
------------------------------
Prerequisite modules loaded:
requires:
Module Need Have
------------------------------------ ------- --------
Carp 0 1.17
Catalyst::Action 0 0
Catalyst::Action::Deserialize 0 0.87
Catalyst::Action::RenderView 0 0.14
Catalyst::Action::REST 0.83 0.87
Catalyst::Action::Serialize 0 0.87
Catalyst::Controller 0 0
Catalyst::Controller::REST 0 0.87
Catalyst::Runtime 5.80024 5.80029
Catalyst::Utils 0 0
Class::Accessor::Fast 0 0.34
Config::Any 0 0.20
DBIx::Class 0.08123 0.08124
HTML::Entities 0 3.68
HTML::FormFu 0.08 0.08002
HTML::FormFu::ExtJS 0.076 0.077
HTML::FormFu::Model::DBIC 0.08 0.08002
JavaScript::Dumper 0.011 0.011
JSON::Any 0 1.25
JSON::XS 0 2.3
Lingua::EN::Inflect 0 1.893
List::Util 0 1.22
Moose 1.06 1.19
Moose::Role 0 1.19
Moose::Util::TypeConstraints 0 1.19
MooseX::MethodAttributes 0 0.24
namespace::autoclean 0 0.11
Path::Class 0 0.21
Scalar::Util 0 1.22
build_requires:
Module Need Have
------------------------------------ ------- --------
Catalyst 0 5.80029
Catalyst::Engine::HTTP 0 0
Catalyst::Model::DBIC::Schema 0 0.43
Catalyst::Request::REST::ForBrowsers 0 0.87
Catalyst::View::JSON 0 0.31
Catalyst::View::TT 0 0.36
DBIx::Class 0 0.08124
DBIx::Class::ResultSet 0 0
DBIx::Class::Schema 0 0
English 0 1.04
File::Find 0 1.15
File::Spec 0 3.31_01
File::Temp 0 0.22
FindBin 0 1.50
Getopt::Long 0 2.38
HTTP::Request::Common 0 5.824
JSON 0 2.26
Module::Build 0.3601 0.3603
Path::Class::File 0 0.21
perl 5.004 5.012002
Pod::Usage 0 1.36
Test::More 0.94 0.96
Test::WWW::Mechanize::Catalyst 0 0.52
configure_requires:
Module Need Have
------------------------------------ ------- --------
Module::Build 0.3601 0.3603
------------------------------
ENVIRONMENT AND OTHER CONTEXT
------------------------------
Environment variables:
AUTOMATED_TESTING = 1
LANG = en_US.UTF-8
PATH = /usr/local/bin:/usr/bin:/bin:/usr/games
PERL5LIB = /home/sts/cpansmoke/perl-5.12.2/cpan/build/Catalyst-Action-RenderView-0.14-R8SjY_/blib/arch:/home/sts/cpansmoke/perl-5.12.2/cpan/build/Catalyst-Action-RenderView-0.14-R8SjY_/blib/lib:/home/sts/cpansmoke/perl-5.12.2/cpan/build/HTML-FormFu-Model-DBIC-0.08002-gZVEJI/blib/arch:/home/sts/cpansmoke/perl-5.12.2/cpan/build/HTML-FormFu-Model-DBIC-0.08002-gZVEJI/blib/lib:/home/sts/cpansmoke/perl-5.12.2/cpan/build/SQL-Translator-0.11006-kcOnQU/blib/arch:/home/sts/cpansmoke/perl-5.12.2/cpan/build/SQL-Translator-0.11006-kcOnQU/blib/lib:/home/sts/cpansmoke/perl-5.12.2/cpan/build/Class-MakeMethods-1.01-1kNWyP/blib/arch:/home/sts/cpansmoke/perl-5.12.2/cpan/build/Class-MakeMethods-1.01-1kNWyP/blib/lib:/home/sts/cpansmoke/perl-5.12.2/cpan/build/Class-Base-0.03-UeXN_p/blib/arch:/home/sts/cpansmoke/perl-5.12.2/cpan/build/Class-Base-0.03-UeXN_p/blib/lib:/home/sts/cpansmoke/perl-5.12.2/cpan/build/XML-Writer-0.612-7BLALT/blib/arch:/home/sts/cpansmoke/perl-5.12.2/cpan/build/XML-Writer-0.612-7BLALT/blib/lib:/home/sts/cpansmoke/perl-5.12.2/cpan/build/Parse-RecDescent-1.965001-m4DHvG/blib/arch:/home/sts/cpansmoke/perl-5.12.2/cpan/build/Parse-RecDescent-1.965001-m4DHvG/blib/lib:/home/sts/cpansmoke/perl-5.12.2/cpan/build/DateTime-Format-SQLite-0.11-hyDPKR/blib/arch:/home/sts/cpansmoke/perl-5.12.2/cpan/build/DateTime-Format-SQLite-0.11-hyDPKR/blib/lib:/home/sts/cpansmoke/perl-5.12.2/cpan/build/HTML-FormFu-ExtJS-0.077-8SJbl5/blib/arch:/home/sts/cpansmoke/perl-5.12.2/cpan/build/HTML-FormFu-ExtJS-0.077-8SJbl5/blib/lib:/home/sts/cpansmoke/perl-5.12.2/cpan/build/Hash-Merge-Simple-0.05-2CtQ7Z/blib/arch:/home/sts/cpansmoke/perl-5.12.2/cpan/build/Hash-Merge-Simple-0.05-2CtQ7Z/blib/lib:/home/sts/cpansmoke/perl-5.12.2/cpan/build/Test-Most-0.23-KPet9w/blib/arch:/home/sts/cpansmoke/perl-5.12.2/cpan/build/Test-Most-0.23-KPet9w/blib/lib:/home/sts/cpansmoke/perl-5.12.2/cpan/build/Test-Differences-0.500-RfexRd/blib/arch:/home/sts/cpansmoke/perl-5.12.2/cpan/build/Test-Differences-0.500-RfexRd/blib/lib:/home/sts/cpansmoke/perl-5.12.2/cpan/build/Text-Diff-1.37-qAN4ZF/blib/arch:/home/sts/cpansmoke/perl-5.12.2/cpan/build/Text-Diff-1.37-qAN4ZF/blib/lib:/home/sts/cpansmoke/perl-5.12.2/cpan/build/Algorithm-Diff-1.1902-qZW7n6/blib/arch:/home/sts/cpansmoke/perl-5.12.2/cpan/build/Algorithm-Diff-1.1902-qZW7n6/blib/lib:/home/sts/cpansmoke/perl-5.12.2/cpan/build/Tie-Hash-Indexed-0.05-Jatw1G/blib/arch:/home/sts/cpansmoke/perl-5.12.2/cpan/build/Tie-Hash-Indexed-0.05-Jatw1G/blib/lib:/home/sts/cpansmoke/perl-5.12.2/cpan/build/Lingua-EN-Inflect-1.893-asVNSy/blib/arch:/home/sts/cpansmoke/perl-5.12.2/cpan/build/Lingua-EN-Inflect-1.893-asVNSy/blib/lib:/home/sts/cpansmoke/perl-5.12.2/cpan/build/Catalyst-Model-DBIC-Schema-0.43-jzb0h_/blib/arch:/home/sts/cpansmoke/perl-5.12.2/cpan/build/Catalyst-Model-DBIC-Schema-0.43-jzb0h_/blib/lib:/home/sts/cpansmoke/perl-5.12.2/cpan/build/Tie-IxHash-1.22-OOFlMY/blib/arch:/home/sts/cpansmoke/perl-5.12.2/cpan/build/Tie-IxHash-1.22-OOFlMY/blib/lib:/home/sts/cpansmoke/perl-5.12.2/cpan/build/CatalystX-Component-Traits-0.16-PCk9Xg/blib/arch:/home/sts/cpansmoke/perl-5.12.2/cpan/build/CatalystX-Component-Traits-0.16-PCk9Xg/blib/lib:/home/sts/cpansmoke/perl-5.12.2/cpan/build/MooseX-Traits-Pluggable-0.10-EpQbgO/blib/arch:/home/sts/cpansmoke/perl-5.12.2/cpan/build/MooseX-Traits-Pluggable-0.10-EpQbgO/blib/lib:/home/sts/cpansmoke/perl-5.12.2/cpan/build/HTML-FormFu-0.08002-Hmjorf/blib/arch:/home/sts/cpansmoke/perl-5.12.2/cpan/build/HTML-FormFu-0.08002-Hmjorf/blib/lib:/home/sts/cpansmoke/perl-5.12.2/cpan/build/Readonly-1.03-AHDjdj/blib/arch:/home/sts/cpansmoke/perl-5.12.2/cpan/build/Readonly-1.03-AHDjdj/blib/lib:/home/sts/cpansmoke/perl-5.12.2/cpan/build/Number-Format-1.73-uDeP0H/blib/arch:/home/sts/cpansmoke/perl-5.12.2/cpan/build/Number-Format-1.73-uDeP0H/blib/lib:/home/sts/cpansmoke/perl-5.12.2/cpan/build/HTML-TokeParser-Simple-3.15-hvVZMy/blib/arch:/home/sts/cpansmoke/perl-5.12.2/cpan/build/HTML-TokeParser-Simple-3.15-hvVZMy/blib/lib:/home/sts/cpansmoke/perl-5.12.2/cpan/build/Sub-Override-0.08-mNTV4A/blib/arch:/home/sts/cpansmoke/perl-5.12.2/cpan/build/Sub-Override-0.08-mNTV4A/blib/lib:/home/sts/cpansmoke/perl-5.12.2/cpan/build/DateTime-Format-Natural-0.91-6HW4pk/blib/arch:/home/sts/cpansmoke/perl-5.12.2/cpan/build/DateTime-Format-Natural-0.91-6HW4pk/blib/lib:/home/sts/cpansmoke/perl-5.12.2/cpan/build/boolean-0.23-ozQ6Ek/blib/arch:/home/sts/cpansmoke/perl-5.12.2/cpan/build/boolean-0.23-ozQ6Ek/blib/lib:/home/sts/cpansmoke/perl-5.12.2/cpan/build/Test-MockTime-0.12-zd01rR/blib/arch:/home/sts/cpansmoke/perl-5.12.2/cpan/build/Test-MockTime-0.12-zd01rR/blib/lib:/home/sts/cpansmoke/perl-5.12.2/cpan/build/File-ShareDir-1.02-4kMEUK/blib/arch:/home/sts/cpansmoke/perl-5.12.2/cpan/build/File-ShareDir-1.02-4kMEUK/blib/lib:/home/sts/cpansmoke/perl-5.12.2/cpan/build/Regexp-Common-2010010201-aJ1pS_/blib/arch:/home/sts/cpansmoke/perl-5.12.2/cpan/build/Regexp-Common-2010010201-aJ1pS_/blib/lib:/home/sts/cpansmoke/perl-5.12.2/cpan/build/Data-Visitor-0.27-SS01Qr/blib/arch:/home/sts/cpansmoke/perl-5.12.2/cpan/build/Data-Visitor-0.27-SS01Qr/blib/lib:/home/sts/cpansmoke/perl-5.12.2/cpan/build/Tie-ToObject-0.03-Ej4BXN/blib/arch:/home/sts/cpansmoke/perl-5.12.2/cpan/build/Tie-ToObject-0.03-Ej4BXN/blib/lib:/home/sts/cpansmoke/perl-5.12.2/cpan/build/Email-Valid-0.184-5BjxI5/blib/arch:/home/sts/cpansmoke/perl-5.12.2/cpan/build/Email-Valid-0.184-5BjxI5/blib/lib:/home/sts/cpansmoke/perl-5.12.2/cpan/build/Net-DNS-0.66-pLJwKk/blib/arch:/home/sts/cpansmoke/perl-5.12.2/cpan/build/Net-DNS-0.66-pLJwKk/blib/lib:/home/sts/cpansmoke/perl-5.12.2/cpan/build/Net-IP-1.25-F9Tq9W/blib/arch:/home/sts/cpansmoke/perl-5.12.2/cpan/build/Net-IP-1.25-F9Tq9W/blib/lib:/home/sts/cpansmoke/perl-5.12.2/cpan/build/HTML-Scrubber-0.08-XNh8ND/blib/arch:/home/sts/cpansmoke/perl-5.12.2/cpan/build/HTML-Scrubber-0.08-XNh8ND/blib/lib:/home/sts/cpansmoke/perl-5.12.2/cpan/build/Date-Calc-6.3-cqoL3y/blib/arch:/home/sts/cpansmoke/perl-5.12.2/cpan/build/Date-Calc-6.3-cqoL3y/blib/lib:/home/sts/cpansmoke/perl-5.12.2/cpan/build/Bit-Vector-7.1-Us8wZJ/blib/arch:/home/sts/cpansmoke/perl-5.12.2/cpan/build/Bit-Vector-7.1-Us8wZJ/blib/lib:/home/sts/cpansmoke/perl-5.12.2/cpan/build/Captcha-reCAPTCHA-0.94-Twzhs7/blib/arch:/home/sts/cpansmoke/perl-5.12.2/cpan/build/Captcha-reCAPTCHA-0.94-Twzhs7/blib/lib:/home/sts/cpansmoke/perl-5.12.2/cpan/build/HTML-Tiny-1.05-EwBGnV/blib/arch:/home/sts/cpansmoke/perl-5.12.2/cpan/build/HTML-Tiny-1.05-EwBGnV/blib/lib:/home/sts/cpansmoke/perl-5.12.2/cpan/build/Hash-Flatten-1.19-vwgQZR/blib/arch:/home/sts/cpansmoke/perl-5.12.2/cpan/build/Hash-Flatten-1.19-vwgQZR/blib/lib:/home/sts/cpansmoke/perl-5.12.2/cpan/build/Test-Assertions-1.054-5zRvWc/blib/arch:/home/sts/cpansmoke/perl-5.12.2/cpan/build/Test-Assertions-1.054-5zRvWc/blib/lib:/home/sts/cpansmoke/perl-5.12.2/cpan/build/Log-Trace-1.070-XWVsCy/blib/arch:/home/sts/cpansmoke/perl-5.12.2/cpan/build/Log-Trace-1.070-XWVsCy/blib/lib:/home/sts/cpansmoke/perl-5.12.2/cpan/build/DateTime-Format-Builder-0.80-qegE1a/blib/arch:/home/sts/cpansmoke/perl-5.12.2/cpan/build/DateTime-Format-Builder-0.80-qegE1a/blib/lib:/home/sts/cpansmoke/perl-5.12.2/cpan/build/Class-Factory-Util-1.7-yV2j30/blib/arch:/home/sts/cpansmoke/perl-5.12.2/cpan/build/Class-Factory-Util-1.7-yV2j30/blib/lib:/home/sts/cpansmoke/perl-5.12.2/cpan/build/YAML-LibYAML-0.34-RIK_d_/blib/arch:/home/sts/cpansmoke/perl-5.12.2/cpan/build/YAML-LibYAML-0.34-RIK_d_/blib/lib:/home/sts/cpansmoke/perl-5.12.2/cpan/build/DateTime-Format-Strptime-1.5000-F8ZBkS/blib/arch:/home/sts/cpansmoke/perl-5.12.2/cpan/build/DateTime-Format-Strptime-1.5000-F8ZBkS/blib/lib:/home/sts/cpansmoke/perl-5.12.2/cpan/build/DateTime-0.66-KdCrcC/blib/arch:/home/sts/cpansmoke/perl-5.12.2/cpan/build/DateTime-0.66-KdCrcC/blib/lib:/home/sts/cpansmoke/perl-5.12.2/cpan/build/DateTime-TimeZone-1.26-XWgRFJ/blib/arch:/home/sts/cpansmoke/perl-5.12.2/cpan/build/DateTime-TimeZone-1.26-XWgRFJ/blib/lib:/home/sts/cpansmoke/perl-5.12.2/cpan/build/Class-Singleton-1.4-kgIHiq/blib/arch:/home/sts/cpansmoke/perl-5.12.2/cpan/build/Class-Singleton-1.4-kgIHiq/blib/lib:/home/sts/cpansmoke/perl-5.12.2/cpan/build/Class-Load-0.06-bEuWOE/blib/arch:/home/sts/cpansmoke/perl-5.12.2/cpan/build/Class-Load-0.06-bEuWOE/blib/lib:/home/sts/cpansmoke/perl-5.12.2/cpan/build/DateTime-Locale-0.45-X5t4Km/blib/arch:/home/sts/cpansmoke/perl-5.12.2/cpan/build/DateTime-Locale-0.45-X5t4Km/blib/lib:/home/sts/cpansmoke/perl-5.12.2/cpan/build/DBIx-Class-0.08124-KbJ9Px/blib/arch:/home/sts/cpansmoke/perl-5.12.2/cpan/build/DBIx-Class-0.08124-KbJ9Px/blib/lib:/home/sts/cpansmoke/perl-5.12.2/cpan/build/Class-C3-Componentised-1.0006-sTZ3yP/blib/arch:/home/sts/cpansmoke/perl-5.12.2/cpan/build/Class-C3-Componentised-1.0006-sTZ3yP/blib/lib:/home/sts/cpansmoke/perl-5.12.2/cpan/build/Data-Page-2.02-b6Z10y/blib/arch:/home/sts/cpansmoke/perl-5.12.2/cpan/build/Data-Page-2.02-b6Z10y/blib/lib:/home/sts/cpansmoke/perl-5.12.2/cpan/build/Class-Accessor-Chained-0.01-aYn1m3/blib/arch:/home/sts/cpansmoke/perl-5.12.2/cpan/build/Class-Accessor-Chained-0.01-aYn1m3/blib/lib:/home/sts/cpansmoke/perl-5.12.2/cpan/build/Math-Base36-0.07-_Qjy8_/blib/arch:/home/sts/cpansmoke/perl-5.12.2/cpan/build/Math-Base36-0.07-_Qjy8_/blib/lib:/home/sts/cpansmoke/perl-5.12.2/cpan/build/Module-Find-0.10-0__Vuw/blib/arch:/home/sts/cpansmoke/perl-5.12.2/cpan/build/Module-Find-0.10-0__Vuw/blib/lib:/home/sts/cpansmoke/perl-5.12.2/cpan/build/SQL-Abstract-1.71-MWVpMd/blib/arch:/home/sts/cpansmoke/perl-5.12.2/cpan/build/SQL-Abstract-1.71-MWVpMd/blib/lib:/home/sts/cpansmoke/perl-5.12.2/cpan/build/Hash-Merge-0.12-IAw3KH/blib/arch:/home/sts/cpansmoke/perl-5.12.2/cpan/build/Hash-Merge-0.12-IAw3KH/blib/lib:/home/sts/cpansmoke/perl-5.12.2/cpan/build/Clone-0.31-WYHGZJ/blib/arch:/home/sts/cpansmoke/perl-5.12.2/cpan/build/Clone-0.31-WYHGZJ/blib/lib:/home/sts/cpansmoke/perl-5.12.2/cpan/build/Class-Accessor-Grouped-0.10000-fW4zJk/blib/arch:/home/sts/cpansmoke/perl-5.12.2/cpan/build/Class-Accessor-Grouped-0.10000-fW4zJk/blib/lib:/home/sts/cpansmoke/perl-5.12.2/cpan/build/Class-XSAccessor-1.09-NKiz0a/blib/arch:/home/sts/cpansmoke/perl-5.12.2/cpan/build/Class-XSAccessor-1.09-NKiz0a/blib/lib:/home/sts/cpansmoke/perl-5.12.2/cpan/build/Data-Dumper-Concise-2.012-kgcxdZ/blib/arch:/home/sts/cpansmoke/perl-5.12.2/cpan/build/Data-Dumper-Concise-2.012-kgcxdZ/blib/lib:/home/sts/cpansmoke/perl-5.12.2/cpan/build/Catalyst-View-TT-0.36-eQGFju/blib/arch:/home/sts/cpansmoke/perl-5.12.2/cpan/build/Catalyst-View-TT-0.36-eQGFju/blib/lib:/home/sts/cpansmoke/perl-5.12.2/cpan/build/Template-Timer-1.00-4Azlvv/blib/arch:/home/sts/cpansmoke/perl-5.12.2/cpan/build/Template-Timer-1.00-4Azlvv/blib/lib:/home/sts/cpansmoke/perl-5.12.2/cpan/build/Template-Toolkit-2.22-jFIKQa/blib/arch:/home/sts/cpansmoke/perl-5.12.2/cpan/build/Template-Toolkit-2.22-jFIKQa/blib/lib:/home/sts/cpansmoke/perl-5.12.2/cpan/build/AppConfig-1.66-dcn6og/blib/arch:/home/sts/cpansmoke/perl-5.12.2/cpan/build/AppConfig-1.66-dcn6og/blib/lib:/home/sts/cpansmoke/perl-5.12.2/cpan/build/Config-Any-0.20-iGdawv/blib/arch:/home/sts/cpansmoke/perl-5.12.2/cpan/build/Config-Any-0.20-iGdawv/blib/lib:/home/sts/cpansmoke/perl-5.12.2/cpan/build/Test-WWW-Mechanize-Catalyst-0.52-kPPJDA/blib/arch:/home/sts/cpansmoke/perl-5.12.2/cpan/build/Test-WWW-Mechanize-Catalyst-0.52-kPPJDA/blib/lib:/home/sts/cpansmoke/perl-5.12.2/cpan/build/Test-WWW-Mechanize-1.30-I8cze5/blib/arch:/home/sts/cpansmoke/perl-5.12.2/cpan/build/Test-WWW-Mechanize-1.30-I8cze5/blib/lib:/home/sts/cpansmoke/perl-5.12.2/cpan/build/Test-LongString-0.14-HHdTk6/blib/arch:/home/sts/cpansmoke/perl-5.12.2/cpan/build/Test-LongString-0.14-HHdTk6/blib/lib:/home/sts/cpansmoke/perl-5.12.2/cpan/build/Carp-Assert-More-1.12-66bi8p/blib/arch:/home/sts/cpansmoke/perl-5.12.2/cpan/build/Carp-Assert-More-1.12-66bi8p/blib/lib:/home/sts/cpansmoke/perl-5.12.2/cpan/build/Carp-Assert-0.20-chbkwd/blib/arch:/home/sts/cpansmoke/perl-5.12.2/cpan/build/Carp-Assert-0.20-chbkwd/blib/lib:/home/sts/cpansmoke/perl-5.12.2/cpan/build/HTML-Tree-4.1-3Pc5Ui/blib/arch:/home/sts/cpansmoke/perl-5.12.2/cpan/build/HTML-Tree-4.1-3Pc5Ui/blib/lib:/home/sts/cpansmoke/perl-5.12.2/cpan/build/WWW-Mechanize-1.66-_4hEqX/blib/arch:/home/sts/cpansmoke/perl-5.12.2/cpan/build/WWW-Mechanize-1.66-_4hEqX/blib/lib:/home/sts/cpansmoke/perl-5.12.2/cpan/build/HTTP-Server-Simple-0.43-HuWYoN/blib/arch:/home/sts/cpansmoke/perl-5.12.2/cpan/build/HTTP-Server-Simple-0.43-HuWYoN/blib/lib:/home/sts/cpansmoke/perl-5.12.2/cpan/build/Catalyst-Plugin-Session-State-Cookie-0.17-8LDB0q/blib/arch:/home/sts/cpansmoke/perl-5.12.2/cpan/build/Catalyst-Plugin-Session-State-Cookie-0.17-8LDB0q/blib/lib:/home/sts/cpansmoke/perl-5.12.2/cpan/build/Catalyst-Plugin-Session-0.31-ELFOcH/blib/arch:/home/sts/cpansmoke/perl-5.12.2/cpan/build/Catalyst-Plugin-Session-0.31-ELFOcH/blib/lib:/home/sts/cpansmoke/perl-5.12.2/cpan/build/Object-Signature-1.05-H7mq18/blib/arch:/home/sts/cpansmoke/perl-5.12.2/cpan/build/Object-Signature-1.05-H7mq18/blib/lib:/home/sts/cpansmoke/perl-5.12.2/cpan/build/JavaScript-Dumper-0.011-_lCRLv/blib/arch:/home/sts/cpansmoke/perl-5.12.2/cpan/build/JavaScript-Dumper-0.011-_lCRLv/blib/lib:/home/sts/cpansmoke/perl-5.12.2/cpan/build/Class-C3-0.23-jFc3cd/blib/arch:/home/sts/cpansmoke/perl-5.12.2/cpan/build/Class-C3-0.23-jFc3cd/blib/lib:/home/sts/cpansmoke/perl-5.12.2/cpan/build/Catalyst-View-JSON-0.31-N4NQYq/blib/arch:/home/sts/cpansmoke/perl-5.12.2/cpan/build/Catalyst-View-JSON-0.31-N4NQYq/blib/lib:/home/sts/cpansmoke/perl-5.12.2/cpan/build/JSON-Any-1.25-0LskP5/blib/arch:/home/sts/cpansmoke/perl-5.12.2/cpan/build/JSON-Any-1.25-0LskP5/blib/lib:/home/sts/cpansmoke/perl-5.12.2/cpan/build/YAML-0.72-rovMjM/blib/arch:/home/sts/cpansmoke/perl-5.12.2/cpan/build/YAML-0.72-rovMjM/blib/lib:/home/sts/cpansmoke/perl-5.12.2/cpan/build/Catalyst-Action-REST-0.87-hg9Fs2/blib/arch:/home/sts/cpansmoke/perl-5.12.2/cpan/build/Catalyst-Action-REST-0.87-hg9Fs2/blib/lib:/home/sts/cpansmoke/perl-5.12.2/cpan/build/Catalyst-Runtime-5.80029-GxFWD4/blib/arch:/home/sts/cpansmoke/perl-5.12.2/cpan/build/Catalyst-Runtime-5.80029-GxFWD4/blib/lib:/home/sts/cpansmoke/perl-5.12.2/cpan/build/Text-SimpleTable-2.03-ELH_R9/blib/arch:/home/sts/cpansmoke/perl-5.12.2/cpan/build/Text-SimpleTable-2.03-ELH_R9/blib/lib:/home/sts/cpansmoke/perl-5.12.2/cpan/build/Class-C3-Adopt-NEXT-0.13-uRTabU/blib/arch:/home/sts/cpansmoke/perl-5.12.2/cpan/build/Class-C3-Adopt-NEXT-0.13-uRTabU/blib/lib:/home/sts/cpansmoke/perl-5.12.2/cpan/build/HTTP-Request-AsCGI-1.2-aBGZuG/blib/arch:/home/sts/cpansmoke/perl-5.12.2/cpan/build/HTTP-Request-AsCGI-1.2-aBGZuG/blib/lib:/home/sts/cpansmoke/perl-5.12.2/cpan/build/Class-Accessor-0.34-7BhTWC/blib/arch:/home/sts/cpansmoke/perl-5.12.2/cpan/build/Class-Accessor-0.34-7BhTWC/blib/lib:/home/sts/cpansmoke/perl-5.12.2/cpan/build/MooseX-Types-Common-0.001002-Eht7cO/blib/arch:/home/sts/cpansmoke/perl-5.12.2/cpan/build/MooseX-Types-Common-0.001002-Eht7cO/blib/lib:/home/sts/cpansmoke/perl-5.12.2/cpan/build/MooseX-MethodAttributes-0.24-AWwEaT/blib/arch:/home/sts/cpansmoke/perl-5.12.2/cpan/build/MooseX-MethodAttributes-0.24-AWwEaT/blib/lib:/home/sts/cpansmoke/perl-5.12.2/cpan/build/Tree-Simple-VisitorFactory-0.10-uKydpJ/blib/arch:/home/sts/cpansmoke/perl-5.12.2/cpan/build/Tree-Simple-VisitorFactory-0.10-uKydpJ/blib/lib:/home/sts/cpansmoke/perl-5.12.2/cpan/build/MooseX-Getopt-0.33-WrkucT/blib/arch:/home/sts/cpansmoke/perl-5.12.2/cpan/build/MooseX-Getopt-0.33-WrkucT/blib/lib:/home/sts/cpansmoke/perl-5.12.2/cpan/build/Test-Warn-0.22-QSPpi1/blib/arch:/home/sts/cpansmoke/perl-5.12.2/cpan/build/Test-Warn-0.22-QSPpi1/blib/lib:/home/sts/cpansmoke/perl-5.12.2/cpan/build/Tree-DAG_Node-1.06-LyGryw/blib/arch:/home/sts/cpansmoke/perl-5.12.2/cpan/build/Tree-DAG_Node-1.06-LyGryw/blib/lib:/home/sts/cpansmoke/perl-5.12.2/cpan/build/Getopt-Long-Descriptive-0.086-Vr2cTi/blib/arch:/home/sts/cpansmoke/perl-5.12.2/cpan/build/Getopt-Long-Descriptive-0.086-Vr2cTi/blib/lib:/home/sts/cpansmoke/perl-5.12.2/cpan/build/String-RewritePrefix-0.006-2ur0SX/blib/arch:/home/sts/cpansmoke/perl-5.12.2/cpan/build/String-RewritePrefix-0.006-2ur0SX/blib/lib:/home/sts/cpansmoke/perl-5.12.2/cpan/build/Tree-Simple-1.18-6fNPvp/blib/arch:/home/sts/cpansmoke/perl-5.12.2/cpan/build/Tree-Simple-1.18-6fNPvp/blib/lib:/home/sts/cpansmoke/perl-5.12.2/cpan/build/CGI-Simple-1.112-w3VYIJ/blib/arch:/home/sts/cpansmoke/perl-5.12.2/cpan/build/CGI-Simple-1.112-w3VYIJ/blib/lib:/home/sts/cpansmoke/perl-5.12.2/cpan/build/IO-stringy-2.110-01xrEp/blib/arch:/home/sts/cpansmoke/perl-5.12.2/cpan/build/IO-stringy-2.110-01xrEp/blib/lib:/home/sts/cpansmoke/perl-5.12.2/cpan/build/Path-Class-0.21-S8qGdG/blib/arch:/home/sts/cpansmoke/perl-5.12.2/cpan/build/Path-Class-0.21-S8qGdG/blib/lib:/home/sts/cpansmoke/perl-5.12.2/cpan/build/HTTP-Body-1.11-C8ERkE/blib/arch:/home/sts/cpansmoke/perl-5.12.2/cpan/build/HTTP-Body-1.11-C8ERkE/blib/lib:/home/sts/cpansmoke/perl-5.12.2/cpan/build/Test-Deep-0.108-En8dmq/blib/arch:/home/sts/cpansmoke/perl-5.12.2/cpan/build/Test-Deep-0.108-En8dmq/blib/lib:/home/sts/cpansmoke/perl-5.12.2/cpan/build/Data-Dump-1.19-K5glsK/blib/arch:/home/sts/cpansmoke/perl-5.12.2/cpan/build/Data-Dump-1.19-K5glsK/blib/lib:/home/sts/cpansmoke/perl-5.12.2/cpan/build/MooseX-Role-WithOverloading-0.08-Kerw4v/blib/arch:/home/sts/cpansmoke/perl-5.12.2/cpan/build/MooseX-Role-WithOverloading-0.08-Kerw4v/blib/lib:/home/sts/cpansmoke/perl-5.12.2/cpan/build/MooseX-Emulate-Class-Accessor-Fast-0.00903-yIqBPt/blib/arch:/home/sts/cpansmoke/perl-5.12.2/cpan/build/MooseX-Emulate-Class-Accessor-Fast-0.00903-yIqBPt/blib/lib:/home/sts/cpansmoke/perl-5.12.2/cpan/build/Params-Validate-0.95-JdpRIq/blib/arch:/home/sts/cpansmoke/perl-5.12.2/cpan/build/Params-Validate-0.95-JdpRIq/blib/lib:/home/sts/cpansmoke/perl-5.12.2/cpan/build/URI-Find-20100505-ecIf2O/blib/arch:/home/sts/cpansmoke/perl-5.12.2/cpan/build/URI-Find-20100505-ecIf2O/blib/lib:/home/sts/cpansmoke/perl-5.12.2/cpan/build/Data-Serializer-0.49-0TggX3/blib/arch:/home/sts/cpansmoke/perl-5.12.2/cpan/build/Data-Serializer-0.49-0TggX3/blib/lib:/home/sts/cpansmoke/perl-5.12.2/cpan/build/Class-Inspector-1.24-RjPhgh/blib/arch:/home/sts/cpansmoke/perl-5.12.2/cpan/build/Class-Inspector-1.24-RjPhgh/blib/lib
PERL5OPT =
PERL5_CPANPLUS_IS_RUNNING = 26398
PERL5_CPAN_IS_RUNNING = 26398
PERL5_CPAN_IS_RUNNING_IN_RECURSION = 8449,26398
PERL_CR_SMOKER_CURRENT = CatalystX-ExtJS-1.123000
PERL_EXTUTILS_AUTOINSTALL = --defaultdeps
PERL_MM_USE_DEFAULT = 1
SHELL = /bin/bash
TERM = screen
Perl special variables (and OS-specific diagnostics, for MSWin32):
$^X = /home/sts/cpansmoke/perl-5.12.2/bin/perl
$UID/$EUID = 1000 / 1000
$GID = 1000 1000
$EGID = 1000 1000
Perl module toolchain versions installed:
Module Have
------------------- -------
CPAN 1.94_56
Cwd 3.31
ExtUtils::CBuilder 0.27
ExtUtils::Command 1.16
ExtUtils::Install 1.55
ExtUtils::MakeMaker 6.56
ExtUtils::Manifest 1.57
ExtUtils::ParseXS 2.21
File::Spec 3.31_01
Module::Build 0.3603
Module::Signature n/a
Test::Harness 3.17
Test::More 0.96
YAML 0.72
YAML::Syck 1.15
version 0.82
--
Summary of my perl5 (revision 5 version 12 subversion 2) configuration:
Platform:
osname=linux, osvers=2.6.26-2-openvz-686, archname=i686-linux-thread-multi
uname='linux cpansmoke1 2.6.26-2-openvz-686 #1 smp thu sep 16 22:16:19 utc 2010 i686 gnulinux '
config_args='-des -Dusethreads -Dprefix=/home/sts/cpansmoke/perl-5.12.2'
hint=recommended, useposix=true, d_sigaction=define
useithreads=define, usemultiplicity=define
useperlio=define, d_sfio=undef, uselargefiles=define, usesocks=undef
use64bitint=undef, use64bitall=undef, uselongdouble=undef
usemymalloc=n, bincompat5005=undef
Compiler:
cc='cc', ccflags ='-D_REENTRANT -D_GNU_SOURCE -fno-strict-aliasing -pipe -fstack-protector -I/usr/local/include -D_LARGEFILE_SOURCE -D_FILE_OFFSET_BITS=64',
optimize='-O2',
cppflags='-D_REENTRANT -D_GNU_SOURCE -fno-strict-aliasing -pipe -fstack-protector -I/usr/local/include'
ccversion='', gccversion='4.3.2', gccosandvers=''
intsize=4, longsize=4, ptrsize=4, doublesize=8, byteorder=1234
d_longlong=define, longlongsize=8, d_longdbl=define, longdblsize=12
ivtype='long', ivsize=4, nvtype='double', nvsize=8, Off_t='off_t', lseeksize=8
alignbytes=4, prototype=define
Linker and Libraries:
ld='cc', ldflags =' -fstack-protector -L/usr/local/lib'
libpth=/usr/local/lib /lib /usr/lib
libs=-lnsl -ldb -ldl -lm -lcrypt -lutil -lpthread -lc
perllibs=-lnsl -ldl -lm -lcrypt -lutil -lpthread -lc
libc=/lib/libc-2.7.so, so=so, useshrplib=false, libperl=libperl.a
gnulibc_version='2.7'
Dynamic Linking:
dlsrc=dl_dlopen.xs, dlext=so, d_dlsymun=undef, ccdlflags='-Wl,-E'
cccdlflags='-fPIC', lddlflags='-shared -O2 -L/usr/local/lib -fstack-protector'
Characteristics of this binary (from libperl):
Compile-time options: MULTIPLICITY PERL_DONT_CREATE_GVSV
PERL_IMPLICIT_CONTEXT PERL_MALLOC_WRAP USE_ITHREADS
USE_LARGE_FILES USE_PERLIO USE_PERL_ATOF
USE_REENTRANT_API
Built under linux
Compiled at Oct 27 2010 20:24:10
%ENV:
PERL5LIB="/home/sts/cpansmoke/perl-5.12.2/cpan/build/Catalyst-Action-RenderView-0.14-R8SjY_/blib/arch:/home/sts/cpansmoke/perl-5.12.2/cpan/build/Catalyst-Action-RenderView-0.14-R8SjY_/blib/lib:/home/sts/cpansmoke/perl-5.12.2/cpan/build/HTML-FormFu-Model-DBIC-0.08002-gZVEJI/blib/arch:/home/sts/cpansmoke/perl-5.12.2/cpan/build/HTML-FormFu-Model-DBIC-0.08002-gZVEJI/blib/lib:/home/sts/cpansmoke/perl-5.12.2/cpan/build/SQL-Translator-0.11006-kcOnQU/blib/arch:/home/sts/cpansmoke/perl-5.12.2/cpan/build/SQL-Translator-0.11006-kcOnQU/blib/lib:/home/sts/cpansmoke/perl-5.12.2/cpan/build/Class-MakeMethods-1.01-1kNWyP/blib/arch:/home/sts/cpansmoke/perl-5.12.2/cpan/build/Class-MakeMethods-1.01-1kNWyP/blib/lib:/home/sts/cpansmoke/perl-5.12.2/cpan/build/Class-Base-0.03-UeXN_p/blib/arch:/home/sts/cpansmoke/perl-5.12.2/cpan/build/Class-Base-0.03-UeXN_p/blib/lib:/home/sts/cpansmoke/perl-5.12.2/cpan/build/XML-Writer-0.612-7BLALT/blib/arch:/home/sts/cpansmoke/perl-5.12.2/cpan/build/XML-Writer-0.612-7BLALT/blib/lib:/home/sts/cpansmoke/perl-5.12.2/cpan/build/Parse-RecDescent-1.965001-m4DHvG/blib/arch:/home/sts/cpansmoke/perl-5.12.2/cpan/build/Parse-RecDescent-1.965001-m4DHvG/blib/lib:/home/sts/cpansmoke/perl-5.12.2/cpan/build/DateTime-Format-SQLite-0.11-hyDPKR/blib/arch:/home/sts/cpansmoke/perl-5.12.2/cpan/build/DateTime-Format-SQLite-0.11-hyDPKR/blib/lib:/home/sts/cpansmoke/perl-5.12.2/cpan/build/HTML-FormFu-ExtJS-0.077-8SJbl5/blib/arch:/home/sts/cpansmoke/perl-5.12.2/cpan/build/HTML-FormFu-ExtJS-0.077-8SJbl5/blib/lib:/home/sts/cpansmoke/perl-5.12.2/cpan/build/Hash-Merge-Simple-0.05-2CtQ7Z/blib/arch:/home/sts/cpansmoke/perl-5.12.2/cpan/build/Hash-Merge-Simple-0.05-2CtQ7Z/blib/lib:/home/sts/cpansmoke/perl-5.12.2/cpan/build/Test-Most-0.23-KPet9w/blib/arch:/home/sts/cpansmoke/perl-5.12.2/cpan/build/Test-Most-0.23-KPet9w/blib/lib:/home/sts/cpansmoke/perl-5.12.2/cpan/build/Test-Differences-0.500-RfexRd/blib/arch:/home/sts/cpansmoke/perl-5.12.2/cpan/build/Test-Differences-0.500-RfexRd/blib/lib:/home/sts/cpansmoke/perl-5.12.2/cpan/build/Text-Diff-1.37-qAN4ZF/blib/arch:/home/sts/cpansmoke/perl-5.12.2/cpan/build/Text-Diff-1.37-qAN4ZF/blib/lib:/home/sts/cpansmoke/perl-5.12.2/cpan/build/Algorithm-Diff-1.1902-qZW7n6/blib/arch:/home/sts/cpansmoke/perl-5.12.2/cpan/build/Algorithm-Diff-1.1902-qZW7n6/blib/lib:/home/sts/cpansmoke/perl-5.12.2/cpan/build/Tie-Hash-Indexed-0.05-Jatw1G/blib/arch:/home/sts/cpansmoke/perl-5.12.2/cpan/build/Tie-Hash-Indexed-0.05-Jatw1G/blib/lib:/home/sts/cpansmoke/perl-5.12.2/cpan/build/Lingua-EN-Inflect-1.893-asVNSy/blib/arch:/home/sts/cpansmoke/perl-5.12.2/cpan/build/Lingua-EN-Inflect-1.893-asVNSy/blib/lib:/home/sts/cpansmoke/perl-5.12.2/cpan/build/Catalyst-Model-DBIC-Schema-0.43-jzb0h_/blib/arch:/home/sts/cpansmoke/perl-5.12.2/cpan/build/Catalyst-Model-DBIC-Schema-0.43-jzb0h_/blib/lib:/home/sts/cpansmoke/perl-5.12.2/cpan/build/Tie-IxHash-1.22-OOFlMY/blib/arch:/home/sts/cpansmoke/perl-5.12.2/cpan/build/Tie-IxHash-1.22-OOFlMY/blib/lib:/home/sts/cpansmoke/perl-5.12.2/cpan/build/CatalystX-Component-Traits-0.16-PCk9Xg/blib/arch:/home/sts/cpansmoke/perl-5.12.2/cpan/build/CatalystX-Component-Traits-0.16-PCk9Xg/blib/lib:/home/sts/cpansmoke/perl-5.12.2/cpan/build/MooseX-Traits-Pluggable-0.10-EpQbgO/blib/arch:/home/sts/cpansmoke/perl-5.12.2/cpan/build/MooseX-Traits-Pluggable-0.10-EpQbgO/blib/lib:/home/sts/cpansmoke/perl-5.12.2/cpan/build/HTML-FormFu-0.08002-Hmjorf/blib/arch:/home/sts/cpansmoke/perl-5.12.2/cpan/build/HTML-FormFu-0.08002-Hmjorf/blib/lib:/home/sts/cpansmoke/perl-5.12.2/cpan/build/Readonly-1.03-AHDjdj/blib/arch:/home/sts/cpansmoke/perl-5.12.2/cpan/build/Readonly-1.03-AHDjdj/blib/lib:/home/sts/cpansmoke/perl-5.12.2/cpan/build/Number-Format-1.73-uDeP0H/blib/arch:/home/sts/cpansmoke/perl-5.12.2/cpan/build/Number-Format-1.73-uDeP0H/blib/lib:/home/sts/cpansmoke/perl-5.12.2/cpan/build/HTML-TokeParser-Simple-3.15-hvVZMy/blib/arch:/home/sts/cpansmoke/perl-5.12.2/cpan/build/HTML-TokeParser-Simple-3.15-hvVZMy/blib/lib:/home/sts/cpansmoke/perl-5.12.2/cpan/build/Sub-Override-0.08-mNTV4A/blib/arch:/home/sts/cpansmoke/perl-5.12.2/cpan/build/Sub-Override-0.08-mNTV4A/blib/lib:/home/sts/cpansmoke/perl-5.12.2/cpan/build/DateTime-Format-Natural-0.91-6HW4pk/blib/arch:/home/sts/cpansmoke/perl-5.12.2/cpan/build/DateTime-Format-Natural-0.91-6HW4pk/blib/lib:/home/sts/cpansmoke/perl-5.12.2/cpan/build/boolean-0.23-ozQ6Ek/blib/arch:/home/sts/cpansmoke/perl-5.12.2/cpan/build/boolean-0.23-ozQ6Ek/blib/lib:/home/sts/cpansmoke/perl-5.12.2/cpan/build/Test-MockTime-0.12-zd01rR/blib/arch:/home/sts/cpansmoke/perl-5.12.2/cpan/build/Test-MockTime-0.12-zd01rR/blib/lib:/home/sts/cpansmoke/perl-5.12.2/cpan/build/File-ShareDir-1.02-4kMEUK/blib/arch:/home/sts/cpansmoke/perl-5.12.2/cpan/build/File-ShareDir-1.02-4kMEUK/blib/lib:/home/sts/cpansmoke/perl-5.12.2/cpan/build/Regexp-Common-2010010201-aJ1pS_/blib/arch:/home/sts/cpansmoke/perl-5.12.2/cpan/build/Regexp-Common-2010010201-aJ1pS_/blib/lib:/home/sts/cpansmoke/perl-5.12.2/cpan/build/Data-Visitor-0.27-SS01Qr/blib/arch:/home/sts/cpansmoke/perl-5.12.2/cpan/build/Data-Visitor-0.27-SS01Qr/blib/lib:/home/sts/cpansmoke/perl-5.12.2/cpan/build/Tie-ToObject-0.03-Ej4BXN/blib/arch:/home/sts/cpansmoke/perl-5.12.2/cpan/build/Tie-ToObject-0.03-Ej4BXN/blib/lib:/home/sts/cpansmoke/perl-5.12.2/cpan/build/Email-Valid-0.184-5BjxI5/blib/arch:/home/sts/cpansmoke/perl-5.12.2/cpan/build/Email-Valid-0.184-5BjxI5/blib/lib:/home/sts/cpansmoke/perl-5.12.2/cpan/build/Net-DNS-0.66-pLJwKk/blib/arch:/home/sts/cpansmoke/perl-5.12.2/cpan/build/Net-DNS-0.66-pLJwKk/blib/lib:/home/sts/cpansmoke/perl-5.12.2/cpan/build/Net-IP-1.25-F9Tq9W/blib/arch:/home/sts/cpansmoke/perl-5.12.2/cpan/build/Net-IP-1.25-F9Tq9W/blib/lib:/home/sts/cpansmoke/perl-5.12.2/cpan/build/HTML-Scrubber-0.08-XNh8ND/blib/arch:/home/sts/cpansmoke/perl-5.12.2/cpan/build/HTML-Scrubber-0.08-XNh8ND/blib/lib:/home/sts/cpansmoke/perl-5.12.2/cpan/build/Date-Calc-6.3-cqoL3y/blib/arch:/home/sts/cpansmoke/perl-5.12.2/cpan/build/Date-Calc-6.3-cqoL3y/blib/lib:/home/sts/cpansmoke/perl-5.12.2/cpan/build/Bit-Vector-7.1-Us8wZJ/blib/arch:/home/sts/cpansmoke/perl-5.12.2/cpan/build/Bit-Vector-7.1-Us8wZJ/blib/lib:/home/sts/cpansmoke/perl-5.12.2/cpan/build/Captcha-reCAPTCHA-0.94-Twzhs7/blib/arch:/home/sts/cpansmoke/perl-5.12.2/cpan/build/Captcha-reCAPTCHA-0.94-Twzhs7/blib/lib:/home/sts/cpansmoke/perl-5.12.2/cpan/build/HTML-Tiny-1.05-EwBGnV/blib/arch:/home/sts/cpansmoke/perl-5.12.2/cpan/build/HTML-Tiny-1.05-EwBGnV/blib/lib:/home/sts/cpansmoke/perl-5.12.2/cpan/build/Hash-Flatten-1.19-vwgQZR/blib/arch:/home/sts/cpansmoke/perl-5.12.2/cpan/build/Hash-Flatten-1.19-vwgQZR/blib/lib:/home/sts/cpansmoke/perl-5.12.2/cpan/build/Test-Assertions-1.054-5zRvWc/blib/arch:/home/sts/cpansmoke/perl-5.12.2/cpan/build/Test-Assertions-1.054-5zRvWc/blib/lib:/home/sts/cpansmoke/perl-5.12.2/cpan/build/Log-Trace-1.070-XWVsCy/blib/arch:/home/sts/cpansmoke/perl-5.12.2/cpan/build/Log-Trace-1.070-XWVsCy/blib/lib:/home/sts/cpansmoke/perl-5.12.2/cpan/build/DateTime-Format-Builder-0.80-qegE1a/blib/arch:/home/sts/cpansmoke/perl-5.12.2/cpan/build/DateTime-Format-Builder-0.80-qegE1a/blib/lib:/home/sts/cpansmoke/perl-5.12.2/cpan/build/Class-Factory-Util-1.7-yV2j30/blib/arch:/home/sts/cpansmoke/perl-5.12.2/cpan/build/Class-Factory-Util-1.7-yV2j30/blib/lib:/home/sts/cpansmoke/perl-5.12.2/cpan/build/YAML-LibYAML-0.34-RIK_d_/blib/arch:/home/sts/cpansmoke/perl-5.12.2/cpan/build/YAML-LibYAML-0.34-RIK_d_/blib/lib:/home/sts/cpansmoke/perl-5.12.2/cpan/build/DateTime-Format-Strptime-1.5000-F8ZBkS/blib/arch:/home/sts/cpansmoke/perl-5.12.2/cpan/build/DateTime-Format-Strptime-1.5000-F8ZBkS/blib/lib:/home/sts/cpansmoke/perl-5.12.2/cpan/build/DateTime-0.66-KdCrcC/blib/arch:/home/sts/cpansmoke/perl-5.12.2/cpan/build/DateTime-0.66-KdCrcC/blib/lib:/home/sts/cpansmoke/perl-5.12.2/cpan/build/DateTime-TimeZone-1.26-XWgRFJ/blib/arch:/home/sts/cpansmoke/perl-5.12.2/cpan/build/DateTime-TimeZone-1.26-XWgRFJ/blib/lib:/home/sts/cpansmoke/perl-5.12.2/cpan/build/Class-Singleton-1.4-kgIHiq/blib/arch:/home/sts/cpansmoke/perl-5.12.2/cpan/build/Class-Singleton-1.4-kgIHiq/blib/lib:/home/sts/cpansmoke/perl-5.12.2/cpan/build/Class-Load-0.06-bEuWOE/blib/arch:/home/sts/cpansmoke/perl-5.12.2/cpan/build/Class-Load-0.06-bEuWOE/blib/lib:/home/sts/cpansmoke/perl-5.12.2/cpan/build/DateTime-Locale-0.45-X5t4Km/blib/arch:/home/sts/cpansmoke/perl-5.12.2/cpan/build/DateTime-Locale-0.45-X5t4Km/blib/lib:/home/sts/cpansmoke/perl-5.12.2/cpan/build/DBIx-Class-0.08124-KbJ9Px/blib/arch:/home/sts/cpansmoke/perl-5.12.2/cpan/build/DBIx-Class-0.08124-KbJ9Px/blib/lib:/home/sts/cpansmoke/perl-5.12.2/cpan/build/Class-C3-Componentised-1.0006-sTZ3yP/blib/arch:/home/sts/cpansmoke/perl-5.12.2/cpan/build/Class-C3-Componentised-1.0006-sTZ3yP/blib/lib:/home/sts/cpansmoke/perl-5.12.2/cpan/build/Data-Page-2.02-b6Z10y/blib/arch:/home/sts/cpansmoke/perl-5.12.2/cpan/build/Data-Page-2.02-b6Z10y/blib/lib:/home/sts/cpansmoke/perl-5.12.2/cpan/build/Class-Accessor-Chained-0.01-aYn1m3/blib/arch:/home/sts/cpansmoke/perl-5.12.2/cpan/build/Class-Accessor-Chained-0.01-aYn1m3/blib/lib:/home/sts/cpansmoke/perl-5.12.2/cpan/build/Math-Base36-0.07-_Qjy8_/blib/arch:/home/sts/cpansmoke/perl-5.12.2/cpan/build/Math-Base36-0.07-_Qjy8_/blib/lib:/home/sts/cpansmoke/perl-5.12.2/cpan/build/Module-Find-0.10-0__Vuw/blib/arch:/home/sts/cpansmoke/perl-5.12.2/cpan/build/Module-Find-0.10-0__Vuw/blib/lib:/home/sts/cpansmoke/perl-5.12.2/cpan/build/SQL-Abstract-1.71-MWVpMd/blib/arch:/home/sts/cpansmoke/perl-5.12.2/cpan/build/SQL-Abstract-1.71-MWVpMd/blib/lib:/home/sts/cpansmoke/perl-5.12.2/cpan/build/Hash-Merge-0.12-IAw3KH/blib/arch:/home/sts/cpansmoke/perl-5.12.2/cpan/build/Hash-Merge-0.12-IAw3KH/blib/lib:/home/sts/cpansmoke/perl-5.12.2/cpan/build/Clone-0.31-WYHGZJ/blib/arch:/home/sts/cpansmoke/perl-5.12.2/cpan/build/Clone-0.31-WYHGZJ/blib/lib:/home/sts/cpansmoke/perl-5.12.2/cpan/build/Class-Accessor-Grouped-0.10000-fW4zJk/blib/arch:/home/sts/cpansmoke/perl-5.12.2/cpan/build/Class-Accessor-Grouped-0.10000-fW4zJk/blib/lib:/home/sts/cpansmoke/perl-5.12.2/cpan/build/Class-XSAccessor-1.09-NKiz0a/blib/arch:/home/sts/cpansmoke/perl-5.12.2/cpan/build/Class-XSAccessor-1.09-NKiz0a/blib/lib:/home/sts/cpansmoke/perl-5.12.2/cpan/build/Data-Dumper-Concise-2.012-kgcxdZ/blib/arch:/home/sts/cpansmoke/perl-5.12.2/cpan/build/Data-Dumper-Concise-2.012-kgcxdZ/blib/lib:/home/sts/cpansmoke/perl-5.12.2/cpan/build/Catalyst-View-TT-0.36-eQGFju/blib/arch:/home/sts/cpansmoke/perl-5.12.2/cpan/build/Catalyst-View-TT-0.36-eQGFju/blib/lib:/home/sts/cpansmoke/perl-5.12.2/cpan/build/Template-Timer-1.00-4Azlvv/blib/arch:/home/sts/cpansmoke/perl-5.12.2/cpan/build/Template-Timer-1.00-4Azlvv/blib/lib:/home/sts/cpansmoke/perl-5.12.2/cpan/build/Template-Toolkit-2.22-jFIKQa/blib/arch:/home/sts/cpansmoke/perl-5.12.2/cpan/build/Template-Toolkit-2.22-jFIKQa/blib/lib:/home/sts/cpansmoke/perl-5.12.2/cpan/build/AppConfig-1.66-dcn6og/blib/arch:/home/sts/cpansmoke/perl-5.12.2/cpan/build/AppConfig-1.66-dcn6og/blib/lib:/home/sts/cpansmoke/perl-5.12.2/cpan/build/Config-Any-0.20-iGdawv/blib/arch:/home/sts/cpansmoke/perl-5.12.2/cpan/build/Config-Any-0.20-iGdawv/blib/lib:/home/sts/cpansmoke/perl-5.12.2/cpan/build/Test-WWW-Mechanize-Catalyst-0.52-kPPJDA/blib/arch:/home/sts/cpansmoke/perl-5.12.2/cpan/build/Test-WWW-Mechanize-Catalyst-0.52-kPPJDA/blib/lib:/home/sts/cpansmoke/perl-5.12.2/cpan/build/Test-WWW-Mechanize-1.30-I8cze5/blib/arch:/home/sts/cpansmoke/perl-5.12.2/cpan/build/Test-WWW-Mechanize-1.30-I8cze5/blib/lib:/home/sts/cpansmoke/perl-5.12.2/cpan/build/Test-LongString-0.14-HHdTk6/blib/arch:/home/sts/cpansmoke/perl-5.12.2/cpan/build/Test-LongString-0.14-HHdTk6/blib/lib:/home/sts/cpansmoke/perl-5.12.2/cpan/build/Carp-Assert-More-1.12-66bi8p/blib/arch:/home/sts/cpansmoke/perl-5.12.2/cpan/build/Carp-Assert-More-1.12-66bi8p/blib/lib:/home/sts/cpansmoke/perl-5.12.2/cpan/build/Carp-Assert-0.20-chbkwd/blib/arch:/home/sts/cpansmoke/perl-5.12.2/cpan/build/Carp-Assert-0.20-chbkwd/blib/lib:/home/sts/cpansmoke/perl-5.12.2/cpan/build/HTML-Tree-4.1-3Pc5Ui/blib/arch:/home/sts/cpansmoke/perl-5.12.2/cpan/build/HTML-Tree-4.1-3Pc5Ui/blib/lib:/home/sts/cpansmoke/perl-5.12.2/cpan/build/WWW-Mechanize-1.66-_4hEqX/blib/arch:/home/sts/cpansmoke/perl-5.12.2/cpan/build/WWW-Mechanize-1.66-_4hEqX/blib/lib:/home/sts/cpansmoke/perl-5.12.2/cpan/build/HTTP-Server-Simple-0.43-HuWYoN/blib/arch:/home/sts/cpansmoke/perl-5.12.2/cpan/build/HTTP-Server-Simple-0.43-HuWYoN/blib/lib:/home/sts/cpansmoke/perl-5.12.2/cpan/build/Catalyst-Plugin-Session-State-Cookie-0.17-8LDB0q/blib/arch:/home/sts/cpansmoke/perl-5.12.2/cpan/build/Catalyst-Plugin-Session-State-Cookie-0.17-8LDB0q/blib/lib:/home/sts/cpansmoke/perl-5.12.2/cpan/build/Catalyst-Plugin-Session-0.31-ELFOcH/blib/arch:/home/sts/cpansmoke/perl-5.12.2/cpan/build/Catalyst-Plugin-Session-0.31-ELFOcH/blib/lib:/home/sts/cpansmoke/perl-5.12.2/cpan/build/Object-Signature-1.05-H7mq18/blib/arch:/home/sts/cpansmoke/perl-5.12.2/cpan/build/Object-Signature-1.05-H7mq18/blib/lib:/home/sts/cpansmoke/perl-5.12.2/cpan/build/JavaScript-Dumper-0.011-_lCRLv/blib/arch:/home/sts/cpansmoke/perl-5.12.2/cpan/build/JavaScript-Dumper-0.011-_lCRLv/blib/lib:/home/sts/cpansmoke/perl-5.12.2/cpan/build/Class-C3-0.23-jFc3cd/blib/arch:/home/sts/cpansmoke/perl-5.12.2/cpan/build/Class-C3-0.23-jFc3cd/blib/lib:/home/sts/cpansmoke/perl-5.12.2/cpan/build/Catalyst-View-JSON-0.31-N4NQYq/blib/arch:/home/sts/cpansmoke/perl-5.12.2/cpan/build/Catalyst-View-JSON-0.31-N4NQYq/blib/lib:/home/sts/cpansmoke/perl-5.12.2/cpan/build/JSON-Any-1.25-0LskP5/blib/arch:/home/sts/cpansmoke/perl-5.12.2/cpan/build/JSON-Any-1.25-0LskP5/blib/lib:/home/sts/cpansmoke/perl-5.12.2/cpan/build/YAML-0.72-rovMjM/blib/arch:/home/sts/cpansmoke/perl-5.12.2/cpan/build/YAML-0.72-rovMjM/blib/lib:/home/sts/cpansmoke/perl-5.12.2/cpan/build/Catalyst-Action-REST-0.87-hg9Fs2/blib/arch:/home/sts/cpansmoke/perl-5.12.2/cpan/build/Catalyst-Action-REST-0.87-hg9Fs2/blib/lib:/home/sts/cpansmoke/perl-5.12.2/cpan/build/Catalyst-Runtime-5.80029-GxFWD4/blib/arch:/home/sts/cpansmoke/perl-5.12.2/cpan/build/Catalyst-Runtime-5.80029-GxFWD4/blib/lib:/home/sts/cpansmoke/perl-5.12.2/cpan/build/Text-SimpleTable-2.03-ELH_R9/blib/arch:/home/sts/cpansmoke/perl-5.12.2/cpan/build/Text-SimpleTable-2.03-ELH_R9/blib/lib:/home/sts/cpansmoke/perl-5.12.2/cpan/build/Class-C3-Adopt-NEXT-0.13-uRTabU/blib/arch:/home/sts/cpansmoke/perl-5.12.2/cpan/build/Class-C3-Adopt-NEXT-0.13-uRTabU/blib/lib:/home/sts/cpansmoke/perl-5.12.2/cpan/build/HTTP-Request-AsCGI-1.2-aBGZuG/blib/arch:/home/sts/cpansmoke/perl-5.12.2/cpan/build/HTTP-Request-AsCGI-1.2-aBGZuG/blib/lib:/home/sts/cpansmoke/perl-5.12.2/cpan/build/Class-Accessor-0.34-7BhTWC/blib/arch:/home/sts/cpansmoke/perl-5.12.2/cpan/build/Class-Accessor-0.34-7BhTWC/blib/lib:/home/sts/cpansmoke/perl-5.12.2/cpan/build/MooseX-Types-Common-0.001002-Eht7cO/blib/arch:/home/sts/cpansmoke/perl-5.12.2/cpan/build/MooseX-Types-Common-0.001002-Eht7cO/blib/lib:/home/sts/cpansmoke/perl-5.12.2/cpan/build/MooseX-MethodAttributes-0.24-AWwEaT/blib/arch:/home/sts/cpansmoke/perl-5.12.2/cpan/build/MooseX-MethodAttributes-0.24-AWwEaT/blib/lib:/home/sts/cpansmoke/perl-5.12.2/cpan/build/Tree-Simple-VisitorFactory-0.10-uKydpJ/blib/arch:/home/sts/cpansmoke/perl-5.12.2/cpan/build/Tree-Simple-VisitorFactory-0.10-uKydpJ/blib/lib:/home/sts/cpansmoke/perl-5.12.2/cpan/build/MooseX-Getopt-0.33-WrkucT/blib/arch:/home/sts/cpansmoke/perl-5.12.2/cpan/build/MooseX-Getopt-0.33-WrkucT/blib/lib:/home/sts/cpansmoke/perl-5.12.2/cpan/build/Test-Warn-0.22-QSPpi1/blib/arch:/home/sts/cpansmoke/perl-5.12.2/cpan/build/Test-Warn-0.22-QSPpi1/blib/lib:/home/sts/cpansmoke/perl-5.12.2/cpan/build/Tree-DAG_Node-1.06-LyGryw/blib/arch:/home/sts/cpansmoke/perl-5.12.2/cpan/build/Tree-DAG_Node-1.06-LyGryw/blib/lib:/home/sts/cpansmoke/perl-5.12.2/cpan/build/Getopt-Long-Descriptive-0.086-Vr2cTi/blib/arch:/home/sts/cpansmoke/perl-5.12.2/cpan/build/Getopt-Long-Descriptive-0.086-Vr2cTi/blib/lib:/home/sts/cpansmoke/perl-5.12.2/cpan/build/String-RewritePrefix-0.006-2ur0SX/blib/arch:/home/sts/cpansmoke/perl-5.12.2/cpan/build/String-RewritePrefix-0.006-2ur0SX/blib/lib:/home/sts/cpansmoke/perl-5.12.2/cpan/build/Tree-Simple-1.18-6fNPvp/blib/arch:/home/sts/cpansmoke/perl-5.12.2/cpan/build/Tree-Simple-1.18-6fNPvp/blib/lib:/home/sts/cpansmoke/perl-5.12.2/cpan/build/CGI-Simple-1.112-w3VYIJ/blib/arch:/home/sts/cpansmoke/perl-5.12.2/cpan/build/CGI-Simple-1.112-w3VYIJ/blib/lib:/home/sts/cpansmoke/perl-5.12.2/cpan/build/IO-stringy-2.110-01xrEp/blib/arch:/home/sts/cpansmoke/perl-5.12.2/cpan/build/IO-stringy-2.110-01xrEp/blib/lib:/home/sts/cpansmoke/perl-5.12.2/cpan/build/Path-Class-0.21-S8qGdG/blib/arch:/home/sts/cpansmoke/perl-5.12.2/cpan/build/Path-Class-0.21-S8qGdG/blib/lib:/home/sts/cpansmoke/perl-5.12.2/cpan/build/HTTP-Body-1.11-C8ERkE/blib/arch:/home/sts/cpansmoke/perl-5.12.2/cpan/build/HTTP-Body-1.11-C8ERkE/blib/lib:/home/sts/cpansmoke/perl-5.12.2/cpan/build/Test-Deep-0.108-En8dmq/blib/arch:/home/sts/cpansmoke/perl-5.12.2/cpan/build/Test-Deep-0.108-En8dmq/blib/lib:/home/sts/cpansmoke/perl-5.12.2/cpan/build/Data-Dump-1.19-K5glsK/blib/arch:/home/sts/cpansmoke/perl-5.12.2/cpan/build/Data-Dump-1.19-K5glsK/blib/lib:/home/sts/cpansmoke/perl-5.12.2/cpan/build/MooseX-Role-WithOverloading-0.08-Kerw4v/blib/arch:/home/sts/cpansmoke/perl-5.12.2/cpan/build/MooseX-Role-WithOverloading-0.08-Kerw4v/blib/lib:/home/sts/cpansmoke/perl-5.12.2/cpan/build/MooseX-Emulate-Class-Accessor-Fast-0.00903-yIqBPt/blib/arch:/home/sts/cpansmoke/perl-5.12.2/cpan/build/MooseX-Emulate-Class-Accessor-Fast-0.00903-yIqBPt/blib/lib:/home/sts/cpansmoke/perl-5.12.2/cpan/build/Params-Validate-0.95-JdpRIq/blib/arch:/home/sts/cpansmoke/perl-5.12.2/cpan/build/Params-Validate-0.95-JdpRIq/blib/lib:/home/sts/cpansmoke/perl-5.12.2/cpan/build/URI-Find-20100505-ecIf2O/blib/arch:/home/sts/cpansmoke/perl-5.12.2/cpan/build/URI-Find-20100505-ecIf2O/blib/lib:/home/sts/cpansmoke/perl-5.12.2/cpan/build/Data-Serializer-0.49-0TggX3/blib/arch:/home/sts/cpansmoke/perl-5.12.2/cpan/build/Data-Serializer-0.49-0TggX3/blib/lib:/home/sts/cpansmoke/perl-5.12.2/cpan/build/Class-Inspector-1.24-RjPhgh/blib/arch:/home/sts/cpansmoke/perl-5.12.2/cpan/build/Class-Inspector-1.24-RjPhgh/blib/lib"
PERL5OPT=""
PERL5_CPANPLUS_IS_RUNNING="26398"
PERL5_CPAN_IS_RUNNING="26398"
PERL5_CPAN_IS_RUNNING_IN_RECURSION="8449,26398"
PERL_CR_SMOKER_CURRENT="CatalystX-ExtJS-1.123000"
PERL_EXTUTILS_AUTOINSTALL="--defaultdeps"
PERL_MM_USE_DEFAULT="1"
@INC:
/home/sts/cpansmoke/perl-5.12.2/cpan/build/Catalyst-Action-RenderView-0.14-R8SjY_/blib/arch
/home/sts/cpansmoke/perl-5.12.2/cpan/build/Catalyst-Action-RenderView-0.14-R8SjY_/blib/lib
/home/sts/cpansmoke/perl-5.12.2/cpan/build/HTML-FormFu-Model-DBIC-0.08002-gZVEJI/blib/arch
/home/sts/cpansmoke/perl-5.12.2/cpan/build/HTML-FormFu-Model-DBIC-0.08002-gZVEJI/blib/lib
/home/sts/cpansmoke/perl-5.12.2/cpan/build/SQL-Translator-0.11006-kcOnQU/blib/arch
/home/sts/cpansmoke/perl-5.12.2/cpan/build/SQL-Translator-0.11006-kcOnQU/blib/lib
/home/sts/cpansmoke/perl-5.12.2/cpan/build/Class-MakeMethods-1.01-1kNWyP/blib/arch
/home/sts/cpansmoke/perl-5.12.2/cpan/build/Class-MakeMethods-1.01-1kNWyP/blib/lib
/home/sts/cpansmoke/perl-5.12.2/cpan/build/Class-Base-0.03-UeXN_p/blib/arch
/home/sts/cpansmoke/perl-5.12.2/cpan/build/Class-Base-0.03-UeXN_p/blib/lib
/home/sts/cpansmoke/perl-5.12.2/cpan/build/XML-Writer-0.612-7BLALT/blib/arch
/home/sts/cpansmoke/perl-5.12.2/cpan/build/XML-Writer-0.612-7BLALT/blib/lib
/home/sts/cpansmoke/perl-5.12.2/cpan/build/Parse-RecDescent-1.965001-m4DHvG/blib/arch
/home/sts/cpansmoke/perl-5.12.2/cpan/build/Parse-RecDescent-1.965001-m4DHvG/blib/lib
/home/sts/cpansmoke/perl-5.12.2/cpan/build/DateTime-Format-SQLite-0.11-hyDPKR/blib/arch
/home/sts/cpansmoke/perl-5.12.2/cpan/build/DateTime-Format-SQLite-0.11-hyDPKR/blib/lib
/home/sts/cpansmoke/perl-5.12.2/cpan/build/HTML-FormFu-ExtJS-0.077-8SJbl5/blib/arch
/home/sts/cpansmoke/perl-5.12.2/cpan/build/HTML-FormFu-ExtJS-0.077-8SJbl5/blib/lib
/home/sts/cpansmoke/perl-5.12.2/cpan/build/Hash-Merge-Simple-0.05-2CtQ7Z/blib/arch
/home/sts/cpansmoke/perl-5.12.2/cpan/build/Hash-Merge-Simple-0.05-2CtQ7Z/blib/lib
/home/sts/cpansmoke/perl-5.12.2/cpan/build/Test-Most-0.23-KPet9w/blib/arch
/home/sts/cpansmoke/perl-5.12.2/cpan/build/Test-Most-0.23-KPet9w/blib/lib
/home/sts/cpansmoke/perl-5.12.2/cpan/build/Test-Differences-0.500-RfexRd/blib/arch
/home/sts/cpansmoke/perl-5.12.2/cpan/build/Test-Differences-0.500-RfexRd/blib/lib
/home/sts/cpansmoke/perl-5.12.2/cpan/build/Text-Diff-1.37-qAN4ZF/blib/arch
/home/sts/cpansmoke/perl-5.12.2/cpan/build/Text-Diff-1.37-qAN4ZF/blib/lib
/home/sts/cpansmoke/perl-5.12.2/cpan/build/Algorithm-Diff-1.1902-qZW7n6/blib/arch
/home/sts/cpansmoke/perl-5.12.2/cpan/build/Algorithm-Diff-1.1902-qZW7n6/blib/lib
/home/sts/cpansmoke/perl-5.12.2/cpan/build/Tie-Hash-Indexed-0.05-Jatw1G/blib/arch
/home/sts/cpansmoke/perl-5.12.2/cpan/build/Tie-Hash-Indexed-0.05-Jatw1G/blib/lib
/home/sts/cpansmoke/perl-5.12.2/cpan/build/Lingua-EN-Inflect-1.893-asVNSy/blib/arch
/home/sts/cpansmoke/perl-5.12.2/cpan/build/Lingua-EN-Inflect-1.893-asVNSy/blib/lib
/home/sts/cpansmoke/perl-5.12.2/cpan/build/Catalyst-Model-DBIC-Schema-0.43-jzb0h_/blib/arch
/home/sts/cpansmoke/perl-5.12.2/cpan/build/Catalyst-Model-DBIC-Schema-0.43-jzb0h_/blib/lib
/home/sts/cpansmoke/perl-5.12.2/cpan/build/Tie-IxHash-1.22-OOFlMY/blib/arch
/home/sts/cpansmoke/perl-5.12.2/cpan/build/Tie-IxHash-1.22-OOFlMY/blib/lib
/home/sts/cpansmoke/perl-5.12.2/cpan/build/CatalystX-Component-Traits-0.16-PCk9Xg/blib/arch
/home/sts/cpansmoke/perl-5.12.2/cpan/build/CatalystX-Component-Traits-0.16-PCk9Xg/blib/lib
/home/sts/cpansmoke/perl-5.12.2/cpan/build/MooseX-Traits-Pluggable-0.10-EpQbgO/blib/arch
/home/sts/cpansmoke/perl-5.12.2/cpan/build/MooseX-Traits-Pluggable-0.10-EpQbgO/blib/lib
/home/sts/cpansmoke/perl-5.12.2/cpan/build/HTML-FormFu-0.08002-Hmjorf/blib/arch
/home/sts/cpansmoke/perl-5.12.2/cpan/build/HTML-FormFu-0.08002-Hmjorf/blib/lib
/home/sts/cpansmoke/perl-5.12.2/cpan/build/Readonly-1.03-AHDjdj/blib/arch
/home/sts/cpansmoke/perl-5.12.2/cpan/build/Readonly-1.03-AHDjdj/blib/lib
/home/sts/cpansmoke/perl-5.12.2/cpan/build/Number-Format-1.73-uDeP0H/blib/arch
/home/sts/cpansmoke/perl-5.12.2/cpan/build/Number-Format-1.73-uDeP0H/blib/lib
/home/sts/cpansmoke/perl-5.12.2/cpan/build/HTML-TokeParser-Simple-3.15-hvVZMy/blib/arch
/home/sts/cpansmoke/perl-5.12.2/cpan/build/HTML-TokeParser-Simple-3.15-hvVZMy/blib/lib
/home/sts/cpansmoke/perl-5.12.2/cpan/build/Sub-Override-0.08-mNTV4A/blib/arch
/home/sts/cpansmoke/perl-5.12.2/cpan/build/Sub-Override-0.08-mNTV4A/blib/lib
/home/sts/cpansmoke/perl-5.12.2/cpan/build/DateTime-Format-Natural-0.91-6HW4pk/blib/arch
/home/sts/cpansmoke/perl-5.12.2/cpan/build/DateTime-Format-Natural-0.91-6HW4pk/blib/lib
/home/sts/cpansmoke/perl-5.12.2/cpan/build/boolean-0.23-ozQ6Ek/blib/arch
/home/sts/cpansmoke/perl-5.12.2/cpan/build/boolean-0.23-ozQ6Ek/blib/lib
/home/sts/cpansmoke/perl-5.12.2/cpan/build/Test-MockTime-0.12-zd01rR/blib/arch
/home/sts/cpansmoke/perl-5.12.2/cpan/build/Test-MockTime-0.12-zd01rR/blib/lib
/home/sts/cpansmoke/perl-5.12.2/cpan/build/File-ShareDir-1.02-4kMEUK/blib/arch
/home/sts/cpansmoke/perl-5.12.2/cpan/build/File-ShareDir-1.02-4kMEUK/blib/lib
/home/sts/cpansmoke/perl-5.12.2/cpan/build/Regexp-Common-2010010201-aJ1pS_/blib/arch
/home/sts/cpansmoke/perl-5.12.2/cpan/build/Regexp-Common-2010010201-aJ1pS_/blib/lib
/home/sts/cpansmoke/perl-5.12.2/cpan/build/Data-Visitor-0.27-SS01Qr/blib/arch
/home/sts/cpansmoke/perl-5.12.2/cpan/build/Data-Visitor-0.27-SS01Qr/blib/lib
/home/sts/cpansmoke/perl-5.12.2/cpan/build/Tie-ToObject-0.03-Ej4BXN/blib/arch
/home/sts/cpansmoke/perl-5.12.2/cpan/build/Tie-ToObject-0.03-Ej4BXN/blib/lib
/home/sts/cpansmoke/perl-5.12.2/cpan/build/Email-Valid-0.184-5BjxI5/blib/arch
/home/sts/cpansmoke/perl-5.12.2/cpan/build/Email-Valid-0.184-5BjxI5/blib/lib
/home/sts/cpansmoke/perl-5.12.2/cpan/build/Net-DNS-0.66-pLJwKk/blib/arch
/home/sts/cpansmoke/perl-5.12.2/cpan/build/Net-DNS-0.66-pLJwKk/blib/lib
/home/sts/cpansmoke/perl-5.12.2/cpan/build/Net-IP-1.25-F9Tq9W/blib/arch
/home/sts/cpansmoke/perl-5.12.2/cpan/build/Net-IP-1.25-F9Tq9W/blib/lib
/home/sts/cpansmoke/perl-5.12.2/cpan/build/HTML-Scrubber-0.08-XNh8ND/blib/arch
/home/sts/cpansmoke/perl-5.12.2/cpan/build/HTML-Scrubber-0.08-XNh8ND/blib/lib
/home/sts/cpansmoke/perl-5.12.2/cpan/build/Date-Calc-6.3-cqoL3y/blib/arch
/home/sts/cpansmoke/perl-5.12.2/cpan/build/Date-Calc-6.3-cqoL3y/blib/lib
/home/sts/cpansmoke/perl-5.12.2/cpan/build/Bit-Vector-7.1-Us8wZJ/blib/arch
/home/sts/cpansmoke/perl-5.12.2/cpan/build/Bit-Vector-7.1-Us8wZJ/blib/lib
/home/sts/cpansmoke/perl-5.12.2/cpan/build/Captcha-reCAPTCHA-0.94-Twzhs7/blib/arch
/home/sts/cpansmoke/perl-5.12.2/cpan/build/Captcha-reCAPTCHA-0.94-Twzhs7/blib/lib
/home/sts/cpansmoke/perl-5.12.2/cpan/build/HTML-Tiny-1.05-EwBGnV/blib/arch
/home/sts/cpansmoke/perl-5.12.2/cpan/build/HTML-Tiny-1.05-EwBGnV/blib/lib
/home/sts/cpansmoke/perl-5.12.2/cpan/build/Hash-Flatten-1.19-vwgQZR/blib/arch
/home/sts/cpansmoke/perl-5.12.2/cpan/build/Hash-Flatten-1.19-vwgQZR/blib/lib
/home/sts/cpansmoke/perl-5.12.2/cpan/build/Test-Assertions-1.054-5zRvWc/blib/arch
/home/sts/cpansmoke/perl-5.12.2/cpan/build/Test-Assertions-1.054-5zRvWc/blib/lib
/home/sts/cpansmoke/perl-5.12.2/cpan/build/Log-Trace-1.070-XWVsCy/blib/arch
/home/sts/cpansmoke/perl-5.12.2/cpan/build/Log-Trace-1.070-XWVsCy/blib/lib
/home/sts/cpansmoke/perl-5.12.2/cpan/build/DateTime-Format-Builder-0.80-qegE1a/blib/arch
/home/sts/cpansmoke/perl-5.12.2/cpan/build/DateTime-Format-Builder-0.80-qegE1a/blib/lib
/home/sts/cpansmoke/perl-5.12.2/cpan/build/Class-Factory-Util-1.7-yV2j30/blib/arch
/home/sts/cpansmoke/perl-5.12.2/cpan/build/Class-Factory-Util-1.7-yV2j30/blib/lib
/home/sts/cpansmoke/perl-5.12.2/cpan/build/YAML-LibYAML-0.34-RIK_d_/blib/arch
/home/sts/cpansmoke/perl-5.12.2/cpan/build/YAML-LibYAML-0.34-RIK_d_/blib/lib
/home/sts/cpansmoke/perl-5.12.2/cpan/build/DateTime-Format-Strptime-1.5000-F8ZBkS/blib/arch
/home/sts/cpansmoke/perl-5.12.2/cpan/build/DateTime-Format-Strptime-1.5000-F8ZBkS/blib/lib
/home/sts/cpansmoke/perl-5.12.2/cpan/build/DateTime-0.66-KdCrcC/blib/arch
/home/sts/cpansmoke/perl-5.12.2/cpan/build/DateTime-0.66-KdCrcC/blib/lib
/home/sts/cpansmoke/perl-5.12.2/cpan/build/DateTime-TimeZone-1.26-XWgRFJ/blib/arch
/home/sts/cpansmoke/perl-5.12.2/cpan/build/DateTime-TimeZone-1.26-XWgRFJ/blib/lib
/home/sts/cpansmoke/perl-5.12.2/cpan/build/Class-Singleton-1.4-kgIHiq/blib/arch
/home/sts/cpansmoke/perl-5.12.2/cpan/build/Class-Singleton-1.4-kgIHiq/blib/lib
/home/sts/cpansmoke/perl-5.12.2/cpan/build/Class-Load-0.06-bEuWOE/blib/arch
/home/sts/cpansmoke/perl-5.12.2/cpan/build/Class-Load-0.06-bEuWOE/blib/lib
/home/sts/cpansmoke/perl-5.12.2/cpan/build/DateTime-Locale-0.45-X5t4Km/blib/arch
/home/sts/cpansmoke/perl-5.12.2/cpan/build/DateTime-Locale-0.45-X5t4Km/blib/lib
/home/sts/cpansmoke/perl-5.12.2/cpan/build/DBIx-Class-0.08124-KbJ9Px/blib/arch
/home/sts/cpansmoke/perl-5.12.2/cpan/build/DBIx-Class-0.08124-KbJ9Px/blib/lib
/home/sts/cpansmoke/perl-5.12.2/cpan/build/Class-C3-Componentised-1.0006-sTZ3yP/blib/arch
/home/sts/cpansmoke/perl-5.12.2/cpan/build/Class-C3-Componentised-1.0006-sTZ3yP/blib/lib
/home/sts/cpansmoke/perl-5.12.2/cpan/build/Data-Page-2.02-b6Z10y/blib/arch
/home/sts/cpansmoke/perl-5.12.2/cpan/build/Data-Page-2.02-b6Z10y/blib/lib
/home/sts/cpansmoke/perl-5.12.2/cpan/build/Class-Accessor-Chained-0.01-aYn1m3/blib/arch
/home/sts/cpansmoke/perl-5.12.2/cpan/build/Class-Accessor-Chained-0.01-aYn1m3/blib/lib
/home/sts/cpansmoke/perl-5.12.2/cpan/build/Math-Base36-0.07-_Qjy8_/blib/arch
/home/sts/cpansmoke/perl-5.12.2/cpan/build/Math-Base36-0.07-_Qjy8_/blib/lib
/home/sts/cpansmoke/perl-5.12.2/cpan/build/Module-Find-0.10-0__Vuw/blib/arch
/home/sts/cpansmoke/perl-5.12.2/cpan/build/Module-Find-0.10-0__Vuw/blib/lib
/home/sts/cpansmoke/perl-5.12.2/cpan/build/SQL-Abstract-1.71-MWVpMd/blib/arch
/home/sts/cpansmoke/perl-5.12.2/cpan/build/SQL-Abstract-1.71-MWVpMd/blib/lib
/home/sts/cpansmoke/perl-5.12.2/cpan/build/Hash-Merge-0.12-IAw3KH/blib/arch
/home/sts/cpansmoke/perl-5.12.2/cpan/build/Hash-Merge-0.12-IAw3KH/blib/lib
/home/sts/cpansmoke/perl-5.12.2/cpan/build/Clone-0.31-WYHGZJ/blib/arch
/home/sts/cpansmoke/perl-5.12.2/cpan/build/Clone-0.31-WYHGZJ/blib/lib
/home/sts/cpansmoke/perl-5.12.2/cpan/build/Class-Accessor-Grouped-0.10000-fW4zJk/blib/arch
/home/sts/cpansmoke/perl-5.12.2/cpan/build/Class-Accessor-Grouped-0.10000-fW4zJk/blib/lib
/home/sts/cpansmoke/perl-5.12.2/cpan/build/Class-XSAccessor-1.09-NKiz0a/blib/arch
/home/sts/cpansmoke/perl-5.12.2/cpan/build/Class-XSAccessor-1.09-NKiz0a/blib/lib
/home/sts/cpansmoke/perl-5.12.2/cpan/build/Data-Dumper-Concise-2.012-kgcxdZ/blib/arch
/home/sts/cpansmoke/perl-5.12.2/cpan/build/Data-Dumper-Concise-2.012-kgcxdZ/blib/lib
/home/sts/cpansmoke/perl-5.12.2/cpan/build/Catalyst-View-TT-0.36-eQGFju/blib/arch
/home/sts/cpansmoke/perl-5.12.2/cpan/build/Catalyst-View-TT-0.36-eQGFju/blib/lib
/home/sts/cpansmoke/perl-5.12.2/cpan/build/Template-Timer-1.00-4Azlvv/blib/arch
/home/sts/cpansmoke/perl-5.12.2/cpan/build/Template-Timer-1.00-4Azlvv/blib/lib
/home/sts/cpansmoke/perl-5.12.2/cpan/build/Template-Toolkit-2.22-jFIKQa/blib/arch
/home/sts/cpansmoke/perl-5.12.2/cpan/build/Template-Toolkit-2.22-jFIKQa/blib/lib
/home/sts/cpansmoke/perl-5.12.2/cpan/build/AppConfig-1.66-dcn6og/blib/arch
/home/sts/cpansmoke/perl-5.12.2/cpan/build/AppConfig-1.66-dcn6og/blib/lib
/home/sts/cpansmoke/perl-5.12.2/cpan/build/Config-Any-0.20-iGdawv/blib/arch
/home/sts/cpansmoke/perl-5.12.2/cpan/build/Config-Any-0.20-iGdawv/blib/lib
/home/sts/cpansmoke/perl-5.12.2/cpan/build/Test-WWW-Mechanize-Catalyst-0.52-kPPJDA/blib/arch
/home/sts/cpansmoke/perl-5.12.2/cpan/build/Test-WWW-Mechanize-Catalyst-0.52-kPPJDA/blib/lib
/home/sts/cpansmoke/perl-5.12.2/cpan/build/Test-WWW-Mechanize-1.30-I8cze5/blib/arch
/home/sts/cpansmoke/perl-5.12.2/cpan/build/Test-WWW-Mechanize-1.30-I8cze5/blib/lib
/home/sts/cpansmoke/perl-5.12.2/cpan/build/Test-LongString-0.14-HHdTk6/blib/arch
/home/sts/cpansmoke/perl-5.12.2/cpan/build/Test-LongString-0.14-HHdTk6/blib/lib
/home/sts/cpansmoke/perl-5.12.2/cpan/build/Carp-Assert-More-1.12-66bi8p/blib/arch
/home/sts/cpansmoke/perl-5.12.2/cpan/build/Carp-Assert-More-1.12-66bi8p/blib/lib
/home/sts/cpansmoke/perl-5.12.2/cpan/build/Carp-Assert-0.20-chbkwd/blib/arch
/home/sts/cpansmoke/perl-5.12.2/cpan/build/Carp-Assert-0.20-chbkwd/blib/lib
/home/sts/cpansmoke/perl-5.12.2/cpan/build/HTML-Tree-4.1-3Pc5Ui/blib/arch
/home/sts/cpansmoke/perl-5.12.2/cpan/build/HTML-Tree-4.1-3Pc5Ui/blib/lib
/home/sts/cpansmoke/perl-5.12.2/cpan/build/WWW-Mechanize-1.66-_4hEqX/blib/arch
/home/sts/cpansmoke/perl-5.12.2/cpan/build/WWW-Mechanize-1.66-_4hEqX/blib/lib
/home/sts/cpansmoke/perl-5.12.2/cpan/build/HTTP-Server-Simple-0.43-HuWYoN/blib/arch
/home/sts/cpansmoke/perl-5.12.2/cpan/build/HTTP-Server-Simple-0.43-HuWYoN/blib/lib
/home/sts/cpansmoke/perl-5.12.2/cpan/build/Catalyst-Plugin-Session-State-Cookie-0.17-8LDB0q/blib/arch
/home/sts/cpansmoke/perl-5.12.2/cpan/build/Catalyst-Plugin-Session-State-Cookie-0.17-8LDB0q/blib/lib
/home/sts/cpansmoke/perl-5.12.2/cpan/build/Catalyst-Plugin-Session-0.31-ELFOcH/blib/arch
/home/sts/cpansmoke/perl-5.12.2/cpan/build/Catalyst-Plugin-Session-0.31-ELFOcH/blib/lib
/home/sts/cpansmoke/perl-5.12.2/cpan/build/Object-Signature-1.05-H7mq18/blib/arch
/home/sts/cpansmoke/perl-5.12.2/cpan/build/Object-Signature-1.05-H7mq18/blib/lib
/home/sts/cpansmoke/perl-5.12.2/cpan/build/JavaScript-Dumper-0.011-_lCRLv/blib/arch
/home/sts/cpansmoke/perl-5.12.2/cpan/build/JavaScript-Dumper-0.011-_lCRLv/blib/lib
/home/sts/cpansmoke/perl-5.12.2/cpan/build/Class-C3-0.23-jFc3cd/blib/arch
/home/sts/cpansmoke/perl-5.12.2/cpan/build/Class-C3-0.23-jFc3cd/blib/lib
/home/sts/cpansmoke/perl-5.12.2/cpan/build/Catalyst-View-JSON-0.31-N4NQYq/blib/arch
/home/sts/cpansmoke/perl-5.12.2/cpan/build/Catalyst-View-JSON-0.31-N4NQYq/blib/lib
/home/sts/cpansmoke/perl-5.12.2/cpan/build/JSON-Any-1.25-0LskP5/blib/arch
/home/sts/cpansmoke/perl-5.12.2/cpan/build/JSON-Any-1.25-0LskP5/blib/lib
/home/sts/cpansmoke/perl-5.12.2/cpan/build/YAML-0.72-rovMjM/blib/arch
/home/sts/cpansmoke/perl-5.12.2/cpan/build/YAML-0.72-rovMjM/blib/lib
/home/sts/cpansmoke/perl-5.12.2/cpan/build/Catalyst-Action-REST-0.87-hg9Fs2/blib/arch
/home/sts/cpansmoke/perl-5.12.2/cpan/build/Catalyst-Action-REST-0.87-hg9Fs2/blib/lib
/home/sts/cpansmoke/perl-5.12.2/cpan/build/Catalyst-Runtime-5.80029-GxFWD4/blib/arch
/home/sts/cpansmoke/perl-5.12.2/cpan/build/Catalyst-Runtime-5.80029-GxFWD4/blib/lib
/home/sts/cpansmoke/perl-5.12.2/cpan/build/Text-SimpleTable-2.03-ELH_R9/blib/arch
/home/sts/cpansmoke/perl-5.12.2/cpan/build/Text-SimpleTable-2.03-ELH_R9/blib/lib
/home/sts/cpansmoke/perl-5.12.2/cpan/build/Class-C3-Adopt-NEXT-0.13-uRTabU/blib/arch
/home/sts/cpansmoke/perl-5.12.2/cpan/build/Class-C3-Adopt-NEXT-0.13-uRTabU/blib/lib
/home/sts/cpansmoke/perl-5.12.2/cpan/build/HTTP-Request-AsCGI-1.2-aBGZuG/blib/arch
/home/sts/cpansmoke/perl-5.12.2/cpan/build/HTTP-Request-AsCGI-1.2-aBGZuG/blib/lib
/home/sts/cpansmoke/perl-5.12.2/cpan/build/Class-Accessor-0.34-7BhTWC/blib/arch
/home/sts/cpansmoke/perl-5.12.2/cpan/build/Class-Accessor-0.34-7BhTWC/blib/lib
/home/sts/cpansmoke/perl-5.12.2/cpan/build/MooseX-Types-Common-0.001002-Eht7cO/blib/arch
/home/sts/cpansmoke/perl-5.12.2/cpan/build/MooseX-Types-Common-0.001002-Eht7cO/blib/lib
/home/sts/cpansmoke/perl-5.12.2/cpan/build/MooseX-MethodAttributes-0.24-AWwEaT/blib/arch
/home/sts/cpansmoke/perl-5.12.2/cpan/build/MooseX-MethodAttributes-0.24-AWwEaT/blib/lib
/home/sts/cpansmoke/perl-5.12.2/cpan/build/Tree-Simple-VisitorFactory-0.10-uKydpJ/blib/arch
/home/sts/cpansmoke/perl-5.12.2/cpan/build/Tree-Simple-VisitorFactory-0.10-uKydpJ/blib/lib
/home/sts/cpansmoke/perl-5.12.2/cpan/build/MooseX-Getopt-0.33-WrkucT/blib/arch
/home/sts/cpansmoke/perl-5.12.2/cpan/build/MooseX-Getopt-0.33-WrkucT/blib/lib
/home/sts/cpansmoke/perl-5.12.2/cpan/build/Test-Warn-0.22-QSPpi1/blib/arch
/home/sts/cpansmoke/perl-5.12.2/cpan/build/Test-Warn-0.22-QSPpi1/blib/lib
/home/sts/cpansmoke/perl-5.12.2/cpan/build/Tree-DAG_Node-1.06-LyGryw/blib/arch
/home/sts/cpansmoke/perl-5.12.2/cpan/build/Tree-DAG_Node-1.06-LyGryw/blib/lib
/home/sts/cpansmoke/perl-5.12.2/cpan/build/Getopt-Long-Descriptive-0.086-Vr2cTi/blib/arch
/home/sts/cpansmoke/perl-5.12.2/cpan/build/Getopt-Long-Descriptive-0.086-Vr2cTi/blib/lib
/home/sts/cpansmoke/perl-5.12.2/cpan/build/String-RewritePrefix-0.006-2ur0SX/blib/arch
/home/sts/cpansmoke/perl-5.12.2/cpan/build/String-RewritePrefix-0.006-2ur0SX/blib/lib
/home/sts/cpansmoke/perl-5.12.2/cpan/build/Tree-Simple-1.18-6fNPvp/blib/arch
/home/sts/cpansmoke/perl-5.12.2/cpan/build/Tree-Simple-1.18-6fNPvp/blib/lib
/home/sts/cpansmoke/perl-5.12.2/cpan/build/CGI-Simple-1.112-w3VYIJ/blib/arch
/home/sts/cpansmoke/perl-5.12.2/cpan/build/CGI-Simple-1.112-w3VYIJ/blib/lib
/home/sts/cpansmoke/perl-5.12.2/cpan/build/IO-stringy-2.110-01xrEp/blib/arch
/home/sts/cpansmoke/perl-5.12.2/cpan/build/IO-stringy-2.110-01xrEp/blib/lib
/home/sts/cpansmoke/perl-5.12.2/cpan/build/Path-Class-0.21-S8qGdG/blib/arch
/home/sts/cpansmoke/perl-5.12.2/cpan/build/Path-Class-0.21-S8qGdG/blib/lib
/home/sts/cpansmoke/perl-5.12.2/cpan/build/HTTP-Body-1.11-C8ERkE/blib/arch
/home/sts/cpansmoke/perl-5.12.2/cpan/build/HTTP-Body-1.11-C8ERkE/blib/lib
/home/sts/cpansmoke/perl-5.12.2/cpan/build/Test-Deep-0.108-En8dmq/blib/arch
/home/sts/cpansmoke/perl-5.12.2/cpan/build/Test-Deep-0.108-En8dmq/blib/lib
/home/sts/cpansmoke/perl-5.12.2/cpan/build/Data-Dump-1.19-K5glsK/blib/arch
/home/sts/cpansmoke/perl-5.12.2/cpan/build/Data-Dump-1.19-K5glsK/blib/lib
/home/sts/cpansmoke/perl-5.12.2/cpan/build/MooseX-Role-WithOverloading-0.08-Kerw4v/blib/arch
/home/sts/cpansmoke/perl-5.12.2/cpan/build/MooseX-Role-WithOverloading-0.08-Kerw4v/blib/lib
/home/sts/cpansmoke/perl-5.12.2/cpan/build/MooseX-Emulate-Class-Accessor-Fast-0.00903-yIqBPt/blib/arch
/home/sts/cpansmoke/perl-5.12.2/cpan/build/MooseX-Emulate-Class-Accessor-Fast-0.00903-yIqBPt/blib/lib
/home/sts/cpansmoke/perl-5.12.2/cpan/build/Params-Validate-0.95-JdpRIq/blib/arch
/home/sts/cpansmoke/perl-5.12.2/cpan/build/Params-Validate-0.95-JdpRIq/blib/lib
/home/sts/cpansmoke/perl-5.12.2/cpan/build/URI-Find-20100505-ecIf2O/blib/arch
/home/sts/cpansmoke/perl-5.12.2/cpan/build/URI-Find-20100505-ecIf2O/blib/lib
/home/sts/cpansmoke/perl-5.12.2/cpan/build/Data-Serializer-0.49-0TggX3/blib/arch
/home/sts/cpansmoke/perl-5.12.2/cpan/build/Data-Serializer-0.49-0TggX3/blib/lib
/home/sts/cpansmoke/perl-5.12.2/cpan/build/Class-Inspector-1.24-RjPhgh/blib/arch
/home/sts/cpansmoke/perl-5.12.2/cpan/build/Class-Inspector-1.24-RjPhgh/blib/lib
/home/sts/cpansmoke/perl-5.12.2/lib/site_perl/5.12.2/i686-linux-thread-multi
/home/sts/cpansmoke/perl-5.12.2/lib/site_perl/5.12.2
/home/sts/cpansmoke/perl-5.12.2/lib/5.12.2/i686-linux-thread-multi
/home/sts/cpansmoke/perl-5.12.2/lib/5.12.2
.