Report for Catalyst-Plugin-SmartURI-0.040

Back
From: metabase:user:a0e144f2-373b-11e6-8edd-c6848980b093
Subject: PASS Catalyst-Plugin-SmartURI-0.040 v5.25.1 GNU/Linux
Date: 2016-06-25T19:47:31Z

This distribution has been tested as part of the CPAN Testers
project, supporting the Perl programming language.  See
http://wiki.cpantesters.org/ for more information or email
questions to cpan-testers-discuss@perl.org


--
Dear Rafael Kitover,

This is a computer-generated report for Catalyst-Plugin-SmartURI-0.040
on perl 5.25.1, created by CPAN-Reporter-1.2017.

Thank you for uploading your work to CPAN.  Congratulations!
All tests were successful.

Sections of this report:

    * Tester comments
    * Program output
    * Prerequisites
    * Environment and other context

------------------------------
TESTER COMMENTS
------------------------------

Additional comments from tester:

none provided

------------------------------
PROGRAM OUTPUT
------------------------------

Output from '/usr/bin/make test':

PERL_DL_NONLAZY=1 "/usr/bin/perl5.25.1" "-MExtUtils::Command::MM" "-MTest::Harness" "-e" "undef *Test::Harness::Switches; test_harness(0, 'blib/lib', 'blib/arch')" t/*.t
t/00-compile.t .......... ok
t/01-basic.t ............ ok
t/02-c-a-rest-compat.t .. ok
t/03-uri-class.t ........ ok
t/04-no-uri.t ........... ok
t/release-pod-syntax.t .. skipped: these tests are for release candidate testing
All tests successful.
Files=6, Tests=16,  2 wallclock secs ( 0.01 usr  0.01 sys +  1.88 cusr  0.15 csys =  2.05 CPU)
Result: PASS

------------------------------
PREREQUISITES
------------------------------

Prerequisite modules loaded:

requires:

    Module                   Need     Have     
    ------------------------ -------- ---------
    Catalyst::Exception      0        0        
    Catalyst::Request        0        0        
    Class::C3::Componentised 0        1.001000 
    Class::Load              0        0.23     
    Moose                    0        2.1804   
    mro                      0        1.18     
    namespace::clean         0        0.27     
    perl                     5.008001 5.025001 
    Scalar::Util             0        1.45     

build_requires:

    Module                   Need     Have     
    ------------------------ -------- ---------
    blib                     1.01     1.06     
    Catalyst                 0        5.90102  
    Catalyst::Action::REST   0        1.20     
    Catalyst::Controller     0        0        
    Catalyst::Test           0        0        
    ExtUtils::MakeMaker      0        7.18     
    File::Spec               0        3.59     
    FindBin                  0        1.51     
    HTTP::Request            0        6.11     
    IO::Handle               0        1.35     
    IPC::Open3               0        1.20     
    lib                      0        0.63     
    parent                   0        0.234    
    strict                   0        1.11     
    Test::More               0        1.302030 
    Test::Warnings           0        0.026    
    Time::HiRes              0        1.9727_03
    Time::Out                0        0.11     
    URI::SmartURI            0        0.032    
    warnings                 0        1.36     

configure_requires:

    Module                   Need     Have     
    ------------------------ -------- ---------
    ExtUtils::MakeMaker      0        7.18     


------------------------------
ENVIRONMENT AND OTHER CONTEXT
------------------------------

Environment variables:

    LANG = en_US.UTF-8
    PATH = /usr/local/bin:/usr/bin:/bin:/usr/local/games:/usr/games
    PERL5LIB = /home/dcollins/toolchain/.afl2/.cpan/build/if-0.0606-gt0IuJ/blib/arch:/home/dcollins/toolchain/.afl2/.cpan/build/if-0.0606-gt0IuJ/blib/lib:/home/dcollins/toolchain/.afl2/.cpan/build/if-0.0604-7eTxCC/blib/arch:/home/dcollins/toolchain/.afl2/.cpan/build/if-0.0604-7eTxCC/blib/lib:/home/dcollins/toolchain/.afl2/.cpan/build/if-0.0605-6F34pg/blib/arch:/home/dcollins/toolchain/.afl2/.cpan/build/if-0.0605-6F34pg/blib/lib:/home/dcollins/toolchain/.afl2/.cpan/build/FusionInventory-Agent-2.3.17-RG_eek/blib/arch:/home/dcollins/toolchain/.afl2/.cpan/build/FusionInventory-Agent-2.3.17-RG_eek/blib/lib:/home/dcollins/toolchain/.afl2/.cpan/build/Lingua-Jspell-1.90-z0QPne/blib/arch:/home/dcollins/toolchain/.afl2/.cpan/build/Lingua-Jspell-1.90-z0QPne/blib/lib:/home/dcollins/toolchain/.afl2/.cpan/build/Parallel-ForkManager-1.17-ZokbP6/blib/arch:/home/dcollins/toolchain/.afl2/.cpan/build/Parallel-ForkManager-1.17-ZokbP6/blib/lib
    PERL5OPT = 
    PERL5_CPANPLUS_IS_RUNNING = 41570
    PERL5_CPAN_IS_RUNNING = 41570
    SHELL = /bin/bash
    TERM = screen

Perl special variables (and OS-specific diagnostics, for MSWin32):

    $^X = /usr/bin/perl5.25.1
    $UID/$EUID = 1002 / 1002
    $GID = 1005 1005
    $EGID = 1005 1005

Perl module toolchain versions installed:

    Module              Have      
    ------------------- ----------
    CPAN                2.11      
    CPAN::Meta          2.150005  
    Cwd                 3.59      
    ExtUtils::CBuilder  0.280224_1
    ExtUtils::Command   7.18      
    ExtUtils::Install   2.04      
    ExtUtils::MakeMaker 7.18      
    ExtUtils::Manifest  1.70      
    ExtUtils::ParseXS   3.31      
    File::Spec          3.59      
    JSON                2.90      
    JSON::PP            2.27400   
    Module::Build       0.4218    
    Module::Signature   0.80      
    Parse::CPAN::Meta   1.4419    
    Test::Harness       3.36      
    Test::More          1.302030  
    YAML                1.15      
    YAML::Syck          1.29      
    version             0.9917    


--

Summary of my perl5 (revision 5 version 25 subversion 1) configuration:
  Commit id: 5b145eb412326b9b57276229cfde0ef09e7ca2bc
  Platform:
    osname=linux, osvers=4.6.0-1-amd64, archname=x86_64-linux-ld
    uname='linux nightshade64 4.6.0-1-amd64 #1 smp debian 4.6.1-1 (2016-06-06) x86_64 gnulinux '
    config_args='-Dusedevel -Dprefix=/usr -Dcc=ccache gcc-6 -Duselongdouble -Duse64bitall -Doptimize=-O3 -Dversiononly -Uman1dir -Uman3dir -Dsiteprefix=/home/dcollins/toolchain/local -des'
    hint=recommended, useposix=true, d_sigaction=define
    useithreads=undef, usemultiplicity=undef
    use64bitint=define, use64bitall=define, uselongdouble=define
    usemymalloc=n, bincompat5005=undef
  Compiler:
    cc='ccache gcc-6', ccflags ='-fwrapv -fno-strict-aliasing -pipe -fstack-protector-strong -I/usr/local/include -D_LARGEFILE_SOURCE -D_FILE_OFFSET_BITS=64',
    optimize='-O3',
    cppflags='-fwrapv -fno-strict-aliasing -pipe -fstack-protector-strong -I/usr/local/include'
    ccversion='', gccversion='6.1.1 20160519', gccosandvers=''
    intsize=4, longsize=8, ptrsize=8, doublesize=8, byteorder=12345678, doublekind=3
    d_longlong=define, longlongsize=8, d_longdbl=define, longdblsize=16, longdblkind=3
    ivtype='long', ivsize=8, nvtype='long double', nvsize=16, Off_t='off_t', lseeksize=8
    alignbytes=16, prototype=define
  Linker and Libraries:
    ld='ccache gcc-6', ldflags =' -fstack-protector-strong -L/usr/local/lib'
    libpth=/usr/local/lib /usr/lib/gcc/x86_64-linux-gnu/6/include-fixed /usr/include/x86_64-linux-gnu /usr/lib /lib/x86_64-linux-gnu /lib/../lib /usr/lib/x86_64-linux-gnu /usr/lib/../lib /lib
    libs=-lpthread -lnsl -ldl -lm -lcrypt -lutil -lc
    perllibs=-lpthread -lnsl -ldl -lm -lcrypt -lutil -lc
    libc=libc-2.22.so, so=so, useshrplib=false, libperl=libperl.a
    gnulibc_version='2.22'
  Dynamic Linking:
    dlsrc=dl_dlopen.xs, dlext=so, d_dlsymun=undef, ccdlflags='-Wl,-E'
    cccdlflags='-fPIC', lddlflags='-shared -O3 -L/usr/local/lib -fstack-protector-strong'


Characteristics of this binary (from libperl): 
  Compile-time options: HAS_TIMES PERLIO_LAYERS PERL_COPY_ON_WRITE
                        PERL_DONT_CREATE_GVSV
                        PERL_HASH_FUNC_ONE_AT_A_TIME_HARD PERL_MALLOC_WRAP
                        PERL_OP_PARENT PERL_PRESERVE_IVUV PERL_USE_DEVEL
                        USE_64_BIT_ALL USE_64_BIT_INT USE_LARGE_FILES
                        USE_LOCALE USE_LOCALE_COLLATE USE_LOCALE_CTYPE
                        USE_LOCALE_NUMERIC USE_LOCALE_TIME USE_LONG_DOUBLE
                        USE_PERLIO USE_PERL_ATOF
  Built under linux
  Compiled at Jan  1 1970 00:00:00
  %ENV:
    PERL5LIB="/home/dcollins/toolchain/.afl2/.cpan/build/if-0.0606-gt0IuJ/blib/arch:/home/dcollins/toolchain/.afl2/.cpan/build/if-0.0606-gt0IuJ/blib/lib:/home/dcollins/toolchain/.afl2/.cpan/build/if-0.0604-7eTxCC/blib/arch:/home/dcollins/toolchain/.afl2/.cpan/build/if-0.0604-7eTxCC/blib/lib:/home/dcollins/toolchain/.afl2/.cpan/build/if-0.0605-6F34pg/blib/arch:/home/dcollins/toolchain/.afl2/.cpan/build/if-0.0605-6F34pg/blib/lib:/home/dcollins/toolchain/.afl2/.cpan/build/FusionInventory-Agent-2.3.17-RG_eek/blib/arch:/home/dcollins/toolchain/.afl2/.cpan/build/FusionInventory-Agent-2.3.17-RG_eek/blib/lib:/home/dcollins/toolchain/.afl2/.cpan/build/Lingua-Jspell-1.90-z0QPne/blib/arch:/home/dcollins/toolchain/.afl2/.cpan/build/Lingua-Jspell-1.90-z0QPne/blib/lib:/home/dcollins/toolchain/.afl2/.cpan/build/Parallel-ForkManager-1.17-ZokbP6/blib/arch:/home/dcollins/toolchain/.afl2/.cpan/build/Parallel-ForkManager-1.17-ZokbP6/blib/lib"
    PERL5OPT=""
    PERL5_CPANPLUS_IS_RUNNING="41570"
    PERL5_CPAN_IS_RUNNING="41570"
  @INC:
    /home/dcollins/toolchain/.afl2/.cpan/build/if-0.0606-gt0IuJ/blib/arch
    /home/dcollins/toolchain/.afl2/.cpan/build/if-0.0606-gt0IuJ/blib/lib
    /home/dcollins/toolchain/.afl2/.cpan/build/if-0.0604-7eTxCC/blib/arch
    /home/dcollins/toolchain/.afl2/.cpan/build/if-0.0604-7eTxCC/blib/lib
    /home/dcollins/toolchain/.afl2/.cpan/build/if-0.0605-6F34pg/blib/arch
    /home/dcollins/toolchain/.afl2/.cpan/build/if-0.0605-6F34pg/blib/lib
    /home/dcollins/toolchain/.afl2/.cpan/build/FusionInventory-Agent-2.3.17-RG_eek/blib/arch
    /home/dcollins/toolchain/.afl2/.cpan/build/FusionInventory-Agent-2.3.17-RG_eek/blib/lib
    /home/dcollins/toolchain/.afl2/.cpan/build/Lingua-Jspell-1.90-z0QPne/blib/arch
    /home/dcollins/toolchain/.afl2/.cpan/build/Lingua-Jspell-1.90-z0QPne/blib/lib
    /home/dcollins/toolchain/.afl2/.cpan/build/Parallel-ForkManager-1.17-ZokbP6/blib/arch
    /home/dcollins/toolchain/.afl2/.cpan/build/Parallel-ForkManager-1.17-ZokbP6/blib/lib
    /home/dcollins/toolchain/local/lib/perl5/site_perl/5.25.1/x86_64-linux-ld
    /home/dcollins/toolchain/local/lib/perl5/site_perl/5.25.1
    /usr/lib/perl5/5.25.1/x86_64-linux-ld
    /usr/lib/perl5/5.25.1
    .