Dist-Zilla-Plugin-RemovePrereqs-Provided v0.001001 Perl 5 v5.27.4 i86pc-solaris-thread-multi
- Status
- Pass
- From
- Serguei Trouchelle (STRO)
- Dist
-
Dist-Zilla-Plugin-RemovePrereqs-Provided v0.001001
- Platform
- Perl 5 v5.27.4 i86pc-solaris-thread-multi
- Date
- 2017-09-30 04:56:01
- ID
- a7dd193c-a59b-11e7-8d01-954b9c1647a6
This distribution has been tested as part of the CPAN Testers
project, supporting the Perl programming language. See
http://wiki.cpantesters.org/ for more information or email
questions to cpan-testers-discuss@perl.org
--
Dear Kent Fredric,
This is a computer-generated report for Dist-Zilla-Plugin-RemovePrereqs-Provided-0.001001
on perl 5.27.4, created by CPAN-Reporter-1.2018.
Thank you for uploading your work to CPAN. Congratulations!
All tests were successful.
Sections of this report:
* Tester comments
* Program output
* Prerequisites
* Environment and other context
------------------------------
TESTER COMMENTS
------------------------------
Additional comments from tester:
this report is from an automated smoke testing program
and was not reviewed by a human for accuracy
------------------------------
PROGRAM OUTPUT
------------------------------
Output from '/usr/bin/make test':
PERL_DL_NONLAZY=1 "/home/stro/perl/5.27.4t/bin/perl" "-MExtUtils::Command::MM" "-MTest::Harness" "-e" "undef *Test::Harness::Switches; test_harness(0, 'blib/lib', 'blib/arch')" t/*.t t/00-compile/*.t
t/00-compile/lib_Dist_Zilla_Plugin_RemovePrereqs_Provided_pm.t .. ok
#
# Versions for all modules listed in MYMETA.json (including optional ones):
#
# === Configure Requires ===
#
# Module Want Have
# ------------------- ---- ----
# ExtUtils::MakeMaker any 7.30
#
# === Configure Recommends ===
#
# Module Want Have
# ------------------- ---- ----
# ExtUtils::MakeMaker 7.00 7.30
#
# === Build Requires ===
#
# Module Want Have
# ------------------- ---- ----
# ExtUtils::MakeMaker any 7.30
#
# === Test Requires ===
#
# Module Want Have
# ------------------------------- -------- --------
# Dist::Zilla::Plugin::GatherDir any 6.010
# Dist::Zilla::Plugin::Prereqs any 6.010
# Dist::Zilla::Util::Test::KENTNL 1.005000 1.005014
# ExtUtils::MakeMaker any 7.30
# File::Spec any 3.68
# Test::DZil any 6.010
# Test::More any 1.302096
#
# === Test Recommends ===
#
# Module Want Have
# ------------------------------------------ -------- --------
# CPAN::Meta 2.120900 2.150010
# Dist::Zilla::Plugin::MetaProvides::Package any 2.004003
# ExtUtils::MakeMaker 7.00 7.30
# Test::More 0.99 1.302096
#
# === Runtime Requires ===
#
# Module Want Have
# ------------------------------- ---- --------
# Dist::Zilla::Role::PrereqSource any 6.010
# Dist::Zilla::Util::ConfigDumper any 0.003009
# Moose any 2.2006
# Moose::Util::TypeConstraints any 2.2006
# strict any 1.11
# warnings any 1.37
#
# === Runtime Recommends ===
#
# Module Want Have
# ------ ----- ------
# Moose 2.000 2.2006
#
t/00-report-prereqs.t ........................................... ok
t/01_basic.t .................................................... ok
All tests successful.
Files=3, Tests=4, 2 wallclock secs ( 0.02 usr 0.01 sys + 1.54 cusr 0.16 csys = 1.73 CPU)
Result: PASS
------------------------------
PREREQUISITES
------------------------------
Prerequisite modules loaded:
requires:
Module Need Have
------------------------------------------ -------- --------
Dist::Zilla::Role::PrereqSource 0 6.010
Dist::Zilla::Util::ConfigDumper 0 0.003009
Moose 0 2.2006
Moose::Util::TypeConstraints 0 2.2006
perl 5.006 5.027004
strict 0 1.11
warnings 0 1.37
build_requires:
Module Need Have
------------------------------------------ -------- --------
Dist::Zilla::Plugin::GatherDir 0 6.010
Dist::Zilla::Plugin::Prereqs 0 6.010
Dist::Zilla::Util::Test::KENTNL 1.005000 1.005014
ExtUtils::MakeMaker 0 7.30
File::Spec 0 3.68
Test::DZil 0 6.010
Test::More 0 1.302096
configure_requires:
Module Need Have
------------------------------------------ -------- --------
ExtUtils::MakeMaker 0 7.30
perl 5.006 5.027004
opt_requires:
Module Need Have
------------------------------------------ -------- --------
Moose 2.000 2.2006
opt_build_requires:
Module Need Have
------------------------------------------ -------- --------
CPAN::Meta 2.120900 2.150010
Dist::Zilla::Plugin::MetaProvides::Package 0 2.004003
ExtUtils::MakeMaker 7.00 7.30
Test::More 0.99 1.302096
------------------------------
ENVIRONMENT AND OTHER CONTEXT
------------------------------
Environment variables:
AUTOMATED_TESTING = 1
LANG = en_US.UTF-8
PATH = /usr/gnu/bin:/usr/bin:/usr/sbin:/sbin:/usr/sfw/bin:
PERL5LIB =
PERL5OPT =
PERL5_CPANPLUS_IS_RUNNING = 7861
PERL5_CPAN_IS_RUNNING = 7861
PERL5_CPAN_IS_RUNNING_IN_RECURSION = 6486,7861
PERL_CR_SMOKER_CURRENT = Dist-Zilla-PluginBundle-Author-SKIRMESS-0.023
PERL_EXTUTILS_AUTOINSTALL = --defaultdeps
PERL_MM_USE_DEFAULT = 1
PERL_USE_UNSAFE_INC = 1
SHELL = /bin/bash
TERM = xterm-256color
Perl special variables (and OS-specific diagnostics, for MSWin32):
$^X = /home/stro/perl/5.27.4t/bin/perl
$UID/$EUID = 101 / 101
$GID = 10 10
$EGID = 10 10
Perl module toolchain versions installed:
Module Have
------------------- --------
CPAN 2.18
CPAN::Meta 2.150010
Cwd 3.68
ExtUtils::CBuilder 0.280228
ExtUtils::Command 7.30
ExtUtils::Install 2.14
ExtUtils::MakeMaker 7.30
ExtUtils::Manifest 1.70
ExtUtils::ParseXS 3.35
File::Spec 3.68
JSON 2.94
JSON::PP 2.94
Module::Build 0.4224
Module::Signature n/a
Parse::CPAN::Meta 2.150010
Test::Harness 3.39
Test::More 1.302096
YAML 1.23
YAML::Syck 1.30
version 0.9918
--
Summary of my perl5 (revision 5 version 27 subversion 4) configuration:
Platform:
osname=solaris
osvers=2.11
archname=i86pc-solaris-thread-multi
uname='sunos vm-openindiana-001 5.11 illumos-ed992b0aac i86pc i386 i86pc solaris '
config_args=''
hint=recommended
useposix=true
d_sigaction=define
useithreads=define
usemultiplicity=define
use64bitint=undef
use64bitall=undef
uselongdouble=undef
usemymalloc=n
default_inc_excludes_dot=define
bincompat5005=undef
Compiler:
cc='/opt/SUNWspro/bin/cc'
ccflags ='-D_REENTRANT -I/usr/gnu/include -D_LARGEFILE_SOURCE -D_FILE_OFFSET_BITS=64 -DPERL_USE_SAFE_PUTENV'
optimize='-O'
cppflags='-D_REENTRANT -I/usr/gnu/include'
ccversion='Sun C 5.10 SunOS_i386 2009/06/03'
gccversion=''
gccosandvers=''
intsize=4
longsize=4
ptrsize=4
doublesize=8
byteorder=1234
doublekind=3
d_longlong=define
longlongsize=8
d_longdbl=define
longdblsize=12
longdblkind=3
ivtype='long'
ivsize=4
nvtype='double'
nvsize=8
Off_t='off_t'
lseeksize=8
alignbytes=4
prototype=define
Linker and Libraries:
ld='/opt/SUNWspro/bin/cc'
ldflags =' -L/usr/lib -L/usr/ccs/lib -L/opt/sunstudio12.1/prod/lib -L/lib -L/usr/gnu/lib '
libpth=/usr/lib /usr/ccs/lib /opt/sunstudio12.1/prod/lib /lib /usr/gnu/lib
libs=-lpthread -lsocket -lnsl -lgdbm -ldb -ldl -lm -lc
perllibs=-lpthread -lsocket -lnsl -ldl -lm -lc
libc=/lib/libc.so
so=so
useshrplib=true
libperl=libperl.so
gnulibc_version=''
Dynamic Linking:
dlsrc=dl_dlopen.xs
dlext=so
d_dlsymun=undef
ccdlflags=' -R /home/stro/perl/5.27.4t/lib/5.27.4/i86pc-solaris-thread-multi/CORE'
cccdlflags='-KPIC'
lddlflags='-G -L/usr/lib -L/usr/ccs/lib -L/opt/sunstudio12.1/prod/lib -L/lib -L/usr/gnu/lib'
Characteristics of this binary (from libperl):
Compile-time options:
HAS_TIMES
MULTIPLICITY
PERLIO_LAYERS
PERL_COPY_ON_WRITE
PERL_DONT_CREATE_GVSV
PERL_IMPLICIT_CONTEXT
PERL_MALLOC_WRAP
PERL_OP_PARENT
PERL_PRESERVE_IVUV
PERL_USE_SAFE_PUTENV
USE_ITHREADS
USE_LARGE_FILES
USE_LOCALE
USE_LOCALE_COLLATE
USE_LOCALE_CTYPE
USE_LOCALE_NUMERIC
USE_LOCALE_TIME
USE_PERLIO
USE_PERL_ATOF
USE_REENTRANT_API
Built under solaris
Compiled at Sep 22 2017 16:59:51
%ENV:
PERL5LIB=""
PERL5OPT=""
PERL5_CPANPLUS_IS_RUNNING="7861"
PERL5_CPAN_IS_RUNNING="7861"
PERL5_CPAN_IS_RUNNING_IN_RECURSION="6486,7861"
PERL_CR_SMOKER_CURRENT="Dist-Zilla-PluginBundle-Author-SKIRMESS-0.023"
PERL_EXTUTILS_AUTOINSTALL="--defaultdeps"
PERL_MM_USE_DEFAULT="1"
PERL_USE_UNSAFE_INC="1"
@INC:
/home/stro/perl/5.27.4t/lib/site_perl/5.27.4/i86pc-solaris-thread-multi
/home/stro/perl/5.27.4t/lib/site_perl/5.27.4
/home/stro/perl/5.27.4t/lib/5.27.4/i86pc-solaris-thread-multi
/home/stro/perl/5.27.4t/lib/5.27.4
.