Salvation-MacroProcessor v0.93 Perl 5 v5.24.3 RC1 x86_64-linux

Status
Pass
From
Slaven Rezić (SREZIC)
Dist
Salvation-MacroProcessor v0.93
Platform
Perl 5 v5.24.3 RC1 x86_64-linux
Date
2017-09-15 11:47:30
ID
a7dd9fba-9a0b-11e7-ad6c-a619b243f06b
This distribution has been tested as part of the CPAN Testers
project, supporting the Perl programming language.  See
http://wiki.cpantesters.org/ for more information or email
questions to cpan-testers-discuss@perl.org


--
Dear Gennadiy Filatov,

This is a computer-generated report for Salvation-MacroProcessor-0.93
on perl 5.24.3, created by CPAN-Reporter-1.2018.

Thank you for uploading your work to CPAN.  Congratulations!
All tests were successful.

Sections of this report:

    * Tester comments
    * Program output
    * Prerequisites
    * Environment and other context

------------------------------
TESTER COMMENTS
------------------------------

Additional comments from tester:

none provided

------------------------------
PROGRAM OUTPUT
------------------------------

Output from './Build test':

t/00-description_adding/00-bare/00-method.t ............................................................. ok
t/00-description_adding/00-bare/01-attribute.t .......................................................... ok
t/00-description_adding/00-bare/02-stub_subroutine.t .................................................... ok
t/00-description_adding/01-with_query_parts/00-method/00-static.t ....................................... ok
t/00-description_adding/01-with_query_parts/00-method/01-dynamic/00-no_args.t ........................... ok
t/00-description_adding/01-with_query_parts/00-method/01-dynamic/01-with_args.t ......................... ok
t/00-description_adding/01-with_query_parts/01-attribute/00-static.t .................................... ok
t/00-description_adding/01-with_query_parts/01-attribute/01-dynamic/00-no_args.t ........................ ok
t/00-description_adding/01-with_query_parts/01-attribute/01-dynamic/01-with_args.t ...................... ok
t/00-description_adding/01-with_query_parts/01-attribute/01-dynamic/02-default_query_part_generation.t .. ok
t/00-description_adding/02-with_postfilter/00-method.t .................................................. ok
t/00-description_adding/02-with_postfilter/01-attribute.t ............................................... ok
t/01-simple_select.t .................................................................................... ok
t/02-share_adding.t ..................................................................................... ok
t/03-select_with_shares.t ............................................................................... ok
t/04-connector_adding.t ................................................................................. ok
t/05-complex_composition/00-roles.t ..................................................................... ok
t/05-complex_composition/01-inheritance.t ............................................................... ok
t/05-complex_composition/02-import.t .................................................................... ok
t/05-complex_composition/03-mixed.t ..................................................................... ok
t/05-complex_composition/04-chained_import.t ............................................................ ok
t/06-complex_select.t ................................................................................... ok
t/07-aliasing.t ......................................................................................... ok
All tests successful.
Files=23, Tests=118,  5 wallclock secs ( 0.04 usr  0.12 sys +  4.11 cusr  0.50 csys =  4.77 CPU)
Result: PASS

------------------------------
PREREQUISITES
------------------------------

Prerequisite modules loaded:

requires:

    Module                      Need    Have    
    --------------------------- ------- --------
    B::Hooks::EndOfScope        0.11    0.21    
    Carp::Assert                0.20    0.21    
    Class::Load                 0.13    0.24    
    Class::Load::XS             0.03    0.10    
    Data::OptList               0.107   0.110   
    Devel::GlobalDestruction    0.04    0.14    
    Eval::Closure               0.08    0.14    
    List::MoreUtils             0.33    0.425   
    Module::Runtime             0.013   0.015   
    Moose                       2.0402  2.2006  
    MooseX::StrictConstructor   0.19    0.21    
    MRO::Compat                 0.11    0.13    
    namespace::autoclean        0.13    0.28    
    namespace::clean            0.23    0.27    
    Package::DeprecationManager 0.11    0.17    
    Package::Stash              0.33    0.37    
    Package::Stash::XS          0.25    0.28    
    Params::Util                1.04    1.07    
    perl                        v5.10.1 5.024003
    Sub::Exporter               0.982   0.987   
    Sub::Install                0.925   0.928   
    Sub::Name                   0.05    0.21    
    Try::Tiny                   0.11    0.28    
    Variable::Magic             0.48    0.61    
    version                     0.88    0.9918  

configure_requires:

    Module                      Need    Have    
    --------------------------- ------- --------
    Module::Build               0.36    0.4224  


------------------------------
ENVIRONMENT AND OTHER CONTEXT
------------------------------

Environment variables:

    LANG = C
    LC_ALL = de_DE.UTF-8
    PATH = /usr/local/bin:/usr/bin:/bin:/usr/local/sbin:/usr/sbin:/sbin:/home/cpansand/bin/linux-gnu:/home/cpansand/bin/sh:/home/cpansand/bin:/usr/games:/home/cpansand/devel:/home/eserte/src/srezic-misc/scripts
    PERL5LIB = 
    PERL5OPT = 
    PERL5_CPANPLUS_IS_RUNNING = 24593
    PERL5_CPAN_IS_RUNNING = 24593
    PERL5_CPAN_IS_RUNNING_IN_RECURSION = 13867,24593
    PERLDOC = -MPod::Perldoc::ToTextOverstrike
    PERL_BATCH = yes
    PERL_CANARY_STABILITY_NOPROMPT = 1
    PERL_CPAN_REPORTER_CONFIG = /var/tmp/cpansmoker-1023/2017091415/cpanreporter_001_config.ini
    PERL_EXTUTILS_AUTOINSTALL = --defaultdeps
    PERL_PARALLEL_SMOKER = yes
    PERL_USE_UNSAFE_INC = 1
    SHELL = /usr/bin/zsh
    TERM = screen
    TMPDIR = /var/tmp/cpansmoker-1023/2017091415

Perl special variables (and OS-specific diagnostics, for MSWin32):

    $^X = /opt/perl-5.24.3-RC1/bin/perl
    $UID/$EUID = 1023 / 1023
    $GID = 1023 1023
    $EGID = 1023 1023

Perl module toolchain versions installed:

    Module              Have    
    ------------------- --------
    CPAN                2.16    
    CPAN::Meta          2.150010
    Cwd                 3.62    
    ExtUtils::CBuilder  0.280226
    ExtUtils::Command   7.30    
    ExtUtils::Install   2.14    
    ExtUtils::MakeMaker 7.30    
    ExtUtils::Manifest  1.70    
    ExtUtils::ParseXS   3.35    
    File::Spec          3.62    
    JSON                2.94    
    JSON::PP            2.94    
    Module::Build       0.4224  
    Module::Signature   0.81    
    Parse::CPAN::Meta   2.150010
    Test::Harness       3.39    
    Test::More          1.302096
    YAML                1.23    
    YAML::Syck          1.30    
    version             0.9918  


--

Summary of my perl5 (revision 5 version 24 subversion 3) configuration:
   
  Platform:
    osname=linux, osvers=4.9.0-3-amd64, archname=x86_64-linux
    uname='linux debian9 4.9.0-3-amd64 #1 smp debian 4.9.30-2+deb9u3 (2017-08-06) x86_64 gnulinux '
    config_args='-ds -e -Dprefix=/opt/perl-5.24.3-RC1 -Dcf_email=srezic@cpan.org'
    hint=recommended, useposix=true, d_sigaction=define
    useithreads=undef, usemultiplicity=undef
    use64bitint=define, use64bitall=define, uselongdouble=undef
    usemymalloc=n, bincompat5005=undef
  Compiler:
    cc='cc', ccflags ='-fwrapv -fno-strict-aliasing -pipe -fstack-protector-strong -I/usr/local/include -D_LARGEFILE_SOURCE -D_FILE_OFFSET_BITS=64',
    optimize='-O2',
    cppflags='-fwrapv -fno-strict-aliasing -pipe -fstack-protector-strong -I/usr/local/include'
    ccversion='', gccversion='6.3.0 20170516', gccosandvers=''
    intsize=4, longsize=8, ptrsize=8, doublesize=8, byteorder=12345678, doublekind=3
    d_longlong=define, longlongsize=8, d_longdbl=define, longdblsize=16, longdblkind=3
    ivtype='long', ivsize=8, nvtype='double', nvsize=8, Off_t='off_t', lseeksize=8
    alignbytes=8, prototype=define
  Linker and Libraries:
    ld='cc', ldflags =' -fstack-protector-strong -L/usr/local/lib'
    libpth=/usr/local/lib /usr/lib/gcc/x86_64-linux-gnu/6/include-fixed /usr/include/x86_64-linux-gnu /usr/lib /lib/x86_64-linux-gnu /lib/../lib /usr/lib/x86_64-linux-gnu /usr/lib/../lib /lib
    libs=-lpthread -lnsl -lgdbm -ldb -ldl -lm -lcrypt -lutil -lc -lgdbm_compat
    perllibs=-lpthread -lnsl -ldl -lm -lcrypt -lutil -lc
    libc=libc-2.24.so, so=so, useshrplib=false, libperl=libperl.a
    gnulibc_version='2.24'
  Dynamic Linking:
    dlsrc=dl_dlopen.xs, dlext=so, d_dlsymun=undef, ccdlflags='-Wl,-E'
    cccdlflags='-fPIC', lddlflags='-shared -O2 -L/usr/local/lib -fstack-protector-strong'


Characteristics of this binary (from libperl): 
  Compile-time options: HAS_TIMES PERLIO_LAYERS PERL_COPY_ON_WRITE
                        PERL_DONT_CREATE_GVSV
                        PERL_HASH_FUNC_ONE_AT_A_TIME_HARD PERL_MALLOC_WRAP
                        PERL_PRESERVE_IVUV USE_64_BIT_ALL USE_64_BIT_INT
                        USE_LARGE_FILES USE_LOCALE USE_LOCALE_COLLATE
                        USE_LOCALE_CTYPE USE_LOCALE_NUMERIC USE_LOCALE_TIME
                        USE_PERLIO USE_PERL_ATOF
  Locally applied patches:
	RC1
  Built under linux
  Compiled at Sep 10 2017 16:04:31
  %ENV:
    PERL5LIB=""
    PERL5OPT=""
    PERL5_CPANPLUS_IS_RUNNING="24593"
    PERL5_CPAN_IS_RUNNING="24593"
    PERL5_CPAN_IS_RUNNING_IN_RECURSION="13867,24593"
    PERLDOC="-MPod::Perldoc::ToTextOverstrike"
    PERL_BATCH="yes"
    PERL_CANARY_STABILITY_NOPROMPT="1"
    PERL_CPAN_REPORTER_CONFIG="/var/tmp/cpansmoker-1023/2017091415/cpanreporter_001_config.ini"
    PERL_EXTUTILS_AUTOINSTALL="--defaultdeps"
    PERL_PARALLEL_SMOKER="yes"
    PERL_USE_UNSAFE_INC="1"
  @INC:
    /opt/perl-5.24.3-RC1/lib/site_perl/5.24.3/x86_64-linux
    /opt/perl-5.24.3-RC1/lib/site_perl/5.24.3
    /opt/perl-5.24.3-RC1/lib/5.24.3/x86_64-linux
    /opt/perl-5.24.3-RC1/lib/5.24.3
    .