HTTP-Request-FromCurl v0.55 Perl 5 v5.26.0 x86_64-linux-ld

Status
Pass
From
Andreas J. König (ANDK)
Dist
HTTP-Request-FromCurl v0.55
Platform
Perl 5 v5.26.0 x86_64-linux-ld
Date
2025-02-21 12:30:38
ID
a7de3342-f04f-11ef-a4cf-dbba8348ef3e
This distribution has been tested as part of the CPAN Testers
project, supporting the Perl programming language.  See
http://wiki.cpantesters.org/ for more information or email
questions to cpan-testers-discuss@perl.org


--
Dear Max Maischein,

This is a computer-generated report for HTTP-Request-FromCurl-0.55
on perl 5.26.0, created by CPAN-Reporter-1.2019.

Thank you for uploading your work to CPAN.  Congratulations!
All tests were successful.

Sections of this report:

    * Tester comments
    * Program output
    * Prerequisites
    * Environment and other context

------------------------------
TESTER COMMENTS
------------------------------

Additional comments from tester:

this report is from an automated smoke testing program
and was not reviewed by a human for accuracy

------------------------------
PROGRAM OUTPUT
------------------------------

Output from '/usr/bin/make test':

PERL_DL_NONLAZY=1 "/home/sand/src/perl/repoperls/installed-perls/host/k93msid/v5.26.0/fc43/bin/perl" "-MExtUtils::Command::MM" "-MTest::Harness" "-e" "undef *Test::Harness::Switches; test_harness(0, 'blib/lib', 'blib/arch')" t/00-load.t t/curl-identity-cookie.t t/curl-identity-data.t t/curl-identity-headers.t t/curl-identity-options.t t/curl-identity-post.t t/curl-identity-quirky.t t/curl-identity.t t/curl-multi-2.t t/curl-multi-dryrun.t t/curl-multi.t t/explode-headers.t t/fetch-identity.t t/implicit-headers.t t/squash-url.t t/wget-identity-headers-2.t t/wget-identity-headers.t t/wget-identity-options.t
# Testing HTTP::Request::FromCurl 0.55, Perl 5.026000
# Algorithm::Loops 1.032
# AutoLoader 5.74
# Carp 1.50
# Carp::Heavy 1.50
# Class::XSAccessor 1.19
# Class::XSAccessor::Heavy 1.19
# Clone 0.46
# Config 5.026000
# Cwd 3.75
# DynaLoader 1.42
# Encode 3.21
# Encode::Alias 2.25
# Encode::Config 2.05
# Encode::Encoding 2.08
# Encode::MIME::Name 1.03
# Errno 1.28
# Exporter 5.78
# Exporter::Heavy 5.78
# Exporter::Tiny 1.006002
# ExtUtils::Liblist 7.70
# ExtUtils::Liblist::Kid 7.70
# ExtUtils::MM 7.70
# ExtUtils::MM_Any 7.70
# ExtUtils::MM_Unix 7.70
# ExtUtils::MY 7.70
# ExtUtils::MakeMaker 7.70
# ExtUtils::MakeMaker::Config 7.70
# ExtUtils::MakeMaker::Locale 7.70
# ExtUtils::MakeMaker::version 7.70
# Fcntl 1.13
# File::Basename 2.85
# File::Copy 2.32
# File::Glob 1.28
# File::Path 2.18
# File::Spec 3.75
# File::Spec::Unix 3.75
# Filter::Simple 0.93
# Filter::Util::Call 1.64
# Filter::signatures 0.19
# Getopt::Long 2.57
# HTTP::Date 6.06
# HTTP::Headers 6.46
# HTTP::Message 6.46
# HTTP::Request 6.46
# HTTP::Request::Common 6.46
# HTTP::Request::CurlParameters 0.55
# HTTP::Request::FromCurl 0.55
# HTTP::Request::Generator 0.11
# HTTP::Response 6.46
# HTTP::Status 6.46
# HTTP::Tiny 0.090
# I18N::Langinfo 0.13
# IO 1.38
# IO::Handle 1.36
# IO::Socket 1.38
# IO::Socket::INET 1.35
# IO::Socket::IP 0.42
# IO::Socket::UNIX 1.26
# LWP 6.77
# LWP::MemberMixin 6.77
# LWP::Protocol 6.77
# LWP::UserAgent 6.77
# List::MoreUtils 0.430
# List::MoreUtils::PP 0.430
# List::MoreUtils::XS 0.430
# List::Util 1.68
# MIME::Base64 3.16
# Method::Generate::Accessor <unknown>
# Method::Generate::Constructor <unknown>
# Module::Load 0.36
# Moo 2.005005
# Moo::Object <unknown>
# Moo::_Utils <unknown>
# Moo::sification <unknown>
# POSIX 1.76
# PerlIO 1.10
# PerlX::Maybe 1.202
# PerlX::Maybe::XS 1.001
# Scalar::Util 1.68
# SelectSaver 1.02
# Socket 2.038
# Storable 3.25
# Sub::Defer 2.006008
# Sub::Quote 2.006008
# Sub::Util 1.68
# Symbol 1.08
# Test::Builder 1.302207
# Test::Builder::Formatter 1.302207
# Test::Builder::Module 1.302207
# Test::Builder::TodoDiag 1.302207
# Test::More 1.302207
# Test2::API 1.302207
# Test2::API::Context 1.302207
# Test2::API::Instance 1.302207
# Test2::API::Stack 1.302207
# Test2::Event 1.302207
# Test2::Event::Bail 1.302207
# Test2::Event::Diag 1.302207
# Test2::Event::Exception 1.302207
# Test2::Event::Fail 1.302207
# Test2::Event::Note 1.302207
# Test2::Event::Ok 1.302207
# Test2::Event::Pass 1.302207
# Test2::Event::Plan 1.302207
# Test2::Event::Skip 1.302207
# Test2::Event::Subtest 1.302207
# Test2::Event::V2 1.302207
# Test2::Event::Waiting 1.302207
# Test2::EventFacet 1.302207
# Test2::EventFacet::About 1.302207
# Test2::EventFacet::Amnesty 1.302207
# Test2::EventFacet::Assert 1.302207
# Test2::EventFacet::Control 1.302207
# Test2::EventFacet::Error 1.302207
# Test2::EventFacet::Hub 1.302207
# Test2::EventFacet::Info 1.302207
# Test2::EventFacet::Meta 1.302207
# Test2::EventFacet::Parent 1.302207
# Test2::EventFacet::Plan 1.302207
# Test2::EventFacet::Trace 1.302207
# Test2::Formatter 1.302207
# Test2::Formatter::TAP 1.302207
# Test2::Hub 1.302207
# Test2::Hub::Interceptor 1.302207
# Test2::Hub::Interceptor::Terminator 1.302207
# Test2::Hub::Subtest 1.302207
# Test2::Util 1.302207
# Test2::Util::ExternalMeta 1.302207
# Test2::Util::Facets2Legacy 1.302207
# Test2::Util::HashBase 1.302207
# Test2::Util::Trace 1.302207
# Text::Balanced 2.06
# Tie::Hash 1.05
# Time::HiRes 1.9764
# Time::Local 1.35
# Try::Tiny 0.32
# URI 5.30
# URI::Escape 5.30
# XSLoader 0.27
# XString 0.005
# base 2.25
# bytes 1.05
# constant 1.33
# feature 1.47
# mro 1.20
# overload 1.28
# overloading 0.02
# parent 0.243
# strict 1.11
# vars 1.03
# version 0.9930
# version::regex 0.9930
# version::vxs 0.9930
# warnings 1.37
# warnings::register 1.04
t/00-load.t .................. ok
# Testing with curl version '8.10.1'
t/localserver-cookiejar.txt does not seem to contain cookies at /home/sand/src/perl/repoperls/installed-perls/host/k93msid/v5.26.0/fc43/lib/site_perl/5.26.0/HTTP/Cookies.pm line 459, <$fh> line 1.
/tmp/curl-NgU7WMkvNm does not seem to contain cookies at /home/sand/src/perl/repoperls/installed-perls/host/k93msid/v5.26.0/fc43/lib/site_perl/5.26.0/HTTP/Cookies.pm line 459, <$fh> line 1.
t/curl-identity-cookie.t ..... ok
# Testing with curl version '8.10.1'
# Content-Length differs, likely due to different encoding for space (% vs. +)
# Content-Length differs, likely due to different encoding for space (% vs. +)
# Content-Length differs, likely due to different encoding for space (% vs. +)
t/curl-identity-data.t ....... ok
# Testing with curl version '8.10.1'
t/curl-identity-headers.t .... ok
# Testing with curl version '8.10.1'
t/curl-identity-options.t .... ok
# Testing with curl version '8.10.1'
t/curl-identity-post.t ....... ok
# Testing with curl version '8.10.1'
t/curl-identity-quirky.t ..... ok
# Testing with curl version '8.10.1'
t/curl-identity.t ............ ok
# Testing with curl version '8.10.1'
t/curl-multi-2.t ............. ok
t/curl-multi-dryrun.t ........ ok
# Testing with curl version '8.10.1'
t/curl-multi.t ............... ok
t/explode-headers.t .......... ok
The signatures feature is experimental at t/fetch-identity.t line 58.
t/fetch-identity.t ........... ok
t/implicit-headers.t ......... ok
t/squash-url.t ............... ok
# Testing with wget version '1.21.4'
t/wget-identity-headers-2.t .. ok
# Testing with wget version '1.21.4'
t/wget-identity-headers.t .... ok
# Testing with wget version '1.21.4'
t/wget-identity-options.t .... ok
All tests successful.

Test Summary Report
-------------------
t/wget-identity-options.t  (Wstat: 0 Tests: 90 Failed: 0)
  TODO passed:   31-60
Files=18, Tests=917, 92 wallclock secs ( 0.28 usr  0.10 sys + 49.33 cusr 13.12 csys = 62.83 CPU)
Result: PASS

------------------------------
PREREQUISITES
------------------------------

Prerequisite modules loaded:

requires:

    Module                   Need  Have    
    ------------------------ ----- --------
    Carp                     0     1.50    
    File::Basename           0     2.85    
    Getopt::Long             2.39  2.57    
    HTTP::Request            6.07  6.46    
    HTTP::Request::Common    6.07  6.46    
    HTTP::Request::Generator 0.09  0.11    
    JSON                     0     4.10    
    List::Util               1.29  1.68    
    MIME::Base64             0     3.16    
    Moo                      2     2.005005
    perl                     5.020 5.026000
    PerlX::Maybe             0     1.202   
    URI                      0     5.30    
    URI::Escape              0     5.30    

build_requires:

    Module                   Need  Have    
    ------------------------ ----- --------
    Capture::Tiny            0     0.50    
    Data::Dumper             0     2.183   
    ExtUtils::MakeMaker      0     7.70    
    HTTP::CookieJar          0     0.014   
    HTTP::CookieJar::LWP     0     0.014   
    HTTP::Tiny               0     0.090   
    IO::Socket::SSL          0     2.085   
    LWP::UserAgent           0     6.77    
    Path::Tiny               0     0.146   
    Test2::V0                0     1.302207
    Test::HTTP::LocalServer  0.67  0.76    
    WWW::Mechanize           0     2.18    

configure_requires:

    Module                   Need  Have    
    ------------------------ ----- --------
    ExtUtils::MakeMaker      0     7.70    


------------------------------
ENVIRONMENT AND OTHER CONTEXT
------------------------------

Environment variables:

    AUTOMATED_TESTING = 1
    LANG = en_US.UTF-8
    LANGUAGE = en_US:en
    PATH = /home/sand/bin:/usr/local/bin:/usr/bin:/bin:/usr/games:/usr/local/perl/bin:/usr/X11/bin:/sbin:/usr/sbin
    PERL5LIB = 
    PERL5OPT = 
    PERL5_CPANPLUS_IS_RUNNING = 4147452
    PERL5_CPAN_IS_RUNNING = 4147452
    PERL_CANARY_STABILITY_NOPROMPT = 1
    PERL_MM_USE_DEFAULT = 1
    PERL_USE_UNSAFE_INC = 1
    SHELL = /usr/bin/zsh
    TERM = screen

Perl special variables (and OS-specific diagnostics, for MSWin32):

    $^X = /home/sand/src/perl/repoperls/installed-perls/host/k93msid/v5.26.0/fc43/bin/perl
    $UID/$EUID = 1005 / 1005
    $GID = 1005 1005
    $EGID = 1005 1005

Perl module toolchain versions installed:

    Module              Have    
    ------------------- --------
    CPAN                2.38    
    CPAN::Meta          2.150010
    Cwd                 3.75    
    ExtUtils::CBuilder  0.280236
    ExtUtils::Command   7.70    
    ExtUtils::Install   2.06    
    ExtUtils::MakeMaker 7.70    
    ExtUtils::Manifest  1.70    
    ExtUtils::ParseXS   3.51    
    File::Spec          3.75    
    JSON                4.10    
    JSON::PP            4.16    
    Module::Build       0.4234  
    Module::Signature   0.88    
    Parse::CPAN::Meta   2.150010
    Test2               1.302207
    Test::Harness       3.50    
    Test::More          1.302207
    YAML                1.31    
    YAML::Syck          1.34    
    version             0.9930  


--

Summary of my perl5 (revision 5 version 26 subversion 0) configuration:
  Derived from: 95388f2eb27e74cdbfb715c0097f16aeba4e6e4e
  Platform:
    osname=linux
    osvers=6.6.13-amd64
    archname=x86_64-linux-ld
    uname='linux k93msid 6.6.13-amd64 #1 smp preempt_dynamic debian 6.6.13-1 (2024-01-20) x86_64 gnulinux '
    config_args='-Dprefix=/home/sand/src/perl/repoperls/installed-perls/host/k93msid/v5.26.0/fc43 -Dmyhostname=k93msid -Dinstallusrbinperl=n -Uversiononly -Dusedevel -des -Ui_db -Dlibswanted=cl pthread socket inet nsl gdbm dbm malloc dl ld sun m crypt sec util c cposix posix ucb BSD gdbm_compat -Uuseithreads -Duselongdouble -DEBUGGING=both'
    hint=recommended
    useposix=true
    d_sigaction=define
    useithreads=undef
    usemultiplicity=undef
    use64bitint=define
    use64bitall=define
    uselongdouble=define
    usemymalloc=n
    default_inc_excludes_dot=define
    bincompat5005=undef
  Compiler:
    cc='cc'
    ccflags ='-fwrapv -DDEBUGGING -fno-strict-aliasing -pipe -fstack-protector-strong -I/usr/local/include -D_LARGEFILE_SOURCE -D_FILE_OFFSET_BITS=64 -D_FORTIFY_SOURCE=2'
    optimize='-O2 -g'
    cppflags='-fwrapv -DDEBUGGING -fno-strict-aliasing -pipe -fstack-protector-strong -I/usr/local/include'
    ccversion=''
    gccversion='13.2.0'
    gccosandvers=''
    intsize=4
    longsize=8
    ptrsize=8
    doublesize=8
    byteorder=12345678
    doublekind=3
    d_longlong=define
    longlongsize=8
    d_longdbl=define
    longdblsize=16
    longdblkind=3
    ivtype='long'
    ivsize=8
    nvtype='long double'
    nvsize=16
    Off_t='off_t'
    lseeksize=8
    alignbytes=16
    prototype=define
  Linker and Libraries:
    ld='cc'
    ldflags =' -fstack-protector-strong -L/usr/local/lib'
    libpth=/usr/local/lib /usr/include/x86_64-linux-gnu /usr/lib /lib/x86_64-linux-gnu /lib/../lib /usr/lib/x86_64-linux-gnu /usr/lib/../lib /lib /lib64 /usr/lib64
    libs=-lpthread -lnsl -ldl -lm -lcrypt -lutil -lc
    perllibs=-lpthread -lnsl -ldl -lm -lcrypt -lutil -lc
    libc=/lib/x86_64-linux-gnu/libc.so.6
    so=so
    useshrplib=false
    libperl=libperl.a
    gnulibc_version='2.37'
  Dynamic Linking:
    dlsrc=dl_dlopen.xs
    dlext=so
    d_dlsymun=undef
    ccdlflags='-Wl,-E'
    cccdlflags='-fPIC'
    lddlflags='-shared -O2 -g -L/usr/local/lib -fstack-protector-strong'


Characteristics of this binary (from libperl): 
  Compile-time options:
    DEBUGGING
    HAS_TIMES
    PERLIO_LAYERS
    PERL_COPY_ON_WRITE
    PERL_DONT_CREATE_GVSV
    PERL_MALLOC_WRAP
    PERL_OP_PARENT
    PERL_PRESERVE_IVUV
    PERL_USE_DEVEL
    USE_64_BIT_ALL
    USE_64_BIT_INT
    USE_LARGE_FILES
    USE_LOCALE
    USE_LOCALE_COLLATE
    USE_LOCALE_CTYPE
    USE_LOCALE_NUMERIC
    USE_LOCALE_TIME
    USE_LONG_DOUBLE
    USE_PERLIO
    USE_PERL_ATOF
  Locally applied patches:
    uncommitted-changes
  Built under linux
  Compiled at Mar 21 2024 10:51:06
  %ENV:
    PERL5LIB=""
    PERL5OPT=""
    PERL5_CPANPLUS_IS_RUNNING="4147452"
    PERL5_CPAN_IS_RUNNING="4147452"
    PERL_CANARY_STABILITY_NOPROMPT="1"
    PERL_MM_USE_DEFAULT="1"
    PERL_USE_UNSAFE_INC="1"
  @INC:
    /home/sand/src/perl/repoperls/installed-perls/host/k93msid/v5.26.0/fc43/lib/site_perl/5.26.0/x86_64-linux-ld
    /home/sand/src/perl/repoperls/installed-perls/host/k93msid/v5.26.0/fc43/lib/site_perl/5.26.0
    /home/sand/src/perl/repoperls/installed-perls/host/k93msid/v5.26.0/fc43/lib/5.26.0/x86_64-linux-ld
    /home/sand/src/perl/repoperls/installed-perls/host/k93msid/v5.26.0/fc43/lib/5.26.0
    .