Dist-Zilla-Plugin-CheckLib v0.007 Perl 5 v5.24.1 amd64-freebsd

Status
Pass
From
Slaven Rezić (SREZIC)
Dist
Dist-Zilla-Plugin-CheckLib v0.007
Platform
Perl 5 v5.24.1 amd64-freebsd
Date
2017-10-29 09:36:35
ID
a8027a62-bc8c-11e7-b0b3-d09a9ec4f6be
This distribution has been tested as part of the CPAN Testers
project, supporting the Perl programming language.  See
http://wiki.cpantesters.org/ for more information or email
questions to cpan-testers-discuss@perl.org


--
Dear Karen Etheridge,

This is a computer-generated report for Dist-Zilla-Plugin-CheckLib-0.007
on perl 5.24.1, created by CPAN-Reporter-1.2018.

Thank you for uploading your work to CPAN.  Congratulations!
All tests were successful.

Sections of this report:

    * Tester comments
    * Program output
    * Prerequisites
    * Environment and other context

------------------------------
TESTER COMMENTS
------------------------------

Additional comments from tester:

none provided

------------------------------
PROGRAM OUTPUT
------------------------------

Output from '/usr/bin/make test':

PERL_DL_NONLAZY=1 "/usr/perl5.24.1p/bin/perl" "-MExtUtils::Command::MM" "-MTest::Harness" "-e" "undef *Test::Harness::Switches; test_harness(0, 'blib/lib', 'blib/arch')" t/*.t
# 
# Versions for all modules listed in MYMETA.json (including optional ones):
# 
# === Configure Requires ===
# 
#     Module                       Want     Have
#     ------------------------ -------- --------
#     CPAN::Meta::Requirements 2.120620    2.140
#     ExtUtils::MakeMaker           any     7.24
#     Module::Metadata              any 1.000033
# 
# === Build Requires ===
# 
#     Module              Want Have
#     ------------------- ---- ----
#     ExtUtils::MakeMaker  any 7.24
# 
# === Test Requires ===
# 
#     Module              Want     Have
#     ------------------- ---- --------
#     ExtUtils::MakeMaker  any     7.24
#     File::Spec           any  3.63_01
#     Path::Tiny           any    0.104
#     Test::DZil           any    6.010
#     Test::Deep           any    1.127
#     Test::Fatal          any    0.014
#     Test::More          0.88 1.302106
#     Test::Needs          any 0.002005
#     if                   any   0.0606
# 
# === Test Recommends ===
# 
#     Module         Want     Have
#     ---------- -------- --------
#     CPAN::Meta 2.120900 2.150010
# 
# === Runtime Requires ===
# 
#     Module                                             Want   Have
#     ---------------------------------------------- -------- ------
#     Devel::CheckLib                                     any   1.11
#     Dist::Zilla                                    4.300039  6.010
#     Dist::Zilla::Plugin::ModuleBuildTiny              0.007  0.015
#     Dist::Zilla::Plugin::ModuleBuildTiny::Fallback    0.006  0.025
#     Dist::Zilla::Role::FileMunger                       any  6.010
#     Dist::Zilla::Role::InstallTool                      any  6.010
#     Dist::Zilla::Role::PrereqSource                     any  6.010
#     Moose                                               any 2.2006
#     Scalar::Util                                        any   1.49
#     namespace::autoclean                                any   0.28
#     strict                                              any   1.11
#     warnings                                            any   1.36
# 
# === Other Modules ===
# 
#     Module                                             Have
#     ---------------------------------------------- --------
#     CPAN::Meta::Validator                          2.150010
#     Dist::Zilla::Plugin::MakeMaker                    6.010
#     Dist::Zilla::Plugin::MakeMaker::Awesome            0.39
#     Dist::Zilla::Plugin::MakeMaker::Fallback          0.025
#     Dist::Zilla::Plugin::ModuleBuildTiny              0.015
#     Dist::Zilla::Plugin::ModuleBuildTiny::Fallback    0.025
#     ExtUtils::MakeMaker                                7.24
#     JSON::PP                                           2.94
#     Module::Build                                    0.4224
#     Module::Build::Tiny                               0.039
#     Pod::Coverage                                      0.23
#     Sub::Name                                          0.21
#     YAML                                               1.23
#     autodie                                            2.29
# 
t/00-report-prereqs.t ............ ok
t/01-basic.t ..................... ok
t/02-module-build.t .............. ok
t/03-module-build-tiny.t ......... ok
t/04-makemaker-awesome.t ......... ok
t/05-makemaker-fallback.t ........ ok
t/06-modulebuildtiny-fallback.t .. ok
t/zzz-check-breaks.t ............. ok
All tests successful.
Files=8, Tests=34, 12 wallclock secs ( 0.00 usr  0.06 sys +  1.71 cusr  4.73 csys =  6.51 CPU)
Result: PASS

------------------------------
PREREQUISITES
------------------------------

Prerequisite modules loaded:

requires:

    Module                                         Need     Have    
    ---------------------------------------------- -------- --------
    Devel::CheckLib                                0        1.11    
    Dist::Zilla                                    4.300039 6.010   
    Dist::Zilla::Plugin::ModuleBuildTiny           0.007    0.015   
    Dist::Zilla::Plugin::ModuleBuildTiny::Fallback 0.006    0.025   
    Dist::Zilla::Role::FileMunger                  0        6.010   
    Dist::Zilla::Role::InstallTool                 0        6.010   
    Dist::Zilla::Role::PrereqSource                0        6.010   
    Moose                                          0        2.2006  
    namespace::autoclean                           0        0.28    
    perl                                           5.009005 5.024001
    Scalar::Util                                   0        1.49    
    strict                                         0        1.11    
    warnings                                       0        1.36    

build_requires:

    Module                                         Need     Have    
    ---------------------------------------------- -------- --------
    ExtUtils::MakeMaker                            0        7.24    
    File::Spec                                     0        3.63_01 
    if                                             0        0.0606  
    Path::Tiny                                     0        0.104   
    Test::Deep                                     0        1.127   
    Test::DZil                                     0        6.010   
    Test::Fatal                                    0        0.014   
    Test::More                                     0.88     1.302106
    Test::Needs                                    0        0.002005

configure_requires:

    Module                                         Need     Have    
    ---------------------------------------------- -------- --------
    CPAN::Meta::Requirements                       2.120620 2.140   
    ExtUtils::MakeMaker                            0        7.24    
    Module::Metadata                               0        1.000033
    perl                                           5.006    5.024001


------------------------------
ENVIRONMENT AND OTHER CONTEXT
------------------------------

Environment variables:

    LC_ALL = de_DE.ISO8859-1
    PATH = /usr/local/bin:/usr/bin:/bin:/usr/local/sbin:/usr/sbin:/sbin:/home/cpansand/bin/freebsd10.3:/home/cpansand/bin/sh:/home/cpansand/bin:/usr/games:/home/cpansand/devel:/home/eserte/src/srezic-misc/scripts
    PERL5LIB = /home/cpansand/.cpan/build/2017102906/Map-Tube-Kolkatta-0.05-3/blib/arch:/home/cpansand/.cpan/build/2017102906/Map-Tube-Kolkatta-0.05-3/blib/lib:/home/cpansand/.cpan/build/2017102906/Reddit-Client-1.0965-3/blib/arch:/home/cpansand/.cpan/build/2017102906/Reddit-Client-1.0965-3/blib/lib:/home/cpansand/.cpan/build/2017102906/Mojo-IOLoop-ForkCall-0.18-3/blib/arch:/home/cpansand/.cpan/build/2017102906/Mojo-IOLoop-ForkCall-0.18-3/blib/lib
    PERL5OPT = 
    PERL5_CPANPLUS_IS_RUNNING = 38962
    PERL5_CPAN_IS_RUNNING = 38962
    PERL5_CPAN_IS_RUNNING_IN_RECURSION = 38923,38962
    PERLDOC = -MPod::Perldoc::ToTextOverstrike
    PERL_BATCH = yes
    PERL_CANARY_STABILITY_NOPROMPT = 1
    PERL_CPAN_REPORTER_CONFIG = /var/tmp/cpansmoker-1023/2017102906/cpanreporter_000_config.ini
    PERL_EXTUTILS_AUTOINSTALL = --defaultdeps
    SHELL = /usr/local/bin/zsh
    TERM = screen
    TMPDIR = /var/tmp/cpansmoker-1023/2017102906

Perl special variables (and OS-specific diagnostics, for MSWin32):

    $^X = /usr/perl5.24.1p/bin/perl5.24.1
    $UID/$EUID = 1023 / 1023
    $GID = 1023 1023
    $EGID = 1023 1023

Perl module toolchain versions installed:

    Module              Have    
    ------------------- --------
    CPAN                2.16    
    CPAN::Meta          2.150010
    Cwd                 3.63_01 
    ExtUtils::CBuilder  0.280226
    ExtUtils::Command   7.24    
    ExtUtils::Install   2.12    
    ExtUtils::MakeMaker 7.24    
    ExtUtils::Manifest  1.70    
    ExtUtils::ParseXS   3.31    
    File::Spec          3.63_01 
    JSON                2.94    
    JSON::PP            2.94    
    Module::Build       0.4224  
    Module::Signature   0.81    
    Parse::CPAN::Meta   2.150010
    Test::Harness       3.39    
    Test::More          1.302106
    YAML                1.23    
    YAML::Syck          1.30    
    version             0.9916  


--

Summary of my perl5 (revision 5 version 24 subversion 1) configuration:
   
  Platform:
    osname=freebsd, osvers=10.1-release, archname=amd64-freebsd
    uname='freebsd cvrsnica-freebsd-101.herceg.de 10.1-release freebsd 10.1-release #0 r274401: tue nov 11 21:02:49 utc 2014 root@releng1.nyi.freebsd.org:usrobjusrsrcsysgeneric amd64 '
    config_args='-ds -e -Dprefix=/usr/perl5.24.1p -Dcf_email=srezic@cpan.org -Doptimize=-O2 -pipe'
    hint=recommended, useposix=true, d_sigaction=define
    useithreads=undef, usemultiplicity=undef
    use64bitint=define, use64bitall=define, uselongdouble=undef
    usemymalloc=n, bincompat5005=undef
  Compiler:
    cc='cc', ccflags ='-DHAS_FPSETMASK -DHAS_FLOATINGPOINT_H -fno-strict-aliasing -pipe -fstack-protector -I/usr/local/include -D_FORTIFY_SOURCE=2',
    optimize='-O2 -pipe',
    cppflags='-DHAS_FPSETMASK -DHAS_FLOATINGPOINT_H -fno-strict-aliasing -pipe -fstack-protector -I/usr/local/include'
    ccversion='', gccversion='4.2.1 Compatible FreeBSD Clang 3.4.1 (tags/RELEASE_34/dot1-final 208032)', gccosandvers=''
    intsize=4, longsize=8, ptrsize=8, doublesize=8, byteorder=12345678, doublekind=3
    d_longlong=define, longlongsize=8, d_longdbl=define, longdblsize=16, longdblkind=3
    ivtype='long', ivsize=8, nvtype='double', nvsize=8, Off_t='off_t', lseeksize=8
    alignbytes=8, prototype=define
  Linker and Libraries:
    ld='cc', ldflags ='-pthread -Wl,-E  -fstack-protector -L/usr/local/lib'
    libpth=/usr/lib /usr/local/lib /usr/include/clang/3.4.1 /usr/lib
    libs=-lpthread -lgdbm -lm -lcrypt -lutil -lc
    perllibs=-lpthread -lm -lcrypt -lutil -lc
    libc=, so=so, useshrplib=false, libperl=libperl.a
    gnulibc_version=''
  Dynamic Linking:
    dlsrc=dl_dlopen.xs, dlext=so, d_dlsymun=undef, ccdlflags=' '
    cccdlflags='-DPIC -fPIC', lddlflags='-shared  -L/usr/local/lib -fstack-protector'


Characteristics of this binary (from libperl): 
  Compile-time options: HAS_TIMES PERLIO_LAYERS PERL_COPY_ON_WRITE
                        PERL_DONT_CREATE_GVSV
                        PERL_HASH_FUNC_ONE_AT_A_TIME_HARD PERL_MALLOC_WRAP
                        PERL_PRESERVE_IVUV USE_64_BIT_ALL USE_64_BIT_INT
                        USE_LARGE_FILES USE_LOCALE USE_LOCALE_COLLATE
                        USE_LOCALE_CTYPE USE_LOCALE_NUMERIC USE_LOCALE_TIME
                        USE_PERLIO USE_PERL_ATOF
  Built under freebsd
  Compiled at Jan 15 2017 11:45:26
  %ENV:
    PERL5LIB="/home/cpansand/.cpan/build/2017102906/Map-Tube-Kolkatta-0.05-3/blib/arch:/home/cpansand/.cpan/build/2017102906/Map-Tube-Kolkatta-0.05-3/blib/lib:/home/cpansand/.cpan/build/2017102906/Reddit-Client-1.0965-3/blib/arch:/home/cpansand/.cpan/build/2017102906/Reddit-Client-1.0965-3/blib/lib:/home/cpansand/.cpan/build/2017102906/Mojo-IOLoop-ForkCall-0.18-3/blib/arch:/home/cpansand/.cpan/build/2017102906/Mojo-IOLoop-ForkCall-0.18-3/blib/lib"
    PERL5OPT=""
    PERL5_CPANPLUS_IS_RUNNING="38962"
    PERL5_CPAN_IS_RUNNING="38962"
    PERL5_CPAN_IS_RUNNING_IN_RECURSION="38923,38962"
    PERLDOC="-MPod::Perldoc::ToTextOverstrike"
    PERL_BATCH="yes"
    PERL_CANARY_STABILITY_NOPROMPT="1"
    PERL_CPAN_REPORTER_CONFIG="/var/tmp/cpansmoker-1023/2017102906/cpanreporter_000_config.ini"
    PERL_EXTUTILS_AUTOINSTALL="--defaultdeps"
  @INC:
    /home/cpansand/.cpan/build/2017102906/Map-Tube-Kolkatta-0.05-3/blib/arch
    /home/cpansand/.cpan/build/2017102906/Map-Tube-Kolkatta-0.05-3/blib/lib
    /home/cpansand/.cpan/build/2017102906/Reddit-Client-1.0965-3/blib/arch
    /home/cpansand/.cpan/build/2017102906/Reddit-Client-1.0965-3/blib/lib
    /home/cpansand/.cpan/build/2017102906/Mojo-IOLoop-ForkCall-0.18-3/blib/arch
    /home/cpansand/.cpan/build/2017102906/Mojo-IOLoop-ForkCall-0.18-3/blib/lib
    /usr/perl5.24.1p/lib/site_perl/5.24.1/amd64-freebsd
    /usr/perl5.24.1p/lib/site_perl/5.24.1
    /usr/perl5.24.1p/lib/5.24.1/amd64-freebsd
    /usr/perl5.24.1p/lib/5.24.1
    .