Perl-Critic v1.156 Perl 5 v5.40.0 darwin-2level
- Status
- Pass
- From
- Philip Sharman
- Dist
-
Perl-Critic v1.156
- Platform
- Perl 5 v5.40.0 darwin-2level
- Date
- 2024-10-24 17:30:26
- ID
- a80db9e4-922d-11ef-b387-e5ddbcb89e1a
This distribution has been tested as part of the CPAN Testers
project, supporting the Perl programming language. See
http://wiki.cpantesters.org/ for more information or email
questions to cpan-testers-discuss@perl.org
--
Dear Andy Lester,
This is a computer-generated report for Perl-Critic-1.156
on perl 5.40.0, created by CPAN-Reporter-1.2020.
Thank you for uploading your work to CPAN. Congratulations!
All tests were successful.
Sections of this report:
* Tester comments
* Program output
* Prerequisites
* Environment and other context
------------------------------
TESTER COMMENTS
------------------------------
Additional comments from tester:
none provided
------------------------------
PROGRAM OUTPUT
------------------------------
Output from './Build test':
# Testing Perl::Critic 1.156 with PPI 1.279 under Perl 5.040000, /Users/psharman/perl5/perlbrew/perls/perl-5.40.0/bin/perl
t/00_modules.t ................................ ok
t/00_versions.t ............................... ok
t/01_config.t ................................. ok
t/01_config_bad_perlcriticrc.t ................ ok
t/01_policy_config.t .......................... ok
t/02_policy.t ................................. ok
t/03_annotations.t ............................ ok
t/03_pragmas.t ................................ ok
t/04_options_processor.t ...................... ok
t/05_utils.t .................................. ok
t/05_utils_perl.t ............................. ok
t/05_utils_pod.t .............................. ok
t/05_utils_ppi.t .............................. ok
t/06_violation.t .............................. ok
t/07_command.t ................................ ok
t/07_perlcritic.t ............................. ok
t/08_document.t ............................... ok
t/09_theme.t .................................. ok
t/10_user_profile.t ........................... ok
t/11_policy_factory.t ......................... ok
t/12_policy_listing.t ......................... ok
t/12_theme_listing.t .......................... ok
t/13_bundled_policies.t ....................... ok
t/14_policy_parameter_behavior_boolean.t ...... ok
t/14_policy_parameter_behavior_enumeration.t .. ok
t/14_policy_parameter_behavior_integer.t ...... ok
t/14_policy_parameter_behavior_list_string.t .. ok
t/14_policy_parameter_behavior_string.t ....... ok
t/14_policy_parameters.t ...................... ok
t/15_statistics.t ............................. ok
t/16_roundtrip_defaults.t ..................... ok
t/20_policies.t ............................... ok
t/20_policy_pod_spelling.t .................... ok
t/20_policy_prohibit_evil_modules.t ........... ok
t/20_policy_prohibit_hard_tabs.t .............. ok
t/20_policy_prohibit_trailing_whitespace.t .... ok
t/20_policy_require_consistent_newlines.t ..... ok
t/20_policy_require_tidy_code.t ............... ok
Unhandled type: REGEXP at /Users/psharman/perl5/perlbrew/perls/perl-5.40.0/lib/site_perl/5.40.0/Devel/Cycle.pm line 107.
t/92_memory_leaks.t ........................... ok
t/gh-734.t .................................... ok
All tests successful.
Files=40, Tests=8211, 36 wallclock secs ( 0.36 usr 0.09 sys + 32.24 cusr 3.48 csys = 36.17 CPU)
Result: PASS
------------------------------
PREREQUISITES
------------------------------
Prerequisite modules loaded:
requires:
Module Need Have
------------------------- -------- --------
B::Keywords 1.23 1.27
Carp 0 1.54
charnames 0 1.50
Config::Tiny 2 2.30
English 0 1.11
Exception::Class 1.23 1.45
Exporter 5.63 5.78
File::Basename 0 2.86
File::Find 0 1.44
File::Path 0 2.18
File::Spec 0 3.90
File::Spec::Unix 0 3.91
File::Temp 0 0.2311
File::Which 0 1.27
Getopt::Long 0 2.58
List::SomeUtils 0.55 0.59
List::Util 0 1.66
Module::Pluggable 3.1 6.1
overload 0 1.37
parent 0 0.242
perl 5.010001 5.040000
Perl::Tidy 0 20240903
Pod::PlainText 0 2.07
Pod::Select 0 1.67
Pod::Spell 1 1.26
Pod::Usage 0 2.03
PPI 1.277 1.279
PPI::Document 1.277 1.279
PPI::Document::File 1.277 1.279
PPI::Node 1.277 1.279
PPI::Token::Quote::Single 1.277 1.279
PPI::Token::Whitespace 1.277 1.279
PPIx::QuoteLike 0 0.023
PPIx::Regexp 0.027 0.088
PPIx::Regexp::Util 0.068 0.088
PPIx::Utils::Traversal 0.003 0.003
Readonly 2 2.05
Scalar::Util 0 1.66
strict 0 1.13
String::Format 1.18 1.18
Term::ANSIColor 2.02 5.01
Test::Builder 0.92 1.302204
Text::ParseWords 3 3.31
version 0.77 0.9933
warnings 0 1.70
build_requires:
Module Need Have
------------------------- -------- --------
lib 0 0.65
Test::More 0 1.302204
configure_requires:
Module Need Have
------------------------- -------- --------
B::Keywords 1.23 1.27
base 0 2.27
Carp 0 1.54
English 0 1.11
Exporter 5.63 5.78
lib 0 0.65
List::SomeUtils 0.55 0.59
Module::Build 0.4204 0.4234
------------------------------
ENVIRONMENT AND OTHER CONTEXT
------------------------------
Environment variables:
LANG = en_CA.UTF-8
PATH = /usr/local/opt/ruby/bin:/usr/local/sbin:/Users/psharman/bin:/Users/psharman/.yarn/bin:/Users/psharman/.config/yarn/global/node_modules/.bin:/Users/psharman/.volta/bin:/Users/psharman/dev/tools/Darwin/jdk/openjdk1.8.0.411_8.77.0.14_x64/bin:/Users/psharman/perl5/perlbrew/bin:/Users/psharman/perl5/perlbrew/perls/perl-5.40.0/bin:/usr/local/bin:/System/Cryptexes/App/usr/bin:/usr/bin:/bin:/usr/sbin:/sbin:/var/run/com.apple.security.cryptexd/codex.system/bootstrap/usr/local/bin:/var/run/com.apple.security.cryptexd/codex.system/bootstrap/usr/bin:/var/run/com.apple.security.cryptexd/codex.system/bootstrap/usr/appleinternal/bin:/opt/X11/bin:/Library/Apple/usr/bin
PERL5LIB =
PERL5OPT =
PERL5_CPANPLUS_IS_RUNNING = 29587
PERL5_CPAN_IS_RUNNING = 29587
PERLBREW_HOME = /Users/psharman/.perlbrew
PERLBREW_MANPATH = /Users/psharman/perl5/perlbrew/perls/perl-5.40.0/man
PERLBREW_PATH = /Users/psharman/perl5/perlbrew/bin:/Users/psharman/perl5/perlbrew/perls/perl-5.40.0/bin
PERLBREW_PERL = perl-5.40.0
PERLBREW_ROOT = /Users/psharman/perl5/perlbrew
PERLBREW_SHELLRC_VERSION = 0.97
PERLBREW_VERSION = 0.97
PERL_USE_UNSAFE_INC = 1
SHELL = /bin/bash
TERM = xterm-256color
TMPDIR = /var/folders/wm/l8wrwck93hv13zkbfsbwvpzr0000gq/T/
Perl special variables (and OS-specific diagnostics, for MSWin32):
$^X = /Users/psharman/perl5/perlbrew/perls/perl-5.40.0/bin/perl
$UID/$EUID = 503 / 503
$GID = 20 20 12 61 79 80 81 98 703 702 701 704 33 100 204 250 395
$EGID = 20 20 12 61 79 80 81 98 703 702 701 704 33 100 204 250 395
Perl module toolchain versions installed:
Module Have
------------------- --------
CPAN 2.37
CPAN::Meta 2.150010
Cwd 3.90
ExtUtils::CBuilder 0.280240
ExtUtils::Command 7.70
ExtUtils::Install 2.22
ExtUtils::MakeMaker 7.70
ExtUtils::Manifest 1.75
ExtUtils::ParseXS 3.51
File::Spec 3.90
JSON 4.10
JSON::PP 4.16
Module::Build 0.4234
Module::Signature n/a
Parse::CPAN::Meta 2.150010
Test2 1.302204
Test::Harness 3.50
Test::More 1.302204
YAML 1.31
YAML::Syck n/a
version 0.9933
--
Summary of my perl5 (revision 5 version 40 subversion 0) configuration:
Platform:
osname=darwin
osvers=23.5.0
archname=darwin-2level
uname='darwin psharma-wsmwwph.internal.salesforce.com 23.5.0 darwin kernel version 23.5.0: wed may 1 20:09:52 pdt 2024; root:xnu-10063.121.3~5release_x86_64 x86_64 '
config_args='-de -Dprefix=/Users/psharman/perl5/perlbrew/perls/perl-5.40.0 -Aeval:scriptdir=/Users/psharman/perl5/perlbrew/perls/perl-5.40.0/bin'
hint=recommended
useposix=true
d_sigaction=define
useithreads=undef
usemultiplicity=undef
use64bitint=define
use64bitall=define
uselongdouble=undef
usemymalloc=n
default_inc_excludes_dot=define
Compiler:
cc='cc'
ccflags ='-fno-common -DPERL_DARWIN -mmacosx-version-min=14.5 -DNO_THREAD_SAFE_QUERYLOCALE -DNO_POSIX_2008_LOCALE -fno-strict-aliasing -pipe -fstack-protector-strong -I/usr/local/include'
optimize='-O3'
cppflags='-fno-common -DPERL_DARWIN -mmacosx-version-min=14.5 -DNO_THREAD_SAFE_QUERYLOCALE -DNO_POSIX_2008_LOCALE -fno-strict-aliasing -pipe -fstack-protector-strong -I/usr/local/include'
ccversion=''
gccversion='Apple LLVM 15.0.0 (clang-1500.3.9.4)'
gccosandvers=''
intsize=4
longsize=8
ptrsize=8
doublesize=8
byteorder=12345678
doublekind=3
d_longlong=define
longlongsize=8
d_longdbl=define
longdblsize=16
longdblkind=3
ivtype='long'
ivsize=8
nvtype='double'
nvsize=8
Off_t='off_t'
lseeksize=8
alignbytes=8
prototype=define
Linker and Libraries:
ld='cc'
ldflags =' -mmacosx-version-min=14.5 -fstack-protector-strong -L/usr/local/lib'
libpth=/usr/local/lib /Applications/Xcode.app/Contents/Developer/Toolchains/XcodeDefault.xctoolchain/usr/lib/clang/15.0.0/lib /Applications/Xcode.app/Contents/Developer/Platforms/MacOSX.platform/Developer/SDKs/MacOSX.sdk/usr/lib /Applications/Xcode.app/Contents/Developer/Toolchains/XcodeDefault.xctoolchain/usr/lib /usr/lib
libs=-lgdbm
perllibs=
libc=
so=dylib
useshrplib=false
libperl=libperl.a
gnulibc_version=''
Dynamic Linking:
dlsrc=dl_dlopen.xs
dlext=bundle
d_dlsymun=undef
ccdlflags=' '
cccdlflags=' '
lddlflags=' -mmacosx-version-min=14.5 -bundle -undefined dynamic_lookup -L/usr/local/lib -fstack-protector-strong'
Characteristics of this binary (from libperl):
Compile-time options:
HAS_LONG_DOUBLE
HAS_STRTOLD
HAS_TIMES
PERLIO_LAYERS
PERL_COPY_ON_WRITE
PERL_DONT_CREATE_GVSV
PERL_HASH_FUNC_SIPHASH13
PERL_HASH_USE_SBOX32
PERL_MALLOC_WRAP
PERL_OP_PARENT
PERL_PRESERVE_IVUV
PERL_USE_SAFE_PUTENV
USE_64_BIT_ALL
USE_64_BIT_INT
USE_LARGE_FILES
USE_LOCALE
USE_LOCALE_COLLATE
USE_LOCALE_CTYPE
USE_LOCALE_NUMERIC
USE_LOCALE_TIME
USE_PERLIO
USE_PERL_ATOF
Built under darwin
Compiled at Jun 10 2024 09:14:37
%ENV:
PERL5LIB=""
PERL5OPT=""
PERL5_CPANPLUS_IS_RUNNING="29587"
PERL5_CPAN_IS_RUNNING="29587"
PERLBREW_HOME="/Users/psharman/.perlbrew"
PERLBREW_MANPATH="/Users/psharman/perl5/perlbrew/perls/perl-5.40.0/man"
PERLBREW_PATH="/Users/psharman/perl5/perlbrew/bin:/Users/psharman/perl5/perlbrew/perls/perl-5.40.0/bin"
PERLBREW_PERL="perl-5.40.0"
PERLBREW_ROOT="/Users/psharman/perl5/perlbrew"
PERLBREW_SHELLRC_VERSION="0.97"
PERLBREW_VERSION="0.97"
PERL_USE_UNSAFE_INC="1"
@INC:
/Users/psharman/perl5/perlbrew/perls/perl-5.40.0/lib/site_perl/5.40.0/darwin-2level
/Users/psharman/perl5/perlbrew/perls/perl-5.40.0/lib/site_perl/5.40.0
/Users/psharman/perl5/perlbrew/perls/perl-5.40.0/lib/5.40.0/darwin-2level
/Users/psharman/perl5/perlbrew/perls/perl-5.40.0/lib/5.40.0
.