Report for Mojolicious-Command-generate-lexicont-0.05

Back
From: metabase:user:838e5b0a-2bb6-1016-a696-43a2537fa0c6
Subject: PASS Mojolicious-Command-generate-lexicont-0.05 v5.14.4 Windows (Cygwin)
Date: 2015-04-18T21:36:28Z

This distribution has been tested as part of the CPAN Testers
project, supporting the Perl programming language.  See
http://wiki.cpantesters.org/ for more information or email
questions to cpan-testers-discuss@perl.org


--
Dear Tetsuya Tatsumi,

This is a computer-generated report for Mojolicious-Command-generate-lexicont-0.05
on perl 5.14.4, created by CPAN-Reporter-1.2011.

Thank you for uploading your work to CPAN.  Congratulations!
All tests were successful.

Sections of this report:

    * Tester comments
    * Program output
    * Prerequisites
    * Environment and other context

------------------------------
TESTER COMMENTS
------------------------------

Additional comments from tester:

this report is from an automated smoke testing program
and was not reviewed by a human for accuracy

------------------------------
PROGRAM OUTPUT
------------------------------

Output from './Build test':

t/args_0_1.t ....................... ok
t/args_2.t ......................... ok
t/args_3.t ......................... ok
t/cannot_translate.t ............... ok
t/config_file_read_error.t ......... ok
t/json_1.t ......................... ok
t/json_2.t ......................... ok
t/json_3.t ......................... ok
t/lingua_translate_create_error.t .. ok
t/org.t ............................ ok
t/src_lexicon_notfound.t ........... ok
All tests successful.
Files=11, Tests=62,  9 wallclock secs ( 0.05 usr  0.06 sys +  4.67 cusr  4.25 csys =  9.03 CPU)
Result: PASS

------------------------------
PREREQUISITES
------------------------------

Prerequisite modules loaded:

requires:

    Module              Need     Have    
    ------------------- -------- --------
    Config::PL          0        0.02    
    Encode              0        2.42_02 
    Module::Load        0        0.18    
    Mojo::Base          0        0       
    perl                5.008005 5.014004

build_requires:

    Module              Need     Have    
    ------------------- -------- --------
    JSON                0        2.90    
    Mojolicious         0        6.08    
    Test::Exception     0        0.38    
    Test::More          0        1.001014
    Test::Warn          0        0.30    

configure_requires:

    Module              Need     Have    
    ------------------- -------- --------
    CPAN::Meta          0        2.150001
    CPAN::Meta::Prereqs 0        2.150001
    Module::Build       0.38     0.4211  


------------------------------
ENVIRONMENT AND OTHER CONTEXT
------------------------------

Environment variables:

    AUTOMATED_TESTING = 1
    COMSPEC = C:\Windows\system32\cmd.exe
    LANG = en_US.UTF-8
    LD_LIBRARY_PATH = /usr/lib/x86:/usr/X11R6/lib
    NUMBER_OF_PROCESSORS = 8
    PATH = /usr/local/bin:/usr/bin:/cygdrive/c/Program Files/Common Files/Microsoft Shared/Windows Live:/cygdrive/c/Program Files (x86)/Common Files/Microsoft Shared/Windows Live:/cygdrive/c/ProgramData/Oracle/Java/javapath:/cygdrive/c/Windows/system32:/cygdrive/c/Windows:/cygdrive/c/Windows/System32/Wbem:/cygdrive/c/Windows/System32/WindowsPowerShell/v1.0:/cygdrive/c/Windows/SUA/common:/cygdrive/c/Windows/SUA/usr/lib:/cygdrive/d/Program Files/SlikSvn/bin:/cygdrive/d/Strawberry/c/bin:/cygdrive/d/Strawberry/perl/site/bin:/cygdrive/d/Strawberry/perl/bin:/cygdrive/c/Program Files (x86)/Windows Live/Shared:/cygdrive/c/Program Files (x86)/Windows Kits/8.1/Windows Performance Toolkit:/cygdrive/c/Program Files/Microsoft SQL Server/110/Tools/Binn:/cygdrive/c/Program Files (x86)/Microsoft SDKs/TypeScript/1.0:/cygdrive/c/Program Files/Microsoft SQL Server/120/Tools/Binn
    PERL5LIB = /home/Installs/.local/share/.cpan/build/Config-PL-0.02-LMmR4x/blib/arch:/home/Installs/.local/share/.cpan/build/Config-PL-0.02-LMmR4x/blib/lib:/home/Installs/.local/share/.cpan/build/Mojolicious-6.08-MQP17m/blib/arch:/home/Installs/.local/share/.cpan/build/Mojolicious-6.08-MQP17m/blib/lib:/home/Installs/.local/share/.cpan/build/IO-Socket-IP-0.37-mBHAHn/blib/arch:/home/Installs/.local/share/.cpan/build/IO-Socket-IP-0.37-mBHAHn/blib/lib
    PERL5OPT = 
    PERL5_CPANPLUS_IS_RUNNING = 7812
    PERL5_CPAN_IS_RUNNING = 7812
    PERL5_CPAN_IS_RUNNING_IN_RECURSION = 11192,7812
    PERL_CR_SMOKER_CURRENT = Mojolicious-Command-generate-lexicont-0.05
    PERL_EXTUTILS_AUTOINSTALL = --defaultdeps
    PERL_MM_USE_DEFAULT = 1
    PROCESSOR_IDENTIFIER = Intel64 Family 6 Model 26 Stepping 5, GenuineIntel
    SHELL = /bin/bash
    TEMP = /tmp
    TERM = xterm

Perl special variables (and OS-specific diagnostics, for MSWin32):

    $^X = /usr/bin/perl
    $UID/$EUID = 11154 / 11154
    $GID = 10513 10513 197609 559 545 544 4 66049 11 15 4095 66048 10512 10519 405504
    $EGID = 10513 10513 197609 559 545 544 4 66049 11 15 4095 66048 10512 10519 405504

Perl module toolchain versions installed:

    Module              Have     
    ------------------- ---------
    CPAN                1.9600_01
    CPAN::Meta          2.150001 
    Cwd                 3.47     
    ExtUtils::CBuilder  0.280203 
    ExtUtils::Command   1.17     
    ExtUtils::Install   1.56     
    ExtUtils::MakeMaker 7.04     
    ExtUtils::Manifest  1.70     
    ExtUtils::ParseXS   2.2210   
    File::Spec          3.47     
    JSON                2.90     
    JSON::PP            2.27300  
    Module::Build       0.4211   
    Module::Signature   0.73     
    Parse::CPAN::Meta   1.4414   
    Test::Harness       3.35     
    Test::More          1.001014 
    YAML                1.14     
    YAML::Syck          n/a      
    version             0.88     


--

Summary of my perl5 (revision 5 version 14 subversion 4) configuration:
   
  Platform:
    osname=cygwin, osvers=1.7.35(0.28653), archname=cygwin-thread-multi
    uname='cygwin_nt-6.3 cygwin 1.7.35(0.28653) 2015-02-16 13:03 x86_64 cygwin '
    config_args='-d -e -Dprefix=/usr -Dmksymlinks -Dusethreads -Darchname=x86_64-cygwin-threads -Dlibperl=cygperl5_14.dll -Dcc=gcc -Dld=g++ -Accflags=-ggdb -O2 -pipe -Wimplicit-function-declaration -fdebug-prefix-map=/mnt/share/maint/perl.x86_64/build=/usr/src/debug/perl-5.14.4-3 -fdebug-prefix-map=/mnt/share/maint/perl.x86_64/src/perl-5.14.4=/usr/src/debug/perl-5.14.4-3 -fwrapv'
    hint=recommended, useposix=true, d_sigaction=define
    useithreads=define, usemultiplicity=define
    useperlio=define, d_sfio=undef, uselargefiles=define, usesocks=undef
    use64bitint=define, use64bitall=define, uselongdouble=undef
    usemymalloc=n, bincompat5005=undef
  Compiler:
    cc='gcc', ccflags ='-DPERL_USE_SAFE_PUTENV -U__STRICT_ANSI__ -ggdb -O2 -pipe -Wimplicit-function-declaration -fdebug-prefix-map=/mnt/share/maint/perl.x86_64/build=/usr/src/debug/perl-5.14.4-3 -fdebug-prefix-map=/mnt/share/maint/perl.x86_64/src/perl-5.14.4=/usr/src/debug/perl-5.14.4-3 -fwrapv -fno-strict-aliasing -fstack-protector',
    optimize='-O3',
    cppflags='-DPERL_USE_SAFE_PUTENV -U__STRICT_ANSI__ -ggdb -O2 -pipe -Wimplicit-function-declaration -fdebug-prefix-map=/mnt/share/maint/perl.x86_64/build=/usr/src/debug/perl-5.14.4-3 -fdebug-prefix-map=/mnt/share/maint/perl.x86_64/src/perl-5.14.4=/usr/src/debug/perl-5.14.4-3 -fwrapv -fno-strict-aliasing -fstack-protector'
    ccversion='', gccversion='4.9.2', gccosandvers=''
    intsize=4, longsize=8, ptrsize=8, doublesize=8, byteorder=12345678
    d_longlong=define, longlongsize=8, d_longdbl=define, longdblsize=16
    ivtype='long', ivsize=8, nvtype='double', nvsize=8, Off_t='off_t', lseeksize=8
    alignbytes=8, prototype=define
  Linker and Libraries:
    ld='g++', ldflags =' -Wl,--enable-auto-import -Wl,--export-all-symbols -Wl,--enable-auto-image-base -fstack-protector -L/usr/local/lib'
    libpth=/usr/local/lib /usr/lib /lib
    libs=-lgdbm -ldb -ldl -lcrypt -lgdbm_compat
    perllibs=-ldl -lcrypt
    libc=/usr/lib/libc.a, so=dll, useshrplib=true, libperl=cygperl5_14.dll
    gnulibc_version=''
  Dynamic Linking:
    dlsrc=dl_dlopen.xs, dlext=dll, d_dlsymun=undef, ccdlflags=' '
    cccdlflags=' ', lddlflags=' --shared  -Wl,--enable-auto-import -Wl,--export-all-symbols -Wl,--enable-auto-image-base -L/usr/local/lib -fstack-protector'


Characteristics of this binary (from libperl): 
  Compile-time options: MULTIPLICITY PERL_DONT_CREATE_GVSV
                        PERL_IMPLICIT_CONTEXT PERL_PRESERVE_IVUV
                        PERL_USE_SAFE_PUTENV USE_64_BIT_ALL USE_64_BIT_INT
                        USE_ITHREADS USE_LARGE_FILES USE_PERLIO USE_PERL_ATOF
                        USE_REENTRANT_API
  Locally applied patches:
	rurban/0c612ce82        Fix building static extensions on cygwin, -UUSEIMPORTLIB
	perl.cygwin_autorebase  Rebase DLL after building (skip for cygport builds)
	v5.14.0-RC2-6-gfc6f691  skip testing cygwin utf8 readdir() with Win32 ANSI API
	v5.14.0-RC2-7-g3877b86  Fix test 50 on cygwin: \WINDOWS
	v5.14.0-RC2-10-gd22b5bd revert +x global.sym from 3691eaa79cc6a
	v5.15.0-579-g8375c93    Export store_cop_label for the perl compiler
	v5.15.3-232-g1bac5ec    sv.c: S_anonymise_cv_maybe UTF8 cleanup.
	v5.15.7-75-g803e389     CYG17 utf8 paths
	v5.15.7-302-g5bc802d    Revise perlcygwin.pod for cygwin-1.7
	v5.15.7-303-g286f819    add Cygwin::sync_winenv [perl #110190]
	v5.19.8-494-g6cc44f6    avoid a "FILE" name conflict with cygwin's wchar.h
	v5.19.8-496-g3383030    [perl #120936] op/taint.t handling of no ipcsysv on cygwin
	v5.19.8-509-g288d0d9    cygwin doesn't implement $^E (except as a read of $!)
	v5.21.4-548-g860874c    wrap the failing call_checker test in an eval and TODO it
  Built under cygwin
  Compiled at Feb 17 2015 21:41:24
  %ENV:
    PERL5LIB="/home/Installs/.local/share/.cpan/build/Config-PL-0.02-LMmR4x/blib/arch:/home/Installs/.local/share/.cpan/build/Config-PL-0.02-LMmR4x/blib/lib:/home/Installs/.local/share/.cpan/build/Mojolicious-6.08-MQP17m/blib/arch:/home/Installs/.local/share/.cpan/build/Mojolicious-6.08-MQP17m/blib/lib:/home/Installs/.local/share/.cpan/build/IO-Socket-IP-0.37-mBHAHn/blib/arch:/home/Installs/.local/share/.cpan/build/IO-Socket-IP-0.37-mBHAHn/blib/lib"
    PERL5OPT=""
    PERL5_CPANPLUS_IS_RUNNING="7812"
    PERL5_CPAN_IS_RUNNING="7812"
    PERL5_CPAN_IS_RUNNING_IN_RECURSION="11192,7812"
    PERL_CR_SMOKER_CURRENT="Mojolicious-Command-generate-lexicont-0.05"
    PERL_EXTUTILS_AUTOINSTALL="--defaultdeps"
    PERL_MM_USE_DEFAULT="1"
  @INC:
    /home/Installs/.local/share/.cpan/build/Config-PL-0.02-LMmR4x/blib/arch
    /home/Installs/.local/share/.cpan/build/Config-PL-0.02-LMmR4x/blib/lib
    /home/Installs/.local/share/.cpan/build/Mojolicious-6.08-MQP17m/blib/arch
    /home/Installs/.local/share/.cpan/build/Mojolicious-6.08-MQP17m/blib/lib
    /home/Installs/.local/share/.cpan/build/IO-Socket-IP-0.37-mBHAHn/blib/arch
    /home/Installs/.local/share/.cpan/build/IO-Socket-IP-0.37-mBHAHn/blib/lib
    /usr/lib/perl5/site_perl/5.14/x86_64-cygwin-threads
    /usr/lib/perl5/site_perl/5.14
    /usr/lib/perl5/vendor_perl/5.14/x86_64-cygwin-threads
    /usr/lib/perl5/vendor_perl/5.14
    /usr/lib/perl5/5.14/x86_64-cygwin-threads
    /usr/lib/perl5/5.14
    .