StorageDisplay v2.03 Perl 5 v5.30.3 x86_64-linux

Status
Pass
From
Slaven Rezić
Dist
StorageDisplay v2.03
Platform
Perl 5 v5.30.3 x86_64-linux
Date
2023-04-03 22:12:43
ID
a81a5e38-d26c-11ed-a020-1d346e8775ea
This distribution has been tested as part of the CPAN Testers
project, supporting the Perl programming language.  See
http://wiki.cpantesters.org/ for more information or email
questions to cpan-testers-discuss@perl.org


--
Dear Vincent Danjean,

This is a computer-generated report for StorageDisplay-2.03
on perl 5.30.3, created by CPAN-Reporter-1.2018.

Thank you for uploading your work to CPAN.  Congratulations!
All tests were successful.

Sections of this report:

    * Tester comments
    * Program output
    * Prerequisites
    * Environment and other context

------------------------------
TESTER COMMENTS
------------------------------

Additional comments from tester:

none provided

------------------------------
PROGRAM OUTPUT
------------------------------

Output from '/usr/bin/make test':

PERL_DL_NONLAZY=1 "/opt/perl-5.30.3/bin/perl" "-MExtUtils::Command::MM" "-MTest::Harness" "-e" "undef *Test::Harness::Switches; test_harness(0, 'blib/lib', 'blib/arch')" t/*.t
# Testing with Perl 5.030003, /opt/perl-5.30.3/bin/perl
#     Carp version is 1.50
#     Data::Compare version is 1.28
#     Data::Dumper version is 2.183
#     ExtUtils::MakeMaker version is 7.70
#     Getopt::Long version is 2.54
#     IO::Select version is 1.51
#     JSON::PP version is 4.16
#     Math::BigFloat version is 1.999838
#     Math::BigInt version is 1.999838
#     Moose version is 2.2203
#     MooseX::NonMoose version is 0.26
#     MooseX::Role::Parameterized version is 1.11
#     Net::OpenSSH version is 0.83
#     Object::ID version is v0.1.2
#     POSIX version is 1.88
#     Path::Class version is 0.37
#     Path::Class::Dir version is 0.37
#     Pod::Usage version is 2.03
#     Scalar::Util version is 1.63
#     Storable version is 3.25
#     Term::ReadKey version is 2.38
#     Test2::V0 version is 0.000150
#     Test::File::Contents version is 0.242
#     Test::More version is 1.302194
#     Test::Script version is 1.29
#     Types::Standard version is 2.002001
#     base version is 2.27
#     bignum version is 0.66
#     bigrat version is 0.66
#     namespace::sweep version is 0.006
#     parent version is 0.241
#     strict version is 1.11
#     utf8 version is 1.22
#     warnings version is 1.44
t/000-report-versions.t .. ok
t/05_round.t ............. ok
t/06_int-data-dumper.t ... ok
# JSON::PP: boolean_values support: 1
# JSON::PP: allow_bignum support: 1
# JSON::PP has boolean_values: 1
t/07_json.t .............. ok
# $VAR1 = {
#           's1' => {
#                     'bf' => bless( {
#                                      '_e' => bless( [
#                                                       0
#                                                     ], 'Math::BigInt::Calc' ),
#                                      '_es' => '+',
#                                      '_m' => bless( [
#                                                       '401'
#                                                     ], 'Math::BigInt::Calc' ),
#                                      'sign' => '+'
#                                    }, 'Math::BigFloat' ),
#                     'bf2bf' => bless( {
#                                         '_e' => bless( [
#                                                          0
#                                                        ], 'Math::BigInt::Calc' ),
#                                         '_es' => '+',
#                                         '_m' => bless( [
#                                                          '431'
#                                                        ], 'Math::BigInt::Calc' ),
#                                         'sign' => '+'
#                                       }, 'Math::BigFloat' ),
#                     'bf2i' => bless( {
#                                        '_e' => bless( [
#                                                         0
#                                                       ], 'Math::BigInt::Calc' ),
#                                        '_es' => '+',
#                                        '_m' => bless( [
#                                                         '411'
#                                                       ], 'Math::BigInt::Calc' ),
#                                        'sign' => '+'
#                                      }, 'Math::BigFloat' ),
#                     'bf2s' => bless( {
#                                        '_e' => bless( [
#                                                         0
#                                                       ], 'Math::BigInt::Calc' ),
#                                        '_es' => '+',
#                                        '_m' => bless( [
#                                                         '421'
#                                                       ], 'Math::BigInt::Calc' ),
#                                        'sign' => '+'
#                                      }, 'Math::BigFloat' ),
#                     'bi' => bless( {
#                                      'sign' => '+',
#                                      'value' => bless( [
#                                                          '301'
#                                                        ], 'Math::BigInt::Calc' )
#                                    }, 'Math::BigInt' ),
#                     'bi2bi' => bless( {
#                                         'sign' => '+',
#                                         'value' => bless( [
#                                                             '331'
#                                                           ], 'Math::BigInt::Calc' )
#                                       }, 'Math::BigInt' ),
#                     'bi2i' => bless( {
#                                        'sign' => '+',
#                                        'value' => bless( [
#                                                            '311'
#                                                          ], 'Math::BigInt::Calc' )
#                                      }, 'Math::BigInt' ),
#                     'bi2s' => bless( {
#                                        'sign' => '+',
#                                        'value' => bless( [
#                                                            '321'
#                                                          ], 'Math::BigInt::Calc' )
#                                      }, 'Math::BigInt' ),
#                     'i' => 101,
#                     'i2i' => 111,
#                     'i2s' => 121,
#                     's' => '201',
#                     's2i' => '211',
#                     's2s' => '221'
#                   },
#           's2' => {
#                     'bf' => bless( {
#                                      '_e' => bless( [
#                                                       0
#                                                     ], 'Math::BigInt::Calc' ),
#                                      '_es' => '+',
#                                      '_m' => bless( [
#                                                       '401'
#                                                     ], 'Math::BigInt::Calc' ),
#                                      'sign' => '+'
#                                    }, 'Math::BigFloat' ),
#                     'bf2bf' => bless( {
#                                         '_e' => bless( [
#                                                          0
#                                                        ], 'Math::BigInt::Calc' ),
#                                         '_es' => '+',
#                                         '_m' => bless( [
#                                                          '431'
#                                                        ], 'Math::BigInt::Calc' ),
#                                         'sign' => '+'
#                                       }, 'Math::BigFloat' ),
#                     'bf2i' => 411,
#                     'bf2s' => '421',
#                     'bi' => bless( {
#                                      'sign' => '+',
#                                      'value' => bless( [
#                                                          '301'
#                                                        ], 'Math::BigInt::Calc' )
#                                    }, 'Math::BigInt' ),
#                     'bi2bi' => bless( {
#                                         'sign' => '+',
#                                         'value' => bless( [
#                                                             '331'
#                                                           ], 'Math::BigInt::Calc' )
#                                       }, 'Math::BigInt' ),
#                     'bi2i' => 311,
#                     'bi2s' => '321',
#                     'i' => 101,
#                     'i2i' => 111,
#                     'i2s' => '121',
#                     's' => '201',
#                     's2i' => 211,
#                     's2s' => '221'
#                   }
#         };
t/08_bigint.t ............ ok
t/10_scripts.t ........... ok
t/20_reference.t ......... ok
t/author-critic.t ........ skipped: these tests are for testing by the author
t/author-distmeta.t ...... skipped: these tests are for testing by the author
t/author-pod-syntax.t .... skipped: these tests are for testing by the author
All tests successful.
Files=10, Tests=142, 11 wallclock secs ( 0.03 usr  0.01 sys + 10.11 cusr  1.10 csys = 11.25 CPU)
Result: PASS

------------------------------
PREREQUISITES
------------------------------

Prerequisite modules loaded:

requires:

    Module                      Need     Have    
    --------------------------- -------- --------
    base                        0        2.27    
    bignum                      0.51     0.66    
    bigrat                      0.51     0.66    
    Carp                        0        1.50    
    Data::Compare               0        1.28    
    Data::Dumper                0        2.183   
    Getopt::Long                0        2.54    
    IO::Select                  0        1.51    
    JSON::PP                    0        4.16    
    Moose                       0        2.2203  
    Moose::Role                 0        2.2203  
    MooseX::NonMoose            0        0.26    
    MooseX::Role::Parameterized 0        1.11    
    namespace::sweep            0        0.006   
    Net::OpenSSH                0        0.83    
    Object::ID                  0        v0.1.2  
    parent                      0        0.241   
    Path::Class::Dir            0        0.37    
    perl                        5.014000 5.030003
    Pod::Usage                  0        2.03    
    POSIX                       0        1.88    
    Scalar::Util                0        1.63    
    Storable                    0        3.25    
    strict                      0        1.11    
    Term::ReadKey               0        2.38    
    Types::Standard             0        2.002001
    warnings                    0        1.44    

build_requires:

    Module                      Need     Have    
    --------------------------- -------- --------
    ExtUtils::MakeMaker         0        7.70    
    Math::BigFloat              0        1.999838
    Math::BigInt                0        1.999838
    Path::Class                 0        0.37    
    Test2::V0                   0        0.000150
    Test::File::Contents        0        0.242   
    Test::More                  0.94     1.302194
    Test::Script                0        1.29    
    utf8                        0        1.22    

configure_requires:

    Module                      Need     Have    
    --------------------------- -------- --------
    ExtUtils::MakeMaker         0        7.70    


------------------------------
ENVIRONMENT AND OTHER CONTEXT
------------------------------

Environment variables:

    LANG = C
    PATH = /usr/local/bin:/usr/bin:/bin:/usr/local/sbin:/usr/sbin:/sbin:/home/cpansand/bin/linux-gnu:/home/cpansand/bin/sh:/home/cpansand/bin:/usr/games:/home/cpansand/devel:/home/eserte/src/srezic-misc/scripts
    PERL5LIB = 
    PERL5OPT = 
    PERL5_CPANPLUS_IS_RUNNING = 22682
    PERL5_CPAN_IS_RUNNING = 22682
    PERL5_CPAN_IS_RUNNING_IN_RECURSION = 25951,22682
    PERLDOC = -MPod::Perldoc::ToTextOverstrike
    PERL_BATCH = yes
    PERL_CANARY_STABILITY_NOPROMPT = 1
    PERL_CPAN_REPORTER_CONFIG = /var/tmp/cpansmoker-1023/2023040318/cpanreporter_000_config.ini
    PERL_EXTUTILS_AUTOINSTALL = --defaultdeps
    PERL_USE_UNSAFE_INC = 1
    SHELL = /usr/bin/zsh
    TERM = screen
    TMPDIR = /var/tmp/cpansmoker-1023/2023040318

Perl special variables (and OS-specific diagnostics, for MSWin32):

    $^X = /opt/perl-5.30.3/bin/perl
    $UID/$EUID = 1023 / 1023
    $GID = 1023 1023
    $EGID = 1023 1023

Perl module toolchain versions installed:

    Module              Have    
    ------------------- --------
    CPAN                2.29    
    CPAN::Meta          2.150010
    Cwd                 3.78    
    ExtUtils::CBuilder  0.280236
    ExtUtils::Command   7.70    
    ExtUtils::Install   2.22    
    ExtUtils::MakeMaker 7.70    
    ExtUtils::Manifest  1.72    
    ExtUtils::ParseXS   3.44    
    File::Spec          3.78    
    JSON                4.10    
    JSON::PP            4.16    
    Module::Build       0.4232  
    Module::Signature   0.88    
    Parse::CPAN::Meta   2.150010
    Test::Harness       3.44    
    Test::More          1.302194
    YAML                1.30    
    YAML::Syck          1.34    
    version             0.9929  


--

Summary of my perl5 (revision 5 version 30 subversion 3) configuration:
   
  Platform:
    osname=linux
    osvers=4.19.0-17-amd64
    archname=x86_64-linux
    uname='linux cloud12.bbbike.org 4.19.0-17-amd64 #1 smp debian 4.19.194-3 (2021-07-18) x86_64 gnulinux '
    config_args='-ds -e -Dprefix=/opt/perl-5.30.3 -Dcf_email=srezic@cpan.org'
    hint=recommended
    useposix=true
    d_sigaction=define
    useithreads=undef
    usemultiplicity=undef
    use64bitint=define
    use64bitall=define
    uselongdouble=undef
    usemymalloc=n
    default_inc_excludes_dot=define
    bincompat5005=undef
  Compiler:
    cc='cc'
    ccflags ='-fwrapv -fno-strict-aliasing -pipe -fstack-protector-strong -I/usr/local/include -D_LARGEFILE_SOURCE -D_FILE_OFFSET_BITS=64 -D_FORTIFY_SOURCE=2'
    optimize='-O2'
    cppflags='-fwrapv -fno-strict-aliasing -pipe -fstack-protector-strong -I/usr/local/include'
    ccversion=''
    gccversion='8.3.0'
    gccosandvers=''
    intsize=4
    longsize=8
    ptrsize=8
    doublesize=8
    byteorder=12345678
    doublekind=3
    d_longlong=define
    longlongsize=8
    d_longdbl=define
    longdblsize=16
    longdblkind=3
    ivtype='long'
    ivsize=8
    nvtype='double'
    nvsize=8
    Off_t='off_t'
    lseeksize=8
    alignbytes=8
    prototype=define
  Linker and Libraries:
    ld='cc'
    ldflags =' -fstack-protector-strong -L/usr/local/lib'
    libpth=/usr/local/lib /usr/lib/gcc/x86_64-linux-gnu/8/include-fixed /usr/include/x86_64-linux-gnu /usr/lib /lib/x86_64-linux-gnu /lib/../lib /usr/lib/x86_64-linux-gnu /usr/lib/../lib /lib /lib64 /usr/lib64
    libs=-lpthread -lnsl -ldb -ldl -lm -lcrypt -lutil -lc
    perllibs=-lpthread -lnsl -ldl -lm -lcrypt -lutil -lc
    libc=libc-2.28.so
    so=so
    useshrplib=false
    libperl=libperl.a
    gnulibc_version='2.28'
  Dynamic Linking:
    dlsrc=dl_dlopen.xs
    dlext=so
    d_dlsymun=undef
    ccdlflags='-Wl,-E'
    cccdlflags='-fPIC'
    lddlflags='-shared -O2 -L/usr/local/lib -fstack-protector-strong'


Characteristics of this binary (from libperl): 
  Compile-time options:
    HAS_TIMES
    PERLIO_LAYERS
    PERL_COPY_ON_WRITE
    PERL_DONT_CREATE_GVSV
    PERL_MALLOC_WRAP
    PERL_OP_PARENT
    PERL_PRESERVE_IVUV
    USE_64_BIT_ALL
    USE_64_BIT_INT
    USE_LARGE_FILES
    USE_LOCALE
    USE_LOCALE_COLLATE
    USE_LOCALE_CTYPE
    USE_LOCALE_NUMERIC
    USE_LOCALE_TIME
    USE_PERLIO
    USE_PERL_ATOF
  Locally applied patches:
    Devel::PatchPerl 2.08
  Built under linux
  Compiled at Sep  5 2021 12:40:43
  %ENV:
    PERL5LIB=""
    PERL5OPT=""
    PERL5_CPANPLUS_IS_RUNNING="22682"
    PERL5_CPAN_IS_RUNNING="22682"
    PERL5_CPAN_IS_RUNNING_IN_RECURSION="25951,22682"
    PERLDOC="-MPod::Perldoc::ToTextOverstrike"
    PERL_BATCH="yes"
    PERL_CANARY_STABILITY_NOPROMPT="1"
    PERL_CPAN_REPORTER_CONFIG="/var/tmp/cpansmoker-1023/2023040318/cpanreporter_000_config.ini"
    PERL_EXTUTILS_AUTOINSTALL="--defaultdeps"
    PERL_USE_UNSAFE_INC="1"
  @INC:
    /opt/perl-5.30.3/lib/site_perl/5.30.3/x86_64-linux
    /opt/perl-5.30.3/lib/site_perl/5.30.3
    /opt/perl-5.30.3/lib/5.30.3/x86_64-linux
    /opt/perl-5.30.3/lib/5.30.3
    .