Back
From: metabase:user:30f0bd62-2aae-11df-837a-5e0a49663a4f
Subject: PASS Log-Log4perl-Warn-Multiple-EasyInit-0.0.1 v5.8.9 OpenBSD
Date: 2011-04-09T12:55:33Z
This distribution has been tested as part of the CPAN Testers
project, supporting the Perl programming language. See
http://wiki.cpantesters.org/ for more information or email
questions to cpan-testers-discuss@perl.org
--
Dear Chisel,
This is a computer-generated report for Log-Log4perl-Warn-Multiple-EasyInit-0.0.1
on perl 5.8.9, created by CPAN-Reporter-1.1902.
Thank you for uploading your work to CPAN. Congratulations!
All tests were successful.
Sections of this report:
* Tester comments
* Program output
* Prerequisites
* Environment and other context
------------------------------
TESTER COMMENTS
------------------------------
Additional comments from tester:
this report is from an automated smoke testing program
and was not reviewed by a human for accuracy
------------------------------
PROGRAM OUTPUT
------------------------------
Output from '/usr/bin/make test':
PERL_DL_NONLAZY=1 /home/sts/cpansmoke/perl-5.8.9/bin/perl "-MExtUtils::Command::MM" "-e" "test_harness(0, 'blib/lib', 'blib/arch')" t/*.t
t/00.multiple_init.t ..... ok
t/release-distmeta.t ..... skipped: these tests are for release candidate testing
t/release-has-version.t .. skipped: these tests are for release candidate testing
t/release-no-tabs.t ...... skipped: these tests are for release candidate testing
t/release-pod-syntax.t ... skipped: these tests are for release candidate testing
All tests successful.
Files=5, Tests=14, 0 wallclock secs ( 0.03 usr 0.02 sys + 0.20 cusr 0.05 csys = 0.30 CPU)
Result: PASS
------------------------------
PREREQUISITES
------------------------------
Prerequisite modules loaded:
requires:
Module Need Have
------------------- ---- ------
Carp 0 1.10
Log::Log4perl 0 1.32
Test::More 0 0.98
Test::Warn 0 0.23
build_requires:
Module Need Have
------------------- ---- ------
FindBin::libs 0 1.5100
Test::More 0 0.98
Test::Warn 0 0.23
configure_requires:
Module Need Have
------------------- ---- ------
ExtUtils::MakeMaker 6.31 6.56
------------------------------
ENVIRONMENT AND OTHER CONTEXT
------------------------------
Environment variables:
AUTOMATED_TESTING = 1
PATH = /home/sts/bin:/bin:/sbin:/usr/bin:/usr/sbin:/usr/X11R6/bin:/usr/local/bin:/usr/local/sbin:/usr/games:.
PERL5LIB = /home/sts/cpansmoke/perl-5.8.9/cpan/build/Log-Log4perl-1.32-FIR30o/blib/arch:/home/sts/cpansmoke/perl-5.8.9/cpan/build/Log-Log4perl-1.32-FIR30o/blib/lib:/home/sts/cpansmoke/perl-5.8.9/cpan/build/FindBin-libs-1.51-N6tvGx/blib/arch:/home/sts/cpansmoke/perl-5.8.9/cpan/build/FindBin-libs-1.51-N6tvGx/blib/lib:/home/sts/cpansmoke/perl-5.8.9/cpan/build/Test-Warn-0.23-pPMuxZ/blib/arch:/home/sts/cpansmoke/perl-5.8.9/cpan/build/Test-Warn-0.23-pPMuxZ/blib/lib:/home/sts/cpansmoke/perl-5.8.9/cpan/build/Tree-DAG_Node-1.06-VnzmaQ/blib/arch:/home/sts/cpansmoke/perl-5.8.9/cpan/build/Tree-DAG_Node-1.06-VnzmaQ/blib/lib
PERL5OPT =
PERL5_CPANPLUS_IS_RUNNING = 8011
PERL5_CPAN_IS_RUNNING = 8011
PERL5_CPAN_IS_RUNNING_IN_RECURSION = 9960,8011
PERL_CR_SMOKER_CURRENT = Log-Log4perl-Warn-Multiple-EasyInit-0.0.1
PERL_EXTUTILS_AUTOINSTALL = --defaultdeps
PERL_MM_USE_DEFAULT = 1
SHELL = /usr/local/bin/bash
TERM = screen
TMPDIR = /home/sts/cpansmoke/tmp
Perl special variables (and OS-specific diagnostics, for MSWin32):
$^X = /home/sts/cpansmoke/perl-5.8.9/bin/perl
$UID/$EUID = 1000 / 1000
$GID = 10 10 0
$EGID = 10 10 0
Perl module toolchain versions installed:
Module Have
------------------- --------
CPAN 1.9600
Cwd 3.33
ExtUtils::CBuilder 0.280202
ExtUtils::Command 1.16
ExtUtils::Install 1.52
ExtUtils::MakeMaker 6.56
ExtUtils::Manifest 1.56
ExtUtils::ParseXS 2.2206
File::Spec 3.33
Module::Build 0.3800
Module::Signature n/a
Test::Harness 3.23
Test::More 0.98
YAML 0.72
YAML::Syck n/a
version 0.88
--
Summary of my perl5 (revision 5 version 8 subversion 9) configuration:
Platform:
osname=openbsd, osvers=4.8, archname=OpenBSD.i386-openbsd-thread-multi
uname='openbsd cpansmoke3 4.8 generic.mp#359 i386 '
config_args='-des -Dusethreads -Dprefix=/home/sts/cpansmoke/perl-5.8.9'
hint=recommended, useposix=true, d_sigaction=define
usethreads=define use5005threads=undef useithreads=define usemultiplicity=define
useperlio=define d_sfio=undef uselargefiles=define usesocks=undef
use64bitint=undef use64bitall=undef uselongdouble=undef
usemymalloc=n, bincompat5005=undef
Compiler:
cc='cc', ccflags ='-pthread -fno-strict-aliasing -pipe -I/usr/local/include',
optimize='-O2',
cppflags='-pthread -fno-strict-aliasing -pipe -I/usr/local/include'
ccversion='', gccversion='4.2.1 20070719 ', gccosandvers='openbsd4.8'
intsize=4, longsize=4, ptrsize=4, doublesize=8, byteorder=1234
d_longlong=define, longlongsize=8, d_longdbl=define, longdblsize=12
ivtype='long', ivsize=4, nvtype='double', nvsize=8, Off_t='off_t', lseeksize=8
alignbytes=4, prototype=define
Linker and Libraries:
ld='cc', ldflags ='-pthread -Wl,-E -L/usr/local/lib'
libpth=/usr/local/lib /usr/lib
libs=-lgdbm -lm -lutil -lc
perllibs=-lm -lutil -lc
libc=/usr/lib/libc.so.56.0, so=so, useshrplib=false, libperl=libperl.a
gnulibc_version=''
Dynamic Linking:
dlsrc=dl_dlopen.xs, dlext=so, d_dlsymun=undef, ccdlflags=' '
cccdlflags='-DPIC -fPIC ', lddlflags='-shared -fPIC -L/usr/local/lib'
Characteristics of this binary (from libperl):
Compile-time options: MULTIPLICITY PERL_IMPLICIT_CONTEXT PERL_MALLOC_WRAP
USE_FAST_STDIO USE_ITHREADS USE_LARGE_FILES
USE_PERLIO USE_REENTRANT_API
Built under openbsd
Compiled at Apr 8 2011 11:59:54
%ENV:
PERL5LIB="/home/sts/cpansmoke/perl-5.8.9/cpan/build/Log-Log4perl-1.32-FIR30o/blib/arch:/home/sts/cpansmoke/perl-5.8.9/cpan/build/Log-Log4perl-1.32-FIR30o/blib/lib:/home/sts/cpansmoke/perl-5.8.9/cpan/build/FindBin-libs-1.51-N6tvGx/blib/arch:/home/sts/cpansmoke/perl-5.8.9/cpan/build/FindBin-libs-1.51-N6tvGx/blib/lib:/home/sts/cpansmoke/perl-5.8.9/cpan/build/Test-Warn-0.23-pPMuxZ/blib/arch:/home/sts/cpansmoke/perl-5.8.9/cpan/build/Test-Warn-0.23-pPMuxZ/blib/lib:/home/sts/cpansmoke/perl-5.8.9/cpan/build/Tree-DAG_Node-1.06-VnzmaQ/blib/arch:/home/sts/cpansmoke/perl-5.8.9/cpan/build/Tree-DAG_Node-1.06-VnzmaQ/blib/lib"
PERL5OPT=""
PERL5_CPANPLUS_IS_RUNNING="8011"
PERL5_CPAN_IS_RUNNING="8011"
PERL5_CPAN_IS_RUNNING_IN_RECURSION="9960,8011"
PERL_CR_SMOKER_CURRENT="Log-Log4perl-Warn-Multiple-EasyInit-0.0.1"
PERL_EXTUTILS_AUTOINSTALL="--defaultdeps"
PERL_MM_USE_DEFAULT="1"
@INC:
/home/sts/cpansmoke/perl-5.8.9/cpan/build/Log-Log4perl-1.32-FIR30o/blib/arch
/home/sts/cpansmoke/perl-5.8.9/cpan/build/Log-Log4perl-1.32-FIR30o/blib/lib
/home/sts/cpansmoke/perl-5.8.9/cpan/build/FindBin-libs-1.51-N6tvGx/blib/arch
/home/sts/cpansmoke/perl-5.8.9/cpan/build/FindBin-libs-1.51-N6tvGx/blib/lib
/home/sts/cpansmoke/perl-5.8.9/cpan/build/Test-Warn-0.23-pPMuxZ/blib/arch
/home/sts/cpansmoke/perl-5.8.9/cpan/build/Test-Warn-0.23-pPMuxZ/blib/lib
/home/sts/cpansmoke/perl-5.8.9/cpan/build/Tree-DAG_Node-1.06-VnzmaQ/blib/arch
/home/sts/cpansmoke/perl-5.8.9/cpan/build/Tree-DAG_Node-1.06-VnzmaQ/blib/lib
/home/sts/cpansmoke/perl-5.8.9/lib/5.8.9/OpenBSD.i386-openbsd-thread-multi
/home/sts/cpansmoke/perl-5.8.9/lib/5.8.9
/home/sts/cpansmoke/perl-5.8.9/lib/site_perl/5.8.9/OpenBSD.i386-openbsd-thread-multi
/home/sts/cpansmoke/perl-5.8.9/lib/site_perl/5.8.9
.