Web-Scraper v0.38 Perl 5 v5.29.8 OpenBSD.amd64-openbsd-thread-multi
- Status
- Pass
- From
- Alceu Rodrigues de Freitas Junior
- Dist
-
Web-Scraper v0.38
- Platform
- Perl 5 v5.29.8 OpenBSD.amd64-openbsd-thread-multi
- Date
- 2019-02-08 00:37:04
- ID
- a84a96e0-2b39-11e9-a40e-9d25b8c74ba8
This distribution has been tested as part of the CPAN Testers
project, supporting the Perl programming language. See
http://wiki.cpantesters.org/ for more information or email
questions to cpan-testers-discuss@perl.org
--
Dear Tatsuhiko Miyagawa,
This is a computer-generated report for Web-Scraper-0.38
on perl 5.29.8, created by CPAN-Reporter-1.2018.
Thank you for uploading your work to CPAN. Congratulations!
All tests were successful.
Sections of this report:
* Tester comments
* Program output
* Prerequisites
* Environment and other context
------------------------------
TESTER COMMENTS
------------------------------
Additional comments from tester:
this report is from an automated smoke testing program
and was not reviewed by a human for accuracy
------------------------------
PROGRAM OUTPUT
------------------------------
Output from './Build test':
t/00_compile.t .......... ok
t/01_process.t .......... ok
t/02_process_multi.t .... ok
t/03_scraper_nest.t ..... ok
t/04_callback.t ......... ok
t/05_process_first.t .... ok
t/06_define.t ........... ok
t/07-live.t ............. skipped: LIVE_TEST not enabled
t/08-leak.t ............. skipped: LEAK_TEST is not defined
t/09-process_hash.t ..... ok
t/11_absolute.t ......... ok
t/12_html.t ............. ok
t/13_textnode.t ......... ok
t/14_absolute_nested.t .. ok
t/15_absolute_hash.t .... ok
t/16_filter.t ........... ok
t/17_filter_loop.t ...... ok
t/18_http_response.t .... skipped: LIVE_TEST not enabled
t/19_decode_content.t ... skipped: LIVE_TEST not enabled
t/20_comment_nodes.t .... skipped: Please upgrade HTML::TreeBuilder::XPath and HTML::TreeBuilder::LibXML modules for comment nodes supporting
t/21_html5.t ............ ok
t/22_filter_regex.t ..... ok
t/redefine.t ............ ok
t/release-pod-syntax.t .. skipped: these tests are for release candidate testing
t/xml-simple.t .......... skipped: Test requires module 'HTML::TreeBuilder::LibXML' but it's not found
All tests successful.
Files=25, Tests=42, 8 wallclock secs ( 0.06 usr 0.24 sys + 4.04 cusr 2.41 csys = 6.75 CPU)
Result: PASS
------------------------------
PREREQUISITES
------------------------------
Prerequisite modules loaded:
requires:
Module Need Have
------------------------ -------- --------
HTML::Entities 0 3.69
HTML::Selector::XPath 0.03 0.25
HTML::Tagset 0 3.20
HTML::TreeBuilder 3.23 5.07
HTML::TreeBuilder::XPath 0.08 0.14
LWP 5.827 6.36
perl 5.008001 5.029008
Scalar::Util 0 1.50
UNIVERSAL::require 0 0.18
URI 0 1.76
XML::XPathEngine 0.08 0.14
YAML 0 1.27
build_requires:
Module Need Have
------------------------ -------- --------
ExtUtils::MakeMaker 6.59 7.35_08
Test::Base 0 0.89
Test::More 0 1.302160
Test::Requires 0 0.10
configure_requires:
Module Need Have
------------------------ -------- --------
Module::Build::Tiny 0.039 0.039
------------------------------
ENVIRONMENT AND OTHER CONTEXT
------------------------------
Environment variables:
AUTOMATED_TESTING = 1
DBD_MYSQL_TESTDB = test
DBD_MYSQL_TESTHOST = localhost
DBD_MYSQL_TESTPASSWORD =
DBD_MYSQL_TESTPORT = 3306
DBD_MYSQL_TESTUSER = vegeta
EXTENDED_TESTING = 1
PATH = /home/vegeta/perl5/perlbrew/bin:/home/vegeta/perl5/perlbrew/perls/perl-blead/bin:/home/vegeta/bin:/usr/bin:/bin:/usr/sbin:/sbin:/usr/X11R6/bin:/usr/local/bin:/usr/local/sbin
PERL5LIB =
PERL5OPT =
PERL5_CPANPLUS_IS_RUNNING = 66839
PERL5_CPAN_IS_RUNNING = 66839
PERL5_CPAN_IS_RUNNING_IN_RECURSION = 56239,66839
PERLBREW_HOME = /home/vegeta/.perlbrew
PERLBREW_MANPATH = /home/vegeta/perl5/perlbrew/perls/perl-blead/man
PERLBREW_PATH = /home/vegeta/perl5/perlbrew/bin:/home/vegeta/perl5/perlbrew/perls/perl-blead/bin
PERLBREW_PERL = perl-blead
PERLBREW_ROOT = /home/vegeta/perl5/perlbrew
PERLBREW_SHELLRC_VERSION = 0.86
PERLBREW_VERSION = 0.86
PERL_CR_SMOKER_CURRENT = TaskPipe-0.09
PERL_EXTUTILS_AUTOINSTALL = --defaultdeps
PERL_MM_USE_DEFAULT = 1
PERL_USE_UNSAFE_INC = 1
SHELL = /usr/local/bin/bash
TERM = xterm
Perl special variables (and OS-specific diagnostics, for MSWin32):
$^X = /home/vegeta/perl5/perlbrew/perls/perl-blead/bin/perl5.29.8
$UID/$EUID = 1002 / 1002
$GID = 1002 1002 1001
$EGID = 1002 1002 1001
Perl module toolchain versions installed:
Module Have
------------------- --------
CPAN 2.22
CPAN::Meta 2.150010
Cwd 3.77
ExtUtils::CBuilder 0.280230
ExtUtils::Command 7.35_08
ExtUtils::Install 2.14
ExtUtils::MakeMaker 7.35_08
ExtUtils::Manifest 1.71
ExtUtils::ParseXS 3.40
File::Spec 3.77
JSON 4.01
JSON::PP 4.00
Module::Build 0.4224
Module::Signature n/a
Parse::CPAN::Meta 2.150010
Test::Harness 3.42
Test::More 1.302160
YAML 1.27
YAML::Syck n/a
version 0.9924
--
Summary of my perl5 (revision 5 version 29 subversion 8) configuration:
Snapshot of: e8db349f5c61708301fd5463e49bfe95c448dd6d
Platform:
osname=openbsd
osvers=6.4
archname=OpenBSD.amd64-openbsd-thread-multi
uname='openbsd cpan-smoker-openbsd 6.4 generic.mp#364 amd64 '
config_args='-de -Dprefix=/home/vegeta/perl5/perlbrew/perls/perl-blead -Dman1dir=none -Dman3dir=none -Dusemultiplicity -Duse64bitall -Duse64bitint -Dusethreads -Dusedevel -Aeval:scriptdir=/home/vegeta/perl5/perlbrew/perls/perl-blead/bin'
hint=recommended
useposix=true
d_sigaction=define
useithreads=define
usemultiplicity=define
use64bitint=define
use64bitall=define
uselongdouble=undef
usemymalloc=n
default_inc_excludes_dot=define
bincompat5005=undef
Compiler:
cc='cc'
ccflags ='-pthread -fno-strict-aliasing -pipe -fstack-protector-strong -I/usr/local/include -D_FORTIFY_SOURCE=2'
optimize='-O2'
cppflags='-pthread -fno-strict-aliasing -pipe -fstack-protector-strong -I/usr/local/include'
ccversion=''
gccversion='4.2.1 Compatible OpenBSD Clang 6.0.0 (tags/RELEASE_600/final)'
gccosandvers=''
intsize=4
longsize=8
ptrsize=8
doublesize=8
byteorder=12345678
doublekind=3
d_longlong=define
longlongsize=8
d_longdbl=define
longdblsize=16
longdblkind=3
ivtype='long'
ivsize=8
nvtype='double'
nvsize=8
Off_t='off_t'
lseeksize=8
alignbytes=8
prototype=define
Linker and Libraries:
ld='cc'
ldflags ='-pthread -Wl,-E -fstack-protector-strong -L/usr/local/lib'
libpth=/usr/lib /usr/local/lib
libs=-lpthread -lm -lutil -lc
perllibs=-lpthread -lm -lutil -lc
libc=/usr/lib/libc.so.92.5
so=so
useshrplib=false
libperl=libperl.a
gnulibc_version=''
Dynamic Linking:
dlsrc=dl_dlopen.xs
dlext=so
d_dlsymun=undef
ccdlflags=' '
cccdlflags='-DPIC -fPIC '
lddlflags='-shared -fPIC -L/usr/local/lib -fstack-protector-strong'
Characteristics of this binary (from libperl):
Compile-time options:
HAS_TIMES
MULTIPLICITY
PERLIO_LAYERS
PERL_COPY_ON_WRITE
PERL_DONT_CREATE_GVSV
PERL_IMPLICIT_CONTEXT
PERL_MALLOC_WRAP
PERL_OP_PARENT
PERL_PRESERVE_IVUV
PERL_USE_DEVEL
USE_64_BIT_ALL
USE_64_BIT_INT
USE_ITHREADS
USE_LARGE_FILES
USE_LOCALE
USE_LOCALE_COLLATE
USE_LOCALE_CTYPE
USE_LOCALE_NUMERIC
USE_LOCALE_TIME
USE_PERLIO
USE_PERL_ATOF
USE_REENTRANT_API
USE_THREAD_SAFE_LOCALE
Locally applied patches:
Devel::PatchPerl 1.52
Built under openbsd
Compiled at Jan 31 2019 01:07:38
%ENV:
PERL5LIB=""
PERL5OPT=""
PERL5_CPANPLUS_IS_RUNNING="66839"
PERL5_CPAN_IS_RUNNING="66839"
PERL5_CPAN_IS_RUNNING_IN_RECURSION="56239,66839"
PERLBREW_HOME="/home/vegeta/.perlbrew"
PERLBREW_MANPATH="/home/vegeta/perl5/perlbrew/perls/perl-blead/man"
PERLBREW_PATH="/home/vegeta/perl5/perlbrew/bin:/home/vegeta/perl5/perlbrew/perls/perl-blead/bin"
PERLBREW_PERL="perl-blead"
PERLBREW_ROOT="/home/vegeta/perl5/perlbrew"
PERLBREW_SHELLRC_VERSION="0.86"
PERLBREW_VERSION="0.86"
PERL_CR_SMOKER_CURRENT="TaskPipe-0.09"
PERL_EXTUTILS_AUTOINSTALL="--defaultdeps"
PERL_MM_USE_DEFAULT="1"
PERL_USE_UNSAFE_INC="1"
@INC:
/home/vegeta/perl5/perlbrew/perls/perl-blead/lib/site_perl/5.29.8/OpenBSD.amd64-openbsd-thread-multi
/home/vegeta/perl5/perlbrew/perls/perl-blead/lib/site_perl/5.29.8
/home/vegeta/perl5/perlbrew/perls/perl-blead/lib/5.29.8/OpenBSD.amd64-openbsd-thread-multi
/home/vegeta/perl5/perlbrew/perls/perl-blead/lib/5.29.8
.