Time-Zone-Olson v0.46 Perl 5 v5.39.0 i86pc-solaris-64

Status
Pass
From
Carlos Guevara
Dist
Time-Zone-Olson v0.46
Platform
Perl 5 v5.39.0 i86pc-solaris-64
Date
2023-07-13 10:47:27
ID
a85d3922-216a-11ee-aed8-2f55f6e9debc
This distribution has been tested as part of the CPAN Testers
project, supporting the Perl programming language.  See
http://wiki.cpantesters.org/ for more information or email
questions to cpan-testers-discuss@perl.org


--
Dear David Dick,

This is a computer-generated report for Time-Zone-Olson-0.46
on perl 5.39.0, created by CPAN-Reporter-1.2019.

Thank you for uploading your work to CPAN.  Congratulations!
All tests were successful.

Sections of this report:

    * Tester comments
    * Program output
    * Prerequisites
    * Environment and other context

------------------------------
TESTER COMMENTS
------------------------------

Additional comments from tester:

this report is from an automated smoke testing program
and was not reviewed by a human for accuracy

------------------------------
PROGRAM OUTPUT
------------------------------

Output from '/usr/bin/make test':

PERL_DL_NONLAZY=1 "/export/home/cpan/bin/perl/bin/perl5.39.0" "-MExtUtils::Command::MM" "-MTest::Harness" "-e" "undef *Test::Harness::Switches; test_harness(0, 'blib/lib', 'blib/arch')" t/*.t
# Testing Time::Zone::Olson 0.46, Perl 5.039000, /export/home/cpan/bin/perl/bin/perl5.39.0
t/00-load.t ........... ok
t/boilerplate.t ....... ok
t/manifest.t .......... skipped: Author tests not required for installation
t/pod-coverage.t ...... ok
t/pod.t ............... ok
# Checking https://raw.githubusercontent.com/unicode-org/cldr/master/common/supplemental/windowsZones.xml
t/windows_zones.t ..... ok
# TZ environment variable is America/New_York
# Olson tz directory is /usr/share/lib/zoneinfo for solaris
# Local timezone has been determined to be America/New_York
# solaris does not have a useful date binary.
# Comment for 'Australia/Melbourne' is 'Australia/Victoria'
# America/New_York  Sun Mar 12 06:59:59 2023 UTC = Sun Mar 12 01:59:59 2023 EST isdst=0
# America/New_York  Sun Mar 12 07:00:00 2023 UTC = Sun Mar 12 03:00:00 2023 EDT isdst=1
# America/New_York  Sun Nov  5 05:59:59 2023 UTC = Sun Nov  5 01:59:59 2023 EDT isdst=1
# America/New_York  Sun Nov  5 06:00:00 2023 UTC = Sun Nov  5 01:00:00 2023 EST isdst=0
# America/New_York  Sun Mar 10 06:59:59 2024 UTC = Sun Mar 10 01:59:59 2024 EST isdst=0
# America/New_York  Sun Mar 10 07:00:00 2024 UTC = Sun Mar 10 03:00:00 2024 EDT isdst=1
# America/New_York  Sun Nov  3 05:59:59 2024 UTC = Sun Nov  3 01:59:59 2024 EDT isdst=1
# America/New_York  Sun Nov  3 06:00:00 2024 UTC = Sun Nov  3 01:00:00 2024 EST isdst=0
# America/New_York  Tue Jan 19 03:14:07 2038 UTC = Mon Jan 18 22:14:07 2038 EST isdst=0
# America/New_York  Mon Jan 18 03:14:07 2038 UTC = Sun Jan 17 22:14:07 2038 EST isdst=0
t/zoneinfo_all.t ...... ok
# TZ environment variable is America/New_York
# Determined timezone is America/New_York
# TZDIR has not been set
# solaris does not have a useful date binary.
# Results of unpack:
# Local timezone has been determined to be America/New_York
# solaris does not agree that Melbourne and Hobart time are the same from now on
t/zoneinfo_current.t .. ok
t/zoneinfo_taint.t .... ok
t/zoneinfo_tz_env.t ... ok
All tests successful.

Test Summary Report
-------------------
t/zoneinfo_all.t    (Wstat: 0 Tests: 1638 Failed: 0)
  TODO passed:   7-1638
t/zoneinfo_current.t (Wstat: 0 Tests: 850 Failed: 0)
  TODO passed:   10, 12, 14-16, 18, 20, 22, 24-26, 28, 30
                32-38, 40, 42, 44, 46, 48-50, 52, 54, 56
                58-60, 62-64, 66, 68, 70, 72, 74, 76, 78
                80, 82, 84, 86, 88, 90-92, 94-96, 98, 100
                102, 104-150, 152-178, 180, 182-270, 272-328
                330-348, 350-414, 416-418, 420-422, 424-444
                446-452, 454-466, 468-484, 486, 488-490
                492-500, 502-506, 508, 510-514, 516-518
                520-530, 532-542, 544-572, 574-576, 578-582
                584-600, 602-604, 606-746, 748-750, 752
                754, 756, 758, 760, 762-764, 766, 768-790
                792, 794-796, 798-808, 810, 812-814, 816-820
                822-826, 828-834, 836-844
Files=10, Tests=2961, 74 wallclock secs ( 0.79 usr  0.15 sys + 41.22 cusr 22.54 csys = 64.70 CPU)
Result: PASS

------------------------------
PREREQUISITES
------------------------------

Prerequisite modules loaded:

requires:

    Module               Need  Have    
    -------------------- ----- --------
    Carp                 0     1.54    
    Config               0     5.039000
    Digest::SHA          0     6.04    
    DirHandle            0     1.05    
    Encode               0     3.19    
    English              0     1.11    
    File::Find           0     1.43    
    File::Spec           0     3.88    
    FileHandle           0     2.05    
    perl                 5.006 5.039000
    POSIX                0     2.14    
    strict               0     1.12    
    warnings             0     1.66    

build_requires:

    Module               Need  Have    
    -------------------- ----- --------
    ExtUtils::MakeMaker  0     7.70    
    Fcntl                0     1.15    
    File::Temp           0     0.2311  
    HTTP::Request        0     6.44    
    LWP::Protocol::https 6.06  6.11    
    LWP::UserAgent       0     6.71    
    Test::More           0     1.302195
    Time::Local          0     1.30    
    XML::LibXML          0     2.0208  

configure_requires:

    Module               Need  Have    
    -------------------- ----- --------
    ExtUtils::MakeMaker  0     7.70    


------------------------------
ENVIRONMENT AND OTHER CONTEXT
------------------------------

Environment variables:

    AUTOMATED_TESTING = 1
    DATE_MANIP_TEST_DM5 = 1
    LANG = en_US.UTF-8
    LC_ALL = C
    NONINTERACTIVE_TESTING = 1
    NO_NETWORK_TESTING = 1
    PATH = /export/home/cpan/bin/perl/bin:/usr/bin:/usr/sbin:/sbin:/opt/ooce/bin:/usr/gnu/bin
    PERL5LIB = 
    PERL5OPT = 
    PERL5_CPANPLUS_IS_RUNNING = 14628
    PERL5_CPAN_IS_RUNNING = 14628
    PERL_MM_USE_DEFAULT = 1
    PERL_USE_UNSAFE_INC = 1
    SHELL = /bin/sh
    TERM = screen

Perl special variables (and OS-specific diagnostics, for MSWin32):

    $^X = /export/home/cpan/bin/perl/bin/perl5.39.0
    $UID/$EUID = 101 / 101
    $GID = 1 1
    $EGID = 1 1

Perl module toolchain versions installed:

    Module              Have    
    ------------------- --------
    CPAN                2.36    
    CPAN::Meta          2.150010
    Cwd                 3.89    
    ExtUtils::CBuilder  0.280239
    ExtUtils::Command   7.70    
    ExtUtils::Install   2.22    
    ExtUtils::MakeMaker 7.70    
    ExtUtils::Manifest  1.73    
    ExtUtils::ParseXS   3.51    
    File::Spec          3.88    
    JSON                4.10    
    JSON::PP            4.16    
    Module::Build       0.4234  
    Module::Signature   n/a     
    Parse::CPAN::Meta   2.150010
    Test2               1.302195
    Test::Harness       3.44    
    Test::More          1.302195
    YAML                1.30    
    YAML::Syck          1.34    
    version             0.9929  


--

Summary of my perl5 (revision 5 version 39 subversion 0) configuration:
  Commit id: ff7e37d5ca2e55a1e53e5b375e3cc9aedc9ce4ec
  Platform:
    osname=solaris
    osvers=2.11
    archname=i86pc-solaris-64
    uname='sunos cjg-omniosce 5.11 omnios-r151044-e3d9e095a8 i86pc i386 i86pc '
    config_args='-des -Dprefix=/export/home/cpan/bin/perl -Dscriptdir=/export/home/cpan/bin/perl/bin -Dusedevel -Duse64bitall -Dcc=gcc'
    hint=recommended
    useposix=true
    d_sigaction=define
    useithreads=undef
    usemultiplicity=undef
    use64bitint=define
    use64bitall=define
    uselongdouble=undef
    usemymalloc=n
    default_inc_excludes_dot=define
  Compiler:
    cc='gcc'
    ccflags ='-m64 -fwrapv -fno-strict-aliasing -pipe -fstack-protector-strong -D_LARGEFILE_SOURCE -D_FILE_OFFSET_BITS=64 -D_FORTIFY_SOURCE=2'
    optimize='-O'
    cppflags='-m64 -fwrapv -fno-strict-aliasing -pipe -fstack-protector-strong'
    ccversion=''
    gccversion='11.3.0'
    gccosandvers=''
    intsize=4
    longsize=8
    ptrsize=8
    doublesize=8
    byteorder=12345678
    doublekind=3
    d_longlong=define
    longlongsize=8
    d_longdbl=define
    longdblsize=16
    longdblkind=3
    ivtype='long'
    ivsize=8
    nvtype='double'
    nvsize=8
    Off_t='off_t'
    lseeksize=8
    alignbytes=8
    prototype=define
  Linker and Libraries:
    ld='gcc'
    ldflags =' -m64 -fstack-protector-strong -L/usr/gnu/lib '
    libpth=/opt/gcc-11/lib /usr/lib /usr/gnu/lib /usr/ccs/lib
    libs=-lpthread -lsocket -lnsl -ldl -lm -lc
    perllibs=-lpthread -lsocket -lnsl -ldl -lm -lc
    libc=/lib/libc.so
    so=so
    useshrplib=true
    libperl=libperl.so
    gnulibc_version=''
  Dynamic Linking:
    dlsrc=dl_dlopen.xs
    dlext=so
    d_dlsymun=undef
    ccdlflags='  -R /export/home/cpan/bin/perl/lib/5.39.0/i86pc-solaris-64/CORE'
    cccdlflags='-fPIC'
    lddlflags=' -shared -m64 -L/usr/gnu/lib -fstack-protector-strong'


Characteristics of this binary (from libperl): 
  Compile-time options:
    HAS_LONG_DOUBLE
    HAS_STRTOLD
    HAS_TIMES
    PERLIO_LAYERS
    PERL_COPY_ON_WRITE
    PERL_DONT_CREATE_GVSV
    PERL_HASH_FUNC_SIPHASH13
    PERL_HASH_USE_SBOX32
    PERL_MALLOC_WRAP
    PERL_OP_PARENT
    PERL_PRESERVE_IVUV
    PERL_USE_DEVEL
    PERL_USE_SAFE_PUTENV
    USE_64_BIT_ALL
    USE_64_BIT_INT
    USE_LARGE_FILES
    USE_LOCALE
    USE_LOCALE_COLLATE
    USE_LOCALE_CTYPE
    USE_LOCALE_NUMERIC
    USE_LOCALE_TIME
    USE_PERLIO
    USE_PERL_ATOF
  Built under solaris
  Compiled at Jul 12 2023 23:27:36
  %ENV:
    PERL5LIB=""
    PERL5OPT=""
    PERL5_CPANPLUS_IS_RUNNING="14628"
    PERL5_CPAN_IS_RUNNING="14628"
    PERL_MM_USE_DEFAULT="1"
    PERL_USE_UNSAFE_INC="1"
  @INC:
    /export/home/cpan/bin/perl/lib/site_perl/5.39.0/i86pc-solaris-64
    /export/home/cpan/bin/perl/lib/site_perl/5.39.0
    /export/home/cpan/bin/perl/lib/5.39.0/i86pc-solaris-64
    /export/home/cpan/bin/perl/lib/5.39.0
    .