Google-Ads-AdWords-Client v5.8.2 Perl 5 v5.26.3 x86_64-linux-ld

Status
Pass
From
Andreas J. König (ANDK)
Dist
Google-Ads-AdWords-Client v5.8.2
Platform
Perl 5 v5.26.3 x86_64-linux-ld
Date
2022-04-04 08:03:05
ID
a886d94e-b3ed-11ec-848c-a801105c0f7e
This distribution has been tested as part of the CPAN Testers
project, supporting the Perl programming language.  See
http://wiki.cpantesters.org/ for more information or email
questions to cpan-testers-discuss@perl.org


--
Dear Nadine Sundquist,

This is a computer-generated report for Google-Ads-AdWords-Client-5.8.2
on perl 5.26.3, created by CPAN-Reporter-1.2018.

Thank you for uploading your work to CPAN.  Congratulations!
All tests were successful.

Sections of this report:

    * Tester comments
    * Program output
    * Prerequisites
    * Environment and other context

------------------------------
TESTER COMMENTS
------------------------------

Additional comments from tester:

this report is from an automated smoke testing program
and was not reviewed by a human for accuracy

------------------------------
PROGRAM OUTPUT
------------------------------

Output from './Build test':

t/001_require.t ....................... ok
t/011_Client.t ........................ ok
t/012_Serializer.t .................... ok
t/013_Deserializer.t .................. ok
t/014_XPathSAXParser.t ................ ok
t/015_RequestStats.t .................. ok
t/017_OAuth2ApplicationsHandler.t ..... ok
t/018_MapUtils.t ...................... ok
t/019_OAuth2ServiceAccountsHandler.t .. ok
t/020_GenerateOfflineCredentials.t .... ok
t/021_ReportingConfiguration.t ........ ok
t/022_ReportUtils.t ................... ok
t/023_AdsUtilityRegistry.t ............ ok
t/024_BatchJobHandler.t ............... ok
t/025_ReportQueryBuilder.t ............ ok
t/026_ServiceQueryBuilder.t ........... ok
All tests successful.
Files=16, Tests=1859, 19 wallclock secs ( 0.22 usr  0.13 sys +  5.36 cusr  1.46 csys =  7.17 CPU)
Result: PASS

------------------------------
PREREQUISITES
------------------------------

Prerequisite modules loaded:

requires:

    Module                    Need    Have      
    ------------------------- ------- ----------
    Class::Load               0       0.25      
    Class::Std::Fast          0       0.0.8     
    Crypt::OpenSSL::RSA       0       0.32      
    Cwd                       0       3.75      
    Data::Uniqid              0       0.12      
    Date::Format              0       2.24      
    Date::Parse               0       2.33      
    Digest::SHA               0       6.02      
    File::Basename            0       2.85      
    File::HomeDir             0       1.006     
    File::Path                0       2.12_01   
    File::Spec                0       3.75      
    File::Temp                0       0.2311    
    Getopt::Long              0       2.52      
    HTTP::Server::Simple::CGI 0       0         
    IO::Socket::SSL           0       2.074     
    JSON::Parse               0       0.61      
    List::Util                0       1.62      
    Log::Log4perl             0       1.54      
    LWP::Protocol::https      0       6.10      
    LWP::UserAgent            0       6.61      
    Math::Random::MT          0       1.17      
    perl                      v5.14.0 5.026003  
    POSIX                     0       1.76      
    SOAP::WSDL                v2.0.10 3.004     
    Template                  0       3.010     
    URI::Escape               0       5.10      
    XML::LibXML               0       2.0207    
    XML::Simple               0       2.25      
    XML::XPath                0       1.44      

build_requires:

    Module                    Need    Have      
    ------------------------- ------- ----------
    Class::Std::Fast          v0.0.5  0.0.8     
    Config::Properties        0       1.80      
    Module::Build             0       0.4231    
    Test::Deep                0       1.130     
    Test::Exception           0       0.43      
    Test::MockObject          0       1.20200122
    Test::MockObject::Extends 0       1.20200122
    Test::More                0       1.302190  

configure_requires:

    Module                    Need    Have      
    ------------------------- ------- ----------
    Module::Build             0.42    0.4231    


------------------------------
ENVIRONMENT AND OTHER CONTEXT
------------------------------

Environment variables:

    AUTOMATED_TESTING = 1
    LANG = en_US.UTF-8
    PATH = /home/sand/bin:/usr/local/bin:/usr/bin:/bin:/usr/games:/usr/local/perl/bin:/usr/X11/bin:/sbin:/usr/sbin
    PERL5LIB = 
    PERL5OPT = 
    PERL5_CPANPLUS_IS_RUNNING = 2552790
    PERL5_CPAN_IS_RUNNING = 2552790
    PERL_CANARY_STABILITY_NOPROMPT = 1
    PERL_MM_USE_DEFAULT = 1
    PERL_USE_UNSAFE_INC = 1
    SHELL = /usr/bin/zsh
    TERM = screen

Perl special variables (and OS-specific diagnostics, for MSWin32):

    $^X = /home/sand/src/perl/repoperls/installed-perls/host/k93msid/v5.26.3/af11/bin/perl
    $UID/$EUID = 1005 / 1005
    $GID = 1005 1005
    $EGID = 1005 1005

Perl module toolchain versions installed:

    Module              Have      
    ------------------- ----------
    CPAN                2.33      
    CPAN::Meta          2.150010  
    Cwd                 3.75      
    ExtUtils::CBuilder  0.280236  
    ExtUtils::Command   7.64      
    ExtUtils::Install   2.06      
    ExtUtils::MakeMaker 7.64      
    ExtUtils::Manifest  1.70      
    ExtUtils::ParseXS   3.44      
    File::Spec          3.75      
    JSON                4.05      
    JSON::PP            2.27400_02
    Module::Build       0.4231    
    Module::Signature   0.88      
    Parse::CPAN::Meta   2.150010  
    Test::Harness       3.42      
    Test::More          1.302190  
    YAML                1.30      
    YAML::Syck          1.34      
    version             0.9929    


--

Summary of my perl5 (revision 5 version 26 subversion 3) configuration:
  Derived from: 92583df5dc9b9edbcd4a9649f753e180b9729590
  Platform:
    osname=linux
    osvers=5.16.0-5-amd64
    archname=x86_64-linux-ld
    uname='linux k93msid 5.16.0-5-amd64 #1 smp preempt debian 5.16.14-1 (2022-03-15) x86_64 gnulinux '
    config_args='-Dprefix=/home/sand/src/perl/repoperls/installed-perls/host/k93msid/v5.26.3/af11 -Dmyhostname=k93msid -Dinstallusrbinperl=n -Uversiononly -Dusedevel -des -Ui_db -Dlibswanted=cl pthread socket inet nsl gdbm dbm malloc dl ld sun m crypt sec util c cposix posix ucb BSD gdbm_compat -Uuseithreads -Duselongdouble -DEBUGGING=-g'
    hint=recommended
    useposix=true
    d_sigaction=define
    useithreads=undef
    usemultiplicity=undef
    use64bitint=define
    use64bitall=define
    uselongdouble=define
    usemymalloc=n
    default_inc_excludes_dot=define
    bincompat5005=undef
  Compiler:
    cc='cc'
    ccflags ='-fwrapv -fno-strict-aliasing -pipe -fstack-protector-strong -I/usr/local/include -D_LARGEFILE_SOURCE -D_FILE_OFFSET_BITS=64 -D_FORTIFY_SOURCE=2'
    optimize='-O2 -g'
    cppflags='-fwrapv -fno-strict-aliasing -pipe -fstack-protector-strong -I/usr/local/include'
    ccversion=''
    gccversion='11.2.0'
    gccosandvers=''
    intsize=4
    longsize=8
    ptrsize=8
    doublesize=8
    byteorder=12345678
    doublekind=3
    d_longlong=define
    longlongsize=8
    d_longdbl=define
    longdblsize=16
    longdblkind=3
    ivtype='long'
    ivsize=8
    nvtype='long double'
    nvsize=16
    Off_t='off_t'
    lseeksize=8
    alignbytes=16
    prototype=define
  Linker and Libraries:
    ld='cc'
    ldflags =' -fstack-protector-strong -L/usr/local/lib'
    libpth=/usr/local/lib /usr/include/x86_64-linux-gnu /usr/lib /lib/x86_64-linux-gnu /lib/../lib /usr/lib/x86_64-linux-gnu /usr/lib/../lib /lib
    libs=-lpthread -lnsl -ldl -lm -lcrypt -lutil -lc
    perllibs=-lpthread -lnsl -ldl -lm -lcrypt -lutil -lc
    libc=libc-2.33.so
    so=so
    useshrplib=false
    libperl=libperl.a
    gnulibc_version='2.33'
  Dynamic Linking:
    dlsrc=dl_dlopen.xs
    dlext=so
    d_dlsymun=undef
    ccdlflags='-Wl,-E'
    cccdlflags='-fPIC'
    lddlflags='-shared -O2 -g -L/usr/local/lib -fstack-protector-strong'


Characteristics of this binary (from libperl): 
  Compile-time options:
    HAS_TIMES
    PERLIO_LAYERS
    PERL_COPY_ON_WRITE
    PERL_DONT_CREATE_GVSV
    PERL_MALLOC_WRAP
    PERL_OP_PARENT
    PERL_PRESERVE_IVUV
    PERL_USE_DEVEL
    USE_64_BIT_ALL
    USE_64_BIT_INT
    USE_LARGE_FILES
    USE_LOCALE
    USE_LOCALE_COLLATE
    USE_LOCALE_CTYPE
    USE_LOCALE_NUMERIC
    USE_LOCALE_TIME
    USE_LONG_DOUBLE
    USE_PERLIO
    USE_PERL_ATOF
  Locally applied patches:
    uncommitted-changes
  Built under linux
  Compiled at Mar 18 2022 19:14:59
  %ENV:
    PERL5LIB=""
    PERL5OPT=""
    PERL5_CPANPLUS_IS_RUNNING="2552790"
    PERL5_CPAN_IS_RUNNING="2552790"
    PERL_CANARY_STABILITY_NOPROMPT="1"
    PERL_MM_USE_DEFAULT="1"
    PERL_USE_UNSAFE_INC="1"
  @INC:
    /home/sand/src/perl/repoperls/installed-perls/host/k93msid/v5.26.3/af11/lib/site_perl/5.26.3/x86_64-linux-ld
    /home/sand/src/perl/repoperls/installed-perls/host/k93msid/v5.26.3/af11/lib/site_perl/5.26.3
    /home/sand/src/perl/repoperls/installed-perls/host/k93msid/v5.26.3/af11/lib/5.26.3/x86_64-linux-ld
    /home/sand/src/perl/repoperls/installed-perls/host/k93msid/v5.26.3/af11/lib/5.26.3
    .