Report for VANAMBURG-SEMPROG-SimpleGraph-0.010

Back
From: metabase:user:320bfe00-2aae-11df-837a-5e0a49663a4f
Subject: PASS VANAMBURG-SEMPROG-SimpleGraph-0.010 v5.19.1 GNU/Linux
Date: 2013-05-21T07:32:58Z

This distribution has been tested as part of the CPAN Testers
project, supporting the Perl programming language.  See
http://wiki.cpantesters.org/ for more information or email
questions to cpan-testers-discuss@perl.org


--
Dear Gordon Van Amburg,

This is a computer-generated report for VANAMBURG-SEMPROG-SimpleGraph-0.010
on perl 5.19.1, created by CPAN-Reporter-1.2010.

Thank you for uploading your work to CPAN.  Congratulations!
All tests were successful.

Sections of this report:

    * Tester comments
    * Program output
    * Prerequisites
    * Environment and other context

------------------------------
TESTER COMMENTS
------------------------------

Additional comments from tester:

this report is from an automated smoke testing program
and was not reviewed by a human for accuracy

------------------------------
PROGRAM OUTPUT
------------------------------

Output from '/usr/bin/make test':

PERL_DL_NONLAZY=1 /tmp/basesmoker-reloperl-r5af/bin/perl "-MExtUtils::Command::MM" "-e" "test_harness(0, 'blib/lib', 'blib/arch')" t/*.t
# >>> t1 is gordon, add, triple1
# >>> gordon
# >>> gordon triples is 2
# >>> triple2 triples is 1
# >>> gordon triples is now 1
# >>> pot_belly_cost is cheap
t/00-load.t ......................... ok
t/pod-coverage.t .................... ok
# 
#    sub=San_Francisco_California
#    pred=population  obj=744042
#    pred=mayor  obj=Gavin Newsom
#    pred=latitude  obj=37.775
#    pred=longitude  obj=-122.4183
#    pred=inside  obj=California
#    pred=name  obj=San Francisco
#    sub=Alameda_California  obj=Beverly Johnson
#    sub=Half_Moon_Bay_California  obj=John Muller
#    sub=Aliso_Viejo_California  obj=Donald Garcia
#    sub=Portsmouth_New_Hampshire  obj=John Blalock
#    sub=Philadelphia_Pennsylvania  obj=John F. Street
#    sub=Banning_California  obj=Debbie Franklin
#    sub=Hillsdale_Michigan  obj=Michael Sessions
#    sub=Detroit_Michigan  obj=Frank Murphy
#    sub=Stuttgart_Germany  obj=Manfred Rommel
#    sub=Glendale_California  obj=John Drayman
#    sub=Fremont_California  obj=Bob Wasserman
#    sub=San_Francisco_California  obj=Gavin Newsom
#    sub=Edmonton_Canada  obj=Bill Smith
#    sub=Cleveland_Ohio  obj=Dennis Kucinich
#    sub=Portsmouth_New_Hampshire  obj=Thomas G. Ferrini
#    sub=Aliso_Viejo_California  obj=William Phillips
#    sub=Cleveland_Ohio  obj=Frank G. Jackson
#    sub=Chula_Vista_California  obj=Cheryl Cox
#    sub=Anaheim_California  obj=Curt Pringle
#    sub=Corona_California  obj=Steve Nolan
#    sub=Athens_Greece  obj=Dora Bakoyannis
#    sub=Adelanto_California  obj=Charley B. Glasper
#    sub=San_Jose_California  obj=Norman Mineta
#    sub=Half_Moon_Bay_California  obj=Bonnie McClung
#    sub=Wasilla_Alaska  obj=Sarah Palin
#    sub=Cleveland_Ohio  obj=Newton D. Baker
#    sub=New_York_New_York  obj=Michael Bloomberg
#    sub=Fontana_California  obj=Acquanetta Warren
#    sub=Garden_Grove_California  obj=Mark Rosen
#    sub=Fontana_California  obj=Mark Nuaimi
#    sub=Bakersfield_California  obj=Harvey Hall
#    sub=Chicago_Illinois  obj=Richard M. Daley
#    sub=Fremont_California  obj=Bill Harrison
#    sub=Fresno_California  obj=Alan Autry
#    sub=Corona_California  obj=Jeff Miller
#    sub=Garden_Grove_California  obj=William Dalton
#    sub=Cincinnati_Ohio  obj=Jerry Springer
#    sub=Banning_California  obj=Brenda Salas
#    sub=Alameda_California  obj=Lena Tam
#    sub=Adelanto_California  obj=Steven R. Baisden
# there are 30 cal cities
# mayor of San_Francisco_California is Gavin Newsom
# mayor of Anaheim_California is Curt Pringle
# mayor of Banning_California is Brenda Salas
# mayor of Banning_California is Debbie Franklin
# mayor of Corona_California is Steve Nolan
# mayor of Corona_California is Jeff Miller
# mayor of Fresno_California is Alan Autry
# mayor of Garden_Grove_California is William Dalton
# mayor of Garden_Grove_California is Mark Rosen
# mayor of San_Jose_California is Norman Mineta
# mayor of Half_Moon_Bay_California is Bonnie McClung
# mayor of Half_Moon_Bay_California is John Muller
# mayor of Adelanto_California is Charley B. Glasper
# mayor of Adelanto_California is Steven R. Baisden
# mayor of Fontana_California is Mark Nuaimi
# mayor of Fontana_California is Acquanetta Warren
# mayor of Bakersfield_California is Harvey Hall
# mayor of Chula_Vista_California is Cheryl Cox
# mayor of Glendale_California is John Drayman
# mayor of Alameda_California is Lena Tam
# mayor of Alameda_California is Beverly Johnson
# mayor of Aliso_Viejo_California is William Phillips
# mayor of Aliso_Viejo_California is Donald Garcia
# mayor of Fremont_California is Bob Wasserman
# mayor of Fremont_California is Bill Harrison
t/semprog_ch02_03_places.t .......... ok
# jt's partners
#     Cameron Diaz + Justin Timberlake
#     Justin Timberlake + Alyssa Milano
#     Justin Timberlake + Alyssa Milano
#     Justin Timberlake + Britney Spears
#     Jessica Biel + Justin Timberlake
#     Justin Timberlake + Jenna Dewan
#     Justin Timberlake + Britney Spears
#     Cameron Diaz + Justin Timberlake
#     Jenna Dewan + Justin Timberlake
#     Jessica Biel + Justin Timberlake
t/semprog_ch02_04_celebs.t .......... ok
# $VAR1 = 'NITE';
# $VAR2 = 'MER';
# $VAR3 = 'MS';
# $VAR4 = 'SF';
# $VAR5 = 'TRAD';
# $VAR6 = 'LEH';
# $VAR7 = 'OXPS';
# $VAR8 = 'WDR';
# $VAR9 = 'BSC';
# $VAR10 = 'CLMS';
# $VAR11 = 'BLK';
# $VAR12 = 'JEF';
# $VAR13 = 'SCHW';
# $VAR14 = 'DHIL';
# $VAR15 = 'COWN';
# $VAR16 = 'TWPG';
# $VAR17 = 'LM';
# $VAR18 = 'PNSN';
# $VAR19 = 'MKTX';
# $VAR20 = 'GBL';
# $VAR21 = 'LAB';
# $VAR22 = 'GS';
# $VAR23 = 'ITG';
t/semprog_ch02_05_business.t ........ ok
t/semprog_ch02_moviegraph.t ......... ok
# $VAR1 = {
#           'company' => 'BSC',
#           'dollars' => '30700.0',
#           'cont' => 'contrib285'
#         };
t/semprog_ch03_01_queries.t ......... ok
# triples before:
# $VAR1 = [
#           'White House',
#           'address',
#           '1600 Pennsylvania Avenue, Washington DC'
#         ];
# triples after:
# $VAR1 = [
#           'White House',
#           'address',
#           '1600 Pennsylvania Avenue, Washington DC'
#         ];
# $VAR2 = [
#           'White House',
#           'latitude',
#           '-77.037684'
#         ];
# $VAR3 = [
#           'White House',
#           'longitude',
#           '38.898748'
#         ];
t/semprog_ch03_02_inference.t ....... ok
# getting geo code data from internet -- could take a while...
# touristy triples:
# $VAR1 = [
#           'Pot Belly',
#           'is_a',
#           'touristy restaurant'
#         ];
t/semprog_ch03_03_chain_of_rules.t .. ok
# loading movie data...
# load done.  finding path
# path=Kevin Bacon, A Few Good Men, Kevin Pollak, Willow, Val Kilmer
# path=Kevin Bacon, The Woodsman, David Alan Grier, A Soldier's Story, Adolph Caesar, Fist of Fear, Touch of Death, Bruce Lee
# path=Kevin Bacon, Sleepers, Brad Pitt, The Devil's Own, Harrison Ford
t/semprog_ch03_04_shortest_path.t ... ok
t/semprog_ch03_05_join_graph.t ...... ok
All tests successful.
Files=11, Tests=42, 36 wallclock secs ( 0.03 usr  0.02 sys + 30.58 cusr  0.58 csys = 31.21 CPU)
Result: PASS

------------------------------
PREREQUISITES
------------------------------

Prerequisite modules loaded:

requires:

    Module              Need Have      
    ------------------- ---- ----------
    File::Slurp         0    9999.19   
    JSON                0    2.57      
    List::MoreUtils     0    0.33      
    LWP::Simple         0    6.00      
    Modern::Perl        1.03 1.20121103
    Moose               0.93 2.0802    
    Moose::Role         0    2.0802    
    Set::Scalar         0    1.25      
    Test::More          0    0.98      
    Text::CSV_XS        0    0.97      
    URI::Escape         0    3.31      

build_requires:

    Module              Need Have      
    ------------------- ---- ----------
    ExtUtils::MakeMaker 0    6.66      

configure_requires:

    Module              Need Have      
    ------------------- ---- ----------
    ExtUtils::MakeMaker 0    6.66      


------------------------------
ENVIRONMENT AND OTHER CONTEXT
------------------------------

Environment variables:

    AUTOMATED_TESTING = 1
    LANG = en_US.UTF-8
    LANGUAGE = en_US:en
    PATH = /usr/lib/ccache:/home/sand/bin:/usr/local/bin:/usr/bin:/bin:/usr/bin/X11:/usr/games:/usr/local/perl/bin:/usr/X11/bin:/sbin:/usr/sbin
    PERL5LIB = 
    PERL5OPT = 
    PERL5_CPANPLUS_IS_RUNNING = 8753
    PERL5_CPAN_IS_RUNNING = 8753
    PERL_MM_USE_DEFAULT = 1
    SHELL = /usr/bin/zsh
    TERM = screen

Perl special variables (and OS-specific diagnostics, for MSWin32):

    $^X = /tmp/basesmoker-reloperl-r5af/bin/perl
    $UID/$EUID = 1005 / 1005
    $GID = 1005 1005
    $EGID = 1005 1005

Perl module toolchain versions installed:

    Module              Have    
    ------------------- --------
    CPAN                2.00    
    CPAN::Meta          2.120921
    Cwd                 3.40    
    ExtUtils::CBuilder  0.280210
    ExtUtils::Command   1.17    
    ExtUtils::Install   1.59    
    ExtUtils::MakeMaker 6.66    
    ExtUtils::Manifest  1.63    
    ExtUtils::ParseXS   3.18    
    File::Spec          3.40    
    JSON                2.57    
    JSON::PP            2.27202 
    Module::Build       0.4005  
    Module::Signature   0.70    
    Parse::CPAN::Meta   1.4404  
    Test::Harness       3.28    
    Test::More          0.98    
    YAML                0.84    
    YAML::Syck          1.27    
    version             0.9902  


--

Summary of my perl5 (revision 5 version 19 subversion 1) configuration:
  Commit id: 4572fa3eeef0e6fc24d4f16823ed87d5a8e4778b
  Platform:
    osname=linux, osvers=3.8-2-amd64, archname=x86_64-linux-ld
    uname='linux k83 3.8-2-amd64 #1 smp debian 3.8.13-1 x86_64 gnulinux '
    config_args='-Dprefix=/home/src/perl/repoperls/installed-perls/perl/v5.19.0-27-g4572fa3/127e -Dmyhostname=k83 -Dinstallusrbinperl=n -Uversiononly -Dusedevel -des -Ui_db -Uuseithreads -Duselongdouble -DDEBUGGING=-g'
    hint=recommended, useposix=true, d_sigaction=define
    useithreads=undef, usemultiplicity=undef
    useperlio=define, d_sfio=undef, uselargefiles=define, usesocks=undef
    use64bitint=define, use64bitall=define, uselongdouble=define
    usemymalloc=n, bincompat5005=undef
  Compiler:
    cc='cc', ccflags ='-fno-strict-aliasing -pipe -fstack-protector -I/usr/local/include -D_LARGEFILE_SOURCE -D_FILE_OFFSET_BITS=64',
    optimize='-O2 -g',
    cppflags='-fno-strict-aliasing -pipe -fstack-protector -I/usr/local/include'
    ccversion='', gccversion='4.7.3', gccosandvers=''
    intsize=4, longsize=8, ptrsize=8, doublesize=8, byteorder=12345678
    d_longlong=define, longlongsize=8, d_longdbl=define, longdblsize=16
    ivtype='long', ivsize=8, nvtype='long double', nvsize=16, Off_t='off_t', lseeksize=8
    alignbytes=16, prototype=define
  Linker and Libraries:
    ld='cc', ldflags =' -fstack-protector -L/usr/local/lib'
    libpth=/usr/local/lib /lib/x86_64-linux-gnu /lib/../lib /usr/lib/x86_64-linux-gnu /usr/lib/../lib /lib /usr/lib
    libs=-lnsl -lgdbm -ldb -ldl -lm -lcrypt -lutil -lc -lgdbm_compat
    perllibs=-lnsl -ldl -lm -lcrypt -lutil -lc
    libc=, so=so, useshrplib=false, libperl=libperl.a
    gnulibc_version='2.17'
  Dynamic Linking:
    dlsrc=dl_dlopen.xs, dlext=so, d_dlsymun=undef, ccdlflags='-Wl,-E'
    cccdlflags='-fPIC', lddlflags='-shared -O2 -g -L/usr/local/lib -fstack-protector'


Characteristics of this binary (from libperl): 
  Compile-time options: HAS_TIMES PERLIO_LAYERS PERL_DONT_CREATE_GVSV
                        PERL_HASH_FUNC_ONE_AT_A_TIME_HARD PERL_MALLOC_WRAP
                        PERL_PRESERVE_IVUV PERL_SAWAMPERSAND PERL_USE_DEVEL
                        USE_64_BIT_ALL USE_64_BIT_INT USE_LARGE_FILES
                        USE_LOCALE USE_LOCALE_COLLATE USE_LOCALE_CTYPE
                        USE_LOCALE_NUMERIC USE_LONG_DOUBLE USE_PERLIO
                        USE_PERL_ATOF
  Built under linux
  Compiled at May 20 2013 17:47:36
  %ENV:
    PERL5LIB=""
    PERL5OPT=""
    PERL5_CPANPLUS_IS_RUNNING="8753"
    PERL5_CPAN_IS_RUNNING="8753"
    PERL_MM_USE_DEFAULT="1"
  @INC:
    /home/src/perl/repoperls/installed-perls/perl/v5.19.0-27-g4572fa3/127e/lib/site_perl/5.19.1/x86_64-linux-ld
    /home/src/perl/repoperls/installed-perls/perl/v5.19.0-27-g4572fa3/127e/lib/site_perl/5.19.1
    /home/src/perl/repoperls/installed-perls/perl/v5.19.0-27-g4572fa3/127e/lib/5.19.1/x86_64-linux-ld
    /home/src/perl/repoperls/installed-perls/perl/v5.19.0-27-g4572fa3/127e/lib/5.19.1
    .