Benchmark-Perl-Formance v0.55 Perl 5 v5.43.4 x86_64-dragonfly
- Status
- Pass
- From
- Carlos Guevara
- Dist
-
Benchmark-Perl-Formance v0.55
- Platform
- Perl 5 v5.43.4 x86_64-dragonfly
- Date
- 2025-10-15 09:45:18
- ID
- a8b9a5ec-a9ab-11f0-aa16-bde93ea2370a
This distribution has been tested as part of the CPAN Testers
project, supporting the Perl programming language. See
http://wiki.cpantesters.org/ for more information or email
questions to cpan-testers-discuss@perl.org
--
Dear Steffen Schwigon,
This is a computer-generated report for Benchmark-Perl-Formance-0.55
on perl 5.43.4, created by CPAN-Reporter-1.2020.
Thank you for uploading your work to CPAN. Congratulations!
All tests were successful.
Sections of this report:
* Tester comments
* Program output
* Prerequisites
* Environment and other context
------------------------------
TESTER COMMENTS
------------------------------
Additional comments from tester:
this report is from an automated smoke testing program
and was not reviewed by a human for accuracy
------------------------------
PROGRAM OUTPUT
------------------------------
Output from '/usr/bin/make test':
PERL_DL_NONLAZY=1 "/home/cpan/bin/perl/bin/perl5.43.4" "-MExtUtils::Command::MM" "-MTest::Harness" "-e" "undef *Test::Harness::Switches; test_harness(0, 'blib/lib', 'blib/arch')" t/*.t
t/00-compile.t ......... ok
#
# Testing Benchmark::Perl::Formance 0.55, Perl 5.043004, /home/cpan/bin/perl/bin/perl5.43.4
t/00-load.t ............ ok
t/author-eol.t ......... skipped: these tests are for testing by the author
t/author-pod-syntax.t .. skipped: these tests are for testing by the author
t/basic.t .............. ok
#
# Sample run. May take some seconds...
# Run DPath...
# Run Fib...
# Run FibOO...
# Run Mem...
# Run MatrixReal...
# Run Prime...
# Run Rx...
# Skip plugin 'Rx':Illegal division by zero at lib/Benchmark/Perl/Formance/Plugin/Rx.pm line 97.
# Run RxMicro...
# Run Shootout::fasta...
# Run Shootout::regexdna...
# Run Shootout::binarytrees...
# Run Shootout::revcomp...
# Run Shootout::nbody...
# Run Shootout::spectralnorm...
#
# perlformance.perl5.DPath.dpath : 0.035524
# perlformance.perl5.Fib : 0.012584
# perlformance.perl5.FibOO : 0.017480
# perlformance.perl5.MatrixReal.det.005 : 0.061752
# perlformance.perl5.MatrixReal.det_LR.005 : 0.076230
# perlformance.perl5.MatrixReal.inverse.005 : 0.232040
# perlformance.perl5.MatrixReal.invert_LR.005 : 0.204629
# perlformance.perl5.MatrixReal.matrix_squared.005 : 0.056921
# perlformance.perl5.MatrixReal.matrix_times_itself.005 : 0.049718
# perlformance.perl5.MatrixReal.to_negative_one.005 : 0.238104
# perlformance.perl5.Mem.allocate : 0.235469
# perlformance.perl5.Mem.copy : 0.299607
# perlformance.perl5.Prime.math_primality : 0.001659
# perlformance.perl5.RxMicro.code-literal : 0.230681
# perlformance.perl5.RxMicro.code-runtime : 0.131412
# perlformance.perl5.RxMicro.precompile-access : 0.371303
# perlformance.perl5.RxMicro.runtime-compile : 0.484094
# perlformance.perl5.RxMicro.runtime-compile-nocache : 0.349463
# perlformance.perl5.Shootout.binarytrees : 0.084463
# perlformance.perl5.Shootout.fasta : 0.049834
# perlformance.perl5.Shootout.nbody : 0.028286
# perlformance.perl5.Shootout.regexdna : 0.344750
# perlformance.perl5.Shootout.revcomp : 0.111328
# perlformance.perl5.Shootout.spectralnorm : 0.310500
t/samplerun.t .......... ok
All tests successful.
Files=6, Tests=21, 7 wallclock secs ( 0.02 usr 0.03 sys + 5.70 cusr 0.93 csys = 6.69 CPU)
Result: PASS
------------------------------
PREREQUISITES
------------------------------
Prerequisite modules loaded:
requires:
Module Need Have
----------------------------------------- ---- --------
Config::Perl::V 0 0.38
Data::DPath 0 0.60
Data::Structure::Util 0 0.16
Data::YAML::Writer 0 0.0.7
Devel::Platform::Info 0 1.00
JSON 0 4.10
List::Util 0 1.70
Math::MatrixReal 0 2.13
Math::Primality 0 0.08
Module::Pluggable 0 6.3
Module::Runtime 0 0.018
Sys::Hostname 0 1.25
Sys::Info 0 0.7811
build_requires:
Module Need Have
----------------------------------------- ---- --------
Data::YAML::Reader 0 0.0.7
ExtUtils::MakeMaker 0 7.76
File::Spec 0 3.94
IO::Handle 0 1.55
IPC::Open3 0 1.24
Test::More 0.88 1.302214
configure_requires:
Module Need Have
----------------------------------------- ---- --------
ExtUtils::MakeMaker 0 7.76
opt_requires:
Module Need Have
----------------------------------------- ---- --------
! BenchmarkAnything::Storage::Frontend::Lib 0 n/a
Clone 0 0.47
experimental 0 0.036
File::Copy::Recursive 0 0.45
File::ShareDir 0 1.118
Math::GMPz 0 0.67
------------------------------
ENVIRONMENT AND OTHER CONTEXT
------------------------------
Environment variables:
AUTOMATED_TESTING = 1
DATE_MANIP_TEST_DM5 = 1
LC_ALL = C
NONINTERACTIVE_TESTING = 1
NO_NETWORK_TESTING = 1
PATH = /home/cpan/bin/perl/bin:/home/cpan/bin:/sbin:/bin:/usr/sbin:/usr/bin:/usr/games:/usr/local/sbin:/usr/local/bin:/usr/pkg/sbin:/usr/pkg/bin:/home/cpan/bin
PERL5LIB =
PERL5OPT =
PERL5_CPANPLUS_IS_RUNNING = 64774
PERL5_CPAN_IS_RUNNING = 64774
PERL_MM_USE_DEFAULT = 1
PERL_PERTURB_KEYS = 0
PERL_USE_UNSAFE_INC = 1
SHELL = /usr/local/bin/bash
TERM = screen
TMPDIR = /home/cpan/tmp
Perl special variables (and OS-specific diagnostics, for MSWin32):
$^X = /home/cpan/bin/perl/bin/perl5.43.4
$UID/$EUID = 1002 / 1002
$GID = 1002 1002
$EGID = 1002 1002
Perl module toolchain versions installed:
Module Have
------------------- --------
CPAN 2.38
CPAN::Meta 2.150010
Cwd 3.94
ExtUtils::CBuilder 0.280242
ExtUtils::Command 7.76
ExtUtils::Install 2.22
ExtUtils::MakeMaker 7.76
ExtUtils::Manifest 1.75
ExtUtils::ParseXS 3.60
File::Spec 3.94
JSON 4.10
JSON::PP 4.16
Module::Build 0.4234
Module::Signature n/a
Parse::CPAN::Meta 2.150010
Test2 1.302214
Test::Harness 3.52
Test::More 1.302214
YAML 1.31
YAML::Syck 1.36
version 0.9933
--
Summary of my perl5 (revision 5 version 43 subversion 4) configuration:
Commit id: 87a16f665d01ed72959b9a366e8ab74a97f9cb4b
Platform:
osname=dragonfly
osvers=6.4-release
archname=x86_64-dragonfly
uname='dragonfly cjg-dragonfly6 6.4-release dragonfly v6.4.2-release #11: fri may 9 14:08:53 edt 2025 root@www.shiningsilence.com:usrobjhomejustinrelease6_4sysx86_64_generic x86_64 '
config_args='-des -Dprefix=/home/cpan/bin/perl -Dscriptdir=/home/cpan/bin/perl/bin -Dusedevel -Duse64bitall'
hint=recommended
useposix=true
d_sigaction=define
useithreads=undef
usemultiplicity=undef
use64bitint=define
use64bitall=define
uselongdouble=undef
usemymalloc=n
default_inc_excludes_dot=define
Compiler:
cc='cc'
ccflags ='-DHAS_FPSETMASK -DHAS_FLOATINGPOINT_H -DNO_POSIX_2008_LOCALE -fwrapv -fno-strict-aliasing -pipe -fstack-protector-strong -I/usr/local/include -D_FORTIFY_SOURCE=2'
optimize='-O2'
cppflags='-DHAS_FPSETMASK -DHAS_FLOATINGPOINT_H -DNO_POSIX_2008_LOCALE -fwrapv -fno-strict-aliasing -pipe -fstack-protector-strong -I/usr/local/include'
ccversion=''
gccversion='8.3 [DragonFly] Release/2019-02-22'
gccosandvers=''
intsize=4
longsize=8
ptrsize=8
doublesize=8
byteorder=12345678
doublekind=3
d_longlong=define
longlongsize=8
d_longdbl=define
longdblsize=16
longdblkind=3
ivtype='long'
ivsize=8
nvtype='double'
nvsize=8
Off_t='off_t'
lseeksize=8
alignbytes=8
prototype=define
Linker and Libraries:
ld='cc'
ldflags ='-Wl,-E -fstack-protector-strong -L/usr/local/lib'
libpth=/usr/lib /usr/local/lib
libs=-lpthread -lgdbm -ldl -lm -lcrypt -lutil -lc
perllibs=-lpthread -ldl -lm -lcrypt -lutil -lc
libc=
so=so
useshrplib=false
libperl=libperl.a
gnulibc_version=''
Dynamic Linking:
dlsrc=dl_dlopen.xs
dlext=so
d_dlsymun=undef
ccdlflags=' '
cccdlflags='-DPIC -fPIC'
lddlflags='-shared -L/usr/local/lib -fstack-protector-strong'
Characteristics of this binary (from libperl):
Compile-time options:
HAS_LONG_DOUBLE
HAS_STRTOLD
HAS_TIMES
PERLIO_LAYERS
PERL_COPY_ON_WRITE
PERL_DONT_CREATE_GVSV
PERL_HASH_FUNC_SIPHASH13
PERL_HASH_USE_SBOX32
PERL_MALLOC_WRAP
PERL_OP_PARENT
PERL_PRESERVE_IVUV
PERL_USE_DEVEL
PERL_USE_SAFE_PUTENV
USE_64_BIT_ALL
USE_64_BIT_INT
USE_LARGE_FILES
USE_LOCALE
USE_LOCALE_COLLATE
USE_LOCALE_CTYPE
USE_LOCALE_NUMERIC
USE_LOCALE_TIME
USE_PERLIO
USE_PERL_ATOF
Built under dragonfly
Compiled at Oct 13 2025 22:19:50
%ENV:
PERL5LIB=""
PERL5OPT=""
PERL5_CPANPLUS_IS_RUNNING="64774"
PERL5_CPAN_IS_RUNNING="64774"
PERL_MM_USE_DEFAULT="1"
PERL_PERTURB_KEYS="0"
PERL_USE_UNSAFE_INC="1"
@INC:
/home/cpan/bin/perl/lib/site_perl/5.43.4/x86_64-dragonfly
/home/cpan/bin/perl/lib/site_perl/5.43.4
/home/cpan/bin/perl/lib/5.43.4/x86_64-dragonfly
/home/cpan/bin/perl/lib/5.43.4
.