App-Sqitch vv1.4.1 Perl 5 v5.39.3 x86_64-linux-thread-multi

Status
Pass
From
Andreas J. König (ANDK)
Dist
App-Sqitch vv1.4.1
Platform
Perl 5 v5.39.3 x86_64-linux-thread-multi
Date
2024-05-24 21:43:29
ID
a8ce48ba-1a16-11ef-81b1-19a9601db29c
This distribution has been tested as part of the CPAN Testers
project, supporting the Perl programming language.  See
http://wiki.cpantesters.org/ for more information or email
questions to cpan-testers-discuss@perl.org


--
Dear David E. Wheeler,

This is a computer-generated report for App-Sqitch-v1.4.1
on perl 5.39.3, created by CPAN-Reporter-1.2019.

Thank you for uploading your work to CPAN.  Congratulations!
All tests were successful.

Sections of this report:

    * Tester comments
    * Program output
    * Prerequisites
    * Environment and other context

------------------------------
TESTER COMMENTS
------------------------------

Additional comments from tester:

this report is from an automated smoke testing program
and was not reviewed by a human for accuracy

------------------------------
PROGRAM OUTPUT
------------------------------

Output from './Build test':

t/add.t ............. ok
t/base.t ............ ok
t/blank.t ........... ok
t/bundle.t .......... ok
t/change.t .......... ok
t/changelist.t ...... ok
t/check.t ........... ok
t/checkout.t ........ ok
t/cockroach.t ....... ok
t/command.t ......... ok
t/config.t .......... ok
t/configuration.t ... ok
t/conn_cmd_role.t ... ok
t/cx_cmd_role.t ..... ok
t/datetime.t ........ ok
t/dbiengine_role.t .. ok
t/depend.t .......... ok
t/deploy.t .......... ok
t/engine.t .......... ok
t/engine_cmd.t ...... ok
t/exasol.t .......... ok
t/firebird.t ........ ok
t/help.t ............ ok
t/init.t ............ ok
t/item_formatter.t .. ok
t/linelist.t ........ ok
t/log.t ............. ok
t/mooseless.t ....... ok
t/mysql.t ........... ok
t/options.t ......... ok
t/oracle.t .......... ok
t/pg.t .............. ok
t/plan.t ............ ok
t/plan_cmd.t ........ ok
t/pragma.t .......... ok
t/rebase.t .......... ok
t/revert.t .......... ok
t/rework.t .......... ok
t/show.t ............ ok
t/snowflake.t ....... ok
	(in cleanup) 	(in cleanup) Operation "eq": no method found,
	left argument in overloaded package App::Sqitch::X,
	right argument has no overloaded magic at /home/sand/src/perl/repoperls/installed-perls/host/k93msid/v5.39.3/29fb/lib/5.39.3/Test2/API/Context.pm line 73.
 at /home/sand/src/perl/repoperls/installed-perls/host/k93msid/v5.39.3/29fb/lib/5.39.3/Test2/API/Context.pm line 73.
	Test2::API::Context::DESTROY(Test2::API::Context=HASH(0x55b23c6278d8)) called at /home/sand/src/perl/repoperls/installed-perls/host/k93msid/v5.39.3/29fb/lib/site_perl/5.39.3/IPC/System/Simple.pm line 408
	eval {...} called at /home/sand/src/perl/repoperls/installed-perls/host/k93msid/v5.39.3/29fb/lib/site_perl/5.39.3/IPC/System/Simple.pm line 408
	Test::Builder::subtest(Test::Builder=HASH(0x55b2391e6648), "live database", CODE(0x55b23c617140)) called at /home/sand/src/perl/repoperls/installed-perls/host/k93msid/v5.39.3/29fb/lib/5.39.3/Test/More.pm line 831
	Test::More::subtest("live database", CODE(0x55b23c617140)) called at t/lib/DBIEngineTest.pm line 1825
	DBIEngineTest::run("DBIEngineTest", "class", "App::Sqitch::Engine::sqlite", "version_query", "select 'SQLite ' || sqlite_version()", "target_params", ARRAY(0x55b23c3d93d8), "alt_target_params", ...) called at t/sqlite.t line 403
t/sqlite.t .......... ok
t/status.t .......... ok
t/tag.t ............. ok
t/tag_cmd.t ......... ok
t/target.t .......... ok
t/target_cmd.t ...... ok
t/upgrade.t ......... ok
t/verify.t .......... ok
t/vertica.t ......... ok
t/win32.t ........... ok
t/x.t ............... ok
All tests successful.
Files=51, Tests=7581, 44 wallclock secs ( 0.76 usr  0.15 sys + 30.13 cusr  4.67 csys = 35.71 CPU)
Result: PASS

------------------------------
PREREQUISITES
------------------------------

Prerequisite modules loaded:

requires:

    Module                          Need     Have      
    ------------------------------- -------- ----------
    Algorithm::Backoff::Exponential 0.006    0.009     
    Clone                           0        0.46      
    Config::GitLike                 1.15     1.18      
    constant                        0        1.33      
    DateTime                        1.04     1.59      
    DateTime::TimeZone              0        2.62      
    DBI                             1.631    1.643     
    Devel::StackTrace               1.30     2.04      
    Digest::SHA                     0        6.04      
    Encode                          0        3.19      
    Encode::Locale                  0        1.05      
    File::Basename                  0        2.86      
    File::Copy                      0        2.41      
    File::Path                      0        2.18      
    File::Temp                      0        0.2311    
    Getopt::Long                    0        2.57      
    Hash::Merge                     0        0.302     
    IO::Handle                      0        1.53      
    IO::Pager                       0.34     2.10      
    IPC::Run3                       0        0.048     
    IPC::System::Simple             1.17     1.30      
    List::MoreUtils                 0        0.430     
    List::Util                      0        1.63      
    locale                          0        1.10      
    Locale::Messages                0        1.33      
    Locale::TextDomain              1.20     1.33      
    Moo                             1.002000 2.005005  
    Moo::Role                       0        2.005005  
    namespace::autoclean            0.16     0.29      
    overload                        0        1.37      
    parent                          0        0.241     
    Path::Class                     0.33     0.37      
    perl                            5.010    5.039003  
    PerlIO::utf8_strict             0        0.010     
    Pod::Escapes                    1.04     1.07      
    Pod::Find                       0        1.66      
    Pod::Usage                      0        2.03      
    POSIX                           0        2.15      
    Scalar::Util                    0        1.63      
    StackTrace::Auto                0        1.001     
    strict                          0        1.13      
    String::Formatter               0        1.235     
    String::ShellQuote              0        1.04      
    Sub::Exporter                   0        0.990     
    Sub::Exporter::Util             0        0.990     
    Sys::Hostname                   0        1.25      
    Template::Tiny                  0.11     1.14      
    Term::ANSIColor                 2.02     5.01      
    Throwable                       0.200009 1.001     
    Time::HiRes                     0        1.9776    
    Time::Local                     0        1.35      
    Try::Tiny                       0        0.31      
    Type::Library                   0.040    2.004000  
    Type::Utils                     0        2.004000  
    Types::Standard                 0        2.004000  
    URI                             0        5.21      
    URI::db                         0.20     0.22      
    URI::QueryParam                 0        5.21      
    User::pwent                     0        1.02      
    utf8                            0        1.25      
    warnings                        0        1.67      

build_requires:

    Module                          Need     Have      
    ------------------------------- -------- ----------
    base                            0        2.27      
    Capture::Tiny                   0.12     0.48      
    Carp                            0        1.54      
    DBD::Mem                        0        0.001     
    File::Find                      0        1.43      
    File::Spec                      0        3.90      
    File::Spec::Functions           0        3.91      
    FindBin                         0        1.54      
    IO::Pager                       0.34     2.10      
    lib                             0        0.65      
    Module::Build                   0.35     0.4234    
    Module::Runtime                 0        0.016     
    Path::Class                     0.33     0.37      
    Test::Deep                      0        1.204     
    Test::Dir                       0        1.16      
    Test::Exception                 0        0.43      
    Test::Exit                      0        0.11      
    Test::File                      0        1.993     
    Test::File::Contents            0.20     0.242     
    Test::MockModule                0.17     0.177.0   
    Test::MockObject::Extends       0        1.20200122
    Test::More                      0.94     1.302195  
    Test::NoWarnings                0.083    1.06      
    Test::Warn                      0.31     0.37      

configure_requires:

    Module                          Need     Have      
    ------------------------------- -------- ----------
    Module::Build                   0.35     0.4234    

opt_requires:

    Module                          Need     Have      
    ------------------------------- -------- ----------
    Class::XSAccessor               1.18     1.19      
    Pod::Simple                     1.41     3.45      
    Template                        0        3.101     
    Type::Tiny::XS                  0.010    0.025     


------------------------------
ENVIRONMENT AND OTHER CONTEXT
------------------------------

Environment variables:

    AUTOMATED_TESTING = 1
    LANG = en_US.UTF-8
    LANGUAGE = en_US:en
    PATH = /home/sand/bin:/usr/local/bin:/usr/bin:/bin:/usr/games:/usr/local/perl/bin:/usr/X11/bin:/sbin:/usr/sbin
    PERL5LIB = 
    PERL5OPT = 
    PERL5_CPANPLUS_IS_RUNNING = 2328948
    PERL5_CPAN_IS_RUNNING = 2328948
    PERL_CANARY_STABILITY_NOPROMPT = 1
    PERL_MM_USE_DEFAULT = 1
    PERL_USE_UNSAFE_INC = 1
    SHELL = /usr/bin/zsh
    TERM = screen

Perl special variables (and OS-specific diagnostics, for MSWin32):

    $^X = /home/sand/src/perl/repoperls/installed-perls/host/k93msid/v5.39.3/29fb/bin/perl
    $UID/$EUID = 1005 / 1005
    $GID = 1005 1005
    $EGID = 1005 1005

Perl module toolchain versions installed:

    Module              Have    
    ------------------- --------
    CPAN                2.36    
    CPAN::Meta          2.150010
    Cwd                 3.90    
    ExtUtils::CBuilder  0.280240
    ExtUtils::Command   7.70    
    ExtUtils::Install   2.22    
    ExtUtils::MakeMaker 7.70    
    ExtUtils::Manifest  1.75    
    ExtUtils::ParseXS   3.51    
    File::Spec          3.90    
    JSON                4.10    
    JSON::PP            4.16    
    Module::Build       0.4234  
    Module::Signature   0.88    
    Parse::CPAN::Meta   2.150010
    Test2               1.302195
    Test::Harness       3.47    
    Test::More          1.302195
    YAML                1.30    
    YAML::Syck          1.34    
    version             0.9930  


--

Summary of my perl5 (revision 5 version 39 subversion 3) configuration:
  Commit id: c8a2e4d1432cd1244a4e44d6bb71920b692076b7
  Platform:
    osname=linux
    osvers=6.1.0-7-amd64
    archname=x86_64-linux-thread-multi
    uname='linux k93msid 6.1.0-7-amd64 #1 smp preempt_dynamic debian 6.1.20-1 (2023-03-19) x86_64 gnulinux '
    config_args='-Dprefix=/home/sand/src/perl/repoperls/installed-perls/host/k93msid/v5.39.3/29fb -Dmyhostname=k93msid -Dinstallusrbinperl=n -Uversiononly -Dusedevel -des -Ui_db -Dlibswanted=cl pthread socket inet nsl gdbm dbm malloc dl ld sun m crypt sec util c cposix posix ucb BSD gdbm_compat -Duseithreads -Uuselongdouble -DEBUGGING=both'
    hint=recommended
    useposix=true
    d_sigaction=define
    useithreads=define
    usemultiplicity=define
    use64bitint=define
    use64bitall=define
    uselongdouble=undef
    usemymalloc=n
    default_inc_excludes_dot=define
  Compiler:
    cc='cc'
    ccflags ='-D_REENTRANT -D_GNU_SOURCE -fwrapv -DDEBUGGING -fno-strict-aliasing -pipe -fstack-protector-strong -I/usr/local/include -D_LARGEFILE_SOURCE -D_FILE_OFFSET_BITS=64 -D_FORTIFY_SOURCE=2'
    optimize='-O2 -g'
    cppflags='-D_REENTRANT -D_GNU_SOURCE -fwrapv -DDEBUGGING -fno-strict-aliasing -pipe -fstack-protector-strong -I/usr/local/include'
    ccversion=''
    gccversion='12.2.0'
    gccosandvers=''
    intsize=4
    longsize=8
    ptrsize=8
    doublesize=8
    byteorder=12345678
    doublekind=3
    d_longlong=define
    longlongsize=8
    d_longdbl=define
    longdblsize=16
    longdblkind=3
    ivtype='long'
    ivsize=8
    nvtype='double'
    nvsize=8
    Off_t='off_t'
    lseeksize=8
    alignbytes=8
    prototype=define
  Linker and Libraries:
    ld='cc'
    ldflags =' -fstack-protector-strong -L/usr/local/lib'
    libpth=/usr/local/lib /usr/lib/x86_64-linux-gnu /usr/lib /usr/lib64
    libs=-lpthread -lnsl -ldl -lm -lcrypt -lutil -lc
    perllibs=-lpthread -lnsl -ldl -lm -lcrypt -lutil -lc
    libc=/lib/x86_64-linux-gnu/libc.so.6
    so=so
    useshrplib=false
    libperl=libperl.a
    gnulibc_version='2.36'
  Dynamic Linking:
    dlsrc=dl_dlopen.xs
    dlext=so
    d_dlsymun=undef
    ccdlflags='-Wl,-E'
    cccdlflags='-fPIC'
    lddlflags='-shared -O2 -g -L/usr/local/lib -fstack-protector-strong'


Characteristics of this binary (from libperl): 
  Compile-time options:
    DEBUGGING
    HAS_LONG_DOUBLE
    HAS_STRTOLD
    HAS_TIMES
    MULTIPLICITY
    PERLIO_LAYERS
    PERL_COPY_ON_WRITE
    PERL_DONT_CREATE_GVSV
    PERL_HASH_FUNC_SIPHASH13
    PERL_HASH_USE_SBOX32
    PERL_MALLOC_WRAP
    PERL_OP_PARENT
    PERL_PRESERVE_IVUV
    PERL_TRACK_MEMPOOL
    PERL_USE_DEVEL
    PERL_USE_SAFE_PUTENV
    USE_64_BIT_ALL
    USE_64_BIT_INT
    USE_ITHREADS
    USE_LARGE_FILES
    USE_LOCALE
    USE_LOCALE_COLLATE
    USE_LOCALE_CTYPE
    USE_LOCALE_NUMERIC
    USE_LOCALE_TIME
    USE_PERLIO
    USE_PERL_ATOF
    USE_REENTRANT_API
    USE_THREAD_SAFE_LOCALE
  Built under linux
  Compiled at Sep 20 2023 23:25:55
  %ENV:
    PERL5LIB=""
    PERL5OPT=""
    PERL5_CPANPLUS_IS_RUNNING="2328948"
    PERL5_CPAN_IS_RUNNING="2328948"
    PERL_CANARY_STABILITY_NOPROMPT="1"
    PERL_MM_USE_DEFAULT="1"
    PERL_USE_UNSAFE_INC="1"
  @INC:
    /home/sand/src/perl/repoperls/installed-perls/host/k93msid/v5.39.3/29fb/lib/site_perl/5.39.3/x86_64-linux-thread-multi
    /home/sand/src/perl/repoperls/installed-perls/host/k93msid/v5.39.3/29fb/lib/site_perl/5.39.3
    /home/sand/src/perl/repoperls/installed-perls/host/k93msid/v5.39.3/29fb/lib/5.39.3/x86_64-linux-thread-multi
    /home/sand/src/perl/repoperls/installed-perls/host/k93msid/v5.39.3/29fb/lib/5.39.3
    .