OpenERP-XMLRPC-Simple v0.24 Perl 5 v5.27.8 x86_64-linux

Status
Pass
From
Slaven Rezić (SREZIC)
Dist
OpenERP-XMLRPC-Simple v0.24
Platform
Perl 5 v5.27.8 x86_64-linux
Date
2018-01-21 02:06:14
ID
a8e13c0c-fe4f-11e7-af10-d5598b4a5ffa
This distribution has been tested as part of the CPAN Testers
project, supporting the Perl programming language.  See
http://wiki.cpantesters.org/ for more information or email
questions to cpan-testers-discuss@perl.org


--
Dear Colin Newell,

This is a computer-generated report for OpenERP-XMLRPC-Simple-0.24
on perl 5.27.8, created by CPAN-Reporter-1.2018.

Thank you for uploading your work to CPAN.  Congratulations!
All tests were successful.

Sections of this report:

    * Tester comments
    * Program output
    * Prerequisites
    * Environment and other context

------------------------------
TESTER COMMENTS
------------------------------

Additional comments from tester:

none provided

------------------------------
PROGRAM OUTPUT
------------------------------

Output from '/usr/bin/make test':

PERL_DL_NONLAZY=1 "/bbbike/perl-5.27.8/bin/perl5.27.8" "-MExtUtils::Command::MM" "-MTest::Harness" "-e" "undef *Test::Harness::Switches; test_harness(0, 'blib/lib', 'blib/arch')" t/*.t
# Testing OpenERP::XMLRPC::Client 
t/00-load.t ............ ok
# 
# Versions for all modules listed in MYMETA.json (including optional ones):
# 
# === Configure Requires ===
# 
#     Module              Want Have
#     ------------------- ---- ----
#     ExtUtils::MakeMaker  any 7.30
# 
# === Build Requires ===
# 
#     Module              Want Have
#     ------------------- ---- ----
#     ExtUtils::MakeMaker  any 7.30
# 
# === Test Requires ===
# 
#     Module              Want     Have
#     ------------------- ---- --------
#     Data::Dumper         any    2.170
#     ExtUtils::MakeMaker  any     7.30
#     File::ShareDir       any    1.104
#     File::Slurp          any  9999.19
#     File::Spec           any     3.72
#     FindBin              any     1.51
#     HTTP::Request        any     6.14
#     HTTP::Response       any     6.14
#     IO::File             any     1.16
#     Net::HTTPServer      any    1.1.1
#     Test::More          0.96 1.302120
#     XML::Simple          any     2.24
#     lib                  any     0.64
#     strict               any     1.11
#     warnings             any     1.40
# 
# === Test Recommends ===
# 
#     Module         Want     Have
#     ---------- -------- --------
#     CPAN::Meta 2.120900 2.150010
# 
# === Runtime Requires ===
# 
#     Module                       Want   Have
#     ---------------------------- ---- ------
#     MIME::Base64                  any   3.15
#     Moose                         any 2.2009
#     MooseX::Role::XMLRPC::Client  any   0.06
#     failures                      any  0.004
# 
t/00-report-prereqs.t .. ok
t/01-xmlrpc-client.t ... ok
# 
# #################################################################
# #                                                               #
# # The following tests are built to run against a Mock OpenERP.  #
# # (and will do, by default)                                     #
# # To run the tests against a real OpenERP please specify the    #
# # following $ENV variables                                      #
# #                                                               #
# #     OPENERP_SIMPLE_HOST - required!                           #
# #     OPENERP_SIMPLE_PORT - default = 8069                      #
# #     OPENERP_SIMPLE_NAME - default = terp                      #
# #     OPENERP_SIMPLE_USER - default = admin                     #
# #     OPENERP_SIMPLE_PASS - default = admin                     #
# #                                                               #
# #################################################################
# Testing against mock OpenERP server
t/02-xmlrpc-simple.t ... ok
t/author-critic.t ...... skipped: these tests are for testing by the author
t/pod.t ................ skipped: set TEST_POD to enable this test
All tests successful.
Files=6, Tests=26, 15 wallclock secs ( 0.02 usr  0.02 sys +  1.92 cusr  0.39 csys =  2.35 CPU)
Result: PASS

------------------------------
PREREQUISITES
------------------------------

Prerequisite modules loaded:

requires:

    Module                       Need  Have    
    ---------------------------- ----- --------
    failures                     0     0.004   
    MIME::Base64                 0     3.15    
    Moose                        0     2.2009  
    MooseX::Role::XMLRPC::Client 0     0.06    
    perl                         5.010 5.027008

build_requires:

    Module                       Need  Have    
    ---------------------------- ----- --------
    Data::Dumper                 0     2.170   
    ExtUtils::MakeMaker          0     7.30    
    File::ShareDir               0     1.104   
    File::Slurp                  0     9999.19 
    File::Spec                   0     3.72    
    FindBin                      0     1.51    
    HTTP::Request                0     6.14    
    HTTP::Response               0     6.14    
    IO::File                     0     1.16    
    lib                          0     0.64    
    Net::HTTPServer              0     1.1.1   
    strict                       0     1.11    
    Test::More                   0.96  1.302120
    warnings                     0     1.40    
    XML::Simple                  0     2.24    

configure_requires:

    Module                       Need  Have    
    ---------------------------- ----- --------
    ExtUtils::MakeMaker          0     7.30    


------------------------------
ENVIRONMENT AND OTHER CONTEXT
------------------------------

Environment variables:

    LANG = C
    LC_ALL = de_DE.UTF-8
    PATH = /usr/local/bin:/usr/bin:/bin:/usr/local/sbin:/usr/sbin:/sbin:/home/cpansand/bin/linux-gnu:/home/cpansand/bin/sh:/home/cpansand/bin:/usr/games:/home/cpansand/devel:/home/eserte/src/srezic-misc/scripts
    PERL5LIB = /home/cpansand/.cpan/build/2018012021/Net-HTTPServer-1.1.1-0/blib/arch:/home/cpansand/.cpan/build/2018012021/Net-HTTPServer-1.1.1-0/blib/lib:/home/cpansand/.cpan/build/2018012021/MooseX-Role-XMLRPC-Client-0.06-0/blib/arch:/home/cpansand/.cpan/build/2018012021/MooseX-Role-XMLRPC-Client-0.06-0/blib/lib:/home/cpansand/.cpan/build/2018012021/RPC-XML-0.80-0/blib/arch:/home/cpansand/.cpan/build/2018012021/RPC-XML-0.80-0/blib/lib:/home/cpansand/.cpan/build/2018012021/MooseX-NotRequired-0.12-0/blib/arch:/home/cpansand/.cpan/build/2018012021/MooseX-NotRequired-0.12-0/blib/lib:/home/cpansand/.cpan/build/2018012021/MooX-EventHandler-0.000_001-0/blib/arch:/home/cpansand/.cpan/build/2018012021/MooX-EventHandler-0.000_001-0/blib/lib
    PERL5OPT = 
    PERL5_CPANPLUS_IS_RUNNING = 21655
    PERL5_CPAN_IS_RUNNING = 21655
    PERL5_CPAN_IS_RUNNING_IN_RECURSION = 18189,21655
    PERLDOC = -MPod::Perldoc::ToTextOverstrike
    PERL_BATCH = yes
    PERL_CANARY_STABILITY_NOPROMPT = 1
    PERL_CPAN_REPORTER_CONFIG = /var/tmp/cpansmoker-1023/2018012021/cpanreporter_002_config.ini
    PERL_EXTUTILS_AUTOINSTALL = --defaultdeps
    PERL_PARALLEL_SMOKER = yes
    PERL_USE_UNSAFE_INC = 1
    SHELL = /bin/zsh
    TERM = screen
    TMPDIR = /var/tmp/cpansmoker-1023/2018012021

Perl special variables (and OS-specific diagnostics, for MSWin32):

    $^X = /bbbike/perl-5.27.8/bin/perl5.27.8
    $UID/$EUID = 1023 / 1023
    $GID = 1023 1023
    $EGID = 1023 1023

Perl module toolchain versions installed:

    Module              Have    
    ------------------- --------
    CPAN                2.20    
    CPAN::Meta          2.150010
    Cwd                 3.72    
    ExtUtils::CBuilder  0.280230
    ExtUtils::Command   7.30    
    ExtUtils::Install   2.14    
    ExtUtils::MakeMaker 7.30    
    ExtUtils::Manifest  1.70    
    ExtUtils::ParseXS   3.36    
    File::Spec          3.72    
    JSON                2.97001 
    JSON::PP            2.97001 
    Module::Build       0.4224  
    Module::Signature   n/a     
    Parse::CPAN::Meta   2.150010
    Test::Harness       3.39    
    Test::More          1.302120
    YAML                1.24    
    YAML::Syck          1.30    
    version             0.9918  


--

Summary of my perl5 (revision 5 version 27 subversion 8) configuration:
   
  Platform:
    osname=linux
    osvers=3.16.0-4-amd64
    archname=x86_64-linux
    uname='linux eserte 3.16.0-4-amd64 #1 smp debian 3.16.51-2 (2017-12-03) x86_64 gnulinux '
    config_args='-ds -e -Dprefix=/opt/perl-5.27.8 -Dusedevel -Dusemallocwrap=no -Dcf_email=srezic@cpan.org'
    hint=recommended
    useposix=true
    d_sigaction=define
    useithreads=undef
    usemultiplicity=undef
    use64bitint=define
    use64bitall=define
    uselongdouble=undef
    usemymalloc=n
    default_inc_excludes_dot=define
    bincompat5005=undef
  Compiler:
    cc='cc'
    ccflags ='-fwrapv -fno-strict-aliasing -pipe -fstack-protector-strong -I/usr/local/include -D_LARGEFILE_SOURCE -D_FILE_OFFSET_BITS=64 -D_FORTIFY_SOURCE=2'
    optimize='-O2'
    cppflags='-fwrapv -fno-strict-aliasing -pipe -fstack-protector-strong -I/usr/local/include'
    ccversion=''
    gccversion='4.9.2'
    gccosandvers=''
    intsize=4
    longsize=8
    ptrsize=8
    doublesize=8
    byteorder=12345678
    doublekind=3
    d_longlong=define
    longlongsize=8
    d_longdbl=define
    longdblsize=16
    longdblkind=3
    ivtype='long'
    ivsize=8
    nvtype='double'
    nvsize=8
    Off_t='off_t'
    lseeksize=8
    alignbytes=8
    prototype=define
  Linker and Libraries:
    ld='cc'
    ldflags =' -fstack-protector-strong -L/usr/local/lib'
    libpth=/usr/local/lib /usr/lib/gcc/x86_64-linux-gnu/4.9/include-fixed /usr/include/x86_64-linux-gnu /usr/lib /lib/x86_64-linux-gnu /lib/../lib /usr/lib/x86_64-linux-gnu /usr/lib/../lib /lib
    libs=-lpthread -lnsl -lgdbm -ldb -ldl -lm -lcrypt -lutil -lc -lgdbm_compat
    perllibs=-lpthread -lnsl -ldl -lm -lcrypt -lutil -lc
    libc=libc-2.19.so
    so=so
    useshrplib=false
    libperl=libperl.a
    gnulibc_version='2.19'
  Dynamic Linking:
    dlsrc=dl_dlopen.xs
    dlext=so
    d_dlsymun=undef
    ccdlflags='-Wl,-E'
    cccdlflags='-fPIC'
    lddlflags='-shared -O2 -L/usr/local/lib -fstack-protector-strong'


Characteristics of this binary (from libperl): 
  Compile-time options:
    HAS_TIMES
    PERLIO_LAYERS
    PERL_COPY_ON_WRITE
    PERL_DONT_CREATE_GVSV
    PERL_OP_PARENT
    PERL_PRESERVE_IVUV
    PERL_USE_DEVEL
    USE_64_BIT_ALL
    USE_64_BIT_INT
    USE_LARGE_FILES
    USE_LOCALE
    USE_LOCALE_COLLATE
    USE_LOCALE_CTYPE
    USE_LOCALE_NUMERIC
    USE_LOCALE_TIME
    USE_PERLIO
    USE_PERL_ATOF
  Built under linux
  Compiled at Jan 20 2018 08:24:13
  %ENV:
    PERL5LIB="/home/cpansand/.cpan/build/2018012021/Net-HTTPServer-1.1.1-0/blib/arch:/home/cpansand/.cpan/build/2018012021/Net-HTTPServer-1.1.1-0/blib/lib:/home/cpansand/.cpan/build/2018012021/MooseX-Role-XMLRPC-Client-0.06-0/blib/arch:/home/cpansand/.cpan/build/2018012021/MooseX-Role-XMLRPC-Client-0.06-0/blib/lib:/home/cpansand/.cpan/build/2018012021/RPC-XML-0.80-0/blib/arch:/home/cpansand/.cpan/build/2018012021/RPC-XML-0.80-0/blib/lib:/home/cpansand/.cpan/build/2018012021/MooseX-NotRequired-0.12-0/blib/arch:/home/cpansand/.cpan/build/2018012021/MooseX-NotRequired-0.12-0/blib/lib:/home/cpansand/.cpan/build/2018012021/MooX-EventHandler-0.000_001-0/blib/arch:/home/cpansand/.cpan/build/2018012021/MooX-EventHandler-0.000_001-0/blib/lib"
    PERL5OPT=""
    PERL5_CPANPLUS_IS_RUNNING="21655"
    PERL5_CPAN_IS_RUNNING="21655"
    PERL5_CPAN_IS_RUNNING_IN_RECURSION="18189,21655"
    PERLDOC="-MPod::Perldoc::ToTextOverstrike"
    PERL_BATCH="yes"
    PERL_CANARY_STABILITY_NOPROMPT="1"
    PERL_CPAN_REPORTER_CONFIG="/var/tmp/cpansmoker-1023/2018012021/cpanreporter_002_config.ini"
    PERL_EXTUTILS_AUTOINSTALL="--defaultdeps"
    PERL_PARALLEL_SMOKER="yes"
    PERL_USE_UNSAFE_INC="1"
  @INC:
    /home/cpansand/.cpan/build/2018012021/Net-HTTPServer-1.1.1-0/blib/arch
    /home/cpansand/.cpan/build/2018012021/Net-HTTPServer-1.1.1-0/blib/lib
    /home/cpansand/.cpan/build/2018012021/MooseX-Role-XMLRPC-Client-0.06-0/blib/arch
    /home/cpansand/.cpan/build/2018012021/MooseX-Role-XMLRPC-Client-0.06-0/blib/lib
    /home/cpansand/.cpan/build/2018012021/RPC-XML-0.80-0/blib/arch
    /home/cpansand/.cpan/build/2018012021/RPC-XML-0.80-0/blib/lib
    /home/cpansand/.cpan/build/2018012021/MooseX-NotRequired-0.12-0/blib/arch
    /home/cpansand/.cpan/build/2018012021/MooseX-NotRequired-0.12-0/blib/lib
    /home/cpansand/.cpan/build/2018012021/MooX-EventHandler-0.000_001-0/blib/arch
    /home/cpansand/.cpan/build/2018012021/MooX-EventHandler-0.000_001-0/blib/lib
    /opt/perl-5.27.8/lib/site_perl/5.27.8/x86_64-linux
    /opt/perl-5.27.8/lib/site_perl/5.27.8
    /opt/perl-5.27.8/lib/5.27.8/x86_64-linux
    /opt/perl-5.27.8/lib/5.27.8
    .